{"text_format":"3","workbook":"xlsx","n_sheets":4,"sheets":["Filtro","BBDD","BM18","BM18A"],"not_rendered":{"macros":1,"external_links":1,"defined_names":1,"pivot_tables":1},"read":"whole","date_system":"1900"}

{"sheet":"Filtro","index":0,"n_rows":344,"n_cols":51,"rows_kept":344}
["Mes","(Todas)"]
["Comuna/Hospital","(Todas)"]
[]
["Etiquetas de fila","Suma de Col01","Suma de Col02","Suma de Col03","Suma de Col04","Suma de Col05","Suma de Col06","Suma de Col07","Cuenta de Col08","Cuenta de Col09","Cuenta de Col10","Cuenta de Col11","Cuenta de Col12","Cuenta de Col13","Cuenta de Col14","Cuenta de Col15","Cuenta de Col16","Cuenta de Col17","Cuenta de Col18","Cuenta de Col19","Cuenta de Col20","Cuenta de Col21","Cuenta de Col22","Cuenta de Col23","Cuenta de Col24","Cuenta de Col25","Cuenta de Col26","Cuenta de Col27","Cuenta de Col28","Cuenta de Col29","Cuenta de Col31","Cuenta de Col30","Cuenta de Col32","Cuenta de Col33","Cuenta de Col34","Cuenta de Col35","Cuenta de Col36","Cuenta de Col37","Cuenta de Col38","Cuenta de Col39","Cuenta de Col40","Cuenta de Col41","Cuenta de col42","Cuenta de col43","Cuenta de col44","Cuenta de col45","Cuenta de col46","Cuenta de col47","Cuenta de col48","Cuenta de col49","Cuenta de col50"]
["18010100",62547,0,62547]
["18010200",204427,79,204348]
["18010500",2537,0,2537]
["18010601",15367,0,15367]
["18010800",429,0,429]
["18010900",65294,859,64435]
["18011001",26501,25643,858]
["18011002",597,0,597]
["18020200",272,216,56]
["18020300",3668,3026,642]
["18020400",363,3,360]
["18020500",78609,17029,61580]
["18020600",145,102,43]
["18020700",1535,1039,496]
["18020800",1167,1157,10]
["18020900",945,2,943]
["18030000",5463,2559,2904]
["18040100",2559,389,2170]
["18040200",2932,217,2715]
["18050100",88673,10983,77690]
["18050200",6133,4312,1821]
["18050300",897,152,745]
["18070100",651,37,174,210,105,35,90]
["18070300",3658,241,467,200,281,1307,1162]
["18090000",19276,87,19189]
["18090100",36565,0,36565]
["18090200",9344,1706]
["18090300",16]
["18400400",138,96,42]
["18400500",35,0,35]
["18400600",738,0,185]
["18400700",537787]
["18400900",9761,2331,7430]
["18700100",230200,16898,193403,19899,20037]
["18700110",57,0,56,1,0,7,11]
["18700140",108,13,88,7,105,11,96]
["18700170",3,null,3,null,3,null,3]
["18700190",1,null,1,null,1,null,1]
["18700230",1435,270,1073,92,1429,128,1288]
["18700240",97,null,86]
["18700250",453,null,453]
["18700260",86,null,76]
["18700270",1140,null,1140]
["18700280",278,null,264]
["18700290",114,null,114]
["18700300",193,null,180]
["18700310",83,null,83]
["18700320",58,null,50]
["18700330",137,null,137]
["18700340",123,null,114]
["18700350",255,null,255]
["80106002",88988,11278,77710,413,78243,169]
["80106005",5885,4037,1848,72,5702,0]
["80106006",897,152,745,6,881,0]
["80106007",930,546,384,222,593,0]
["80106008",427,147,280,35,281]
["80106009",99,82,17,5,59]
["80106010",867,136,731,352,256]
["80106011",90,45,45,17,68,14]
["80106012",122,76,46,36,82,0]
["80106013",3856,2647,1209,246,3386,0]
["80106014",251585,121693,129892,2291,225911,319]
["80106015",47979,38345,9634,2132,40644,0]
["80106017",53438,2556,50882,120,50138,167]
["80106020",3536,2730,806,187,3086,0]
["80106021",258,149,109,10,219,0]
["80106022",3062,1612,1450,42,2618,14]
["80106023",19245,87,19158,0,15575,1586]
["80301002",0,null,null,6]
["80301011",1,null,null,129]
["80301014",0,null,null,126]
["80301015",77,null,77,919]
["80301026",0,null,null,202]
["80301033",0,null,null,46]
["80301034",1243,null,1243,2024]
["80301035",0,null,null,7]
["80301036",3835,null,3746,28122]
["80301038",2297,null,2201,23518]
["80301039",0,null,null,104]
["80301041",14231,null,14191,33554]
["80301042",0,null,null,523]
["80301044",0,null,null,16]
["80301045",26907,null,26836,52141]
["80301058",0,null,null,1]
["80301059",3265,null,3261,5242]
["80301063",0,null,null,1]
["80301065",64,null,64,409]
["80301067",78,null,78,414]
["80301068",0,null,null,5]
["80301072",43,null,43]
["80301075",0,null,null,19]
["80301078",0,null,null,2]
["80301083",0,null,null,359]
["80301085",1101,null,1097,1738]
["80301086",9712,null,9710,5926]
["80301087",0,null,null,292]
["80301093",0,null,null,16]
["80302005",16711,null,16618,30666]
["80302008",0,null,null,54]
["80302012",79,null,79,1004]
["80302013",258,null,214,7409]
["80302015",0,null,null,384]
["80302016",0,null,null,2]
["80302022",0,null,null,931]
["80302023",26044,null,25902,64101]
["80302024",355,null,355,868]
["80302025",0,null,null,11]
["80302026",0,null,null,62]
["80302030",0,null,null,134]
["80302032",46938,null,46841,53862]
["80302033",0,null,null,21]
["80302034",34858,null,34851,39310]
["80302035",0,null,null,129]
["80302037",0,null,null,2]
["80302040",242,null,221,6941]
["80302042",0,null,null,53]
["80302045",68,null,68,204]
["80302046",79,79,null,240]
["80302047",37963,null,37835,84796]
["80302048",5063,null,5034,8072]
["80302050",0,null,null,68]
["80302051",0,null,null,11]
["80302052",0,null,null,3]
["80302053",0,null,null,5]
["80302056",0,null,null,9]
["80302057",16460,null,16341,29434]
["80302059",1355,null,1355,60]
["80302060",1006,null,1005,1934]
["80302061",0,null,null,20]
["80302062",0,null,null,3]
["80302063",920,null,811,18610]
["80302064",497,null,356,43369]
["80302065",0,null,null,256]
["80302067",1181,null,1033,50569]
["80302068",382,null,238,42167]
["80302069",0,null,null,343]
["80302075",0,null,null,481]
["80302076",15192,null,15191,10076]
["80303015",402,null,402,3449]
["80303024",20246,null,20138,48831]
["80303025",185,null,185,1343]
["80303026",14943,null,14910,11891]
["80303027",497,null,494,448]
["80303028",439,null,436,266]
["80305002",0,null,null,2]
["80305003",0,null,null,1]
["80305004",0,null,null,7]
["80305005",0,null,null,10]
["80305007",0,null,null,10]
["80305009",0,null,null,3]
["80305010",0,null,null,3]
["80305012",0,null,null,2]
["80305018",67,null,67,2]
["80305019",1096,null,1095,1757]
["80305020",0,null,null,55]
["80305029",0,null,null,4]
["80305030",0,null,null,332]
["80305031",0,null,null,21]
["80305041",0,null,null,18]
["80305060",0,null,null,1]
["80305070",1375,null,1375,1496]
["80305170",0,null,null,11]
["80306001",0,null,null,120]
["80306002",19,null,19,482]
["80306004",182,null,182,13]
["80306005",280,null,280,11]
["80306007",160,null,160,111]
["80306008",230,null,230,92]
["80306010",0,null,null,1]
["80306011",8054,null,8038,14377]
["80306014",0,null,null,8]
["80306016",0,null,null,6]
["80306017",166,null,166,1]
["80306018",0,null,null,25]
["80306022",0,null,null,3]
["80306024",0,null,null,11]
["80306025",0,null,null,2]
["80306026",250,null,250,9]
["80306034",0,null,null,30]
["80306037",0,null,null,38]
["80306038",4666,null,4666,1007]
["80306042",33,null,16,14692]
["80306045",0,null,null,4]
["80306048",233,null,233,219]
["80306051",133,null,133,172]
["80306052",3,null,3,61]
["80306053",0,null,null,41]
["80306054",0,null,null,6]
["80306056",16,null,16]
["80306059",245,null,243,283]
["80306061",645,null,645,2829]
["80306062",0,null,null,2]
["80306064",0,null,null,26]
["80306066",0,null,null,6]
["80306069",0,null,null,23]
["80306078",0,null,null,97]
["80306079",0,null,null,9]
["80306081",0,null,null,6]
["80306117",9,null,9,1]
["80306169",59,null,59,1816]
["80306170",19,null,19]
["80307011",214227,10737,203490,98336]
["80307012",23564,492,23072,1408]
["80308001",1,null,null,54]
["80308003",0,null,null,1]
["80308004",175,null,172,466]
["80308005",202,null,202,191]
["80308006",0,null,null,2]
["80308012",0,null,null,2116]
["80308013",0,null,null,1]
["80308018",0,null,null,60]
["80308022",0,null,null,26]
["80308024",0,null,null,12]
["80308027",0,null,null,5]
["80308030",0,null,null,62]
["80308032",0,null,null,41]
["80308035",0,null,null,113]
["80308036",0,null,null,2]
["80308044",55,0,55,12]
["80309004",0,null,null,1060]
["80309009",0,null,null,24]
["80309010",13419,null,13419,17999]
["80309012",0,null,null,15]
["80309013",19450,null,19356,26916]
["80309014",227,92,132,338]
["80309016",833,null,833,490]
["80309020",0,null,null,371]
["80309021",0,null,null,206]
["80309022",20982,null,20843,75783]
["80309023",10146,767,9379,2020]
["80309024",0,null,null,4013]
["80309027",0,null,null,154]
["80309028",473,null,473,3924]
["80401002",42,42,null,6]
["80401004",0,null,null,1]
["80401008",38,22,16,54]
["80401009",979,941,38,926]
["80401010",271,72,199,2646]
["80401012",8,8]
["80401013",854,854,null,20]
["80401014",71,71]
["80401028",39,39]
["80401029",26,26]
["80401030",42,42]
["80401031",904,902,2,25]
["80401032",1619,1618,1,42]
["80401033",90,90,null,1]
["80401034",5,5]
["80401039",10,10]
["80401041",21,21]
["80401042",603,603,null,23]
["80401043",287,287,null,2]
["80401044",23,23]
["80401045",1060,1059,1,13]
["80401046",565,562,3,18]
["80401047",10,10,null,3]
["80401048",32,32]
["80401049",42,42]
["80401051",1126,1119,7,695]
["80401052",330,325,5,28]
["80401053",326,326,0,8]
["80401054",7316,7304,12,236]
["80401055",181,181,0,5]
["80401056",4,4,null,1]
["80401057",83,83]
["80401058",44,44]
["80401059",1315,1314,1,74]
["80401060",3942,3909,33,1021]
["80401061",98,98,null,1]
["80401062",348,348,null,13]
["80401063",5,5]
["80401070",3208,2976,232,714]
["80401130",0,null,null,1]
["80401151",534,226,308,1770]
["80404002",2636,11,2625,250]
["80404003",35,0,35,889]
["80404005",174,null,174,5]
["80404006",240,null,240,3]
["80404012",95,null,95,947]
["80404018",53,null,53,53]
["80500001",871,32,839,40,823,0]
["80500007",15,1,14,1,14]
["80500008",2211,2,2209,2,2179,0]
["80500009",2118,2,2116,3,2067,0]
["80500010",147,17,130,null,123]
["80500011",65363,42732,22631,3106,54560,12]
["80500014",869,311,558,21,596,1135]
["80500016",1587,1587,0,83,1425,0]
["80500017",9587,9587,0,180,9191,0]
["81201029",138,96,42,20,50]
["81301025",199,170,29,111,53,0]
["81301026",27,18,9,11,18]
["81301029",18,6,12,4,12]
["81301030",16,13,3,12,4]
["81301042",9,7,2,7,2]
["81301043",3,2,1,2,1]
["81601110",4,1,3,1,4]
["81601115",359,2,357,0,358,0]
["81602201",83,1,82,73,5,46]
["81602202",384,1,383,367,8,95]
["81602203",146,0,146,136,6,26]
["81602204",46,0,46,42,1,17]
["81602205",16,null,16,13,null,9]
["81602206",101,null,101,90,9,15]
["81602207",4,null,4,4]
["81602211",195,null,195,188,7,20]
["81602212",20,null,20,20,null,9]
["81602213",41,null,41,null,null,38]
["81602214",32,null,32,32]
["81602217",103,6,97,96,3,121]
["81602221",851,530,321,389,385,11]
["81602222",2410,1877,533,1339,735,3]
["81602223",8,null,8,2,6]
["81602224",380,5,375,334,32,62]
["81602225",147,54,93,103,27,16]
["81602231",354,20,334,257,70,61]
["81602232",15,1,14,13,2,5]
["81602240",94,49,45,41,53,0]
["81602241",7,7,0,3,4,0]
["81602242",26,8,18,8,18]
["81701001",43788,13020,30768,993,37599,10337]
["81701006",8,null,8,null,8]
["81701009",34813,4009,30804,610,33483,28]
["81707001",189,null,189,null,179]
["81707002",55,null,55,null,55]
["81707004",107,2,105,0,107]
["81707030",3354,3024,330,338,2575]
["81801023",132,94,38,21,115,0]
["81801042",13,8,5,2,8]
["81901019",1160,765,395,24,961,6]
["81901022",375,274,101,6,339,0]
["82001015",945,2,943,3,929,8]
["82101001",23,23,0,12,11,0]
["82101002",1,1,null,1]
["82106004",173,171,2,null,173]
["82106005",94,94,null,null,94]
["82106006",197,196,1,null,197]
["82106007",75,73,2,null,75]
["82107003",604,599,5,2,602]
["Total general",2736869,393085,1772382,1041614,600064,15837,2651]

{"sheet":"BBDD","index":1,"n_rows":45133,"n_cols":57,"rows_kept":4500,"cut":true,"hidden":true,"bounds":{"rows_first":2000,"rows_last":500,"rows_between":2000,"halvings":0}}
["Mes","IdServicio","Ano","Comuna/Hospital","IdEstablecimiento","CodigoPrestacion","fechaIngreso","Col01","Col02","Col03","Col04","Col05","Col06","Col07","Col08","Col09","Col10","Col11","Col12","Col13","Col14","Col15","Col16","Col17","Col18","Col19","Col20","Col21","Col22","Col23","Col24","Col25","Col26","Col27","Col28","Col29","Col30","Col31","Col32","Col33","Col34","Col35","Col36","Col37","Col38","Col39","Col40","Col41","col42","col43","col44","col45","col46","col47","col48","col49","col50"]
[11,"5",2021,{"$f":"IFERROR(VLOOKUP(Tabla_SERIEBM_01_6[[#This Row],[IdEstablecimiento]],[1]Establecimientos!A$1:E$175,5,FALSE),0)","v":"04101-LA SERENA"},"105300","18700250","2021-12-17T07:55:06",1,null,1]
[11,"5",2021,{"$f":"IFERROR(VLOOKUP(Tabla_SERIEBM_01_6[[#This Row],[IdEstablecimiento]],[1]Establecimientos!A$1:E$175,5,FALSE),0)","v":"04101-LA SERENA"},"105300","18700270","2021-12-17T07:55:06",5,null,5]
[11,"5",2021,{"$f":"IFERROR(VLOOKUP(Tabla_SERIEBM_01_6[[#This Row],[IdEstablecimiento]],[1]Establecimientos!A$1:E$175,5,FALSE),0)","v":"04101-LA SERENA"},"105300","18700330","2021-12-17T07:55:06",1,null,1]
[11,"5",2021,{"$f":"IFERROR(VLOOKUP(Tabla_SERIEBM_01_6[[#This Row],[IdEstablecimiento]],[1]Establecimientos!A$1:E$175,5,FALSE),0)","v":"04101-LA SERENA"},"105300","18400600","2021-12-17T07:55:06",1]
[11,"5",2021,{"$f":"IFERROR(VLOOKUP(Tabla_SERIEBM_01_6[[#This Row],[IdEstablecimiento]],[1]Establecimientos!A$1:E$175,5,FALSE),0)","v":"04101-LA SERENA"},"105300","18020500","2021-12-17T07:55:06",94,0,94]
[11,"5",2021,{"$f":"IFERROR(VLOOKUP(Tabla_SERIEBM_01_6[[#This Row],[IdEstablecimiento]],[1]Establecimientos!A$1:E$175,5,FALSE),0)","v":"04101-LA SERENA"},"105300","18020900","2021-12-17T07:55:06",6,0,6]
[11,"5",2021,{"$f":"IFERROR(VLOOKUP(Tabla_SERIEBM_01_6[[#This Row],[IdEstablecimiento]],[1]Establecimientos!A$1:E$175,5,FALSE),0)","v":"04101-LA SERENA"},"105300","18050100","2021-12-17T07:55:06",110,0,110]
[11,"5",2021,{"$f":"IFERROR(VLOOKUP(Tabla_SERIEBM_01_6[[#This Row],[IdEstablecimiento]],[1]Establecimientos!A$1:E$175,5,FALSE),0)","v":"04101-LA SERENA"},"105300","18070300","2021-12-17T07:55:06",18,14,4]
[11,"5",2021,{"$f":"IFERROR(VLOOKUP(Tabla_SERIEBM_01_6[[#This Row],[IdEstablecimiento]],[1]Establecimientos!A$1:E$175,5,FALSE),0)","v":"04102-COQUIMBO"},"105303","80302064","2021-12-17T07:55:35",0,null,null,543]
[11,"5",2021,{"$f":"IFERROR(VLOOKUP(Tabla_SERIEBM_01_6[[#This Row],[IdEstablecimiento]],[1]Establecimientos!A$1:E$175,5,FALSE),0)","v":"04301-OVALLE"},"105322","80302005","2021-12-17T08:08:19",1099,null,1099]
[11,"5",2021,{"$f":"IFERROR(VLOOKUP(Tabla_SERIEBM_01_6[[#This Row],[IdEstablecimiento]],[1]Establecimientos!A$1:E$175,5,FALSE),0)","v":"04301-OVALLE"},"105322","80302012","2021-12-17T08:08:19",3,null,3]
[11,"5",2021,{"$f":"IFERROR(VLOOKUP(Tabla_SERIEBM_01_6[[#This Row],[IdEstablecimiento]],[1]Establecimientos!A$1:E$175,5,FALSE),0)","v":"04301-OVALLE"},"105322","80302013","2021-12-17T08:08:19",10,null,10]
[11,"5",2021,{"$f":"IFERROR(VLOOKUP(Tabla_SERIEBM_01_6[[#This Row],[IdEstablecimiento]],[1]Establecimientos!A$1:E$175,5,FALSE),0)","v":"04301-OVALLE"},"105322","80302067","2021-12-17T08:08:19",45,null,45]
[11,"5",2021,{"$f":"IFERROR(VLOOKUP(Tabla_SERIEBM_01_6[[#This Row],[IdEstablecimiento]],[1]Establecimientos!A$1:E$175,5,FALSE),0)","v":"04301-OVALLE"},"105322","80302068","2021-12-17T08:08:19",9,null,9]
[11,"5",2021,{"$f":"IFERROR(VLOOKUP(Tabla_SERIEBM_01_6[[#This Row],[IdEstablecimiento]],[1]Establecimientos!A$1:E$175,5,FALSE),0)","v":"04301-OVALLE"},"105322","80302023","2021-12-17T08:08:19",1817,null,1817]
[11,"5",2021,{"$f":"IFERROR(VLOOKUP(Tabla_SERIEBM_01_6[[#This Row],[IdEstablecimiento]],[1]Establecimientos!A$1:E$175,5,FALSE),0)","v":"04301-OVALLE"},"105322","80302024","2021-12-17T08:08:19",5,null,5]
[11,"5",2021,{"$f":"IFERROR(VLOOKUP(Tabla_SERIEBM_01_6[[#This Row],[IdEstablecimiento]],[1]Establecimientos!A$1:E$175,5,FALSE),0)","v":"04301-OVALLE"},"105322","80302032","2021-12-17T08:08:19",4386,null,4386]
[11,"5",2021,{"$f":"IFERROR(VLOOKUP(Tabla_SERIEBM_01_6[[#This Row],[IdEstablecimiento]],[1]Establecimientos!A$1:E$175,5,FALSE),0)","v":"04301-OVALLE"},"105322","80302034","2021-12-17T08:08:19",5922,null,5922]
[11,"5",2021,{"$f":"IFERROR(VLOOKUP(Tabla_SERIEBM_01_6[[#This Row],[IdEstablecimiento]],[1]Establecimientos!A$1:E$175,5,FALSE),0)","v":"04301-OVALLE"},"105322","80302040","2021-12-17T08:08:19",34,null,34]
[11,"5",2021,{"$f":"IFERROR(VLOOKUP(Tabla_SERIEBM_01_6[[#This Row],[IdEstablecimiento]],[1]Establecimientos!A$1:E$175,5,FALSE),0)","v":"04301-OVALLE"},"105322","80305019","2021-12-17T08:08:19",82,null,82]
[11,"5",2021,{"$f":"IFERROR(VLOOKUP(Tabla_SERIEBM_01_6[[#This Row],[IdEstablecimiento]],[1]Establecimientos!A$1:E$175,5,FALSE),0)","v":"04301-OVALLE"},"105322","80306005","2021-12-17T08:08:19",22,null,22]
[11,"5",2021,{"$f":"IFERROR(VLOOKUP(Tabla_SERIEBM_01_6[[#This Row],[IdEstablecimiento]],[1]Establecimientos!A$1:E$175,5,FALSE),0)","v":"04301-OVALLE"},"105322","80306007","2021-12-17T08:08:19",22,null,22]
[11,"5",2021,{"$f":"IFERROR(VLOOKUP(Tabla_SERIEBM_01_6[[#This Row],[IdEstablecimiento]],[1]Establecimientos!A$1:E$175,5,FALSE),0)","v":"04301-OVALLE"},"105322","80306008","2021-12-17T08:08:19",22,null,22]
[11,"5",2021,{"$f":"IFERROR(VLOOKUP(Tabla_SERIEBM_01_6[[#This Row],[IdEstablecimiento]],[1]Establecimientos!A$1:E$175,5,FALSE),0)","v":"04301-OVALLE"},"105322","80306011","2021-12-17T08:08:19",652,null,652]
[11,"5",2021,{"$f":"IFERROR(VLOOKUP(Tabla_SERIEBM_01_6[[#This Row],[IdEstablecimiento]],[1]Establecimientos!A$1:E$175,5,FALSE),0)","v":"04301-OVALLE"},"105322","80306026","2021-12-17T08:08:19",27,null,27]
[11,"5",2021,{"$f":"IFERROR(VLOOKUP(Tabla_SERIEBM_01_6[[#This Row],[IdEstablecimiento]],[1]Establecimientos!A$1:E$175,5,FALSE),0)","v":"04301-OVALLE"},"105322","80306038","2021-12-17T08:08:19",499,null,499]
[11,"5",2021,{"$f":"IFERROR(VLOOKUP(Tabla_SERIEBM_01_6[[#This Row],[IdEstablecimiento]],[1]Establecimientos!A$1:E$175,5,FALSE),0)","v":"04305-RIO HURTADO"},"105410","80401010","2021-12-17T08:13:29",0,null,null,1]
[11,"5",2021,{"$f":"IFERROR(VLOOKUP(Tabla_SERIEBM_01_6[[#This Row],[IdEstablecimiento]],[1]Establecimientos!A$1:E$175,5,FALSE),0)","v":"04305-RIO HURTADO"},"105410","81701001","2021-12-17T08:13:29",2,null,2,null,2]
[11,"5",2021,{"$f":"IFERROR(VLOOKUP(Tabla_SERIEBM_01_6[[#This Row],[IdEstablecimiento]],[1]Establecimientos!A$1:E$175,5,FALSE),0)","v":"04305-RIO HURTADO"},"105410","81701009","2021-12-17T08:13:29",5,null,5,null,5]
[11,"5",2021,{"$f":"IFERROR(VLOOKUP(Tabla_SERIEBM_01_6[[#This Row],[IdEstablecimiento]],[1]Establecimientos!A$1:E$175,5,FALSE),0)","v":"04305-RIO HURTADO"},"105410","82106004","2021-12-17T08:13:29",2,null,2,null,2]
[11,"5",2021,{"$f":"IFERROR(VLOOKUP(Tabla_SERIEBM_01_6[[#This Row],[IdEstablecimiento]],[1]Establecimientos!A$1:E$175,5,FALSE),0)","v":"04305-RIO HURTADO"},"105410","81602231","2021-12-17T08:13:29",1,null,1,null,1]
[11,"5",2021,{"$f":"IFERROR(VLOOKUP(Tabla_SERIEBM_01_6[[#This Row],[IdEstablecimiento]],[1]Establecimientos!A$1:E$175,5,FALSE),0)","v":"04305-RIO HURTADO"},"105410","80106002","2021-12-17T08:13:29",5,null,5,null,5]
[11,"5",2021,{"$f":"IFERROR(VLOOKUP(Tabla_SERIEBM_01_6[[#This Row],[IdEstablecimiento]],[1]Establecimientos!A$1:E$175,5,FALSE),0)","v":"04305-RIO HURTADO"},"105410","80106006","2021-12-17T08:13:29",1,null,1,null,1]
[11,"5",2021,{"$f":"IFERROR(VLOOKUP(Tabla_SERIEBM_01_6[[#This Row],[IdEstablecimiento]],[1]Establecimientos!A$1:E$175,5,FALSE),0)","v":"04305-RIO HURTADO"},"105410","80106007","2021-12-17T08:13:29",2,null,2,null,2]
[11,"5",2021,{"$f":"IFERROR(VLOOKUP(Tabla_SERIEBM_01_6[[#This Row],[IdEstablecimiento]],[1]Establecimientos!A$1:E$175,5,FALSE),0)","v":"04305-RIO HURTADO"},"105410","80106008","2021-12-17T08:13:29",3,null,3,null,3]
[11,"5",2021,{"$f":"IFERROR(VLOOKUP(Tabla_SERIEBM_01_6[[#This Row],[IdEstablecimiento]],[1]Establecimientos!A$1:E$175,5,FALSE),0)","v":"04305-RIO HURTADO"},"105410","80106010","2021-12-17T08:13:29",2,null,2,null,2]
[11,"5",2021,{"$f":"IFERROR(VLOOKUP(Tabla_SERIEBM_01_6[[#This Row],[IdEstablecimiento]],[1]Establecimientos!A$1:E$175,5,FALSE),0)","v":"04305-RIO HURTADO"},"105410","80106014","2021-12-17T08:13:29",33,null,33,null,33]
[11,"5",2021,{"$f":"IFERROR(VLOOKUP(Tabla_SERIEBM_01_6[[#This Row],[IdEstablecimiento]],[1]Establecimientos!A$1:E$175,5,FALSE),0)","v":"04305-RIO HURTADO"},"105410","80106015","2021-12-17T08:13:29",15,null,15,null,15]
[11,"5",2021,{"$f":"IFERROR(VLOOKUP(Tabla_SERIEBM_01_6[[#This Row],[IdEstablecimiento]],[1]Establecimientos!A$1:E$175,5,FALSE),0)","v":"04305-RIO HURTADO"},"105410","80307011","2021-12-17T08:13:29",21,null,21]
[11,"5",2021,{"$f":"IFERROR(VLOOKUP(Tabla_SERIEBM_01_6[[#This Row],[IdEstablecimiento]],[1]Establecimientos!A$1:E$175,5,FALSE),0)","v":"04305-RIO HURTADO"},"105410","80500011","2021-12-17T08:13:29",10,null,10,null,10]
[11,"5",2021,{"$f":"IFERROR(VLOOKUP(Tabla_SERIEBM_01_6[[#This Row],[IdEstablecimiento]],[1]Establecimientos!A$1:E$175,5,FALSE),0)","v":"04305-RIO HURTADO"},"105410","18020500","2021-12-17T08:13:29",7,0,7]
[11,"5",2021,{"$f":"IFERROR(VLOOKUP(Tabla_SERIEBM_01_6[[#This Row],[IdEstablecimiento]],[1]Establecimientos!A$1:E$175,5,FALSE),0)","v":"04305-RIO HURTADO"},"105410","18020800","2021-12-17T08:13:29",2,0,2]
[11,"5",2021,{"$f":"IFERROR(VLOOKUP(Tabla_SERIEBM_01_6[[#This Row],[IdEstablecimiento]],[1]Establecimientos!A$1:E$175,5,FALSE),0)","v":"04305-RIO HURTADO"},"105410","18030000","2021-12-17T08:13:29",1,0,1]
[11,"5",2021,{"$f":"IFERROR(VLOOKUP(Tabla_SERIEBM_01_6[[#This Row],[IdEstablecimiento]],[1]Establecimientos!A$1:E$175,5,FALSE),0)","v":"04305-RIO HURTADO"},"105410","18040200","2021-12-17T08:13:29",1,null,1]
[11,"5",2021,{"$f":"IFERROR(VLOOKUP(Tabla_SERIEBM_01_6[[#This Row],[IdEstablecimiento]],[1]Establecimientos!A$1:E$175,5,FALSE),0)","v":"04305-RIO HURTADO"},"105410","18050100","2021-12-17T08:13:29",5,0,5]
[11,"5",2021,{"$f":"IFERROR(VLOOKUP(Tabla_SERIEBM_01_6[[#This Row],[IdEstablecimiento]],[1]Establecimientos!A$1:E$175,5,FALSE),0)","v":"04305-RIO HURTADO"},"105410","18050300","2021-12-17T08:13:29",1,0,1]
[11,"5",2021,{"$f":"IFERROR(VLOOKUP(Tabla_SERIEBM_01_6[[#This Row],[IdEstablecimiento]],[1]Establecimientos!A$1:E$175,5,FALSE),0)","v":"04305-RIO HURTADO"},"105411","80302047","2021-12-17T08:13:49",0,null,null,18]
[11,"5",2021,{"$f":"IFERROR(VLOOKUP(Tabla_SERIEBM_01_6[[#This Row],[IdEstablecimiento]],[1]Establecimientos!A$1:E$175,5,FALSE),0)","v":"04305-RIO HURTADO"},"105411","80302057","2021-12-17T08:13:49",0,null,null,5]
[11,"5",2021,{"$f":"IFERROR(VLOOKUP(Tabla_SERIEBM_01_6[[#This Row],[IdEstablecimiento]],[1]Establecimientos!A$1:E$175,5,FALSE),0)","v":"04305-RIO HURTADO"},"105411","80303024","2021-12-17T08:13:49",0,null,null,6]
[11,"5",2021,{"$f":"IFERROR(VLOOKUP(Tabla_SERIEBM_01_6[[#This Row],[IdEstablecimiento]],[1]Establecimientos!A$1:E$175,5,FALSE),0)","v":"04305-RIO HURTADO"},"105411","80303026","2021-12-17T08:13:49",0,null,null,3]
[11,"5",2021,{"$f":"IFERROR(VLOOKUP(Tabla_SERIEBM_01_6[[#This Row],[IdEstablecimiento]],[1]Establecimientos!A$1:E$175,5,FALSE),0)","v":"04305-RIO HURTADO"},"105411","80301045","2021-12-17T08:13:49",0,null,null,9]
[11,"5",2021,{"$f":"IFERROR(VLOOKUP(Tabla_SERIEBM_01_6[[#This Row],[IdEstablecimiento]],[1]Establecimientos!A$1:E$175,5,FALSE),0)","v":"04305-RIO HURTADO"},"105411","80301085","2021-12-17T08:13:49",0,null,null,1]
[11,"5",2021,{"$f":"IFERROR(VLOOKUP(Tabla_SERIEBM_01_6[[#This Row],[IdEstablecimiento]],[1]Establecimientos!A$1:E$175,5,FALSE),0)","v":"04305-RIO HURTADO"},"105411","80302005","2021-12-17T08:13:49",0,null,null,6]
[11,"5",2021,{"$f":"IFERROR(VLOOKUP(Tabla_SERIEBM_01_6[[#This Row],[IdEstablecimiento]],[1]Establecimientos!A$1:E$175,5,FALSE),0)","v":"04305-RIO HURTADO"},"105411","80302067","2021-12-17T08:13:49",0,null,null,2]
[11,"5",2021,{"$f":"IFERROR(VLOOKUP(Tabla_SERIEBM_01_6[[#This Row],[IdEstablecimiento]],[1]Establecimientos!A$1:E$175,5,FALSE),0)","v":"04305-RIO HURTADO"},"105411","80302023","2021-12-17T08:13:49",0,null,null,11]
[11,"5",2021,{"$f":"IFERROR(VLOOKUP(Tabla_SERIEBM_01_6[[#This Row],[IdEstablecimiento]],[1]Establecimientos!A$1:E$175,5,FALSE),0)","v":"04305-RIO HURTADO"},"105411","80302032","2021-12-17T08:13:49",0,null,null,8]
[11,"5",2021,{"$f":"IFERROR(VLOOKUP(Tabla_SERIEBM_01_6[[#This Row],[IdEstablecimiento]],[1]Establecimientos!A$1:E$175,5,FALSE),0)","v":"04305-RIO HURTADO"},"105411","80302034","2021-12-17T08:13:49",0,null,null,12]
[11,"5",2021,{"$f":"IFERROR(VLOOKUP(Tabla_SERIEBM_01_6[[#This Row],[IdEstablecimiento]],[1]Establecimientos!A$1:E$175,5,FALSE),0)","v":"04305-RIO HURTADO"},"105411","80306007","2021-12-17T08:13:49",0,null,null,1]
[11,"5",2021,{"$f":"IFERROR(VLOOKUP(Tabla_SERIEBM_01_6[[#This Row],[IdEstablecimiento]],[1]Establecimientos!A$1:E$175,5,FALSE),0)","v":"04305-RIO HURTADO"},"105411","80306011","2021-12-17T08:13:49",0,null,null,3]
[11,"5",2021,{"$f":"IFERROR(VLOOKUP(Tabla_SERIEBM_01_6[[#This Row],[IdEstablecimiento]],[1]Establecimientos!A$1:E$175,5,FALSE),0)","v":"04305-RIO HURTADO"},"105411","80306042","2021-12-17T08:13:49",0,null,null,2]
[11,"5",2021,{"$f":"IFERROR(VLOOKUP(Tabla_SERIEBM_01_6[[#This Row],[IdEstablecimiento]],[1]Establecimientos!A$1:E$175,5,FALSE),0)","v":"04204-SALAMANCA"},"105457","80500011","2021-12-17T08:54:34",13,null,13]
[11,"5",2021,{"$f":"IFERROR(VLOOKUP(Tabla_SERIEBM_01_6[[#This Row],[IdEstablecimiento]],[1]Establecimientos!A$1:E$175,5,FALSE),0)","v":"04204-SALAMANCA"},"105457","18020500","2021-12-17T08:54:34",9,0,9]
[11,"5",2021,{"$f":"IFERROR(VLOOKUP(Tabla_SERIEBM_01_6[[#This Row],[IdEstablecimiento]],[1]Establecimientos!A$1:E$175,5,FALSE),0)","v":"04204-SALAMANCA"},"105457","18030000","2021-12-17T08:54:34",1,0,1]
[11,"5",2021,{"$f":"IFERROR(VLOOKUP(Tabla_SERIEBM_01_6[[#This Row],[IdEstablecimiento]],[1]Establecimientos!A$1:E$175,5,FALSE),0)","v":"04204-SALAMANCA"},"105457","18040200","2021-12-17T08:54:34",1,null,1]
[11,"5",2021,{"$f":"IFERROR(VLOOKUP(Tabla_SERIEBM_01_6[[#This Row],[IdEstablecimiento]],[1]Establecimientos!A$1:E$175,5,FALSE),0)","v":"04204-SALAMANCA"},"105457","18050100","2021-12-17T08:54:34",16,0,16]
[11,"5",2021,{"$f":"IFERROR(VLOOKUP(Tabla_SERIEBM_01_6[[#This Row],[IdEstablecimiento]],[1]Establecimientos!A$1:E$175,5,FALSE),0)","v":"04204-SALAMANCA"},"105457","18400900","2021-12-17T08:54:34",6,1,5]
[11,"5",2021,{"$f":"IFERROR(VLOOKUP(Tabla_SERIEBM_01_6[[#This Row],[IdEstablecimiento]],[1]Establecimientos!A$1:E$175,5,FALSE),0)","v":"04204-SALAMANCA"},"105457","18700100","2021-12-17T08:54:34",27,1,25,1]
[11,"5",2021,{"$f":"IFERROR(VLOOKUP(Tabla_SERIEBM_01_6[[#This Row],[IdEstablecimiento]],[1]Establecimientos!A$1:E$175,5,FALSE),0)","v":"04204-SALAMANCA"},"105458","81701001","2021-12-17T08:55:00",11,null,11]
[11,"5",2021,{"$f":"IFERROR(VLOOKUP(Tabla_SERIEBM_01_6[[#This Row],[IdEstablecimiento]],[1]Establecimientos!A$1:E$175,5,FALSE),0)","v":"04204-SALAMANCA"},"105458","81602222","2021-12-17T08:55:00",2,null,2]
[11,"5",2021,{"$f":"IFERROR(VLOOKUP(Tabla_SERIEBM_01_6[[#This Row],[IdEstablecimiento]],[1]Establecimientos!A$1:E$175,5,FALSE),0)","v":"04204-SALAMANCA"},"105458","81602231","2021-12-17T08:55:00",1,null,1]
[11,"5",2021,{"$f":"IFERROR(VLOOKUP(Tabla_SERIEBM_01_6[[#This Row],[IdEstablecimiento]],[1]Establecimientos!A$1:E$175,5,FALSE),0)","v":"04204-SALAMANCA"},"105458","80106002","2021-12-17T08:55:00",90,null,90]
[11,"5",2021,{"$f":"IFERROR(VLOOKUP(Tabla_SERIEBM_01_6[[#This Row],[IdEstablecimiento]],[1]Establecimientos!A$1:E$175,5,FALSE),0)","v":"04204-SALAMANCA"},"105458","80106008","2021-12-17T08:55:00",2,null,2]
[11,"5",2021,{"$f":"IFERROR(VLOOKUP(Tabla_SERIEBM_01_6[[#This Row],[IdEstablecimiento]],[1]Establecimientos!A$1:E$175,5,FALSE),0)","v":"04204-SALAMANCA"},"105458","80106010","2021-12-17T08:55:00",5,null,5]
[11,"5",2021,{"$f":"IFERROR(VLOOKUP(Tabla_SERIEBM_01_6[[#This Row],[IdEstablecimiento]],[1]Establecimientos!A$1:E$175,5,FALSE),0)","v":"04204-SALAMANCA"},"105458","80106015","2021-12-17T08:55:00",2,null,2]
[11,"5",2021,{"$f":"IFERROR(VLOOKUP(Tabla_SERIEBM_01_6[[#This Row],[IdEstablecimiento]],[1]Establecimientos!A$1:E$175,5,FALSE),0)","v":"04204-SALAMANCA"},"105458","80500011","2021-12-17T08:55:00",48,null,48]
[11,"5",2021,{"$f":"IFERROR(VLOOKUP(Tabla_SERIEBM_01_6[[#This Row],[IdEstablecimiento]],[1]Establecimientos!A$1:E$175,5,FALSE),0)","v":"04204-SALAMANCA"},"105458","18020500","2021-12-17T08:55:00",11,0,11]
[11,"5",2021,{"$f":"IFERROR(VLOOKUP(Tabla_SERIEBM_01_6[[#This Row],[IdEstablecimiento]],[1]Establecimientos!A$1:E$175,5,FALSE),0)","v":"04204-SALAMANCA"},"105458","18030000","2021-12-17T08:55:00",3,0,3]
[11,"5",2021,{"$f":"IFERROR(VLOOKUP(Tabla_SERIEBM_01_6[[#This Row],[IdEstablecimiento]],[1]Establecimientos!A$1:E$175,5,FALSE),0)","v":"04204-SALAMANCA"},"105458","18040200","2021-12-17T08:55:00",3,2,1]
[11,"5",2021,{"$f":"IFERROR(VLOOKUP(Tabla_SERIEBM_01_6[[#This Row],[IdEstablecimiento]],[1]Establecimientos!A$1:E$175,5,FALSE),0)","v":"04204-SALAMANCA"},"105458","18050100","2021-12-17T08:55:00",90,0,90]
[11,"5",2021,{"$f":"IFERROR(VLOOKUP(Tabla_SERIEBM_01_6[[#This Row],[IdEstablecimiento]],[1]Establecimientos!A$1:E$175,5,FALSE),0)","v":"04204-SALAMANCA"},"105458","18400900","2021-12-17T08:55:00",38,10,28]
[11,"5",2021,{"$f":"IFERROR(VLOOKUP(Tabla_SERIEBM_01_6[[#This Row],[IdEstablecimiento]],[1]Establecimientos!A$1:E$175,5,FALSE),0)","v":"04204-SALAMANCA"},"105458","18700100","2021-12-17T08:55:00",191,5,178,8]
[11,"5",2021,{"$f":"IFERROR(VLOOKUP(Tabla_SERIEBM_01_6[[#This Row],[IdEstablecimiento]],[1]Establecimientos!A$1:E$175,5,FALSE),0)","v":"04302-COMBARBALÁ"},"105459","81701001","2021-12-17T08:55:44",1,null,1,null,1]
[11,"5",2021,{"$f":"IFERROR(VLOOKUP(Tabla_SERIEBM_01_6[[#This Row],[IdEstablecimiento]],[1]Establecimientos!A$1:E$175,5,FALSE),0)","v":"04302-COMBARBALÁ"},"105459","80106002","2021-12-17T08:55:44",6,null,6,null,6]
[11,"5",2021,{"$f":"IFERROR(VLOOKUP(Tabla_SERIEBM_01_6[[#This Row],[IdEstablecimiento]],[1]Establecimientos!A$1:E$175,5,FALSE),0)","v":"04302-COMBARBALÁ"},"105459","80106017","2021-12-17T08:55:44",6,null,6,null,6]
[11,"5",2021,{"$f":"IFERROR(VLOOKUP(Tabla_SERIEBM_01_6[[#This Row],[IdEstablecimiento]],[1]Establecimientos!A$1:E$175,5,FALSE),0)","v":"04302-COMBARBALÁ"},"105459","80106013","2021-12-17T08:55:44",16,null,16,null,16]
[11,"5",2021,{"$f":"IFERROR(VLOOKUP(Tabla_SERIEBM_01_6[[#This Row],[IdEstablecimiento]],[1]Establecimientos!A$1:E$175,5,FALSE),0)","v":"04302-COMBARBALÁ"},"105459","80106014","2021-12-17T08:55:44",1,null,1,null,1]
[11,"5",2021,{"$f":"IFERROR(VLOOKUP(Tabla_SERIEBM_01_6[[#This Row],[IdEstablecimiento]],[1]Establecimientos!A$1:E$175,5,FALSE),0)","v":"04302-COMBARBALÁ"},"105459","80106015","2021-12-17T08:55:44",2,null,2,null,2]
[11,"5",2021,{"$f":"IFERROR(VLOOKUP(Tabla_SERIEBM_01_6[[#This Row],[IdEstablecimiento]],[1]Establecimientos!A$1:E$175,5,FALSE),0)","v":"04302-COMBARBALÁ"},"105459","80106023","2021-12-17T08:55:44",14,null,14,null,14]
[11,"5",2021,{"$f":"IFERROR(VLOOKUP(Tabla_SERIEBM_01_6[[#This Row],[IdEstablecimiento]],[1]Establecimientos!A$1:E$175,5,FALSE),0)","v":"04302-COMBARBALÁ"},"105459","80500001","2021-12-17T08:55:44",2,null,2,null,2]
[11,"5",2021,{"$f":"IFERROR(VLOOKUP(Tabla_SERIEBM_01_6[[#This Row],[IdEstablecimiento]],[1]Establecimientos!A$1:E$175,5,FALSE),0)","v":"04302-COMBARBALÁ"},"105459","18020500","2021-12-17T08:55:44",1,0,1]
[11,"5",2021,{"$f":"IFERROR(VLOOKUP(Tabla_SERIEBM_01_6[[#This Row],[IdEstablecimiento]],[1]Establecimientos!A$1:E$175,5,FALSE),0)","v":"04203-LOS VILOS"},"105478","80302060","2021-12-17T09:06:42",0,null,null,1]
[11,"5",2021,{"$f":"IFERROR(VLOOKUP(Tabla_SERIEBM_01_6[[#This Row],[IdEstablecimiento]],[1]Establecimientos!A$1:E$175,5,FALSE),0)","v":"04203-LOS VILOS"},"105478","80302076","2021-12-17T09:06:42",0,null,null,12]
[11,"5",2021,{"$f":"IFERROR(VLOOKUP(Tabla_SERIEBM_01_6[[#This Row],[IdEstablecimiento]],[1]Establecimientos!A$1:E$175,5,FALSE),0)","v":"04203-LOS VILOS"},"105478","80303015","2021-12-17T09:06:42",0,null,null,1]
[11,"5",2021,{"$f":"IFERROR(VLOOKUP(Tabla_SERIEBM_01_6[[#This Row],[IdEstablecimiento]],[1]Establecimientos!A$1:E$175,5,FALSE),0)","v":"04203-LOS VILOS"},"105478","80303024","2021-12-17T09:06:42",0,null,null,15]
[11,"5",2021,{"$f":"IFERROR(VLOOKUP(Tabla_SERIEBM_01_6[[#This Row],[IdEstablecimiento]],[1]Establecimientos!A$1:E$175,5,FALSE),0)","v":"04203-LOS VILOS"},"105478","80303026","2021-12-17T09:06:42",0,null,null,7]
[11,"5",2021,{"$f":"IFERROR(VLOOKUP(Tabla_SERIEBM_01_6[[#This Row],[IdEstablecimiento]],[1]Establecimientos!A$1:E$175,5,FALSE),0)","v":"04203-LOS VILOS"},"105478","80301015","2021-12-17T09:06:42",0,null,null,1]
[11,"5",2021,{"$f":"IFERROR(VLOOKUP(Tabla_SERIEBM_01_6[[#This Row],[IdEstablecimiento]],[1]Establecimientos!A$1:E$175,5,FALSE),0)","v":"04203-LOS VILOS"},"105478","80301041","2021-12-17T09:06:42",0,null,null,1]
[11,"5",2021,{"$f":"IFERROR(VLOOKUP(Tabla_SERIEBM_01_6[[#This Row],[IdEstablecimiento]],[1]Establecimientos!A$1:E$175,5,FALSE),0)","v":"04203-LOS VILOS"},"105478","80301045","2021-12-17T09:06:42",0,null,null,17]
[11,"5",2021,{"$f":"IFERROR(VLOOKUP(Tabla_SERIEBM_01_6[[#This Row],[IdEstablecimiento]],[1]Establecimientos!A$1:E$175,5,FALSE),0)","v":"04203-LOS VILOS"},"105478","80301059","2021-12-17T09:06:42",0,null,null,4]
[11,"5",2021,{"$f":"IFERROR(VLOOKUP(Tabla_SERIEBM_01_6[[#This Row],[IdEstablecimiento]],[1]Establecimientos!A$1:E$175,5,FALSE),0)","v":"04203-LOS VILOS"},"105478","80301085","2021-12-17T09:06:42",0,null,null,4]
[11,"5",2021,{"$f":"IFERROR(VLOOKUP(Tabla_SERIEBM_01_6[[#This Row],[IdEstablecimiento]],[1]Establecimientos!A$1:E$175,5,FALSE),0)","v":"04203-LOS VILOS"},"105478","80302005","2021-12-17T09:06:42",0,null,null,2]
[11,"5",2021,{"$f":"IFERROR(VLOOKUP(Tabla_SERIEBM_01_6[[#This Row],[IdEstablecimiento]],[1]Establecimientos!A$1:E$175,5,FALSE),0)","v":"04203-LOS VILOS"},"105478","80302023","2021-12-17T09:06:42",0,null,null,35]
[11,"5",2021,{"$f":"IFERROR(VLOOKUP(Tabla_SERIEBM_01_6[[#This Row],[IdEstablecimiento]],[1]Establecimientos!A$1:E$175,5,FALSE),0)","v":"04203-LOS VILOS"},"105478","80302032","2021-12-17T09:06:42",0,null,null,32]
[11,"5",2021,{"$f":"IFERROR(VLOOKUP(Tabla_SERIEBM_01_6[[#This Row],[IdEstablecimiento]],[1]Establecimientos!A$1:E$175,5,FALSE),0)","v":"04203-LOS VILOS"},"105478","80302034","2021-12-17T09:06:42",0,null,null,37]
[11,"5",2021,{"$f":"IFERROR(VLOOKUP(Tabla_SERIEBM_01_6[[#This Row],[IdEstablecimiento]],[1]Establecimientos!A$1:E$175,5,FALSE),0)","v":"04203-LOS VILOS"},"105478","80305070","2021-12-17T09:06:42",0,null,null,7]
[11,"5",2021,{"$f":"IFERROR(VLOOKUP(Tabla_SERIEBM_01_6[[#This Row],[IdEstablecimiento]],[1]Establecimientos!A$1:E$175,5,FALSE),0)","v":"04203-LOS VILOS"},"105478","80305019","2021-12-17T09:06:42",0,null,null,2]
[11,"5",2021,{"$f":"IFERROR(VLOOKUP(Tabla_SERIEBM_01_6[[#This Row],[IdEstablecimiento]],[1]Establecimientos!A$1:E$175,5,FALSE),0)","v":"04203-LOS VILOS"},"105478","80305030","2021-12-17T09:06:42",0,null,null,2]
[11,"5",2021,{"$f":"IFERROR(VLOOKUP(Tabla_SERIEBM_01_6[[#This Row],[IdEstablecimiento]],[1]Establecimientos!A$1:E$175,5,FALSE),0)","v":"04305-RIO HURTADO"},"105503","80309013","2021-12-17T09:19:35",0,null,null,2]
[11,"5",2021,{"$f":"IFERROR(VLOOKUP(Tabla_SERIEBM_01_6[[#This Row],[IdEstablecimiento]],[1]Establecimientos!A$1:E$175,5,FALSE),0)","v":"04305-RIO HURTADO"},"105503","80309022","2021-12-17T09:19:35",0,null,null,5]
[11,"5",2021,{"$f":"IFERROR(VLOOKUP(Tabla_SERIEBM_01_6[[#This Row],[IdEstablecimiento]],[1]Establecimientos!A$1:E$175,5,FALSE),0)","v":"04305-RIO HURTADO"},"105503","80404003","2021-12-17T09:19:35",0,0,0,1]
[11,"5",2021,{"$f":"IFERROR(VLOOKUP(Tabla_SERIEBM_01_6[[#This Row],[IdEstablecimiento]],[1]Establecimientos!A$1:E$175,5,FALSE),0)","v":"04305-RIO HURTADO"},"105503","80106002","2021-12-17T09:19:35",6,null,6,null,6]
[11,"5",2021,{"$f":"IFERROR(VLOOKUP(Tabla_SERIEBM_01_6[[#This Row],[IdEstablecimiento]],[1]Establecimientos!A$1:E$175,5,FALSE),0)","v":"04305-RIO HURTADO"},"105503","80106013","2021-12-17T09:19:35",1,null,1,null,1]
[11,"5",2021,{"$f":"IFERROR(VLOOKUP(Tabla_SERIEBM_01_6[[#This Row],[IdEstablecimiento]],[1]Establecimientos!A$1:E$175,5,FALSE),0)","v":"04305-RIO HURTADO"},"105503","80106014","2021-12-17T09:19:35",8,null,8,null,8]
[11,"5",2021,{"$f":"IFERROR(VLOOKUP(Tabla_SERIEBM_01_6[[#This Row],[IdEstablecimiento]],[1]Establecimientos!A$1:E$175,5,FALSE),0)","v":"04305-RIO HURTADO"},"105503","80307011","2021-12-17T09:19:35",32,null,32]
[11,"5",2021,{"$f":"IFERROR(VLOOKUP(Tabla_SERIEBM_01_6[[#This Row],[IdEstablecimiento]],[1]Establecimientos!A$1:E$175,5,FALSE),0)","v":"04305-RIO HURTADO"},"105503","80307012","2021-12-17T09:19:35",2,null,2]
[11,"5",2021,{"$f":"IFERROR(VLOOKUP(Tabla_SERIEBM_01_6[[#This Row],[IdEstablecimiento]],[1]Establecimientos!A$1:E$175,5,FALSE),0)","v":"04305-RIO HURTADO"},"105503","80500008","2021-12-17T09:19:35",1,null,1,null,1]
[11,"5",2021,{"$f":"IFERROR(VLOOKUP(Tabla_SERIEBM_01_6[[#This Row],[IdEstablecimiento]],[1]Establecimientos!A$1:E$175,5,FALSE),0)","v":"04305-RIO HURTADO"},"105503","18050100","2021-12-17T09:19:35",6,0,6]
[11,"5",2021,{"$f":"IFERROR(VLOOKUP(Tabla_SERIEBM_01_6[[#This Row],[IdEstablecimiento]],[1]Establecimientos!A$1:E$175,5,FALSE),0)","v":"04201-ILLAPEL"},"105504","80302047","2021-12-17T09:19:56",0,null,null,5]
[11,"5",2021,{"$f":"IFERROR(VLOOKUP(Tabla_SERIEBM_01_6[[#This Row],[IdEstablecimiento]],[1]Establecimientos!A$1:E$175,5,FALSE),0)","v":"04201-ILLAPEL"},"105504","80302057","2021-12-17T09:19:56",0,null,null,5]
[11,"5",2021,{"$f":"IFERROR(VLOOKUP(Tabla_SERIEBM_01_6[[#This Row],[IdEstablecimiento]],[1]Establecimientos!A$1:E$175,5,FALSE),0)","v":"04201-ILLAPEL"},"105504","80302076","2021-12-17T09:19:56",0,null,null,1]
[11,"5",2021,{"$f":"IFERROR(VLOOKUP(Tabla_SERIEBM_01_6[[#This Row],[IdEstablecimiento]],[1]Establecimientos!A$1:E$175,5,FALSE),0)","v":"04201-ILLAPEL"},"105504","80303024","2021-12-17T09:19:56",0,null,null,3]
[11,"5",2021,{"$f":"IFERROR(VLOOKUP(Tabla_SERIEBM_01_6[[#This Row],[IdEstablecimiento]],[1]Establecimientos!A$1:E$175,5,FALSE),0)","v":"04201-ILLAPEL"},"105504","80301045","2021-12-17T09:19:56",0,null,null,5]
[11,"5",2021,{"$f":"IFERROR(VLOOKUP(Tabla_SERIEBM_01_6[[#This Row],[IdEstablecimiento]],[1]Establecimientos!A$1:E$175,5,FALSE),0)","v":"04201-ILLAPEL"},"105504","80302023","2021-12-17T09:19:56",0,null,null,5]
[11,"5",2021,{"$f":"IFERROR(VLOOKUP(Tabla_SERIEBM_01_6[[#This Row],[IdEstablecimiento]],[1]Establecimientos!A$1:E$175,5,FALSE),0)","v":"04201-ILLAPEL"},"105504","80302034","2021-12-17T09:19:56",0,null,null,5]
[11,"5",2021,{"$f":"IFERROR(VLOOKUP(Tabla_SERIEBM_01_6[[#This Row],[IdEstablecimiento]],[1]Establecimientos!A$1:E$175,5,FALSE),0)","v":"04201-ILLAPEL"},"105504","80306011","2021-12-17T09:19:56",0,null,null,1]
[11,"5",2021,{"$f":"IFERROR(VLOOKUP(Tabla_SERIEBM_01_6[[#This Row],[IdEstablecimiento]],[1]Establecimientos!A$1:E$175,5,FALSE),0)","v":"04201-ILLAPEL"},"105504","80306042","2021-12-17T09:19:56",0,null,null,5]
[11,"5",2021,{"$f":"IFERROR(VLOOKUP(Tabla_SERIEBM_01_6[[#This Row],[IdEstablecimiento]],[1]Establecimientos!A$1:E$175,5,FALSE),0)","v":"04201-ILLAPEL"},"105504","80309023","2021-12-17T09:19:56",0,null,null,5]
[11,"5",2021,{"$f":"IFERROR(VLOOKUP(Tabla_SERIEBM_01_6[[#This Row],[IdEstablecimiento]],[1]Establecimientos!A$1:E$175,5,FALSE),0)","v":"04201-ILLAPEL"},"105504","80106002","2021-12-17T09:19:56",4,null,4,null,4]
[11,"5",2021,{"$f":"IFERROR(VLOOKUP(Tabla_SERIEBM_01_6[[#This Row],[IdEstablecimiento]],[1]Establecimientos!A$1:E$175,5,FALSE),0)","v":"04201-ILLAPEL"},"105504","80106014","2021-12-17T09:19:56",15,null,15,null,15]
[11,"5",2021,{"$f":"IFERROR(VLOOKUP(Tabla_SERIEBM_01_6[[#This Row],[IdEstablecimiento]],[1]Establecimientos!A$1:E$175,5,FALSE),0)","v":"04201-ILLAPEL"},"105504","80106015","2021-12-17T09:19:56",2,null,2,null,2]
[11,"5",2021,{"$f":"IFERROR(VLOOKUP(Tabla_SERIEBM_01_6[[#This Row],[IdEstablecimiento]],[1]Establecimientos!A$1:E$175,5,FALSE),0)","v":"04201-ILLAPEL"},"105504","80307011","2021-12-17T09:19:56",0,null,null,12]
[11,"5",2021,{"$f":"IFERROR(VLOOKUP(Tabla_SERIEBM_01_6[[#This Row],[IdEstablecimiento]],[1]Establecimientos!A$1:E$175,5,FALSE),0)","v":"04201-ILLAPEL"},"105504","18050100","2021-12-17T09:19:56",4,0,4]
[11,"5",2021,{"$f":"IFERROR(VLOOKUP(Tabla_SERIEBM_01_6[[#This Row],[IdEstablecimiento]],[1]Establecimientos!A$1:E$175,5,FALSE),0)","v":"04201-ILLAPEL"},"105504","18700100","2021-12-17T09:19:56",11,2,8,1]
[11,"5",2021,{"$f":"IFERROR(VLOOKUP(Tabla_SERIEBM_01_6[[#This Row],[IdEstablecimiento]],[1]Establecimientos!A$1:E$175,5,FALSE),0)","v":"04301-OVALLE"},"105507","82001015","2021-12-17T09:20:40",1,null,1,null,1]
[11,"5",2021,{"$f":"IFERROR(VLOOKUP(Tabla_SERIEBM_01_6[[#This Row],[IdEstablecimiento]],[1]Establecimientos!A$1:E$175,5,FALSE),0)","v":"04301-OVALLE"},"105507","80106002","2021-12-17T09:20:40",28,null,28]
[11,"5",2021,{"$f":"IFERROR(VLOOKUP(Tabla_SERIEBM_01_6[[#This Row],[IdEstablecimiento]],[1]Establecimientos!A$1:E$175,5,FALSE),0)","v":"04301-OVALLE"},"105507","80106017","2021-12-17T09:20:40",18,null,18]
[11,"5",2021,{"$f":"IFERROR(VLOOKUP(Tabla_SERIEBM_01_6[[#This Row],[IdEstablecimiento]],[1]Establecimientos!A$1:E$175,5,FALSE),0)","v":"04301-OVALLE"},"105507","80106014","2021-12-17T09:20:40",52,null,52]
[11,"5",2021,{"$f":"IFERROR(VLOOKUP(Tabla_SERIEBM_01_6[[#This Row],[IdEstablecimiento]],[1]Establecimientos!A$1:E$175,5,FALSE),0)","v":"04301-OVALLE"},"105507","80500011","2021-12-17T09:20:40",10,null,10]
[11,"5",2021,{"$f":"IFERROR(VLOOKUP(Tabla_SERIEBM_01_6[[#This Row],[IdEstablecimiento]],[1]Establecimientos!A$1:E$175,5,FALSE),0)","v":"04301-OVALLE"},"105507","18020900","2021-12-17T09:20:40",1,0,1]
[11,"5",2021,{"$f":"IFERROR(VLOOKUP(Tabla_SERIEBM_01_6[[#This Row],[IdEstablecimiento]],[1]Establecimientos!A$1:E$175,5,FALSE),0)","v":"04301-OVALLE"},"105507","18050100","2021-12-17T09:20:40",28,0,28]
[11,"5",2021,{"$f":"IFERROR(VLOOKUP(Tabla_SERIEBM_01_6[[#This Row],[IdEstablecimiento]],[1]Establecimientos!A$1:E$175,5,FALSE),0)","v":"04304-PUNITAQUI"},"105508","80106014","2021-12-17T09:20:59",41,null,41,null,41]
[11,"5",2021,{"$f":"IFERROR(VLOOKUP(Tabla_SERIEBM_01_6[[#This Row],[IdEstablecimiento]],[1]Establecimientos!A$1:E$175,5,FALSE),0)","v":"04101-LA SERENA"},"105819","18400700","2021-12-17T09:33:08",23380]
[11,"5",2021,{"$f":"IFERROR(VLOOKUP(Tabla_SERIEBM_01_6[[#This Row],[IdEstablecimiento]],[1]Establecimientos!A$1:E$175,5,FALSE),0)","v":"04101-LA SERENA"},"105819","18700100","2021-12-17T09:33:08",609,206,306,97]
[11,"5",2021,{"$f":"IFERROR(VLOOKUP(Tabla_SERIEBM_01_6[[#This Row],[IdEstablecimiento]],[1]Establecimientos!A$1:E$175,5,FALSE),0)","v":"04301-OVALLE"},"105822","80309014","2021-12-17T09:33:36",8,8]
[11,"5",2021,{"$f":"IFERROR(VLOOKUP(Tabla_SERIEBM_01_6[[#This Row],[IdEstablecimiento]],[1]Establecimientos!A$1:E$175,5,FALSE),0)","v":"04301-OVALLE"},"105822","80401009","2021-12-17T09:33:36",65,65]
[11,"5",2021,{"$f":"IFERROR(VLOOKUP(Tabla_SERIEBM_01_6[[#This Row],[IdEstablecimiento]],[1]Establecimientos!A$1:E$175,5,FALSE),0)","v":"04301-OVALLE"},"105822","80401070","2021-12-17T09:33:36",14,14]
[11,"5",2021,{"$f":"IFERROR(VLOOKUP(Tabla_SERIEBM_01_6[[#This Row],[IdEstablecimiento]],[1]Establecimientos!A$1:E$175,5,FALSE),0)","v":"04301-OVALLE"},"105822","80401013","2021-12-17T09:33:36",7,7]
[11,"5",2021,{"$f":"IFERROR(VLOOKUP(Tabla_SERIEBM_01_6[[#This Row],[IdEstablecimiento]],[1]Establecimientos!A$1:E$175,5,FALSE),0)","v":"04301-OVALLE"},"105822","80401030","2021-12-17T09:33:36",3,3]
[11,"5",2021,{"$f":"IFERROR(VLOOKUP(Tabla_SERIEBM_01_6[[#This Row],[IdEstablecimiento]],[1]Establecimientos!A$1:E$175,5,FALSE),0)","v":"04301-OVALLE"},"105822","80401031","2021-12-17T09:33:36",10,10]
[11,"5",2021,{"$f":"IFERROR(VLOOKUP(Tabla_SERIEBM_01_6[[#This Row],[IdEstablecimiento]],[1]Establecimientos!A$1:E$175,5,FALSE),0)","v":"04301-OVALLE"},"105822","80401042","2021-12-17T09:33:36",11,11]
[11,"5",2021,{"$f":"IFERROR(VLOOKUP(Tabla_SERIEBM_01_6[[#This Row],[IdEstablecimiento]],[1]Establecimientos!A$1:E$175,5,FALSE),0)","v":"04301-OVALLE"},"105822","80401043","2021-12-17T09:33:36",7,7]
[11,"5",2021,{"$f":"IFERROR(VLOOKUP(Tabla_SERIEBM_01_6[[#This Row],[IdEstablecimiento]],[1]Establecimientos!A$1:E$175,5,FALSE),0)","v":"04301-OVALLE"},"105822","80401045","2021-12-17T09:33:36",1,1]
[11,"5",2021,{"$f":"IFERROR(VLOOKUP(Tabla_SERIEBM_01_6[[#This Row],[IdEstablecimiento]],[1]Establecimientos!A$1:E$175,5,FALSE),0)","v":"04301-OVALLE"},"105822","80401049","2021-12-17T09:33:36",2,2]
[11,"5",2021,{"$f":"IFERROR(VLOOKUP(Tabla_SERIEBM_01_6[[#This Row],[IdEstablecimiento]],[1]Establecimientos!A$1:E$175,5,FALSE),0)","v":"04301-OVALLE"},"105822","80401051","2021-12-17T09:33:36",18,18]
[11,"5",2021,{"$f":"IFERROR(VLOOKUP(Tabla_SERIEBM_01_6[[#This Row],[IdEstablecimiento]],[1]Establecimientos!A$1:E$175,5,FALSE),0)","v":"04301-OVALLE"},"105822","80401053","2021-12-17T09:33:36",1,1]
[11,"5",2021,{"$f":"IFERROR(VLOOKUP(Tabla_SERIEBM_01_6[[#This Row],[IdEstablecimiento]],[1]Establecimientos!A$1:E$175,5,FALSE),0)","v":"04301-OVALLE"},"105822","80401054","2021-12-17T09:33:36",15,15]
[11,"5",2021,{"$f":"IFERROR(VLOOKUP(Tabla_SERIEBM_01_6[[#This Row],[IdEstablecimiento]],[1]Establecimientos!A$1:E$175,5,FALSE),0)","v":"04301-OVALLE"},"105822","80401055","2021-12-17T09:33:36",3,3]
[11,"5",2021,{"$f":"IFERROR(VLOOKUP(Tabla_SERIEBM_01_6[[#This Row],[IdEstablecimiento]],[1]Establecimientos!A$1:E$175,5,FALSE),0)","v":"04301-OVALLE"},"105822","81201029","2021-12-17T09:33:36",13,13,null,13]
[11,"5",2021,{"$f":"IFERROR(VLOOKUP(Tabla_SERIEBM_01_6[[#This Row],[IdEstablecimiento]],[1]Establecimientos!A$1:E$175,5,FALSE),0)","v":"04301-OVALLE"},"105822","81301025","2021-12-17T09:33:36",3,3,null,3]
[11,"5",2021,{"$f":"IFERROR(VLOOKUP(Tabla_SERIEBM_01_6[[#This Row],[IdEstablecimiento]],[1]Establecimientos!A$1:E$175,5,FALSE),0)","v":"04301-OVALLE"},"105822","81701001","2021-12-17T09:33:36",130,130,null,null,130]
[11,"5",2021,{"$f":"IFERROR(VLOOKUP(Tabla_SERIEBM_01_6[[#This Row],[IdEstablecimiento]],[1]Establecimientos!A$1:E$175,5,FALSE),0)","v":"04301-OVALLE"},"105822","81701009","2021-12-17T09:33:36",10,10,null,null,10]
[11,"5",2021,{"$f":"IFERROR(VLOOKUP(Tabla_SERIEBM_01_6[[#This Row],[IdEstablecimiento]],[1]Establecimientos!A$1:E$175,5,FALSE),0)","v":"04301-OVALLE"},"105822","81707030","2021-12-17T09:33:36",2,2,null,null,2]
[11,"5",2021,{"$f":"IFERROR(VLOOKUP(Tabla_SERIEBM_01_6[[#This Row],[IdEstablecimiento]],[1]Establecimientos!A$1:E$175,5,FALSE),0)","v":"04301-OVALLE"},"105822","81602221","2021-12-17T09:33:36",3,3,null,3]
[11,"5",2021,{"$f":"IFERROR(VLOOKUP(Tabla_SERIEBM_01_6[[#This Row],[IdEstablecimiento]],[1]Establecimientos!A$1:E$175,5,FALSE),0)","v":"04301-OVALLE"},"105822","81602222","2021-12-17T09:33:36",21,21,null,21]
[11,"5",2021,{"$f":"IFERROR(VLOOKUP(Tabla_SERIEBM_01_6[[#This Row],[IdEstablecimiento]],[1]Establecimientos!A$1:E$175,5,FALSE),0)","v":"04301-OVALLE"},"105822","80106002","2021-12-17T09:33:36",30,30,null,null,30]
[11,"5",2021,{"$f":"IFERROR(VLOOKUP(Tabla_SERIEBM_01_6[[#This Row],[IdEstablecimiento]],[1]Establecimientos!A$1:E$175,5,FALSE),0)","v":"04301-OVALLE"},"105822","80106006","2021-12-17T09:33:36",22,22,null,null,22]
[11,"5",2021,{"$f":"IFERROR(VLOOKUP(Tabla_SERIEBM_01_6[[#This Row],[IdEstablecimiento]],[1]Establecimientos!A$1:E$175,5,FALSE),0)","v":"04301-OVALLE"},"105822","80106017","2021-12-17T09:33:36",30,30,null,null,30]
[11,"5",2021,{"$f":"IFERROR(VLOOKUP(Tabla_SERIEBM_01_6[[#This Row],[IdEstablecimiento]],[1]Establecimientos!A$1:E$175,5,FALSE),0)","v":"04301-OVALLE"},"105822","80106007","2021-12-17T09:33:36",13,13,null,null,12]
[11,"5",2021,{"$f":"IFERROR(VLOOKUP(Tabla_SERIEBM_01_6[[#This Row],[IdEstablecimiento]],[1]Establecimientos!A$1:E$175,5,FALSE),0)","v":"04301-OVALLE"},"105822","80106009","2021-12-17T09:33:36",17,17,null,null,17]
[11,"5",2021,{"$f":"IFERROR(VLOOKUP(Tabla_SERIEBM_01_6[[#This Row],[IdEstablecimiento]],[1]Establecimientos!A$1:E$175,5,FALSE),0)","v":"04301-OVALLE"},"105822","80106013","2021-12-17T09:33:36",14,14,null,null,14]
[11,"5",2021,{"$f":"IFERROR(VLOOKUP(Tabla_SERIEBM_01_6[[#This Row],[IdEstablecimiento]],[1]Establecimientos!A$1:E$175,5,FALSE),0)","v":"04301-OVALLE"},"105822","80106014","2021-12-17T09:33:36",760,760,null,null,760]
[11,"5",2021,{"$f":"IFERROR(VLOOKUP(Tabla_SERIEBM_01_6[[#This Row],[IdEstablecimiento]],[1]Establecimientos!A$1:E$175,5,FALSE),0)","v":"04301-OVALLE"},"105822","80106015","2021-12-17T09:33:36",386,386,null,null,386]
[11,"5",2021,{"$f":"IFERROR(VLOOKUP(Tabla_SERIEBM_01_6[[#This Row],[IdEstablecimiento]],[1]Establecimientos!A$1:E$175,5,FALSE),0)","v":"04301-OVALLE"},"105822","80106020","2021-12-17T09:33:36",22,22,null,null,22]
[11,"5",2021,{"$f":"IFERROR(VLOOKUP(Tabla_SERIEBM_01_6[[#This Row],[IdEstablecimiento]],[1]Establecimientos!A$1:E$175,5,FALSE),0)","v":"04301-OVALLE"},"105822","80106021","2021-12-17T09:33:36",4,4,null,null,4]
[11,"5",2021,{"$f":"IFERROR(VLOOKUP(Tabla_SERIEBM_01_6[[#This Row],[IdEstablecimiento]],[1]Establecimientos!A$1:E$175,5,FALSE),0)","v":"04301-OVALLE"},"105822","80106022","2021-12-17T09:33:36",42,42,null,null,42]
[11,"5",2021,{"$f":"IFERROR(VLOOKUP(Tabla_SERIEBM_01_6[[#This Row],[IdEstablecimiento]],[1]Establecimientos!A$1:E$175,5,FALSE),0)","v":"04106-VICUÑA"},"200538","80106017","2021-12-17T09:39:31",79,null,79,null,79]
[11,"5",2021,{"$f":"IFERROR(VLOOKUP(Tabla_SERIEBM_01_6[[#This Row],[IdEstablecimiento]],[1]Establecimientos!A$1:E$175,5,FALSE),0)","v":"04106-VICUÑA"},"200538","80106014","2021-12-17T09:39:31",68,null,68,null,68]
[11,"5",2021,{"$f":"IFERROR(VLOOKUP(Tabla_SERIEBM_01_6[[#This Row],[IdEstablecimiento]],[1]Establecimientos!A$1:E$175,5,FALSE),0)","v":"04106-VICUÑA"},"200538","80106023","2021-12-17T09:39:31",30,null,30,null,30]
[11,"5",2021,{"$f":"IFERROR(VLOOKUP(Tabla_SERIEBM_01_6[[#This Row],[IdEstablecimiento]],[1]Establecimientos!A$1:E$175,5,FALSE),0)","v":"04106-VICUÑA"},"200538","80307011","2021-12-17T09:39:31",0,null,null,248]
[11,"5",2021,{"$f":"IFERROR(VLOOKUP(Tabla_SERIEBM_01_6[[#This Row],[IdEstablecimiento]],[1]Establecimientos!A$1:E$175,5,FALSE),0)","v":"04106-VICUÑA"},"200538","80307012","2021-12-17T09:39:31",0,null,null,23]
[11,"5",2021,{"$f":"IFERROR(VLOOKUP(Tabla_SERIEBM_01_6[[#This Row],[IdEstablecimiento]],[1]Establecimientos!A$1:E$175,5,FALSE),0)","v":"04106-VICUÑA"},"200538","80500010","2021-12-17T09:39:31",14,null,14,null,14]
[11,"5",2021,{"$f":"IFERROR(VLOOKUP(Tabla_SERIEBM_01_6[[#This Row],[IdEstablecimiento]],[1]Establecimientos!A$1:E$175,5,FALSE),0)","v":"04106-VICUÑA"},"200538","18090000","2021-12-17T09:39:31",30,0,30]
[11,"5",2021,{"$f":"IFERROR(VLOOKUP(Tabla_SERIEBM_01_6[[#This Row],[IdEstablecimiento]],[1]Establecimientos!A$1:E$175,5,FALSE),0)","v":"04106-VICUÑA"},"200538","18050100","2021-12-17T09:39:31",43,0,43]
[11,"5",2021,{"$f":"IFERROR(VLOOKUP(Tabla_SERIEBM_01_6[[#This Row],[IdEstablecimiento]],[1]Establecimientos!A$1:E$175,5,FALSE),0)","v":"04106-VICUÑA"},"200538","18400900","2021-12-17T09:39:31",36,7,29]
[11,"5",2021,{"$f":"IFERROR(VLOOKUP(Tabla_SERIEBM_01_6[[#This Row],[IdEstablecimiento]],[1]Establecimientos!A$1:E$175,5,FALSE),0)","v":"04106-VICUÑA"},"200538","18700100","2021-12-17T09:39:31",1655,41,1470,144]
[11,"5",2021,{"$f":"IFERROR(VLOOKUP(Tabla_SERIEBM_01_6[[#This Row],[IdEstablecimiento]],[1]Establecimientos!A$1:E$175,5,FALSE),0)","v":"04106-VICUÑA"},"200538","18700140","2021-12-17T09:39:31",8,1,6,1,8,0,8]
[11,"5",2021,{"$f":"IFERROR(VLOOKUP(Tabla_SERIEBM_01_6[[#This Row],[IdEstablecimiento]],[1]Establecimientos!A$1:E$175,5,FALSE),0)","v":"04301-OVALLE"},"200569","81701001","2021-12-17T09:39:52",115,null,115,null,115]
[11,"5",2021,{"$f":"IFERROR(VLOOKUP(Tabla_SERIEBM_01_6[[#This Row],[IdEstablecimiento]],[1]Establecimientos!A$1:E$175,5,FALSE),0)","v":"04301-OVALLE"},"200569","81701009","2021-12-17T09:39:52",83,null,83,null,83]
[11,"5",2021,{"$f":"IFERROR(VLOOKUP(Tabla_SERIEBM_01_6[[#This Row],[IdEstablecimiento]],[1]Establecimientos!A$1:E$175,5,FALSE),0)","v":"04301-OVALLE"},"200569","81901019","2021-12-17T09:39:52",2,null,2,null,2]
[11,"5",2021,{"$f":"IFERROR(VLOOKUP(Tabla_SERIEBM_01_6[[#This Row],[IdEstablecimiento]],[1]Establecimientos!A$1:E$175,5,FALSE),0)","v":"04301-OVALLE"},"200569","81602202","2021-12-17T09:39:52",74,null,74,74]
[11,"5",2021,{"$f":"IFERROR(VLOOKUP(Tabla_SERIEBM_01_6[[#This Row],[IdEstablecimiento]],[1]Establecimientos!A$1:E$175,5,FALSE),0)","v":"04301-OVALLE"},"200569","81602211","2021-12-17T09:39:52",158,null,158,158]
[11,"5",2021,{"$f":"IFERROR(VLOOKUP(Tabla_SERIEBM_01_6[[#This Row],[IdEstablecimiento]],[1]Establecimientos!A$1:E$175,5,FALSE),0)","v":"04301-OVALLE"},"200569","81602224","2021-12-17T09:39:52",23,null,23,23]
[11,"5",2021,{"$f":"IFERROR(VLOOKUP(Tabla_SERIEBM_01_6[[#This Row],[IdEstablecimiento]],[1]Establecimientos!A$1:E$175,5,FALSE),0)","v":"04301-OVALLE"},"200569","81602231","2021-12-17T09:39:52",34,null,34,34]
[11,"5",2021,{"$f":"IFERROR(VLOOKUP(Tabla_SERIEBM_01_6[[#This Row],[IdEstablecimiento]],[1]Establecimientos!A$1:E$175,5,FALSE),0)","v":"04301-OVALLE"},"200569","80106002","2021-12-17T09:39:52",151,null,151,null,151]
[11,"5",2021,{"$f":"IFERROR(VLOOKUP(Tabla_SERIEBM_01_6[[#This Row],[IdEstablecimiento]],[1]Establecimientos!A$1:E$175,5,FALSE),0)","v":"04301-OVALLE"},"200569","80106005","2021-12-17T09:39:52",3,null,3,null,3]
[11,"5",2021,{"$f":"IFERROR(VLOOKUP(Tabla_SERIEBM_01_6[[#This Row],[IdEstablecimiento]],[1]Establecimientos!A$1:E$175,5,FALSE),0)","v":"04301-OVALLE"},"200569","80106017","2021-12-17T09:39:52",128,null,128,null,128]
[11,"5",2021,{"$f":"IFERROR(VLOOKUP(Tabla_SERIEBM_01_6[[#This Row],[IdEstablecimiento]],[1]Establecimientos!A$1:E$175,5,FALSE),0)","v":"04301-OVALLE"},"200569","80106014","2021-12-17T09:39:52",92,null,92,null,92]
[11,"5",2021,{"$f":"IFERROR(VLOOKUP(Tabla_SERIEBM_01_6[[#This Row],[IdEstablecimiento]],[1]Establecimientos!A$1:E$175,5,FALSE),0)","v":"04301-OVALLE"},"200569","80106015","2021-12-17T09:39:52",6,null,6,null,6]
[11,"5",2021,{"$f":"IFERROR(VLOOKUP(Tabla_SERIEBM_01_6[[#This Row],[IdEstablecimiento]],[1]Establecimientos!A$1:E$175,5,FALSE),0)","v":"04301-OVALLE"},"200569","80106022","2021-12-17T09:39:52",2,null,2,null,2]
[11,"5",2021,{"$f":"IFERROR(VLOOKUP(Tabla_SERIEBM_01_6[[#This Row],[IdEstablecimiento]],[1]Establecimientos!A$1:E$175,5,FALSE),0)","v":"04301-OVALLE"},"200569","80106023","2021-12-17T09:39:52",70,null,70,null,70]
[11,"5",2021,{"$f":"IFERROR(VLOOKUP(Tabla_SERIEBM_01_6[[#This Row],[IdEstablecimiento]],[1]Establecimientos!A$1:E$175,5,FALSE),0)","v":"04301-OVALLE"},"200569","80307011","2021-12-17T09:39:52",724,null,724]
[11,"5",2021,{"$f":"IFERROR(VLOOKUP(Tabla_SERIEBM_01_6[[#This Row],[IdEstablecimiento]],[1]Establecimientos!A$1:E$175,5,FALSE),0)","v":"04301-OVALLE"},"200569","80307012","2021-12-17T09:39:52",42,null,42]
[11,"5",2021,{"$f":"IFERROR(VLOOKUP(Tabla_SERIEBM_01_6[[#This Row],[IdEstablecimiento]],[1]Establecimientos!A$1:E$175,5,FALSE),0)","v":"04301-OVALLE"},"200569","80500001","2021-12-17T09:39:52",3,null,3,null,3]
[11,"5",2021,{"$f":"IFERROR(VLOOKUP(Tabla_SERIEBM_01_6[[#This Row],[IdEstablecimiento]],[1]Establecimientos!A$1:E$175,5,FALSE),0)","v":"04301-OVALLE"},"200569","80500011","2021-12-17T09:39:52",121,null,121,null,121]
[11,"5",2021,{"$f":"IFERROR(VLOOKUP(Tabla_SERIEBM_01_6[[#This Row],[IdEstablecimiento]],[1]Establecimientos!A$1:E$175,5,FALSE),0)","v":"04301-OVALLE"},"200569","18020500","2021-12-17T09:39:52",198,0,198]
[11,"5",2021,{"$f":"IFERROR(VLOOKUP(Tabla_SERIEBM_01_6[[#This Row],[IdEstablecimiento]],[1]Establecimientos!A$1:E$175,5,FALSE),0)","v":"04301-OVALLE"},"200569","18020700","2021-12-17T09:39:52",2,0,2]
[11,"5",2021,{"$f":"IFERROR(VLOOKUP(Tabla_SERIEBM_01_6[[#This Row],[IdEstablecimiento]],[1]Establecimientos!A$1:E$175,5,FALSE),0)","v":"04301-OVALLE"},"200569","18030000","2021-12-17T09:39:52",289,0,289]
[11,"5",2021,{"$f":"IFERROR(VLOOKUP(Tabla_SERIEBM_01_6[[#This Row],[IdEstablecimiento]],[1]Establecimientos!A$1:E$175,5,FALSE),0)","v":"04301-OVALLE"},"200569","18040200","2021-12-17T09:39:52",289,26,263]
[11,"5",2021,{"$f":"IFERROR(VLOOKUP(Tabla_SERIEBM_01_6[[#This Row],[IdEstablecimiento]],[1]Establecimientos!A$1:E$175,5,FALSE),0)","v":"04301-OVALLE"},"200569","18090000","2021-12-17T09:39:52",70,0,70]
[11,"5",2021,{"$f":"IFERROR(VLOOKUP(Tabla_SERIEBM_01_6[[#This Row],[IdEstablecimiento]],[1]Establecimientos!A$1:E$175,5,FALSE),0)","v":"04101-LA SERENA"},"105301","80302032","2021-12-17T11:10:31",0,null,null,549]
[11,"5",2021,{"$f":"IFERROR(VLOOKUP(Tabla_SERIEBM_01_6[[#This Row],[IdEstablecimiento]],[1]Establecimientos!A$1:E$175,5,FALSE),0)","v":"04101-LA SERENA"},"105301","80302040","2021-12-17T11:10:31",0,null,null,26]
[11,"5",2021,{"$f":"IFERROR(VLOOKUP(Tabla_SERIEBM_01_6[[#This Row],[IdEstablecimiento]],[1]Establecimientos!A$1:E$175,5,FALSE),0)","v":"04101-LA SERENA"},"105301","80305020","2021-12-17T11:10:31",0,null,null,2]
[11,"5",2021,{"$f":"IFERROR(VLOOKUP(Tabla_SERIEBM_01_6[[#This Row],[IdEstablecimiento]],[1]Establecimientos!A$1:E$175,5,FALSE),0)","v":"04101-LA SERENA"},"105301","80306002","2021-12-17T11:10:31",0,null,null,3]
[11,"5",2021,{"$f":"IFERROR(VLOOKUP(Tabla_SERIEBM_01_6[[#This Row],[IdEstablecimiento]],[1]Establecimientos!A$1:E$175,5,FALSE),0)","v":"04101-LA SERENA"},"105301","80306004","2021-12-17T11:10:31",0,null,null,1]
[11,"5",2021,{"$f":"IFERROR(VLOOKUP(Tabla_SERIEBM_01_6[[#This Row],[IdEstablecimiento]],[1]Establecimientos!A$1:E$175,5,FALSE),0)","v":"04101-LA SERENA"},"105301","80306011","2021-12-17T11:10:31",0,null,null,30]
[11,"5",2021,{"$f":"IFERROR(VLOOKUP(Tabla_SERIEBM_01_6[[#This Row],[IdEstablecimiento]],[1]Establecimientos!A$1:E$175,5,FALSE),0)","v":"04101-LA SERENA"},"105301","80306042","2021-12-17T11:10:31",0,null,null,35]
[11,"5",2021,{"$f":"IFERROR(VLOOKUP(Tabla_SERIEBM_01_6[[#This Row],[IdEstablecimiento]],[1]Establecimientos!A$1:E$175,5,FALSE),0)","v":"04101-LA SERENA"},"105301","80306048","2021-12-17T11:10:31",0,null,null,2]
[11,"5",2021,{"$f":"IFERROR(VLOOKUP(Tabla_SERIEBM_01_6[[#This Row],[IdEstablecimiento]],[1]Establecimientos!A$1:E$175,5,FALSE),0)","v":"04101-LA SERENA"},"105301","80306051","2021-12-17T11:10:31",0,null,null,1]
[11,"5",2021,{"$f":"IFERROR(VLOOKUP(Tabla_SERIEBM_01_6[[#This Row],[IdEstablecimiento]],[1]Establecimientos!A$1:E$175,5,FALSE),0)","v":"04101-LA SERENA"},"105301","80306061","2021-12-17T11:10:31",0,null,null,14]
[11,"5",2021,{"$f":"IFERROR(VLOOKUP(Tabla_SERIEBM_01_6[[#This Row],[IdEstablecimiento]],[1]Establecimientos!A$1:E$175,5,FALSE),0)","v":"04101-LA SERENA"},"105301","80306169","2021-12-17T11:10:31",0,null,null,12]
[11,"5",2021,{"$f":"IFERROR(VLOOKUP(Tabla_SERIEBM_01_6[[#This Row],[IdEstablecimiento]],[1]Establecimientos!A$1:E$175,5,FALSE),0)","v":"04101-LA SERENA"},"105301","80308004","2021-12-17T11:10:31",0,null,null,3]
[11,"5",2021,{"$f":"IFERROR(VLOOKUP(Tabla_SERIEBM_01_6[[#This Row],[IdEstablecimiento]],[1]Establecimientos!A$1:E$175,5,FALSE),0)","v":"04101-LA SERENA"},"105301","80309010","2021-12-17T11:10:31",0,null,null,154]
[11,"5",2021,{"$f":"IFERROR(VLOOKUP(Tabla_SERIEBM_01_6[[#This Row],[IdEstablecimiento]],[1]Establecimientos!A$1:E$175,5,FALSE),0)","v":"04101-LA SERENA"},"105301","80309022","2021-12-17T11:10:31",0,null,null,229]
[11,"5",2021,{"$f":"IFERROR(VLOOKUP(Tabla_SERIEBM_01_6[[#This Row],[IdEstablecimiento]],[1]Establecimientos!A$1:E$175,5,FALSE),0)","v":"04101-LA SERENA"},"105301","80309027","2021-12-17T11:10:31",0,null,null,154]
[11,"5",2021,{"$f":"IFERROR(VLOOKUP(Tabla_SERIEBM_01_6[[#This Row],[IdEstablecimiento]],[1]Establecimientos!A$1:E$175,5,FALSE),0)","v":"04101-LA SERENA"},"105301","80401051","2021-12-17T11:10:31",0,null,null,49]
[11,"5",2021,{"$f":"IFERROR(VLOOKUP(Tabla_SERIEBM_01_6[[#This Row],[IdEstablecimiento]],[1]Establecimientos!A$1:E$175,5,FALSE),0)","v":"04101-LA SERENA"},"105301","80401060","2021-12-17T11:10:31",0,null,null,66]
[11,"5",2021,{"$f":"IFERROR(VLOOKUP(Tabla_SERIEBM_01_6[[#This Row],[IdEstablecimiento]],[1]Establecimientos!A$1:E$175,5,FALSE),0)","v":"04101-LA SERENA"},"105301","81601115","2021-12-17T11:10:31",13,0,13,0,13,0]
[11,"5",2021,{"$f":"IFERROR(VLOOKUP(Tabla_SERIEBM_01_6[[#This Row],[IdEstablecimiento]],[1]Establecimientos!A$1:E$175,5,FALSE),0)","v":"04101-LA SERENA"},"105301","81701001","2021-12-17T11:10:31",249,null,249,null,249]
[11,"5",2021,{"$f":"IFERROR(VLOOKUP(Tabla_SERIEBM_01_6[[#This Row],[IdEstablecimiento]],[1]Establecimientos!A$1:E$175,5,FALSE),0)","v":"04101-LA SERENA"},"105301","81701009","2021-12-17T11:10:31",241,null,241,null,241]
[11,"5",2021,{"$f":"IFERROR(VLOOKUP(Tabla_SERIEBM_01_6[[#This Row],[IdEstablecimiento]],[1]Establecimientos!A$1:E$175,5,FALSE),0)","v":"04101-LA SERENA"},"105301","82001015","2021-12-17T11:10:31",6,0,6,0,6,0]
[11,"5",2021,{"$f":"IFERROR(VLOOKUP(Tabla_SERIEBM_01_6[[#This Row],[IdEstablecimiento]],[1]Establecimientos!A$1:E$175,5,FALSE),0)","v":"04101-LA SERENA"},"105301","81602222","2021-12-17T11:10:31",17,0,17,17,0]
[11,"5",2021,{"$f":"IFERROR(VLOOKUP(Tabla_SERIEBM_01_6[[#This Row],[IdEstablecimiento]],[1]Establecimientos!A$1:E$175,5,FALSE),0)","v":"04101-LA SERENA"},"105301","80106002","2021-12-17T11:10:31",165,null,165,null,165]
[11,"5",2021,{"$f":"IFERROR(VLOOKUP(Tabla_SERIEBM_01_6[[#This Row],[IdEstablecimiento]],[1]Establecimientos!A$1:E$175,5,FALSE),0)","v":"04101-LA SERENA"},"105301","80106005","2021-12-17T11:10:31",1,null,1,null,1]
[11,"5",2021,{"$f":"IFERROR(VLOOKUP(Tabla_SERIEBM_01_6[[#This Row],[IdEstablecimiento]],[1]Establecimientos!A$1:E$175,5,FALSE),0)","v":"04101-LA SERENA"},"105301","80106017","2021-12-17T11:10:31",72,null,72,null,72]
[11,"5",2021,{"$f":"IFERROR(VLOOKUP(Tabla_SERIEBM_01_6[[#This Row],[IdEstablecimiento]],[1]Establecimientos!A$1:E$175,5,FALSE),0)","v":"04101-LA SERENA"},"105301","80106014","2021-12-17T11:10:31",293,null,293,null,293]
[11,"5",2021,{"$f":"IFERROR(VLOOKUP(Tabla_SERIEBM_01_6[[#This Row],[IdEstablecimiento]],[1]Establecimientos!A$1:E$175,5,FALSE),0)","v":"04101-LA SERENA"},"105301","80106023","2021-12-17T11:10:31",105,null,105,null,105]
[11,"5",2021,{"$f":"IFERROR(VLOOKUP(Tabla_SERIEBM_01_6[[#This Row],[IdEstablecimiento]],[1]Establecimientos!A$1:E$175,5,FALSE),0)","v":"04101-LA SERENA"},"105301","80500008","2021-12-17T11:10:31",8,0,8,0,8,0]
[11,"5",2021,{"$f":"IFERROR(VLOOKUP(Tabla_SERIEBM_01_6[[#This Row],[IdEstablecimiento]],[1]Establecimientos!A$1:E$175,5,FALSE),0)","v":"04101-LA SERENA"},"105301","80500009","2021-12-17T11:10:31",5,0,5,0,5,0]
[11,"5",2021,{"$f":"IFERROR(VLOOKUP(Tabla_SERIEBM_01_6[[#This Row],[IdEstablecimiento]],[1]Establecimientos!A$1:E$175,5,FALSE),0)","v":"04101-LA SERENA"},"105301","18020400","2021-12-17T11:10:31",13,0,13]
[11,"5",2021,{"$f":"IFERROR(VLOOKUP(Tabla_SERIEBM_01_6[[#This Row],[IdEstablecimiento]],[1]Establecimientos!A$1:E$175,5,FALSE),0)","v":"04101-LA SERENA"},"105301","18020500","2021-12-17T11:10:31",490,0,490]
[11,"5",2021,{"$f":"IFERROR(VLOOKUP(Tabla_SERIEBM_01_6[[#This Row],[IdEstablecimiento]],[1]Establecimientos!A$1:E$175,5,FALSE),0)","v":"04101-LA SERENA"},"105301","18020900","2021-12-17T11:10:31",6,0,6]
[11,"5",2021,{"$f":"IFERROR(VLOOKUP(Tabla_SERIEBM_01_6[[#This Row],[IdEstablecimiento]],[1]Establecimientos!A$1:E$175,5,FALSE),0)","v":"04101-LA SERENA"},"105301","18030000","2021-12-17T11:10:31",17,0,17]
[11,"5",2021,{"$f":"IFERROR(VLOOKUP(Tabla_SERIEBM_01_6[[#This Row],[IdEstablecimiento]],[1]Establecimientos!A$1:E$175,5,FALSE),0)","v":"04101-LA SERENA"},"105301","18040200","2021-12-17T11:10:31",17,2,15]
[3,"5",2021,{"$f":"IFERROR(VLOOKUP(Tabla_SERIEBM_01_6[[#This Row],[IdEstablecimiento]],[1]Establecimientos!A$1:E$175,5,FALSE),0)","v":"04106-VICUÑA"},"105472","80306002","2021-11-08T12:28:47",0,null,null,1]
[3,"5",2021,{"$f":"IFERROR(VLOOKUP(Tabla_SERIEBM_01_6[[#This Row],[IdEstablecimiento]],[1]Establecimientos!A$1:E$175,5,FALSE),0)","v":"04106-VICUÑA"},"105472","80306011","2021-11-08T12:28:47",0,null,null,1]
[3,"5",2021,{"$f":"IFERROR(VLOOKUP(Tabla_SERIEBM_01_6[[#This Row],[IdEstablecimiento]],[1]Establecimientos!A$1:E$175,5,FALSE),0)","v":"04106-VICUÑA"},"105472","80306042","2021-11-08T12:28:47",0,null,null,6]
[3,"5",2021,{"$f":"IFERROR(VLOOKUP(Tabla_SERIEBM_01_6[[#This Row],[IdEstablecimiento]],[1]Establecimientos!A$1:E$175,5,FALSE),0)","v":"04106-VICUÑA"},"105472","80306061","2021-11-08T12:28:47",0,null,null,1]
[3,"5",2021,{"$f":"IFERROR(VLOOKUP(Tabla_SERIEBM_01_6[[#This Row],[IdEstablecimiento]],[1]Establecimientos!A$1:E$175,5,FALSE),0)","v":"04106-VICUÑA"},"105472","80309010","2021-11-08T12:28:47",0,null,null,21]
[3,"5",2021,{"$f":"IFERROR(VLOOKUP(Tabla_SERIEBM_01_6[[#This Row],[IdEstablecimiento]],[1]Establecimientos!A$1:E$175,5,FALSE),0)","v":"04106-VICUÑA"},"105472","80309013","2021-11-08T12:28:47",0,null,null,21]
[3,"5",2021,{"$f":"IFERROR(VLOOKUP(Tabla_SERIEBM_01_6[[#This Row],[IdEstablecimiento]],[1]Establecimientos!A$1:E$175,5,FALSE),0)","v":"04106-VICUÑA"},"105472","80309022","2021-11-08T12:28:47",0,null,null,13]
[3,"5",2021,{"$f":"IFERROR(VLOOKUP(Tabla_SERIEBM_01_6[[#This Row],[IdEstablecimiento]],[1]Establecimientos!A$1:E$175,5,FALSE),0)","v":"04106-VICUÑA"},"105472","80309024","2021-11-08T12:28:47",0,null,null,13]
[3,"5",2021,{"$f":"IFERROR(VLOOKUP(Tabla_SERIEBM_01_6[[#This Row],[IdEstablecimiento]],[1]Establecimientos!A$1:E$175,5,FALSE),0)","v":"04106-VICUÑA"},"105472","81701009","2021-11-08T12:28:47",3,null,3,null,3]
[3,"5",2021,{"$f":"IFERROR(VLOOKUP(Tabla_SERIEBM_01_6[[#This Row],[IdEstablecimiento]],[1]Establecimientos!A$1:E$175,5,FALSE),0)","v":"04106-VICUÑA"},"105472","80106002","2021-11-08T12:28:47",9,null,9,null,9]
[3,"5",2021,{"$f":"IFERROR(VLOOKUP(Tabla_SERIEBM_01_6[[#This Row],[IdEstablecimiento]],[1]Establecimientos!A$1:E$175,5,FALSE),0)","v":"04106-VICUÑA"},"105472","80106017","2021-11-08T12:28:47",4,null,4,null,4]
[3,"5",2021,{"$f":"IFERROR(VLOOKUP(Tabla_SERIEBM_01_6[[#This Row],[IdEstablecimiento]],[1]Establecimientos!A$1:E$175,5,FALSE),0)","v":"04106-VICUÑA"},"105472","80106014","2021-11-08T12:28:47",18,null,18,null,18]
[3,"5",2021,{"$f":"IFERROR(VLOOKUP(Tabla_SERIEBM_01_6[[#This Row],[IdEstablecimiento]],[1]Establecimientos!A$1:E$175,5,FALSE),0)","v":"04106-VICUÑA"},"105472","80106015","2021-11-08T12:28:47",1,null,1,null,1]
[3,"5",2021,{"$f":"IFERROR(VLOOKUP(Tabla_SERIEBM_01_6[[#This Row],[IdEstablecimiento]],[1]Establecimientos!A$1:E$175,5,FALSE),0)","v":"04106-VICUÑA"},"105472","80106023","2021-11-08T12:28:47",24,null,24,null,24]
[3,"5",2021,{"$f":"IFERROR(VLOOKUP(Tabla_SERIEBM_01_6[[#This Row],[IdEstablecimiento]],[1]Establecimientos!A$1:E$175,5,FALSE),0)","v":"04106-VICUÑA"},"105472","80307011","2021-11-08T12:28:47",0,null,null,36]
[3,"5",2021,{"$f":"IFERROR(VLOOKUP(Tabla_SERIEBM_01_6[[#This Row],[IdEstablecimiento]],[1]Establecimientos!A$1:E$175,5,FALSE),0)","v":"04106-VICUÑA"},"105472","80307012","2021-11-08T12:28:47",0,null,null,2]
[3,"5",2021,{"$f":"IFERROR(VLOOKUP(Tabla_SERIEBM_01_6[[#This Row],[IdEstablecimiento]],[1]Establecimientos!A$1:E$175,5,FALSE),0)","v":"04201-ILLAPEL"},"105504","80309022","2021-11-08T12:46:58",0,null,null,3]
[3,"5",2021,{"$f":"IFERROR(VLOOKUP(Tabla_SERIEBM_01_6[[#This Row],[IdEstablecimiento]],[1]Establecimientos!A$1:E$175,5,FALSE),0)","v":"04201-ILLAPEL"},"105504","80106002","2021-11-08T12:46:58",14,null,14,null,14]
[3,"5",2021,{"$f":"IFERROR(VLOOKUP(Tabla_SERIEBM_01_6[[#This Row],[IdEstablecimiento]],[1]Establecimientos!A$1:E$175,5,FALSE),0)","v":"04201-ILLAPEL"},"105504","80106006","2021-11-08T12:46:58",8,null,8,null,8]
[3,"5",2021,{"$f":"IFERROR(VLOOKUP(Tabla_SERIEBM_01_6[[#This Row],[IdEstablecimiento]],[1]Establecimientos!A$1:E$175,5,FALSE),0)","v":"04201-ILLAPEL"},"105504","80106017","2021-11-08T12:46:58",3,null,3,null,3]
[3,"5",2021,{"$f":"IFERROR(VLOOKUP(Tabla_SERIEBM_01_6[[#This Row],[IdEstablecimiento]],[1]Establecimientos!A$1:E$175,5,FALSE),0)","v":"04201-ILLAPEL"},"105504","80106014","2021-11-08T12:46:58",12,null,12,null,12]
[3,"5",2021,{"$f":"IFERROR(VLOOKUP(Tabla_SERIEBM_01_6[[#This Row],[IdEstablecimiento]],[1]Establecimientos!A$1:E$175,5,FALSE),0)","v":"04201-ILLAPEL"},"105504","80106015","2021-11-08T12:46:58",1,null,1,null,1]
[3,"5",2021,{"$f":"IFERROR(VLOOKUP(Tabla_SERIEBM_01_6[[#This Row],[IdEstablecimiento]],[1]Establecimientos!A$1:E$175,5,FALSE),0)","v":"04201-ILLAPEL"},"105504","80106023","2021-11-08T12:46:58",7,null,7,null,7]
[3,"5",2021,{"$f":"IFERROR(VLOOKUP(Tabla_SERIEBM_01_6[[#This Row],[IdEstablecimiento]],[1]Establecimientos!A$1:E$175,5,FALSE),0)","v":"04201-ILLAPEL"},"105504","80307011","2021-11-08T12:46:58",0,null,null,9]
[3,"5",2021,{"$f":"IFERROR(VLOOKUP(Tabla_SERIEBM_01_6[[#This Row],[IdEstablecimiento]],[1]Establecimientos!A$1:E$175,5,FALSE),0)","v":"04201-ILLAPEL"},"105504","18090000","2021-11-08T12:46:58",7,0,7]
[3,"5",2021,{"$f":"IFERROR(VLOOKUP(Tabla_SERIEBM_01_6[[#This Row],[IdEstablecimiento]],[1]Establecimientos!A$1:E$175,5,FALSE),0)","v":"04201-ILLAPEL"},"105504","18050100","2021-11-08T12:46:58",14,0,14]
[3,"5",2021,{"$f":"IFERROR(VLOOKUP(Tabla_SERIEBM_01_6[[#This Row],[IdEstablecimiento]],[1]Establecimientos!A$1:E$175,5,FALSE),0)","v":"04201-ILLAPEL"},"105504","18050300","2021-11-08T12:46:58",8,0,8]
[3,"5",2021,{"$f":"IFERROR(VLOOKUP(Tabla_SERIEBM_01_6[[#This Row],[IdEstablecimiento]],[1]Establecimientos!A$1:E$175,5,FALSE),0)","v":"04201-ILLAPEL"},"105504","18700100","2021-11-08T12:46:58",5,0,4,1]
[3,"5",2021,{"$f":"IFERROR(VLOOKUP(Tabla_SERIEBM_01_6[[#This Row],[IdEstablecimiento]],[1]Establecimientos!A$1:E$175,5,FALSE),0)","v":"04104-LA HIGUERA"},"105505","81701009","2021-11-08T12:47:40",16,16,null,null,16]
[3,"5",2021,{"$f":"IFERROR(VLOOKUP(Tabla_SERIEBM_01_6[[#This Row],[IdEstablecimiento]],[1]Establecimientos!A$1:E$175,5,FALSE),0)","v":"04104-LA HIGUERA"},"105505","81707030","2021-11-08T12:47:40",1,1,null,null,1]
[3,"5",2021,{"$f":"IFERROR(VLOOKUP(Tabla_SERIEBM_01_6[[#This Row],[IdEstablecimiento]],[1]Establecimientos!A$1:E$175,5,FALSE),0)","v":"04104-LA HIGUERA"},"105505","80106002","2021-11-08T12:47:40",19,19,null,null,19]
[3,"5",2021,{"$f":"IFERROR(VLOOKUP(Tabla_SERIEBM_01_6[[#This Row],[IdEstablecimiento]],[1]Establecimientos!A$1:E$175,5,FALSE),0)","v":"04104-LA HIGUERA"},"105505","80106013","2021-11-08T12:47:40",1,1,null,null,1]
[3,"5",2021,{"$f":"IFERROR(VLOOKUP(Tabla_SERIEBM_01_6[[#This Row],[IdEstablecimiento]],[1]Establecimientos!A$1:E$175,5,FALSE),0)","v":"04104-LA HIGUERA"},"105505","80106014","2021-11-08T12:47:40",43,43,null,null,43]
[3,"5",2021,{"$f":"IFERROR(VLOOKUP(Tabla_SERIEBM_01_6[[#This Row],[IdEstablecimiento]],[1]Establecimientos!A$1:E$175,5,FALSE),0)","v":"04104-LA HIGUERA"},"105505","80106015","2021-11-08T12:47:40",7,7,null,null,7]
[9,"5",2021,{"$f":"IFERROR(VLOOKUP(Tabla_SERIEBM_01_6[[#This Row],[IdEstablecimiento]],[1]Establecimientos!A$1:E$175,5,FALSE),0)","v":"04105-PAIHUANO"},"105306","80301015","2021-10-15T12:34:18",0,null,null,1]
[9,"5",2021,{"$f":"IFERROR(VLOOKUP(Tabla_SERIEBM_01_6[[#This Row],[IdEstablecimiento]],[1]Establecimientos!A$1:E$175,5,FALSE),0)","v":"04105-PAIHUANO"},"105306","80301034","2021-10-15T12:34:18",0,null,null,6]
[9,"5",2021,{"$f":"IFERROR(VLOOKUP(Tabla_SERIEBM_01_6[[#This Row],[IdEstablecimiento]],[1]Establecimientos!A$1:E$175,5,FALSE),0)","v":"04105-PAIHUANO"},"105306","80301041","2021-10-15T12:34:18",0,null,null,67]
[9,"5",2021,{"$f":"IFERROR(VLOOKUP(Tabla_SERIEBM_01_6[[#This Row],[IdEstablecimiento]],[1]Establecimientos!A$1:E$175,5,FALSE),0)","v":"04105-PAIHUANO"},"105306","80301045","2021-10-15T12:34:18",0,null,null,221]
[9,"5",2021,{"$f":"IFERROR(VLOOKUP(Tabla_SERIEBM_01_6[[#This Row],[IdEstablecimiento]],[1]Establecimientos!A$1:E$175,5,FALSE),0)","v":"04105-PAIHUANO"},"105306","80301059","2021-10-15T12:34:18",0,null,null,39]
[9,"5",2021,{"$f":"IFERROR(VLOOKUP(Tabla_SERIEBM_01_6[[#This Row],[IdEstablecimiento]],[1]Establecimientos!A$1:E$175,5,FALSE),0)","v":"04105-PAIHUANO"},"105306","80301085","2021-10-15T12:34:18",0,null,null,13]
[9,"5",2021,{"$f":"IFERROR(VLOOKUP(Tabla_SERIEBM_01_6[[#This Row],[IdEstablecimiento]],[1]Establecimientos!A$1:E$175,5,FALSE),0)","v":"04105-PAIHUANO"},"105306","80301087","2021-10-15T12:34:18",0,null,null,7]
[9,"5",2021,{"$f":"IFERROR(VLOOKUP(Tabla_SERIEBM_01_6[[#This Row],[IdEstablecimiento]],[1]Establecimientos!A$1:E$175,5,FALSE),0)","v":"04303-MONTE PATRIA"},"105428","80106014","2021-10-15T12:54:26",51,null,51,null,51]
[9,"5",2021,{"$f":"IFERROR(VLOOKUP(Tabla_SERIEBM_01_6[[#This Row],[IdEstablecimiento]],[1]Establecimientos!A$1:E$175,5,FALSE),0)","v":"04303-MONTE PATRIA"},"105428","80106015","2021-10-15T12:54:26",12,null,12,null,12]
[9,"5",2021,{"$f":"IFERROR(VLOOKUP(Tabla_SERIEBM_01_6[[#This Row],[IdEstablecimiento]],[1]Establecimientos!A$1:E$175,5,FALSE),0)","v":"04303-MONTE PATRIA"},"105428","80307011","2021-10-15T12:54:26",30,null,30]
[9,"5",2021,{"$f":"IFERROR(VLOOKUP(Tabla_SERIEBM_01_6[[#This Row],[IdEstablecimiento]],[1]Establecimientos!A$1:E$175,5,FALSE),0)","v":"04303-MONTE PATRIA"},"105428","80307012","2021-10-15T12:54:26",1,null,1]
[9,"5",2021,{"$f":"IFERROR(VLOOKUP(Tabla_SERIEBM_01_6[[#This Row],[IdEstablecimiento]],[1]Establecimientos!A$1:E$175,5,FALSE),0)","v":"04303-MONTE PATRIA"},"105428","80500011","2021-10-15T12:54:26",20,null,20,null,20]
[9,"5",2021,{"$f":"IFERROR(VLOOKUP(Tabla_SERIEBM_01_6[[#This Row],[IdEstablecimiento]],[1]Establecimientos!A$1:E$175,5,FALSE),0)","v":"04303-MONTE PATRIA"},"105428","18020500","2021-10-15T12:54:26",39,0,39]
[9,"5",2021,{"$f":"IFERROR(VLOOKUP(Tabla_SERIEBM_01_6[[#This Row],[IdEstablecimiento]],[1]Establecimientos!A$1:E$175,5,FALSE),0)","v":"04303-MONTE PATRIA"},"105428","18030000","2021-10-15T12:54:26",1,0,1]
[9,"5",2021,{"$f":"IFERROR(VLOOKUP(Tabla_SERIEBM_01_6[[#This Row],[IdEstablecimiento]],[1]Establecimientos!A$1:E$175,5,FALSE),0)","v":"04303-MONTE PATRIA"},"105428","18040200","2021-10-15T12:54:26",1,null,1]
[9,"5",2021,{"$f":"IFERROR(VLOOKUP(Tabla_SERIEBM_01_6[[#This Row],[IdEstablecimiento]],[1]Establecimientos!A$1:E$175,5,FALSE),0)","v":"04303-MONTE PATRIA"},"105428","18050100","2021-10-15T12:54:26",26,0,26]
[9,"5",2021,{"$f":"IFERROR(VLOOKUP(Tabla_SERIEBM_01_6[[#This Row],[IdEstablecimiento]],[1]Establecimientos!A$1:E$175,5,FALSE),0)","v":"04303-MONTE PATRIA"},"105428","18700100","2021-10-15T12:54:26",68,null,65,3]
[9,"5",2021,{"$f":"IFERROR(VLOOKUP(Tabla_SERIEBM_01_6[[#This Row],[IdEstablecimiento]],[1]Establecimientos!A$1:E$175,5,FALSE),0)","v":"04303-MONTE PATRIA"},"105428","18700230","2021-10-15T12:54:26",2,null,2,null,2,null,2]
[9,"5",2021,{"$f":"IFERROR(VLOOKUP(Tabla_SERIEBM_01_6[[#This Row],[IdEstablecimiento]],[1]Establecimientos!A$1:E$175,5,FALSE),0)","v":"04303-MONTE PATRIA"},"105430","81701009","2021-10-15T12:54:53",39,null,39,null,39]
[9,"5",2021,{"$f":"IFERROR(VLOOKUP(Tabla_SERIEBM_01_6[[#This Row],[IdEstablecimiento]],[1]Establecimientos!A$1:E$175,5,FALSE),0)","v":"04303-MONTE PATRIA"},"105430","80106002","2021-10-15T12:54:53",4,null,4,null,4]
[9,"5",2021,{"$f":"IFERROR(VLOOKUP(Tabla_SERIEBM_01_6[[#This Row],[IdEstablecimiento]],[1]Establecimientos!A$1:E$175,5,FALSE),0)","v":"04303-MONTE PATRIA"},"105430","80106017","2021-10-15T12:54:53",35,null,35,null,35]
[9,"5",2021,{"$f":"IFERROR(VLOOKUP(Tabla_SERIEBM_01_6[[#This Row],[IdEstablecimiento]],[1]Establecimientos!A$1:E$175,5,FALSE),0)","v":"04303-MONTE PATRIA"},"105430","80106007","2021-10-15T12:54:53",1,null,1,null,1]
[9,"5",2021,{"$f":"IFERROR(VLOOKUP(Tabla_SERIEBM_01_6[[#This Row],[IdEstablecimiento]],[1]Establecimientos!A$1:E$175,5,FALSE),0)","v":"04303-MONTE PATRIA"},"105430","80106013","2021-10-15T12:54:53",1,null,1,null,1]
[9,"5",2021,{"$f":"IFERROR(VLOOKUP(Tabla_SERIEBM_01_6[[#This Row],[IdEstablecimiento]],[1]Establecimientos!A$1:E$175,5,FALSE),0)","v":"04303-MONTE PATRIA"},"105430","80106014","2021-10-15T12:54:53",19,null,19,null,19]
[9,"5",2021,{"$f":"IFERROR(VLOOKUP(Tabla_SERIEBM_01_6[[#This Row],[IdEstablecimiento]],[1]Establecimientos!A$1:E$175,5,FALSE),0)","v":"04303-MONTE PATRIA"},"105489","18020500","2021-10-15T13:18:30",7,0,7]
[9,"5",2021,{"$f":"IFERROR(VLOOKUP(Tabla_SERIEBM_01_6[[#This Row],[IdEstablecimiento]],[1]Establecimientos!A$1:E$175,5,FALSE),0)","v":"04303-MONTE PATRIA"},"105489","18050100","2021-10-15T13:18:30",25,0,25]
[9,"5",2021,{"$f":"IFERROR(VLOOKUP(Tabla_SERIEBM_01_6[[#This Row],[IdEstablecimiento]],[1]Establecimientos!A$1:E$175,5,FALSE),0)","v":"04302-COMBARBALÁ"},"105490","80301041","2021-10-15T13:18:54",0,null,null,5]
[9,"5",2021,{"$f":"IFERROR(VLOOKUP(Tabla_SERIEBM_01_6[[#This Row],[IdEstablecimiento]],[1]Establecimientos!A$1:E$175,5,FALSE),0)","v":"04302-COMBARBALÁ"},"105490","80302023","2021-10-15T13:18:54",0,null,null,5]
[9,"5",2021,{"$f":"IFERROR(VLOOKUP(Tabla_SERIEBM_01_6[[#This Row],[IdEstablecimiento]],[1]Establecimientos!A$1:E$175,5,FALSE),0)","v":"04302-COMBARBALÁ"},"105490","80106002","2021-10-15T13:18:54",8,null,8,null,8]
[9,"5",2021,{"$f":"IFERROR(VLOOKUP(Tabla_SERIEBM_01_6[[#This Row],[IdEstablecimiento]],[1]Establecimientos!A$1:E$175,5,FALSE),0)","v":"04302-COMBARBALÁ"},"105490","80106014","2021-10-15T13:18:54",9,null,9,null,9]
[9,"5",2021,{"$f":"IFERROR(VLOOKUP(Tabla_SERIEBM_01_6[[#This Row],[IdEstablecimiento]],[1]Establecimientos!A$1:E$175,5,FALSE),0)","v":"04302-COMBARBALÁ"},"105490","80307011","2021-10-15T13:18:54",5,null,5]
[9,"5",2021,{"$f":"IFERROR(VLOOKUP(Tabla_SERIEBM_01_6[[#This Row],[IdEstablecimiento]],[1]Establecimientos!A$1:E$175,5,FALSE),0)","v":"04302-COMBARBALÁ"},"105490","80500011","2021-10-15T13:18:54",6,null,6,null,6]
[9,"5",2021,{"$f":"IFERROR(VLOOKUP(Tabla_SERIEBM_01_6[[#This Row],[IdEstablecimiento]],[1]Establecimientos!A$1:E$175,5,FALSE),0)","v":"04302-COMBARBALÁ"},"105490","18050100","2021-10-15T13:18:54",8,0,8]
[9,"5",2021,{"$f":"IFERROR(VLOOKUP(Tabla_SERIEBM_01_6[[#This Row],[IdEstablecimiento]],[1]Establecimientos!A$1:E$175,5,FALSE),0)","v":"04302-COMBARBALÁ"},"105490","18700100","2021-10-15T13:18:54",1,null,1]
[3,"5",2021,{"$f":"IFERROR(VLOOKUP(Tabla_SERIEBM_01_6[[#This Row],[IdEstablecimiento]],[1]Establecimientos!A$1:E$175,5,FALSE),0)","v":"04201-ILLAPEL"},"105486","80309022","2021-11-08T12:38:25",0,null,null,19]
[3,"5",2021,{"$f":"IFERROR(VLOOKUP(Tabla_SERIEBM_01_6[[#This Row],[IdEstablecimiento]],[1]Establecimientos!A$1:E$175,5,FALSE),0)","v":"04201-ILLAPEL"},"105486","81701001","2021-11-08T12:38:25",14,null,14,null,14]
[3,"5",2021,{"$f":"IFERROR(VLOOKUP(Tabla_SERIEBM_01_6[[#This Row],[IdEstablecimiento]],[1]Establecimientos!A$1:E$175,5,FALSE),0)","v":"04201-ILLAPEL"},"105486","81701009","2021-11-08T12:38:25",10,null,10,null,10]
[3,"5",2021,{"$f":"IFERROR(VLOOKUP(Tabla_SERIEBM_01_6[[#This Row],[IdEstablecimiento]],[1]Establecimientos!A$1:E$175,5,FALSE),0)","v":"04201-ILLAPEL"},"105486","80106002","2021-11-08T12:38:25",20,null,20,null,20]
[3,"5",2021,{"$f":"IFERROR(VLOOKUP(Tabla_SERIEBM_01_6[[#This Row],[IdEstablecimiento]],[1]Establecimientos!A$1:E$175,5,FALSE),0)","v":"04201-ILLAPEL"},"105486","80106013","2021-11-08T12:38:25",3,null,3,null,3]
[3,"5",2021,{"$f":"IFERROR(VLOOKUP(Tabla_SERIEBM_01_6[[#This Row],[IdEstablecimiento]],[1]Establecimientos!A$1:E$175,5,FALSE),0)","v":"04201-ILLAPEL"},"105486","80106014","2021-11-08T12:38:25",132,null,132,null,132]
[3,"5",2021,{"$f":"IFERROR(VLOOKUP(Tabla_SERIEBM_01_6[[#This Row],[IdEstablecimiento]],[1]Establecimientos!A$1:E$175,5,FALSE),0)","v":"04201-ILLAPEL"},"105486","80106015","2021-11-08T12:38:25",2,null,2,null,2]
[3,"5",2021,{"$f":"IFERROR(VLOOKUP(Tabla_SERIEBM_01_6[[#This Row],[IdEstablecimiento]],[1]Establecimientos!A$1:E$175,5,FALSE),0)","v":"04201-ILLAPEL"},"105486","80106023","2021-11-08T12:38:25",12,null,12,null,12]
[3,"5",2021,{"$f":"IFERROR(VLOOKUP(Tabla_SERIEBM_01_6[[#This Row],[IdEstablecimiento]],[1]Establecimientos!A$1:E$175,5,FALSE),0)","v":"04201-ILLAPEL"},"105486","80307011","2021-11-08T12:38:25",0,null,null,19]
[3,"5",2021,{"$f":"IFERROR(VLOOKUP(Tabla_SERIEBM_01_6[[#This Row],[IdEstablecimiento]],[1]Establecimientos!A$1:E$175,5,FALSE),0)","v":"04201-ILLAPEL"},"105486","80500011","2021-11-08T12:38:25",8,null,8,null,8]
[3,"5",2021,{"$f":"IFERROR(VLOOKUP(Tabla_SERIEBM_01_6[[#This Row],[IdEstablecimiento]],[1]Establecimientos!A$1:E$175,5,FALSE),0)","v":"04201-ILLAPEL"},"105486","18020500","2021-11-08T12:38:25",24,0,24]
[3,"5",2021,{"$f":"IFERROR(VLOOKUP(Tabla_SERIEBM_01_6[[#This Row],[IdEstablecimiento]],[1]Establecimientos!A$1:E$175,5,FALSE),0)","v":"04201-ILLAPEL"},"105486","18090000","2021-11-08T12:38:25",12,0,12]
[3,"5",2021,{"$f":"IFERROR(VLOOKUP(Tabla_SERIEBM_01_6[[#This Row],[IdEstablecimiento]],[1]Establecimientos!A$1:E$175,5,FALSE),0)","v":"04201-ILLAPEL"},"105486","18050100","2021-11-08T12:38:25",20,0,20]
[3,"5",2021,{"$f":"IFERROR(VLOOKUP(Tabla_SERIEBM_01_6[[#This Row],[IdEstablecimiento]],[1]Establecimientos!A$1:E$175,5,FALSE),0)","v":"04201-ILLAPEL"},"105486","18700100","2021-11-08T12:38:25",10,0,9,1]
[3,"5",2021,{"$f":"IFERROR(VLOOKUP(Tabla_SERIEBM_01_6[[#This Row],[IdEstablecimiento]],[1]Establecimientos!A$1:E$175,5,FALSE),0)","v":"04202-CANELA"},"105488","81701009","2021-11-08T12:39:37",6,null,6,null,6]
[3,"5",2021,{"$f":"IFERROR(VLOOKUP(Tabla_SERIEBM_01_6[[#This Row],[IdEstablecimiento]],[1]Establecimientos!A$1:E$175,5,FALSE),0)","v":"04202-CANELA"},"105488","80106014","2021-11-08T12:39:37",18,null,18,null,18]
[3,"5",2021,{"$f":"IFERROR(VLOOKUP(Tabla_SERIEBM_01_6[[#This Row],[IdEstablecimiento]],[1]Establecimientos!A$1:E$175,5,FALSE),0)","v":"04202-CANELA"},"105488","80106015","2021-11-08T12:39:37",1,null,1,null,1]
[3,"5",2021,{"$f":"IFERROR(VLOOKUP(Tabla_SERIEBM_01_6[[#This Row],[IdEstablecimiento]],[1]Establecimientos!A$1:E$175,5,FALSE),0)","v":"04202-CANELA"},"105488","80500011","2021-11-08T12:39:37",2,null,2,null,2]
[3,"5",2021,{"$f":"IFERROR(VLOOKUP(Tabla_SERIEBM_01_6[[#This Row],[IdEstablecimiento]],[1]Establecimientos!A$1:E$175,5,FALSE),0)","v":"04202-CANELA"},"105488","18020500","2021-11-08T12:39:37",6,0,6]
[9,"5",2021,{"$f":"IFERROR(VLOOKUP(Tabla_SERIEBM_01_6[[#This Row],[IdEstablecimiento]],[1]Establecimientos!A$1:E$175,5,FALSE),0)","v":"04101-LA SERENA"},"105401","80106014","2021-10-15T12:47:22",20,null,20,null,20]
[9,"5",2021,{"$f":"IFERROR(VLOOKUP(Tabla_SERIEBM_01_6[[#This Row],[IdEstablecimiento]],[1]Establecimientos!A$1:E$175,5,FALSE),0)","v":"04101-LA SERENA"},"105401","80307011","2021-10-15T12:47:22",26,null,26]
[9,"5",2021,{"$f":"IFERROR(VLOOKUP(Tabla_SERIEBM_01_6[[#This Row],[IdEstablecimiento]],[1]Establecimientos!A$1:E$175,5,FALSE),0)","v":"04101-LA SERENA"},"105401","80307012","2021-10-15T12:47:22",1,null,1]
[9,"5",2021,{"$f":"IFERROR(VLOOKUP(Tabla_SERIEBM_01_6[[#This Row],[IdEstablecimiento]],[1]Establecimientos!A$1:E$175,5,FALSE),0)","v":"04101-LA SERENA"},"105401","80500011","2021-10-15T12:47:22",5,null,5,null,5]
[9,"5",2021,{"$f":"IFERROR(VLOOKUP(Tabla_SERIEBM_01_6[[#This Row],[IdEstablecimiento]],[1]Establecimientos!A$1:E$175,5,FALSE),0)","v":"04101-LA SERENA"},"105401","18020500","2021-10-15T12:47:22",7,0,7]
[9,"5",2021,{"$f":"IFERROR(VLOOKUP(Tabla_SERIEBM_01_6[[#This Row],[IdEstablecimiento]],[1]Establecimientos!A$1:E$175,5,FALSE),0)","v":"04101-LA SERENA"},"105401","18050100","2021-10-15T12:47:22",19,0,19]
[9,"5",2021,{"$f":"IFERROR(VLOOKUP(Tabla_SERIEBM_01_6[[#This Row],[IdEstablecimiento]],[1]Establecimientos!A$1:E$175,5,FALSE),0)","v":"04101-LA SERENA"},"105401","18050200","2021-10-15T12:47:22",6,0,6]
[9,"5",2021,{"$f":"IFERROR(VLOOKUP(Tabla_SERIEBM_01_6[[#This Row],[IdEstablecimiento]],[1]Establecimientos!A$1:E$175,5,FALSE),0)","v":"04101-LA SERENA"},"105402","80302047","2021-10-15T12:47:45",0,null,null,21]
[9,"5",2021,{"$f":"IFERROR(VLOOKUP(Tabla_SERIEBM_01_6[[#This Row],[IdEstablecimiento]],[1]Establecimientos!A$1:E$175,5,FALSE),0)","v":"04101-LA SERENA"},"105402","80302048","2021-10-15T12:47:45",0,null,null,2]
[9,"5",2021,{"$f":"IFERROR(VLOOKUP(Tabla_SERIEBM_01_6[[#This Row],[IdEstablecimiento]],[1]Establecimientos!A$1:E$175,5,FALSE),0)","v":"04101-LA SERENA"},"105402","80302057","2021-10-15T12:47:45",0,null,null,4]
[9,"5",2021,{"$f":"IFERROR(VLOOKUP(Tabla_SERIEBM_01_6[[#This Row],[IdEstablecimiento]],[1]Establecimientos!A$1:E$175,5,FALSE),0)","v":"04101-LA SERENA"},"105402","80302063","2021-10-15T12:47:45",0,null,null,8]
[9,"5",2021,{"$f":"IFERROR(VLOOKUP(Tabla_SERIEBM_01_6[[#This Row],[IdEstablecimiento]],[1]Establecimientos!A$1:E$175,5,FALSE),0)","v":"04101-LA SERENA"},"105402","80302064","2021-10-15T12:47:45",0,null,null,19]
[9,"5",2021,{"$f":"IFERROR(VLOOKUP(Tabla_SERIEBM_01_6[[#This Row],[IdEstablecimiento]],[1]Establecimientos!A$1:E$175,5,FALSE),0)","v":"04101-LA SERENA"},"105402","80303024","2021-10-15T12:47:45",0,null,null,10]
[9,"5",2021,{"$f":"IFERROR(VLOOKUP(Tabla_SERIEBM_01_6[[#This Row],[IdEstablecimiento]],[1]Establecimientos!A$1:E$175,5,FALSE),0)","v":"04101-LA SERENA"},"105402","80303026","2021-10-15T12:47:45",0,null,null,3]
[9,"5",2021,{"$f":"IFERROR(VLOOKUP(Tabla_SERIEBM_01_6[[#This Row],[IdEstablecimiento]],[1]Establecimientos!A$1:E$175,5,FALSE),0)","v":"04101-LA SERENA"},"105402","80301036","2021-10-15T12:47:45",0,null,null,5]
[3,"5",2021,{"$f":"IFERROR(VLOOKUP(Tabla_SERIEBM_01_6[[#This Row],[IdEstablecimiento]],[1]Establecimientos!A$1:E$175,5,FALSE),0)","v":"04101-LA SERENA"},"105701","80301086","2021-11-08T12:54:17",0,null,null,18]
[3,"5",2021,{"$f":"IFERROR(VLOOKUP(Tabla_SERIEBM_01_6[[#This Row],[IdEstablecimiento]],[1]Establecimientos!A$1:E$175,5,FALSE),0)","v":"04101-LA SERENA"},"105701","80302005","2021-11-08T12:54:17",0,null,null,28]
[3,"5",2021,{"$f":"IFERROR(VLOOKUP(Tabla_SERIEBM_01_6[[#This Row],[IdEstablecimiento]],[1]Establecimientos!A$1:E$175,5,FALSE),0)","v":"04101-LA SERENA"},"105701","80302013","2021-11-08T12:54:17",0,null,null,4]
[3,"5",2021,{"$f":"IFERROR(VLOOKUP(Tabla_SERIEBM_01_6[[#This Row],[IdEstablecimiento]],[1]Establecimientos!A$1:E$175,5,FALSE),0)","v":"04101-LA SERENA"},"105701","80302067","2021-11-08T12:54:17",0,null,null,40]
[3,"5",2021,{"$f":"IFERROR(VLOOKUP(Tabla_SERIEBM_01_6[[#This Row],[IdEstablecimiento]],[1]Establecimientos!A$1:E$175,5,FALSE),0)","v":"04101-LA SERENA"},"105701","80302068","2021-11-08T12:54:17",0,null,null,40]
[3,"5",2021,{"$f":"IFERROR(VLOOKUP(Tabla_SERIEBM_01_6[[#This Row],[IdEstablecimiento]],[1]Establecimientos!A$1:E$175,5,FALSE),0)","v":"04101-LA SERENA"},"105701","80302023","2021-11-08T12:54:17",0,null,null,36]
[3,"5",2021,{"$f":"IFERROR(VLOOKUP(Tabla_SERIEBM_01_6[[#This Row],[IdEstablecimiento]],[1]Establecimientos!A$1:E$175,5,FALSE),0)","v":"04101-LA SERENA"},"105701","80302032","2021-11-08T12:54:17",0,null,null,15]
[3,"5",2021,{"$f":"IFERROR(VLOOKUP(Tabla_SERIEBM_01_6[[#This Row],[IdEstablecimiento]],[1]Establecimientos!A$1:E$175,5,FALSE),0)","v":"04101-LA SERENA"},"105701","80302040","2021-11-08T12:54:17",0,null,null,7]
[3,"5",2021,{"$f":"IFERROR(VLOOKUP(Tabla_SERIEBM_01_6[[#This Row],[IdEstablecimiento]],[1]Establecimientos!A$1:E$175,5,FALSE),0)","v":"04101-LA SERENA"},"105701","80306042","2021-11-08T12:54:17",0,null,null,5]
[3,"5",2021,{"$f":"IFERROR(VLOOKUP(Tabla_SERIEBM_01_6[[#This Row],[IdEstablecimiento]],[1]Establecimientos!A$1:E$175,5,FALSE),0)","v":"04101-LA SERENA"},"105701","80306048","2021-11-08T12:54:17",0,null,null,1]
[3,"5",2021,{"$f":"IFERROR(VLOOKUP(Tabla_SERIEBM_01_6[[#This Row],[IdEstablecimiento]],[1]Establecimientos!A$1:E$175,5,FALSE),0)","v":"04101-LA SERENA"},"105701","80306051","2021-11-08T12:54:17",0,null,null,1]
[3,"5",2021,{"$f":"IFERROR(VLOOKUP(Tabla_SERIEBM_01_6[[#This Row],[IdEstablecimiento]],[1]Establecimientos!A$1:E$175,5,FALSE),0)","v":"04101-LA SERENA"},"105701","80306061","2021-11-08T12:54:17",0,null,null,2]
[3,"5",2021,{"$f":"IFERROR(VLOOKUP(Tabla_SERIEBM_01_6[[#This Row],[IdEstablecimiento]],[1]Establecimientos!A$1:E$175,5,FALSE),0)","v":"04101-LA SERENA"},"105701","80306169","2021-11-08T12:54:17",0,null,null,2]
[3,"5",2021,{"$f":"IFERROR(VLOOKUP(Tabla_SERIEBM_01_6[[#This Row],[IdEstablecimiento]],[1]Establecimientos!A$1:E$175,5,FALSE),0)","v":"04101-LA SERENA"},"105701","80309022","2021-11-08T12:54:17",0,null,null,40]
[3,"5",2021,{"$f":"IFERROR(VLOOKUP(Tabla_SERIEBM_01_6[[#This Row],[IdEstablecimiento]],[1]Establecimientos!A$1:E$175,5,FALSE),0)","v":"04101-LA SERENA"},"105701","80106002","2021-11-08T12:54:17",0,{"$nulls":3},20]
[3,"5",2021,{"$f":"IFERROR(VLOOKUP(Tabla_SERIEBM_01_6[[#This Row],[IdEstablecimiento]],[1]Establecimientos!A$1:E$175,5,FALSE),0)","v":"04101-LA SERENA"},"105701","80106017","2021-11-08T12:54:17",0,{"$nulls":3},22]
[3,"5",2021,{"$f":"IFERROR(VLOOKUP(Tabla_SERIEBM_01_6[[#This Row],[IdEstablecimiento]],[1]Establecimientos!A$1:E$175,5,FALSE),0)","v":"04101-LA SERENA"},"105701","80106008","2021-11-08T12:54:17",0,{"$nulls":3},3]
[3,"5",2021,{"$f":"IFERROR(VLOOKUP(Tabla_SERIEBM_01_6[[#This Row],[IdEstablecimiento]],[1]Establecimientos!A$1:E$175,5,FALSE),0)","v":"04101-LA SERENA"},"105701","80106014","2021-11-08T12:54:17",0,{"$nulls":3},35]
[3,"5",2021,{"$f":"IFERROR(VLOOKUP(Tabla_SERIEBM_01_6[[#This Row],[IdEstablecimiento]],[1]Establecimientos!A$1:E$175,5,FALSE),0)","v":"04101-LA SERENA"},"105701","80307011","2021-11-08T12:54:17",0,null,null,51]
[3,"5",2021,{"$f":"IFERROR(VLOOKUP(Tabla_SERIEBM_01_6[[#This Row],[IdEstablecimiento]],[1]Establecimientos!A$1:E$175,5,FALSE),0)","v":"04101-LA SERENA"},"105701","80307012","2021-11-08T12:54:17",0,null,null,6]
[3,"5",2021,{"$f":"IFERROR(VLOOKUP(Tabla_SERIEBM_01_6[[#This Row],[IdEstablecimiento]],[1]Establecimientos!A$1:E$175,5,FALSE),0)","v":"04101-LA SERENA"},"105701","80500008","2021-11-08T12:54:17",2,null,2,null,2]
[3,"5",2021,{"$f":"IFERROR(VLOOKUP(Tabla_SERIEBM_01_6[[#This Row],[IdEstablecimiento]],[1]Establecimientos!A$1:E$175,5,FALSE),0)","v":"04101-LA SERENA"},"105701","80500009","2021-11-08T12:54:17",2,null,2,null,2]
[3,"5",2021,{"$f":"IFERROR(VLOOKUP(Tabla_SERIEBM_01_6[[#This Row],[IdEstablecimiento]],[1]Establecimientos!A$1:E$175,5,FALSE),0)","v":"04101-LA SERENA"},"105702","80302047","2021-11-08T12:54:47",0,null,null,89]
[3,"5",2021,{"$f":"IFERROR(VLOOKUP(Tabla_SERIEBM_01_6[[#This Row],[IdEstablecimiento]],[1]Establecimientos!A$1:E$175,5,FALSE),0)","v":"04101-LA SERENA"},"105801","18050100","2021-11-08T13:03:37",16,16,0]
[3,"5",2021,{"$f":"IFERROR(VLOOKUP(Tabla_SERIEBM_01_6[[#This Row],[IdEstablecimiento]],[1]Establecimientos!A$1:E$175,5,FALSE),0)","v":"04101-LA SERENA"},"105801","18400700","2021-11-08T13:03:37",12]
[3,"5",2021,{"$f":"IFERROR(VLOOKUP(Tabla_SERIEBM_01_6[[#This Row],[IdEstablecimiento]],[1]Establecimientos!A$1:E$175,5,FALSE),0)","v":"04101-LA SERENA"},"105801","18700100","2021-11-08T13:03:37",293,29,233,31,0]
[3,"5",2021,{"$f":"IFERROR(VLOOKUP(Tabla_SERIEBM_01_6[[#This Row],[IdEstablecimiento]],[1]Establecimientos!A$1:E$175,5,FALSE),0)","v":"04101-LA SERENA"},"105802","81701001","2021-11-08T13:04:01",23,23,null,null,23]
[3,"5",2021,{"$f":"IFERROR(VLOOKUP(Tabla_SERIEBM_01_6[[#This Row],[IdEstablecimiento]],[1]Establecimientos!A$1:E$175,5,FALSE),0)","v":"04101-LA SERENA"},"105802","81602222","2021-11-08T13:04:01",7,7,null,7]
[3,"5",2021,{"$f":"IFERROR(VLOOKUP(Tabla_SERIEBM_01_6[[#This Row],[IdEstablecimiento]],[1]Establecimientos!A$1:E$175,5,FALSE),0)","v":"04101-LA SERENA"},"105802","80106002","2021-11-08T13:04:01",29,29,null,null,29]
[3,"5",2021,{"$f":"IFERROR(VLOOKUP(Tabla_SERIEBM_01_6[[#This Row],[IdEstablecimiento]],[1]Establecimientos!A$1:E$175,5,FALSE),0)","v":"04101-LA SERENA"},"105802","80106017","2021-11-08T13:04:01",5,5,null,null,5]
[3,"5",2021,{"$f":"IFERROR(VLOOKUP(Tabla_SERIEBM_01_6[[#This Row],[IdEstablecimiento]],[1]Establecimientos!A$1:E$175,5,FALSE),0)","v":"04101-LA SERENA"},"105802","80106007","2021-11-08T13:04:01",2,2,null,null,2]
[3,"5",2021,{"$f":"IFERROR(VLOOKUP(Tabla_SERIEBM_01_6[[#This Row],[IdEstablecimiento]],[1]Establecimientos!A$1:E$175,5,FALSE),0)","v":"04101-LA SERENA"},"105802","80106008","2021-11-08T13:04:01",3,3,null,null,3]
[3,"5",2021,{"$f":"IFERROR(VLOOKUP(Tabla_SERIEBM_01_6[[#This Row],[IdEstablecimiento]],[1]Establecimientos!A$1:E$175,5,FALSE),0)","v":"04101-LA SERENA"},"105802","80106013","2021-11-08T13:04:01",4,4,null,null,4]
[3,"5",2021,{"$f":"IFERROR(VLOOKUP(Tabla_SERIEBM_01_6[[#This Row],[IdEstablecimiento]],[1]Establecimientos!A$1:E$175,5,FALSE),0)","v":"04101-LA SERENA"},"105802","80106014","2021-11-08T13:04:01",352,352,null,null,352]
[3,"5",2021,{"$f":"IFERROR(VLOOKUP(Tabla_SERIEBM_01_6[[#This Row],[IdEstablecimiento]],[1]Establecimientos!A$1:E$175,5,FALSE),0)","v":"04201-ILLAPEL"},"105445","81701001","2021-11-08T12:15:53",5,null,5,null,5]
[3,"5",2021,{"$f":"IFERROR(VLOOKUP(Tabla_SERIEBM_01_6[[#This Row],[IdEstablecimiento]],[1]Establecimientos!A$1:E$175,5,FALSE),0)","v":"04201-ILLAPEL"},"105445","81701009","2021-11-08T12:15:53",8,null,8,null,8]
[3,"5",2021,{"$f":"IFERROR(VLOOKUP(Tabla_SERIEBM_01_6[[#This Row],[IdEstablecimiento]],[1]Establecimientos!A$1:E$175,5,FALSE),0)","v":"04201-ILLAPEL"},"105445","80106002","2021-11-08T12:15:53",12,null,12,null,12]
[3,"5",2021,{"$f":"IFERROR(VLOOKUP(Tabla_SERIEBM_01_6[[#This Row],[IdEstablecimiento]],[1]Establecimientos!A$1:E$175,5,FALSE),0)","v":"04201-ILLAPEL"},"105445","80106017","2021-11-08T12:15:53",2,null,2,null,2]
[3,"5",2021,{"$f":"IFERROR(VLOOKUP(Tabla_SERIEBM_01_6[[#This Row],[IdEstablecimiento]],[1]Establecimientos!A$1:E$175,5,FALSE),0)","v":"04201-ILLAPEL"},"105445","80106013","2021-11-08T12:15:53",1,null,1,null,1]
[3,"5",2021,{"$f":"IFERROR(VLOOKUP(Tabla_SERIEBM_01_6[[#This Row],[IdEstablecimiento]],[1]Establecimientos!A$1:E$175,5,FALSE),0)","v":"04201-ILLAPEL"},"105445","80106014","2021-11-08T12:15:53",67,null,67,null,67]
[3,"5",2021,{"$f":"IFERROR(VLOOKUP(Tabla_SERIEBM_01_6[[#This Row],[IdEstablecimiento]],[1]Establecimientos!A$1:E$175,5,FALSE),0)","v":"04201-ILLAPEL"},"105445","80106015","2021-11-08T12:15:53",3,null,3,null,3]
[3,"5",2021,{"$f":"IFERROR(VLOOKUP(Tabla_SERIEBM_01_6[[#This Row],[IdEstablecimiento]],[1]Establecimientos!A$1:E$175,5,FALSE),0)","v":"04201-ILLAPEL"},"105445","80307011","2021-11-08T12:15:53",0,null,null,12]
[3,"5",2021,{"$f":"IFERROR(VLOOKUP(Tabla_SERIEBM_01_6[[#This Row],[IdEstablecimiento]],[1]Establecimientos!A$1:E$175,5,FALSE),0)","v":"04201-ILLAPEL"},"105445","80500011","2021-11-08T12:15:53",9,null,9,null,9]
[3,"5",2021,{"$f":"IFERROR(VLOOKUP(Tabla_SERIEBM_01_6[[#This Row],[IdEstablecimiento]],[1]Establecimientos!A$1:E$175,5,FALSE),0)","v":"04201-ILLAPEL"},"105445","18020500","2021-11-08T12:15:53",13,0,13]
[3,"5",2021,{"$f":"IFERROR(VLOOKUP(Tabla_SERIEBM_01_6[[#This Row],[IdEstablecimiento]],[1]Establecimientos!A$1:E$175,5,FALSE),0)","v":"04201-ILLAPEL"},"105445","18050100","2021-11-08T12:15:53",12,0,12]
[3,"5",2021,{"$f":"IFERROR(VLOOKUP(Tabla_SERIEBM_01_6[[#This Row],[IdEstablecimiento]],[1]Establecimientos!A$1:E$175,5,FALSE),0)","v":"04204-SALAMANCA"},"105501","80106023","2021-11-08T12:46:10",3,null,3]
[3,"5",2021,{"$f":"IFERROR(VLOOKUP(Tabla_SERIEBM_01_6[[#This Row],[IdEstablecimiento]],[1]Establecimientos!A$1:E$175,5,FALSE),0)","v":"04204-SALAMANCA"},"105501","80500011","2021-11-08T12:46:10",24,null,24]
[3,"5",2021,{"$f":"IFERROR(VLOOKUP(Tabla_SERIEBM_01_6[[#This Row],[IdEstablecimiento]],[1]Establecimientos!A$1:E$175,5,FALSE),0)","v":"04204-SALAMANCA"},"105501","18020500","2021-11-08T12:46:10",7,0,7]
[3,"5",2021,{"$f":"IFERROR(VLOOKUP(Tabla_SERIEBM_01_6[[#This Row],[IdEstablecimiento]],[1]Establecimientos!A$1:E$175,5,FALSE),0)","v":"04204-SALAMANCA"},"105501","18030000","2021-11-08T12:46:10",1,0,1]
[3,"5",2021,{"$f":"IFERROR(VLOOKUP(Tabla_SERIEBM_01_6[[#This Row],[IdEstablecimiento]],[1]Establecimientos!A$1:E$175,5,FALSE),0)","v":"04204-SALAMANCA"},"105501","18040200","2021-11-08T12:46:10",1,null,1]
[3,"5",2021,{"$f":"IFERROR(VLOOKUP(Tabla_SERIEBM_01_6[[#This Row],[IdEstablecimiento]],[1]Establecimientos!A$1:E$175,5,FALSE),0)","v":"04204-SALAMANCA"},"105501","18090000","2021-11-08T12:46:10",3,0,3]
[3,"5",2021,{"$f":"IFERROR(VLOOKUP(Tabla_SERIEBM_01_6[[#This Row],[IdEstablecimiento]],[1]Establecimientos!A$1:E$175,5,FALSE),0)","v":"04204-SALAMANCA"},"105501","18050100","2021-11-08T12:46:10",31,0,31]
[3,"5",2021,{"$f":"IFERROR(VLOOKUP(Tabla_SERIEBM_01_6[[#This Row],[IdEstablecimiento]],[1]Establecimientos!A$1:E$175,5,FALSE),0)","v":"04204-SALAMANCA"},"105501","18400900","2021-11-08T12:46:10",12,2,10]
[3,"5",2021,{"$f":"IFERROR(VLOOKUP(Tabla_SERIEBM_01_6[[#This Row],[IdEstablecimiento]],[1]Establecimientos!A$1:E$175,5,FALSE),0)","v":"04204-SALAMANCA"},"105501","18700100","2021-11-08T12:46:10",31,null,31]
[3,"5",2021,{"$f":"IFERROR(VLOOKUP(Tabla_SERIEBM_01_6[[#This Row],[IdEstablecimiento]],[1]Establecimientos!A$1:E$175,5,FALSE),0)","v":"04305-RIO HURTADO"},"105503","80302047","2021-11-08T12:46:33",0,null,null,4]
[3,"5",2021,{"$f":"IFERROR(VLOOKUP(Tabla_SERIEBM_01_6[[#This Row],[IdEstablecimiento]],[1]Establecimientos!A$1:E$175,5,FALSE),0)","v":"04305-RIO HURTADO"},"105503","80302076","2021-11-08T12:46:33",0,null,null,2]
[3,"5",2021,{"$f":"IFERROR(VLOOKUP(Tabla_SERIEBM_01_6[[#This Row],[IdEstablecimiento]],[1]Establecimientos!A$1:E$175,5,FALSE),0)","v":"04305-RIO HURTADO"},"105503","80303024","2021-11-08T12:46:33",0,null,null,2]
[3,"5",2021,{"$f":"IFERROR(VLOOKUP(Tabla_SERIEBM_01_6[[#This Row],[IdEstablecimiento]],[1]Establecimientos!A$1:E$175,5,FALSE),0)","v":"04305-RIO HURTADO"},"105503","80301045","2021-11-08T12:46:33",0,null,null,2]
[3,"5",2021,{"$f":"IFERROR(VLOOKUP(Tabla_SERIEBM_01_6[[#This Row],[IdEstablecimiento]],[1]Establecimientos!A$1:E$175,5,FALSE),0)","v":"04305-RIO HURTADO"},"105503","80302023","2021-11-08T12:46:33",0,null,null,1]
[3,"5",2021,{"$f":"IFERROR(VLOOKUP(Tabla_SERIEBM_01_6[[#This Row],[IdEstablecimiento]],[1]Establecimientos!A$1:E$175,5,FALSE),0)","v":"04305-RIO HURTADO"},"105503","80302034","2021-11-08T12:46:33",0,null,null,4]
[3,"5",2021,{"$f":"IFERROR(VLOOKUP(Tabla_SERIEBM_01_6[[#This Row],[IdEstablecimiento]],[1]Establecimientos!A$1:E$175,5,FALSE),0)","v":"04305-RIO HURTADO"},"105503","80306011","2021-11-08T12:46:33",0,null,null,2]
[3,"5",2021,{"$f":"IFERROR(VLOOKUP(Tabla_SERIEBM_01_6[[#This Row],[IdEstablecimiento]],[1]Establecimientos!A$1:E$175,5,FALSE),0)","v":"04305-RIO HURTADO"},"105503","80309022","2021-11-08T12:46:33",0,null,null,2]
[1,"5",2021,{"$f":"IFERROR(VLOOKUP(Tabla_SERIEBM_01_6[[#This Row],[IdEstablecimiento]],[1]Establecimientos!A$1:E$175,5,FALSE),0)","v":"04102-COQUIMBO"},"200499","80404002","2021-02-18T06:02:07",4,null,4]
[7,"5",2021,{"$f":"IFERROR(VLOOKUP(Tabla_SERIEBM_01_6[[#This Row],[IdEstablecimiento]],[1]Establecimientos!A$1:E$175,5,FALSE),0)","v":"04301-OVALLE"},"200721","80106017","2021-08-17T09:56:01",9,9,null,null,9]
[7,"5",2021,{"$f":"IFERROR(VLOOKUP(Tabla_SERIEBM_01_6[[#This Row],[IdEstablecimiento]],[1]Establecimientos!A$1:E$175,5,FALSE),0)","v":"04301-OVALLE"},"200721","80106007","2021-08-17T09:56:01",7,7,null,null,7]
[7,"5",2021,{"$f":"IFERROR(VLOOKUP(Tabla_SERIEBM_01_6[[#This Row],[IdEstablecimiento]],[1]Establecimientos!A$1:E$175,5,FALSE),0)","v":"04301-OVALLE"},"200721","80106013","2021-08-17T09:56:01",7,7,null,7]
[7,"5",2021,{"$f":"IFERROR(VLOOKUP(Tabla_SERIEBM_01_6[[#This Row],[IdEstablecimiento]],[1]Establecimientos!A$1:E$175,5,FALSE),0)","v":"04301-OVALLE"},"200721","80106014","2021-08-17T09:56:01",288,288,null,null,288]
[7,"5",2021,{"$f":"IFERROR(VLOOKUP(Tabla_SERIEBM_01_6[[#This Row],[IdEstablecimiento]],[1]Establecimientos!A$1:E$175,5,FALSE),0)","v":"04301-OVALLE"},"200721","80106015","2021-08-17T09:56:01",52,52,null,null,52]
[4,"5",2021,{"$f":"IFERROR(VLOOKUP(Tabla_SERIEBM_01_6[[#This Row],[IdEstablecimiento]],[1]Establecimientos!A$1:E$175,5,FALSE),0)","v":"04101-LA SERENA"},"105499","80306069","2021-05-14T10:22:08",0,null,null,2]
[4,"5",2021,{"$f":"IFERROR(VLOOKUP(Tabla_SERIEBM_01_6[[#This Row],[IdEstablecimiento]],[1]Establecimientos!A$1:E$175,5,FALSE),0)","v":"04101-LA SERENA"},"105499","80306169","2021-05-14T10:22:08",0,null,null,2]
[4,"5",2021,{"$f":"IFERROR(VLOOKUP(Tabla_SERIEBM_01_6[[#This Row],[IdEstablecimiento]],[1]Establecimientos!A$1:E$175,5,FALSE),0)","v":"04101-LA SERENA"},"105499","80309010","2021-05-14T10:22:08",0,null,null,2]
[4,"5",2021,{"$f":"IFERROR(VLOOKUP(Tabla_SERIEBM_01_6[[#This Row],[IdEstablecimiento]],[1]Establecimientos!A$1:E$175,5,FALSE),0)","v":"04101-LA SERENA"},"105499","80309022","2021-05-14T10:22:08",0,null,null,6]
[6,"5",2021,{"$f":"IFERROR(VLOOKUP(Tabla_SERIEBM_01_6[[#This Row],[IdEstablecimiento]],[1]Establecimientos!A$1:E$175,5,FALSE),0)","v":"04303-MONTE PATRIA"},"105307","80404005","2021-08-17T10:12:33",13,null,13]
[6,"5",2021,{"$f":"IFERROR(VLOOKUP(Tabla_SERIEBM_01_6[[#This Row],[IdEstablecimiento]],[1]Establecimientos!A$1:E$175,5,FALSE),0)","v":"04303-MONTE PATRIA"},"105307","81601115","2021-08-17T10:12:33",6,null,6,null,6]
[6,"5",2021,{"$f":"IFERROR(VLOOKUP(Tabla_SERIEBM_01_6[[#This Row],[IdEstablecimiento]],[1]Establecimientos!A$1:E$175,5,FALSE),0)","v":"04303-MONTE PATRIA"},"105307","81701001","2021-08-17T10:12:33",80,null,80,null,80]
[6,"5",2021,{"$f":"IFERROR(VLOOKUP(Tabla_SERIEBM_01_6[[#This Row],[IdEstablecimiento]],[1]Establecimientos!A$1:E$175,5,FALSE),0)","v":"04201-ILLAPEL"},"105443","80303024","2021-07-19T14:05:26",0,null,null,9]
[6,"5",2021,{"$f":"IFERROR(VLOOKUP(Tabla_SERIEBM_01_6[[#This Row],[IdEstablecimiento]],[1]Establecimientos!A$1:E$175,5,FALSE),0)","v":"04201-ILLAPEL"},"105443","80301036","2021-07-19T14:05:26",0,null,null,6]
[6,"5",2021,{"$f":"IFERROR(VLOOKUP(Tabla_SERIEBM_01_6[[#This Row],[IdEstablecimiento]],[1]Establecimientos!A$1:E$175,5,FALSE),0)","v":"04201-ILLAPEL"},"105443","80301045","2021-07-19T14:05:26",0,null,null,31]
[6,"5",2021,{"$f":"IFERROR(VLOOKUP(Tabla_SERIEBM_01_6[[#This Row],[IdEstablecimiento]],[1]Establecimientos!A$1:E$175,5,FALSE),0)","v":"04201-ILLAPEL"},"105443","80302034","2021-07-19T14:05:26",0,null,null,36]
[6,"5",2021,{"$f":"IFERROR(VLOOKUP(Tabla_SERIEBM_01_6[[#This Row],[IdEstablecimiento]],[1]Establecimientos!A$1:E$175,5,FALSE),0)","v":"04201-ILLAPEL"},"105443","80306011","2021-07-19T14:05:26",0,null,null,1]
[6,"5",2021,{"$f":"IFERROR(VLOOKUP(Tabla_SERIEBM_01_6[[#This Row],[IdEstablecimiento]],[1]Establecimientos!A$1:E$175,5,FALSE),0)","v":"04201-ILLAPEL"},"105443","80306061","2021-07-19T14:05:26",0,null,null,5]
[6,"5",2021,{"$f":"IFERROR(VLOOKUP(Tabla_SERIEBM_01_6[[#This Row],[IdEstablecimiento]],[1]Establecimientos!A$1:E$175,5,FALSE),0)","v":"04201-ILLAPEL"},"105443","80309010","2021-07-19T14:05:26",0,null,null,36]
[6,"5",2021,{"$f":"IFERROR(VLOOKUP(Tabla_SERIEBM_01_6[[#This Row],[IdEstablecimiento]],[1]Establecimientos!A$1:E$175,5,FALSE),0)","v":"04201-ILLAPEL"},"105443","80309022","2021-07-19T14:05:26",0,null,null,38]
[6,"5",2021,{"$f":"IFERROR(VLOOKUP(Tabla_SERIEBM_01_6[[#This Row],[IdEstablecimiento]],[1]Establecimientos!A$1:E$175,5,FALSE),0)","v":"04201-ILLAPEL"},"105443","81701001","2021-07-19T14:05:26",32,null,32,null,32]
[6,"5",2021,{"$f":"IFERROR(VLOOKUP(Tabla_SERIEBM_01_6[[#This Row],[IdEstablecimiento]],[1]Establecimientos!A$1:E$175,5,FALSE),0)","v":"04201-ILLAPEL"},"105443","80106002","2021-07-19T14:05:26",23,null,23,null,23]
[6,"5",2021,{"$f":"IFERROR(VLOOKUP(Tabla_SERIEBM_01_6[[#This Row],[IdEstablecimiento]],[1]Establecimientos!A$1:E$175,5,FALSE),0)","v":"04201-ILLAPEL"},"105443","80106017","2021-07-19T14:05:26",3,null,3,null,3]
[6,"5",2021,{"$f":"IFERROR(VLOOKUP(Tabla_SERIEBM_01_6[[#This Row],[IdEstablecimiento]],[1]Establecimientos!A$1:E$175,5,FALSE),0)","v":"04201-ILLAPEL"},"105443","80106008","2021-07-19T14:05:26",2,null,2,null,2]
[6,"5",2021,{"$f":"IFERROR(VLOOKUP(Tabla_SERIEBM_01_6[[#This Row],[IdEstablecimiento]],[1]Establecimientos!A$1:E$175,5,FALSE),0)","v":"04201-ILLAPEL"},"105443","80106010","2021-07-19T14:05:26",1,null,1,null,1]
[6,"5",2021,{"$f":"IFERROR(VLOOKUP(Tabla_SERIEBM_01_6[[#This Row],[IdEstablecimiento]],[1]Establecimientos!A$1:E$175,5,FALSE),0)","v":"04201-ILLAPEL"},"105443","80106013","2021-07-19T14:05:26",3,null,3,null,3]
[6,"5",2021,{"$f":"IFERROR(VLOOKUP(Tabla_SERIEBM_01_6[[#This Row],[IdEstablecimiento]],[1]Establecimientos!A$1:E$175,5,FALSE),0)","v":"04201-ILLAPEL"},"105443","80106014","2021-07-19T14:05:26",28,null,28,null,28]
[4,"5",2021,{"$f":"IFERROR(VLOOKUP(Tabla_SERIEBM_01_6[[#This Row],[IdEstablecimiento]],[1]Establecimientos!A$1:E$175,5,FALSE),0)","v":"04301-OVALLE"},"105822","80401002","2021-05-14T11:02:37",1,1]
[4,"5",2021,{"$f":"IFERROR(VLOOKUP(Tabla_SERIEBM_01_6[[#This Row],[IdEstablecimiento]],[1]Establecimientos!A$1:E$175,5,FALSE),0)","v":"04301-OVALLE"},"105822","80401070","2021-05-14T11:02:37",135,135]
[3,"5",2021,{"$f":"IFERROR(VLOOKUP(Tabla_SERIEBM_01_6[[#This Row],[IdEstablecimiento]],[1]Establecimientos!A$1:E$175,5,FALSE),0)","v":"04201-ILLAPEL"},"105449","80307011","2021-11-08T12:17:47",0,null,null,13]
[3,"5",2021,{"$f":"IFERROR(VLOOKUP(Tabla_SERIEBM_01_6[[#This Row],[IdEstablecimiento]],[1]Establecimientos!A$1:E$175,5,FALSE),0)","v":"04201-ILLAPEL"},"105449","18020500","2021-11-08T12:17:47",2,0,2]
[3,"5",2021,{"$f":"IFERROR(VLOOKUP(Tabla_SERIEBM_01_6[[#This Row],[IdEstablecimiento]],[1]Establecimientos!A$1:E$175,5,FALSE),0)","v":"04201-ILLAPEL"},"105449","18050100","2021-11-08T12:17:47",9,0,9]
[3,"5",2021,{"$f":"IFERROR(VLOOKUP(Tabla_SERIEBM_01_6[[#This Row],[IdEstablecimiento]],[1]Establecimientos!A$1:E$175,5,FALSE),0)","v":"04201-ILLAPEL"},"105449","18700100","2021-11-08T12:17:47",4,0,4,0]
[3,"5",2021,{"$f":"IFERROR(VLOOKUP(Tabla_SERIEBM_01_6[[#This Row],[IdEstablecimiento]],[1]Establecimientos!A$1:E$175,5,FALSE),0)","v":"04202-CANELA"},"105450","81701009","2021-11-08T12:18:10",8,null,8,null,8]
[3,"5",2021,{"$f":"IFERROR(VLOOKUP(Tabla_SERIEBM_01_6[[#This Row],[IdEstablecimiento]],[1]Establecimientos!A$1:E$175,5,FALSE),0)","v":"04202-CANELA"},"105450","80106002","2021-11-08T12:18:10",23,null,23,null,23]
[3,"5",2021,{"$f":"IFERROR(VLOOKUP(Tabla_SERIEBM_01_6[[#This Row],[IdEstablecimiento]],[1]Establecimientos!A$1:E$175,5,FALSE),0)","v":"04202-CANELA"},"105450","80106005","2021-11-08T12:18:10",14,null,14,null,14]
[3,"5",2021,{"$f":"IFERROR(VLOOKUP(Tabla_SERIEBM_01_6[[#This Row],[IdEstablecimiento]],[1]Establecimientos!A$1:E$175,5,FALSE),0)","v":"04202-CANELA"},"105450","80106006","2021-11-08T12:18:10",2,null,2,null,2]
[3,"5",2021,{"$f":"IFERROR(VLOOKUP(Tabla_SERIEBM_01_6[[#This Row],[IdEstablecimiento]],[1]Establecimientos!A$1:E$175,5,FALSE),0)","v":"04202-CANELA"},"105450","80106017","2021-11-08T12:18:10",10,null,10,null,10]
[3,"5",2021,{"$f":"IFERROR(VLOOKUP(Tabla_SERIEBM_01_6[[#This Row],[IdEstablecimiento]],[1]Establecimientos!A$1:E$175,5,FALSE),0)","v":"04202-CANELA"},"105450","80106010","2021-11-08T12:18:10",2,null,2,null,2]
[2,"5",2021,{"$f":"IFERROR(VLOOKUP(Tabla_SERIEBM_01_6[[#This Row],[IdEstablecimiento]],[1]Establecimientos!A$1:E$175,5,FALSE),0)","v":"04101-LA SERENA"},"105313","80309010","2021-11-09T13:42:40",0,null,null,248]
[2,"5",2021,{"$f":"IFERROR(VLOOKUP(Tabla_SERIEBM_01_6[[#This Row],[IdEstablecimiento]],[1]Establecimientos!A$1:E$175,5,FALSE),0)","v":"04101-LA SERENA"},"105313","80309022","2021-11-09T13:42:40",0,null,null,227]
[2,"5",2021,{"$f":"IFERROR(VLOOKUP(Tabla_SERIEBM_01_6[[#This Row],[IdEstablecimiento]],[1]Establecimientos!A$1:E$175,5,FALSE),0)","v":"04101-LA SERENA"},"105313","80401051","2021-11-09T13:42:40",0,null,null,4]
[2,"5",2021,{"$f":"IFERROR(VLOOKUP(Tabla_SERIEBM_01_6[[#This Row],[IdEstablecimiento]],[1]Establecimientos!A$1:E$175,5,FALSE),0)","v":"04101-LA SERENA"},"105313","80401060","2021-11-09T13:42:40",0,null,null,7]
[2,"5",2021,{"$f":"IFERROR(VLOOKUP(Tabla_SERIEBM_01_6[[#This Row],[IdEstablecimiento]],[1]Establecimientos!A$1:E$175,5,FALSE),0)","v":"04101-LA SERENA"},"105313","80404002","2021-11-09T13:42:40",0,null,null,32]
[2,"5",2021,{"$f":"IFERROR(VLOOKUP(Tabla_SERIEBM_01_6[[#This Row],[IdEstablecimiento]],[1]Establecimientos!A$1:E$175,5,FALSE),0)","v":"04101-LA SERENA"},"105313","81701001","2021-11-09T13:42:40",44,null,44,null,44]
[2,"5",2021,{"$f":"IFERROR(VLOOKUP(Tabla_SERIEBM_01_6[[#This Row],[IdEstablecimiento]],[1]Establecimientos!A$1:E$175,5,FALSE),0)","v":"04101-LA SERENA"},"105313","82001015","2021-11-09T13:42:40",8,null,8,null,8]
[2,"5",2021,{"$f":"IFERROR(VLOOKUP(Tabla_SERIEBM_01_6[[#This Row],[IdEstablecimiento]],[1]Establecimientos!A$1:E$175,5,FALSE),0)","v":"04102-COQUIMBO"},"105321","80302063","2021-11-09T13:45:26",0,null,null,56]
[2,"5",2021,{"$f":"IFERROR(VLOOKUP(Tabla_SERIEBM_01_6[[#This Row],[IdEstablecimiento]],[1]Establecimientos!A$1:E$175,5,FALSE),0)","v":"04102-COQUIMBO"},"105321","80302064","2021-11-09T13:45:26",0,null,null,122]
[2,"5",2021,{"$f":"IFERROR(VLOOKUP(Tabla_SERIEBM_01_6[[#This Row],[IdEstablecimiento]],[1]Establecimientos!A$1:E$175,5,FALSE),0)","v":"04102-COQUIMBO"},"105321","80303015","2021-11-09T13:45:26",0,null,null,101]
[2,"5",2021,{"$f":"IFERROR(VLOOKUP(Tabla_SERIEBM_01_6[[#This Row],[IdEstablecimiento]],[1]Establecimientos!A$1:E$175,5,FALSE),0)","v":"04102-COQUIMBO"},"105321","80303025","2021-11-09T13:45:26",0,null,null,18]
[2,"5",2021,{"$f":"IFERROR(VLOOKUP(Tabla_SERIEBM_01_6[[#This Row],[IdEstablecimiento]],[1]Establecimientos!A$1:E$175,5,FALSE),0)","v":"04102-COQUIMBO"},"105321","80301036","2021-11-09T13:45:26",0,null,null,90]
[2,"5",2021,{"$f":"IFERROR(VLOOKUP(Tabla_SERIEBM_01_6[[#This Row],[IdEstablecimiento]],[1]Establecimientos!A$1:E$175,5,FALSE),0)","v":"04102-COQUIMBO"},"105321","80301038","2021-11-09T13:45:26",0,null,null,97]
[2,"5",2021,{"$f":"IFERROR(VLOOKUP(Tabla_SERIEBM_01_6[[#This Row],[IdEstablecimiento]],[1]Establecimientos!A$1:E$175,5,FALSE),0)","v":"04102-COQUIMBO"},"105321","80301041","2021-11-09T13:45:26",0,null,null,50]
[2,"5",2021,{"$f":"IFERROR(VLOOKUP(Tabla_SERIEBM_01_6[[#This Row],[IdEstablecimiento]],[1]Establecimientos!A$1:E$175,5,FALSE),0)","v":"04102-COQUIMBO"},"105321","80301045","2021-11-09T13:45:26",0,null,null,29]
[2,"5",2021,{"$f":"IFERROR(VLOOKUP(Tabla_SERIEBM_01_6[[#This Row],[IdEstablecimiento]],[1]Establecimientos!A$1:E$175,5,FALSE),0)","v":"04102-COQUIMBO"},"105321","80301059","2021-11-09T13:45:26",0,null,null,2]
[2,"5",2021,{"$f":"IFERROR(VLOOKUP(Tabla_SERIEBM_01_6[[#This Row],[IdEstablecimiento]],[1]Establecimientos!A$1:E$175,5,FALSE),0)","v":"04102-COQUIMBO"},"105321","80301085","2021-11-09T13:45:26",0,null,null,2]
[2,"5",2021,{"$f":"IFERROR(VLOOKUP(Tabla_SERIEBM_01_6[[#This Row],[IdEstablecimiento]],[1]Establecimientos!A$1:E$175,5,FALSE),0)","v":"04102-COQUIMBO"},"105321","80301086","2021-11-09T13:45:26",0,null,null,6]
[2,"5",2021,{"$f":"IFERROR(VLOOKUP(Tabla_SERIEBM_01_6[[#This Row],[IdEstablecimiento]],[1]Establecimientos!A$1:E$175,5,FALSE),0)","v":"04102-COQUIMBO"},"105321","80302005","2021-11-09T13:45:26",0,null,null,88]
[2,"5",2021,{"$f":"IFERROR(VLOOKUP(Tabla_SERIEBM_01_6[[#This Row],[IdEstablecimiento]],[1]Establecimientos!A$1:E$175,5,FALSE),0)","v":"04102-COQUIMBO"},"105321","80302013","2021-11-09T13:45:26",0,null,null,31]
[2,"5",2021,{"$f":"IFERROR(VLOOKUP(Tabla_SERIEBM_01_6[[#This Row],[IdEstablecimiento]],[1]Establecimientos!A$1:E$175,5,FALSE),0)","v":"04102-COQUIMBO"},"105321","80302067","2021-11-09T13:45:26",0,null,null,128]
[3,"5",2021,{"$f":"IFERROR(VLOOKUP(Tabla_SERIEBM_01_6[[#This Row],[IdEstablecimiento]],[1]Establecimientos!A$1:E$175,5,FALSE),0)","v":"04305-RIO HURTADO"},"105411","80302057","2021-11-08T12:03:03",0,null,null,3]
[3,"5",2021,{"$f":"IFERROR(VLOOKUP(Tabla_SERIEBM_01_6[[#This Row],[IdEstablecimiento]],[1]Establecimientos!A$1:E$175,5,FALSE),0)","v":"04305-RIO HURTADO"},"105411","80302076","2021-11-08T12:03:03",0,null,null,3]
[3,"5",2021,{"$f":"IFERROR(VLOOKUP(Tabla_SERIEBM_01_6[[#This Row],[IdEstablecimiento]],[1]Establecimientos!A$1:E$175,5,FALSE),0)","v":"04102-COQUIMBO"},"105804","81707030","2021-11-08T13:06:56",1,1,null,1]
[3,"5",2021,{"$f":"IFERROR(VLOOKUP(Tabla_SERIEBM_01_6[[#This Row],[IdEstablecimiento]],[1]Establecimientos!A$1:E$175,5,FALSE),0)","v":"04102-COQUIMBO"},"105804","81602221","2021-11-08T13:06:56",1,1,null,1]
[3,"5",2021,{"$f":"IFERROR(VLOOKUP(Tabla_SERIEBM_01_6[[#This Row],[IdEstablecimiento]],[1]Establecimientos!A$1:E$175,5,FALSE),0)","v":"04102-COQUIMBO"},"105804","80106002","2021-11-08T13:06:56",2,2,null,null,2]
[3,"5",2021,{"$f":"IFERROR(VLOOKUP(Tabla_SERIEBM_01_6[[#This Row],[IdEstablecimiento]],[1]Establecimientos!A$1:E$175,5,FALSE),0)","v":"04102-COQUIMBO"},"105804","80106010","2021-11-08T13:06:56",2,2,null,2]
[3,"5",2021,{"$f":"IFERROR(VLOOKUP(Tabla_SERIEBM_01_6[[#This Row],[IdEstablecimiento]],[1]Establecimientos!A$1:E$175,5,FALSE),0)","v":"04102-COQUIMBO"},"105804","80106012","2021-11-08T13:06:56",1,1,null,1]
[3,"5",2021,{"$f":"IFERROR(VLOOKUP(Tabla_SERIEBM_01_6[[#This Row],[IdEstablecimiento]],[1]Establecimientos!A$1:E$175,5,FALSE),0)","v":"04102-COQUIMBO"},"105804","80106013","2021-11-08T13:06:56",2,2,null,2]
[3,"5",2021,{"$f":"IFERROR(VLOOKUP(Tabla_SERIEBM_01_6[[#This Row],[IdEstablecimiento]],[1]Establecimientos!A$1:E$175,5,FALSE),0)","v":"04202-CANELA"},"105809","80106014","2021-11-08T13:07:50",85,85,null,null,85]
[3,"5",2021,{"$f":"IFERROR(VLOOKUP(Tabla_SERIEBM_01_6[[#This Row],[IdEstablecimiento]],[1]Establecimientos!A$1:E$175,5,FALSE),0)","v":"04202-CANELA"},"105809","80106015","2021-11-08T13:07:50",48,48,null,null,48]
[3,"5",2021,{"$f":"IFERROR(VLOOKUP(Tabla_SERIEBM_01_6[[#This Row],[IdEstablecimiento]],[1]Establecimientos!A$1:E$175,5,FALSE),0)","v":"04202-CANELA"},"105809","80106020","2021-11-08T13:07:50",5,5,null,null,5]
[3,"5",2021,{"$f":"IFERROR(VLOOKUP(Tabla_SERIEBM_01_6[[#This Row],[IdEstablecimiento]],[1]Establecimientos!A$1:E$175,5,FALSE),0)","v":"04202-CANELA"},"105809","80106022","2021-11-08T13:07:50",1,1,null,null,1]
[3,"5",2021,{"$f":"IFERROR(VLOOKUP(Tabla_SERIEBM_01_6[[#This Row],[IdEstablecimiento]],[1]Establecimientos!A$1:E$175,5,FALSE),0)","v":"04202-CANELA"},"105809","80500011","2021-11-08T13:07:50",36,36,null,null,36]
[3,"5",2021,{"$f":"IFERROR(VLOOKUP(Tabla_SERIEBM_01_6[[#This Row],[IdEstablecimiento]],[1]Establecimientos!A$1:E$175,5,FALSE),0)","v":"04105-PAIHUANO"},"105306","80106014","2021-11-08T10:17:39",47,null,47,null,47]
[3,"5",2021,{"$f":"IFERROR(VLOOKUP(Tabla_SERIEBM_01_6[[#This Row],[IdEstablecimiento]],[1]Establecimientos!A$1:E$175,5,FALSE),0)","v":"04105-PAIHUANO"},"105306","80106015","2021-11-08T10:17:39",11,null,11,null,11]
[3,"5",2021,{"$f":"IFERROR(VLOOKUP(Tabla_SERIEBM_01_6[[#This Row],[IdEstablecimiento]],[1]Establecimientos!A$1:E$175,5,FALSE),0)","v":"04105-PAIHUANO"},"105306","80307011","2021-11-08T10:17:39",200,null,200]
[3,"5",2021,{"$f":"IFERROR(VLOOKUP(Tabla_SERIEBM_01_6[[#This Row],[IdEstablecimiento]],[1]Establecimientos!A$1:E$175,5,FALSE),0)","v":"04105-PAIHUANO"},"105306","80307012","2021-11-08T10:17:39",3,null,3]
[3,"5",2021,{"$f":"IFERROR(VLOOKUP(Tabla_SERIEBM_01_6[[#This Row],[IdEstablecimiento]],[1]Establecimientos!A$1:E$175,5,FALSE),0)","v":"04105-PAIHUANO"},"105306","18020500","2021-11-08T10:17:39",10,0,10]
[3,"5",2021,{"$f":"IFERROR(VLOOKUP(Tabla_SERIEBM_01_6[[#This Row],[IdEstablecimiento]],[1]Establecimientos!A$1:E$175,5,FALSE),0)","v":"04105-PAIHUANO"},"105306","18030000","2021-11-08T10:17:39",5,0,5]
[3,"5",2021,{"$f":"IFERROR(VLOOKUP(Tabla_SERIEBM_01_6[[#This Row],[IdEstablecimiento]],[1]Establecimientos!A$1:E$175,5,FALSE),0)","v":"04105-PAIHUANO"},"105306","18040200","2021-11-08T10:17:39",5,null,5]
[3,"5",2021,{"$f":"IFERROR(VLOOKUP(Tabla_SERIEBM_01_6[[#This Row],[IdEstablecimiento]],[1]Establecimientos!A$1:E$175,5,FALSE),0)","v":"04105-PAIHUANO"},"105306","18050100","2021-11-08T10:17:39",120,0,120]
[3,"5",2021,{"$f":"IFERROR(VLOOKUP(Tabla_SERIEBM_01_6[[#This Row],[IdEstablecimiento]],[1]Establecimientos!A$1:E$175,5,FALSE),0)","v":"04105-PAIHUANO"},"105306","18400700","2021-11-08T10:17:39",1005]
[3,"5",2021,{"$f":"IFERROR(VLOOKUP(Tabla_SERIEBM_01_6[[#This Row],[IdEstablecimiento]],[1]Establecimientos!A$1:E$175,5,FALSE),0)","v":"04301-OVALLE"},"105324","80106022","2021-11-08T11:58:20",2,null,2]
[3,"5",2021,{"$f":"IFERROR(VLOOKUP(Tabla_SERIEBM_01_6[[#This Row],[IdEstablecimiento]],[1]Establecimientos!A$1:E$175,5,FALSE),0)","v":"04301-OVALLE"},"105324","80307011","2021-11-08T11:58:20",328,null,328]
[3,"5",2021,{"$f":"IFERROR(VLOOKUP(Tabla_SERIEBM_01_6[[#This Row],[IdEstablecimiento]],[1]Establecimientos!A$1:E$175,5,FALSE),0)","v":"04301-OVALLE"},"105324","80307012","2021-11-08T11:58:20",5,null,5]
[3,"5",2021,{"$f":"IFERROR(VLOOKUP(Tabla_SERIEBM_01_6[[#This Row],[IdEstablecimiento]],[1]Establecimientos!A$1:E$175,5,FALSE),0)","v":"04301-OVALLE"},"105324","80500008","2021-11-08T11:58:20",8,null,8]
[3,"5",2021,{"$f":"IFERROR(VLOOKUP(Tabla_SERIEBM_01_6[[#This Row],[IdEstablecimiento]],[1]Establecimientos!A$1:E$175,5,FALSE),0)","v":"04301-OVALLE"},"105324","18020500","2021-11-08T11:58:20",215,0,215]
[3,"5",2021,{"$f":"IFERROR(VLOOKUP(Tabla_SERIEBM_01_6[[#This Row],[IdEstablecimiento]],[1]Establecimientos!A$1:E$175,5,FALSE),0)","v":"04301-OVALLE"},"105324","18020900","2021-11-08T11:58:20",2,0,2]
[3,"5",2021,{"$f":"IFERROR(VLOOKUP(Tabla_SERIEBM_01_6[[#This Row],[IdEstablecimiento]],[1]Establecimientos!A$1:E$175,5,FALSE),0)","v":"04301-OVALLE"},"105324","18050100","2021-11-08T11:58:20",19,0,19]
[3,"5",2021,{"$f":"IFERROR(VLOOKUP(Tabla_SERIEBM_01_6[[#This Row],[IdEstablecimiento]],[1]Establecimientos!A$1:E$175,5,FALSE),0)","v":"04301-OVALLE"},"105324","18070300","2021-11-08T11:58:20",3,{"$nulls":4},2,1]
[3,"5",2021,{"$f":"IFERROR(VLOOKUP(Tabla_SERIEBM_01_6[[#This Row],[IdEstablecimiento]],[1]Establecimientos!A$1:E$175,5,FALSE),0)","v":"04301-OVALLE"},"105324","18090200","2021-11-08T11:58:20",24]
[3,"5",2021,{"$f":"IFERROR(VLOOKUP(Tabla_SERIEBM_01_6[[#This Row],[IdEstablecimiento]],[1]Establecimientos!A$1:E$175,5,FALSE),0)","v":"04301-OVALLE"},"105324","18700100","2021-11-08T11:58:20",43,6,34,3]
[3,"5",2021,{"$f":"IFERROR(VLOOKUP(Tabla_SERIEBM_01_6[[#This Row],[IdEstablecimiento]],[1]Establecimientos!A$1:E$175,5,FALSE),0)","v":"04101-LA SERENA"},"105325","80302047","2021-11-08T11:58:46",0,null,null,264]
[3,"5",2021,{"$f":"IFERROR(VLOOKUP(Tabla_SERIEBM_01_6[[#This Row],[IdEstablecimiento]],[1]Establecimientos!A$1:E$175,5,FALSE),0)","v":"04101-LA SERENA"},"105325","80302048","2021-11-08T11:58:46",0,null,null,47]
[3,"5",2021,{"$f":"IFERROR(VLOOKUP(Tabla_SERIEBM_01_6[[#This Row],[IdEstablecimiento]],[1]Establecimientos!A$1:E$175,5,FALSE),0)","v":"04101-LA SERENA"},"105325","80302063","2021-11-08T11:58:46",0,null,null,43]
[3,"5",2021,{"$f":"IFERROR(VLOOKUP(Tabla_SERIEBM_01_6[[#This Row],[IdEstablecimiento]],[1]Establecimientos!A$1:E$175,5,FALSE),0)","v":"04101-LA SERENA"},"105325","80302064","2021-11-08T11:58:46",0,null,null,190]
[3,"5",2021,{"$f":"IFERROR(VLOOKUP(Tabla_SERIEBM_01_6[[#This Row],[IdEstablecimiento]],[1]Establecimientos!A$1:E$175,5,FALSE),0)","v":"04101-LA SERENA"},"105325","80303024","2021-11-08T11:58:46",0,null,null,176]
[3,"5",2021,{"$f":"IFERROR(VLOOKUP(Tabla_SERIEBM_01_6[[#This Row],[IdEstablecimiento]],[1]Establecimientos!A$1:E$175,5,FALSE),0)","v":"04101-LA SERENA"},"105325","80303026","2021-11-08T11:58:46",0,null,null,92]
[3,"5",2021,{"$f":"IFERROR(VLOOKUP(Tabla_SERIEBM_01_6[[#This Row],[IdEstablecimiento]],[1]Establecimientos!A$1:E$175,5,FALSE),0)","v":"04101-LA SERENA"},"105325","80301014","2021-11-08T11:58:46",0,null,null,2]
[3,"5",2021,{"$f":"IFERROR(VLOOKUP(Tabla_SERIEBM_01_6[[#This Row],[IdEstablecimiento]],[1]Establecimientos!A$1:E$175,5,FALSE),0)","v":"04102-COQUIMBO"},"105407","80106002","2021-11-08T12:01:48",27,null,27,null,27]
[3,"5",2021,{"$f":"IFERROR(VLOOKUP(Tabla_SERIEBM_01_6[[#This Row],[IdEstablecimiento]],[1]Establecimientos!A$1:E$175,5,FALSE),0)","v":"04102-COQUIMBO"},"105407","80106014","2021-11-08T12:01:48",16,null,16,null,16]
[3,"5",2021,{"$f":"IFERROR(VLOOKUP(Tabla_SERIEBM_01_6[[#This Row],[IdEstablecimiento]],[1]Establecimientos!A$1:E$175,5,FALSE),0)","v":"04102-COQUIMBO"},"105407","80106015","2021-11-08T12:01:48",1,null,1,null,1]
[3,"5",2021,{"$f":"IFERROR(VLOOKUP(Tabla_SERIEBM_01_6[[#This Row],[IdEstablecimiento]],[1]Establecimientos!A$1:E$175,5,FALSE),0)","v":"04102-COQUIMBO"},"105407","80106020","2021-11-08T12:01:48",1,null,1,null,1]
[3,"5",2021,{"$f":"IFERROR(VLOOKUP(Tabla_SERIEBM_01_6[[#This Row],[IdEstablecimiento]],[1]Establecimientos!A$1:E$175,5,FALSE),0)","v":"04102-COQUIMBO"},"105407","80500011","2021-11-08T12:01:48",11,null,11]
[3,"5",2021,{"$f":"IFERROR(VLOOKUP(Tabla_SERIEBM_01_6[[#This Row],[IdEstablecimiento]],[1]Establecimientos!A$1:E$175,5,FALSE),0)","v":"04102-COQUIMBO"},"105407","18050100","2021-11-08T12:01:48",27,0,27]
[3,"5",2021,{"$f":"IFERROR(VLOOKUP(Tabla_SERIEBM_01_6[[#This Row],[IdEstablecimiento]],[1]Establecimientos!A$1:E$175,5,FALSE),0)","v":"04305-RIO HURTADO"},"105409","80302047","2021-11-08T12:02:13",0,null,null,10]
[3,"5",2021,{"$f":"IFERROR(VLOOKUP(Tabla_SERIEBM_01_6[[#This Row],[IdEstablecimiento]],[1]Establecimientos!A$1:E$175,5,FALSE),0)","v":"04305-RIO HURTADO"},"105409","80302057","2021-11-08T12:02:13",0,null,null,1]
[11,"5",2021,{"$f":"IFERROR(VLOOKUP(Tabla_SERIEBM_01_6[[#This Row],[IdEstablecimiento]],[1]Establecimientos!A$1:E$175,5,FALSE),0)","v":"04102-COQUIMBO"},"105303","80303024","2021-12-17T07:55:35",0,null,null,352]
[11,"5",2021,{"$f":"IFERROR(VLOOKUP(Tabla_SERIEBM_01_6[[#This Row],[IdEstablecimiento]],[1]Establecimientos!A$1:E$175,5,FALSE),0)","v":"04102-COQUIMBO"},"105303","80106023","2021-12-17T07:55:35",68,null,68,null,68]
[11,"5",2021,{"$f":"IFERROR(VLOOKUP(Tabla_SERIEBM_01_6[[#This Row],[IdEstablecimiento]],[1]Establecimientos!A$1:E$175,5,FALSE),0)","v":"04102-COQUIMBO"},"105303","80307011","2021-12-17T07:55:35",844,null,844]
[11,"5",2021,{"$f":"IFERROR(VLOOKUP(Tabla_SERIEBM_01_6[[#This Row],[IdEstablecimiento]],[1]Establecimientos!A$1:E$175,5,FALSE),0)","v":"04102-COQUIMBO"},"105303","80307012","2021-12-17T07:55:35",34,null,34]
[11,"5",2021,{"$f":"IFERROR(VLOOKUP(Tabla_SERIEBM_01_6[[#This Row],[IdEstablecimiento]],[1]Establecimientos!A$1:E$175,5,FALSE),0)","v":"04102-COQUIMBO"},"105303","80500008","2021-12-17T07:55:35",7,null,7,null,7]
[11,"5",2021,{"$f":"IFERROR(VLOOKUP(Tabla_SERIEBM_01_6[[#This Row],[IdEstablecimiento]],[1]Establecimientos!A$1:E$175,5,FALSE),0)","v":"04102-COQUIMBO"},"105303","80500009","2021-12-17T07:55:35",7,null,7,null,7]
[11,"5",2021,{"$f":"IFERROR(VLOOKUP(Tabla_SERIEBM_01_6[[#This Row],[IdEstablecimiento]],[1]Establecimientos!A$1:E$175,5,FALSE),0)","v":"04102-COQUIMBO"},"105303","80500011","2021-12-17T07:55:35",131,null,131,null,131]
[11,"5",2021,{"$f":"IFERROR(VLOOKUP(Tabla_SERIEBM_01_6[[#This Row],[IdEstablecimiento]],[1]Establecimientos!A$1:E$175,5,FALSE),0)","v":"04102-COQUIMBO"},"105303","18700270","2021-12-17T07:55:35",13,null,13]
[11,"5",2021,{"$f":"IFERROR(VLOOKUP(Tabla_SERIEBM_01_6[[#This Row],[IdEstablecimiento]],[1]Establecimientos!A$1:E$175,5,FALSE),0)","v":"04102-COQUIMBO"},"105303","18700330","2021-12-17T07:55:35",5,null,5]
[11,"5",2021,{"$f":"IFERROR(VLOOKUP(Tabla_SERIEBM_01_6[[#This Row],[IdEstablecimiento]],[1]Establecimientos!A$1:E$175,5,FALSE),0)","v":"04102-COQUIMBO"},"105303","18400600","2021-12-17T07:55:35",5]
[11,"5",2021,{"$f":"IFERROR(VLOOKUP(Tabla_SERIEBM_01_6[[#This Row],[IdEstablecimiento]],[1]Establecimientos!A$1:E$175,5,FALSE),0)","v":"04102-COQUIMBO"},"105303","18020200","2021-12-17T07:55:35",4,0,4]
[11,"5",2021,{"$f":"IFERROR(VLOOKUP(Tabla_SERIEBM_01_6[[#This Row],[IdEstablecimiento]],[1]Establecimientos!A$1:E$175,5,FALSE),0)","v":"04102-COQUIMBO"},"105303","18020300","2021-12-17T07:55:35",12,0,12]
[11,"5",2021,{"$f":"IFERROR(VLOOKUP(Tabla_SERIEBM_01_6[[#This Row],[IdEstablecimiento]],[1]Establecimientos!A$1:E$175,5,FALSE),0)","v":"04102-COQUIMBO"},"105303","18020500","2021-12-17T07:55:35",89,0,89]
[11,"5",2021,{"$f":"IFERROR(VLOOKUP(Tabla_SERIEBM_01_6[[#This Row],[IdEstablecimiento]],[1]Establecimientos!A$1:E$175,5,FALSE),0)","v":"04102-COQUIMBO"},"105303","18020600","2021-12-17T07:55:35",1,0,1]
[11,"5",2021,{"$f":"IFERROR(VLOOKUP(Tabla_SERIEBM_01_6[[#This Row],[IdEstablecimiento]],[1]Establecimientos!A$1:E$175,5,FALSE),0)","v":"04102-COQUIMBO"},"105303","18040200","2021-12-17T07:55:35",5,null,5]
[11,"5",2021,{"$f":"IFERROR(VLOOKUP(Tabla_SERIEBM_01_6[[#This Row],[IdEstablecimiento]],[1]Establecimientos!A$1:E$175,5,FALSE),0)","v":"04102-COQUIMBO"},"105303","18090000","2021-12-17T07:55:35",68,0,68]
[11,"5",2021,{"$f":"IFERROR(VLOOKUP(Tabla_SERIEBM_01_6[[#This Row],[IdEstablecimiento]],[1]Establecimientos!A$1:E$175,5,FALSE),0)","v":"04102-COQUIMBO"},"105303","18050100","2021-12-17T07:55:35",441,0,441]
[11,"5",2021,{"$f":"IFERROR(VLOOKUP(Tabla_SERIEBM_01_6[[#This Row],[IdEstablecimiento]],[1]Establecimientos!A$1:E$175,5,FALSE),0)","v":"04102-COQUIMBO"},"105303","18050300","2021-12-17T07:55:35",13,0,13]
[11,"5",2021,{"$f":"IFERROR(VLOOKUP(Tabla_SERIEBM_01_6[[#This Row],[IdEstablecimiento]],[1]Establecimientos!A$1:E$175,5,FALSE),0)","v":"04102-COQUIMBO"},"105303","18070300","2021-12-17T07:55:35",5,1,4]
[11,"5",2021,{"$f":"IFERROR(VLOOKUP(Tabla_SERIEBM_01_6[[#This Row],[IdEstablecimiento]],[1]Establecimientos!A$1:E$175,5,FALSE),0)","v":"04102-COQUIMBO"},"105303","18400900","2021-12-17T07:55:35",84,1,83]
[11,"5",2021,{"$f":"IFERROR(VLOOKUP(Tabla_SERIEBM_01_6[[#This Row],[IdEstablecimiento]],[1]Establecimientos!A$1:E$175,5,FALSE),0)","v":"04102-COQUIMBO"},"105304","80302045","2021-12-17T07:57:30",0,null,null,17]
[11,"5",2021,{"$f":"IFERROR(VLOOKUP(Tabla_SERIEBM_01_6[[#This Row],[IdEstablecimiento]],[1]Establecimientos!A$1:E$175,5,FALSE),0)","v":"04102-COQUIMBO"},"105304","80302047","2021-12-17T07:57:30",0,null,null,327]
[11,"5",2021,{"$f":"IFERROR(VLOOKUP(Tabla_SERIEBM_01_6[[#This Row],[IdEstablecimiento]],[1]Establecimientos!A$1:E$175,5,FALSE),0)","v":"04102-COQUIMBO"},"105304","80302048","2021-12-17T07:57:30",0,null,null,36]
[11,"5",2021,{"$f":"IFERROR(VLOOKUP(Tabla_SERIEBM_01_6[[#This Row],[IdEstablecimiento]],[1]Establecimientos!A$1:E$175,5,FALSE),0)","v":"04102-COQUIMBO"},"105304","80302057","2021-12-17T07:57:30",0,null,null,158]
[11,"5",2021,{"$f":"IFERROR(VLOOKUP(Tabla_SERIEBM_01_6[[#This Row],[IdEstablecimiento]],[1]Establecimientos!A$1:E$175,5,FALSE),0)","v":"04102-COQUIMBO"},"105304","80302060","2021-12-17T07:57:30",0,null,null,20]
[11,"5",2021,{"$f":"IFERROR(VLOOKUP(Tabla_SERIEBM_01_6[[#This Row],[IdEstablecimiento]],[1]Establecimientos!A$1:E$175,5,FALSE),0)","v":"04102-COQUIMBO"},"105304","80302076","2021-12-17T07:57:30",0,null,null,30]
[11,"5",2021,{"$f":"IFERROR(VLOOKUP(Tabla_SERIEBM_01_6[[#This Row],[IdEstablecimiento]],[1]Establecimientos!A$1:E$175,5,FALSE),0)","v":"04102-COQUIMBO"},"105304","80302063","2021-12-17T07:57:30",0,null,null,126]
[11,"5",2021,{"$f":"IFERROR(VLOOKUP(Tabla_SERIEBM_01_6[[#This Row],[IdEstablecimiento]],[1]Establecimientos!A$1:E$175,5,FALSE),0)","v":"04102-COQUIMBO"},"105304","80302064","2021-12-17T07:57:30",0,null,null,223]
[11,"5",2021,{"$f":"IFERROR(VLOOKUP(Tabla_SERIEBM_01_6[[#This Row],[IdEstablecimiento]],[1]Establecimientos!A$1:E$175,5,FALSE),0)","v":"04102-COQUIMBO"},"105304","80303024","2021-12-17T07:57:30",0,null,null,278]
[11,"5",2021,{"$f":"IFERROR(VLOOKUP(Tabla_SERIEBM_01_6[[#This Row],[IdEstablecimiento]],[1]Establecimientos!A$1:E$175,5,FALSE),0)","v":"04102-COQUIMBO"},"105304","80303026","2021-12-17T07:57:30",0,null,null,35]
[11,"5",2021,{"$f":"IFERROR(VLOOKUP(Tabla_SERIEBM_01_6[[#This Row],[IdEstablecimiento]],[1]Establecimientos!A$1:E$175,5,FALSE),0)","v":"04102-COQUIMBO"},"105304","80301015","2021-12-17T07:57:30",0,null,null,18]
[3,"5",2021,{"$f":"IFERROR(VLOOKUP(Tabla_SERIEBM_01_6[[#This Row],[IdEstablecimiento]],[1]Establecimientos!A$1:E$175,5,FALSE),0)","v":"04305-RIO HURTADO"},"105310","80307012","2021-11-08T10:26:02",4,null,4,4]
[3,"5",2021,{"$f":"IFERROR(VLOOKUP(Tabla_SERIEBM_01_6[[#This Row],[IdEstablecimiento]],[1]Establecimientos!A$1:E$175,5,FALSE),0)","v":"04305-RIO HURTADO"},"105310","80500008","2021-11-08T10:26:02",2,null,2,null,2]
[3,"5",2021,{"$f":"IFERROR(VLOOKUP(Tabla_SERIEBM_01_6[[#This Row],[IdEstablecimiento]],[1]Establecimientos!A$1:E$175,5,FALSE),0)","v":"04305-RIO HURTADO"},"105310","80500009","2021-11-08T10:26:02",1,null,1,null,1]
[3,"5",2021,{"$f":"IFERROR(VLOOKUP(Tabla_SERIEBM_01_6[[#This Row],[IdEstablecimiento]],[1]Establecimientos!A$1:E$175,5,FALSE),0)","v":"04305-RIO HURTADO"},"105310","80500014","2021-11-08T10:26:02",2,null,2,null,2]
[3,"5",2021,{"$f":"IFERROR(VLOOKUP(Tabla_SERIEBM_01_6[[#This Row],[IdEstablecimiento]],[1]Establecimientos!A$1:E$175,5,FALSE),0)","v":"04305-RIO HURTADO"},"105310","18020200","2021-11-08T10:26:02",1,0,1]
[3,"5",2021,{"$f":"IFERROR(VLOOKUP(Tabla_SERIEBM_01_6[[#This Row],[IdEstablecimiento]],[1]Establecimientos!A$1:E$175,5,FALSE),0)","v":"04305-RIO HURTADO"},"105310","18020500","2021-11-08T10:26:02",97,0,97]
[3,"5",2021,{"$f":"IFERROR(VLOOKUP(Tabla_SERIEBM_01_6[[#This Row],[IdEstablecimiento]],[1]Establecimientos!A$1:E$175,5,FALSE),0)","v":"04305-RIO HURTADO"},"105310","18030000","2021-11-08T10:26:02",1,0,1]
[3,"5",2021,{"$f":"IFERROR(VLOOKUP(Tabla_SERIEBM_01_6[[#This Row],[IdEstablecimiento]],[1]Establecimientos!A$1:E$175,5,FALSE),0)","v":"04305-RIO HURTADO"},"105310","18040200","2021-11-08T10:26:02",1,null,1]
[3,"5",2021,{"$f":"IFERROR(VLOOKUP(Tabla_SERIEBM_01_6[[#This Row],[IdEstablecimiento]],[1]Establecimientos!A$1:E$175,5,FALSE),0)","v":"04305-RIO HURTADO"},"105310","18050100","2021-11-08T10:26:02",52,0,52]
[3,"5",2021,{"$f":"IFERROR(VLOOKUP(Tabla_SERIEBM_01_6[[#This Row],[IdEstablecimiento]],[1]Establecimientos!A$1:E$175,5,FALSE),0)","v":"04305-RIO HURTADO"},"105310","18070300","2021-11-08T10:26:02",31,{"$nulls":3},3,17,11]
[3,"5",2021,{"$f":"IFERROR(VLOOKUP(Tabla_SERIEBM_01_6[[#This Row],[IdEstablecimiento]],[1]Establecimientos!A$1:E$175,5,FALSE),0)","v":"04305-RIO HURTADO"},"105310","18400900","2021-11-08T10:26:02",17,null,17]
[3,"5",2021,{"$f":"IFERROR(VLOOKUP(Tabla_SERIEBM_01_6[[#This Row],[IdEstablecimiento]],[1]Establecimientos!A$1:E$175,5,FALSE),0)","v":"04305-RIO HURTADO"},"105310","18700100","2021-11-08T10:26:02",537,35,457,45,0]
[3,"5",2021,{"$f":"IFERROR(VLOOKUP(Tabla_SERIEBM_01_6[[#This Row],[IdEstablecimiento]],[1]Establecimientos!A$1:E$175,5,FALSE),0)","v":"04303-MONTE PATRIA"},"105311","81301025","2021-11-08T10:26:30",1,null,1,null,1]
[3,"5",2021,{"$f":"IFERROR(VLOOKUP(Tabla_SERIEBM_01_6[[#This Row],[IdEstablecimiento]],[1]Establecimientos!A$1:E$175,5,FALSE),0)","v":"04202-CANELA"},"105309","80306008","2021-11-08T10:18:57",0,null,null,5]
[3,"5",2021,{"$f":"IFERROR(VLOOKUP(Tabla_SERIEBM_01_6[[#This Row],[IdEstablecimiento]],[1]Establecimientos!A$1:E$175,5,FALSE),0)","v":"04202-CANELA"},"105309","80306011","2021-11-08T10:18:57",0,null,null,47]
[3,"5",2021,{"$f":"IFERROR(VLOOKUP(Tabla_SERIEBM_01_6[[#This Row],[IdEstablecimiento]],[1]Establecimientos!A$1:E$175,5,FALSE),0)","v":"04202-CANELA"},"105309","80306016","2021-11-08T10:18:57",0,null,null,1]
[3,"5",2021,{"$f":"IFERROR(VLOOKUP(Tabla_SERIEBM_01_6[[#This Row],[IdEstablecimiento]],[1]Establecimientos!A$1:E$175,5,FALSE),0)","v":"04202-CANELA"},"105309","80306038","2021-11-08T10:18:57",0,null,null,13]
[11,"5",2021,{"$f":"IFERROR(VLOOKUP(Tabla_SERIEBM_01_6[[#This Row],[IdEstablecimiento]],[1]Establecimientos!A$1:E$175,5,FALSE),0)","v":"04301-OVALLE"},"105322","80306048","2021-12-17T08:08:19",23,null,23]
[11,"5",2021,{"$f":"IFERROR(VLOOKUP(Tabla_SERIEBM_01_6[[#This Row],[IdEstablecimiento]],[1]Establecimientos!A$1:E$175,5,FALSE),0)","v":"04301-OVALLE"},"105322","80306051","2021-12-17T08:08:19",2,null,2]
[11,"5",2021,{"$f":"IFERROR(VLOOKUP(Tabla_SERIEBM_01_6[[#This Row],[IdEstablecimiento]],[1]Establecimientos!A$1:E$175,5,FALSE),0)","v":"04301-OVALLE"},"105322","80306056","2021-12-17T08:08:19",4,null,4]
[11,"5",2021,{"$f":"IFERROR(VLOOKUP(Tabla_SERIEBM_01_6[[#This Row],[IdEstablecimiento]],[1]Establecimientos!A$1:E$175,5,FALSE),0)","v":"04301-OVALLE"},"105322","80308005","2021-12-17T08:08:19",5,null,5]
[11,"5",2021,{"$f":"IFERROR(VLOOKUP(Tabla_SERIEBM_01_6[[#This Row],[IdEstablecimiento]],[1]Establecimientos!A$1:E$175,5,FALSE),0)","v":"04301-OVALLE"},"105322","80308044","2021-12-17T08:08:19",4,null,4]
[11,"5",2021,{"$f":"IFERROR(VLOOKUP(Tabla_SERIEBM_01_6[[#This Row],[IdEstablecimiento]],[1]Establecimientos!A$1:E$175,5,FALSE),0)","v":"04301-OVALLE"},"105322","80309010","2021-12-17T08:08:19",1397,null,1397]
[11,"5",2021,{"$f":"IFERROR(VLOOKUP(Tabla_SERIEBM_01_6[[#This Row],[IdEstablecimiento]],[1]Establecimientos!A$1:E$175,5,FALSE),0)","v":"04301-OVALLE"},"105322","80309013","2021-12-17T08:08:19",1404,null,1404]
[11,"5",2021,{"$f":"IFERROR(VLOOKUP(Tabla_SERIEBM_01_6[[#This Row],[IdEstablecimiento]],[1]Establecimientos!A$1:E$175,5,FALSE),0)","v":"04301-OVALLE"},"105322","80309016","2021-12-17T08:08:19",1,null,1]
[11,"5",2021,{"$f":"IFERROR(VLOOKUP(Tabla_SERIEBM_01_6[[#This Row],[IdEstablecimiento]],[1]Establecimientos!A$1:E$175,5,FALSE),0)","v":"04301-OVALLE"},"105322","80309022","2021-12-17T08:08:19",2140,null,2140]
[11,"5",2021,{"$f":"IFERROR(VLOOKUP(Tabla_SERIEBM_01_6[[#This Row],[IdEstablecimiento]],[1]Establecimientos!A$1:E$175,5,FALSE),0)","v":"04301-OVALLE"},"105322","80309028","2021-12-17T08:08:19",3,null,3]
[11,"5",2021,{"$f":"IFERROR(VLOOKUP(Tabla_SERIEBM_01_6[[#This Row],[IdEstablecimiento]],[1]Establecimientos!A$1:E$175,5,FALSE),0)","v":"04301-OVALLE"},"105322","80401009","2021-12-17T08:08:19",0,null,null,38]
[11,"5",2021,{"$f":"IFERROR(VLOOKUP(Tabla_SERIEBM_01_6[[#This Row],[IdEstablecimiento]],[1]Establecimientos!A$1:E$175,5,FALSE),0)","v":"04301-OVALLE"},"105322","80401151","2021-12-17T08:08:19",0,null,null,61]
[11,"5",2021,{"$f":"IFERROR(VLOOKUP(Tabla_SERIEBM_01_6[[#This Row],[IdEstablecimiento]],[1]Establecimientos!A$1:E$175,5,FALSE),0)","v":"04301-OVALLE"},"105322","81701001","2021-12-17T08:08:19",178,null,178,null,178]
[11,"5",2021,{"$f":"IFERROR(VLOOKUP(Tabla_SERIEBM_01_6[[#This Row],[IdEstablecimiento]],[1]Establecimientos!A$1:E$175,5,FALSE),0)","v":"04301-OVALLE"},"105322","81901019","2021-12-17T08:08:19",4,null,4,null,4]
[11,"5",2021,{"$f":"IFERROR(VLOOKUP(Tabla_SERIEBM_01_6[[#This Row],[IdEstablecimiento]],[1]Establecimientos!A$1:E$175,5,FALSE),0)","v":"04301-OVALLE"},"105322","80106002","2021-12-17T08:08:19",345,null,345,null,345]
[11,"5",2021,{"$f":"IFERROR(VLOOKUP(Tabla_SERIEBM_01_6[[#This Row],[IdEstablecimiento]],[1]Establecimientos!A$1:E$175,5,FALSE),0)","v":"04301-OVALLE"},"105322","80106005","2021-12-17T08:08:19",12,null,12,null,12]
[11,"5",2021,{"$f":"IFERROR(VLOOKUP(Tabla_SERIEBM_01_6[[#This Row],[IdEstablecimiento]],[1]Establecimientos!A$1:E$175,5,FALSE),0)","v":"04301-OVALLE"},"105322","80106017","2021-12-17T08:08:19",249,null,249,null,249]
[11,"5",2021,{"$f":"IFERROR(VLOOKUP(Tabla_SERIEBM_01_6[[#This Row],[IdEstablecimiento]],[1]Establecimientos!A$1:E$175,5,FALSE),0)","v":"04301-OVALLE"},"105322","80106014","2021-12-17T08:08:19",347,null,347,null,347]
[11,"5",2021,{"$f":"IFERROR(VLOOKUP(Tabla_SERIEBM_01_6[[#This Row],[IdEstablecimiento]],[1]Establecimientos!A$1:E$175,5,FALSE),0)","v":"04301-OVALLE"},"105322","80106015","2021-12-17T08:08:19",5,null,5,null,5]
[11,"5",2021,{"$f":"IFERROR(VLOOKUP(Tabla_SERIEBM_01_6[[#This Row],[IdEstablecimiento]],[1]Establecimientos!A$1:E$175,5,FALSE),0)","v":"04301-OVALLE"},"105322","80106022","2021-12-17T08:08:19",10,null,10,null,10]
[11,"5",2021,{"$f":"IFERROR(VLOOKUP(Tabla_SERIEBM_01_6[[#This Row],[IdEstablecimiento]],[1]Establecimientos!A$1:E$175,5,FALSE),0)","v":"04301-OVALLE"},"105322","80106023","2021-12-17T08:08:19",195,null,195,null,195]
[11,"5",2021,{"$f":"IFERROR(VLOOKUP(Tabla_SERIEBM_01_6[[#This Row],[IdEstablecimiento]],[1]Establecimientos!A$1:E$175,5,FALSE),0)","v":"04301-OVALLE"},"105322","80307011","2021-12-17T08:08:19",763,null,763]
[11,"5",2021,{"$f":"IFERROR(VLOOKUP(Tabla_SERIEBM_01_6[[#This Row],[IdEstablecimiento]],[1]Establecimientos!A$1:E$175,5,FALSE),0)","v":"04301-OVALLE"},"105322","80307012","2021-12-17T08:08:19",22,null,22]
[11,"5",2021,{"$f":"IFERROR(VLOOKUP(Tabla_SERIEBM_01_6[[#This Row],[IdEstablecimiento]],[1]Establecimientos!A$1:E$175,5,FALSE),0)","v":"04301-OVALLE"},"105322","80500011","2021-12-17T08:08:19",116,null,116]
[11,"5",2021,{"$f":"IFERROR(VLOOKUP(Tabla_SERIEBM_01_6[[#This Row],[IdEstablecimiento]],[1]Establecimientos!A$1:E$175,5,FALSE),0)","v":"04301-OVALLE"},"105322","18010601","2021-12-17T08:08:19",1273,0,1273]
[11,"5",2021,{"$f":"IFERROR(VLOOKUP(Tabla_SERIEBM_01_6[[#This Row],[IdEstablecimiento]],[1]Establecimientos!A$1:E$175,5,FALSE),0)","v":"04301-OVALLE"},"105322","18010800","2021-12-17T08:08:19",9,0,9]
[11,"5",2021,{"$f":"IFERROR(VLOOKUP(Tabla_SERIEBM_01_6[[#This Row],[IdEstablecimiento]],[1]Establecimientos!A$1:E$175,5,FALSE),0)","v":"04301-OVALLE"},"105322","18010900","2021-12-17T08:08:19",4945,0,4945]
[11,"5",2021,{"$f":"IFERROR(VLOOKUP(Tabla_SERIEBM_01_6[[#This Row],[IdEstablecimiento]],[1]Establecimientos!A$1:E$175,5,FALSE),0)","v":"04301-OVALLE"},"105322","18020500","2021-12-17T08:08:19",178,0,178]
[11,"5",2021,{"$f":"IFERROR(VLOOKUP(Tabla_SERIEBM_01_6[[#This Row],[IdEstablecimiento]],[1]Establecimientos!A$1:E$175,5,FALSE),0)","v":"04301-OVALLE"},"105322","18020700","2021-12-17T08:08:19",4,0,4]
[11,"5",2021,{"$f":"IFERROR(VLOOKUP(Tabla_SERIEBM_01_6[[#This Row],[IdEstablecimiento]],[1]Establecimientos!A$1:E$175,5,FALSE),0)","v":"04301-OVALLE"},"105322","18090000","2021-12-17T08:08:19",195,0,195]
[11,"5",2021,{"$f":"IFERROR(VLOOKUP(Tabla_SERIEBM_01_6[[#This Row],[IdEstablecimiento]],[1]Establecimientos!A$1:E$175,5,FALSE),0)","v":"04301-OVALLE"},"105322","18050100","2021-12-17T08:08:19",345,0,345]
[11,"5",2021,{"$f":"IFERROR(VLOOKUP(Tabla_SERIEBM_01_6[[#This Row],[IdEstablecimiento]],[1]Establecimientos!A$1:E$175,5,FALSE),0)","v":"04301-OVALLE"},"105322","18050200","2021-12-17T08:08:19",12,0,12]
[11,"5",2021,{"$f":"IFERROR(VLOOKUP(Tabla_SERIEBM_01_6[[#This Row],[IdEstablecimiento]],[1]Establecimientos!A$1:E$175,5,FALSE),0)","v":"04301-OVALLE"},"105322","18090200","2021-12-17T08:08:19",67]
[11,"5",2021,{"$f":"IFERROR(VLOOKUP(Tabla_SERIEBM_01_6[[#This Row],[IdEstablecimiento]],[1]Establecimientos!A$1:E$175,5,FALSE),0)","v":"04301-OVALLE"},"105322","18010100","2021-12-17T08:08:19",3370,0,3370]
[3,"5",2021,{"$f":"IFERROR(VLOOKUP(Tabla_SERIEBM_01_6[[#This Row],[IdEstablecimiento]],[1]Establecimientos!A$1:E$175,5,FALSE),0)","v":"04202-CANELA"},"105309","80306051","2021-11-08T10:18:57",0,null,null,1]
[3,"5",2021,{"$f":"IFERROR(VLOOKUP(Tabla_SERIEBM_01_6[[#This Row],[IdEstablecimiento]],[1]Establecimientos!A$1:E$175,5,FALSE),0)","v":"04202-CANELA"},"105309","80306061","2021-11-08T10:18:57",0,null,null,4]
[3,"5",2021,{"$f":"IFERROR(VLOOKUP(Tabla_SERIEBM_01_6[[#This Row],[IdEstablecimiento]],[1]Establecimientos!A$1:E$175,5,FALSE),0)","v":"04202-CANELA"},"105309","80306169","2021-11-08T10:18:57",0,null,null,12]
[3,"5",2021,{"$f":"IFERROR(VLOOKUP(Tabla_SERIEBM_01_6[[#This Row],[IdEstablecimiento]],[1]Establecimientos!A$1:E$175,5,FALSE),0)","v":"04202-CANELA"},"105309","80308044","2021-11-08T10:18:57",0,null,null,1]
[3,"5",2021,{"$f":"IFERROR(VLOOKUP(Tabla_SERIEBM_01_6[[#This Row],[IdEstablecimiento]],[1]Establecimientos!A$1:E$175,5,FALSE),0)","v":"04202-CANELA"},"105309","80309010","2021-11-08T10:18:57",0,null,null,48]
[2,"5",2021,{"$f":"IFERROR(VLOOKUP(Tabla_SERIEBM_01_6[[#This Row],[IdEstablecimiento]],[1]Establecimientos!A$1:E$175,5,FALSE),0)","v":"04101-LA SERENA"},"105400","80302047","2021-11-09T13:47:47",0,null,null,13]
[2,"5",2021,{"$f":"IFERROR(VLOOKUP(Tabla_SERIEBM_01_6[[#This Row],[IdEstablecimiento]],[1]Establecimientos!A$1:E$175,5,FALSE),0)","v":"04101-LA SERENA"},"105400","80302064","2021-11-09T13:47:47",0,null,null,6]
[2,"5",2021,{"$f":"IFERROR(VLOOKUP(Tabla_SERIEBM_01_6[[#This Row],[IdEstablecimiento]],[1]Establecimientos!A$1:E$175,5,FALSE),0)","v":"04101-LA SERENA"},"105400","80302065","2021-11-09T13:47:47",0,null,null,10]
[2,"5",2021,{"$f":"IFERROR(VLOOKUP(Tabla_SERIEBM_01_6[[#This Row],[IdEstablecimiento]],[1]Establecimientos!A$1:E$175,5,FALSE),0)","v":"04101-LA SERENA"},"105400","80303024","2021-11-09T13:47:47",0,null,null,6]
[2,"5",2021,{"$f":"IFERROR(VLOOKUP(Tabla_SERIEBM_01_6[[#This Row],[IdEstablecimiento]],[1]Establecimientos!A$1:E$175,5,FALSE),0)","v":"04101-LA SERENA"},"105400","80303026","2021-11-09T13:47:47",0,null,null,3]
[2,"5",2021,{"$f":"IFERROR(VLOOKUP(Tabla_SERIEBM_01_6[[#This Row],[IdEstablecimiento]],[1]Establecimientos!A$1:E$175,5,FALSE),0)","v":"04101-LA SERENA"},"105400","80301036","2021-11-09T13:47:47",0,null,null,2]
[2,"5",2021,{"$f":"IFERROR(VLOOKUP(Tabla_SERIEBM_01_6[[#This Row],[IdEstablecimiento]],[1]Establecimientos!A$1:E$175,5,FALSE),0)","v":"04101-LA SERENA"},"105400","80301038","2021-11-09T13:47:47",0,null,null,2]
[2,"5",2021,{"$f":"IFERROR(VLOOKUP(Tabla_SERIEBM_01_6[[#This Row],[IdEstablecimiento]],[1]Establecimientos!A$1:E$175,5,FALSE),0)","v":"04101-LA SERENA"},"105400","80301041","2021-11-09T13:47:47",0,null,null,5]
[2,"5",2021,{"$f":"IFERROR(VLOOKUP(Tabla_SERIEBM_01_6[[#This Row],[IdEstablecimiento]],[1]Establecimientos!A$1:E$175,5,FALSE),0)","v":"04101-LA SERENA"},"105400","80301086","2021-11-09T13:47:47",0,null,null,3]
[2,"5",2021,{"$f":"IFERROR(VLOOKUP(Tabla_SERIEBM_01_6[[#This Row],[IdEstablecimiento]],[1]Establecimientos!A$1:E$175,5,FALSE),0)","v":"04101-LA SERENA"},"105400","80302032","2021-11-09T13:47:47",0,null,null,6]
[2,"5",2021,{"$f":"IFERROR(VLOOKUP(Tabla_SERIEBM_01_6[[#This Row],[IdEstablecimiento]],[1]Establecimientos!A$1:E$175,5,FALSE),0)","v":"04101-LA SERENA"},"105400","80302040","2021-11-09T13:47:47",0,null,null,6]
[2,"5",2021,{"$f":"IFERROR(VLOOKUP(Tabla_SERIEBM_01_6[[#This Row],[IdEstablecimiento]],[1]Establecimientos!A$1:E$175,5,FALSE),0)","v":"04101-LA SERENA"},"105400","80309013","2021-11-09T13:47:47",0,null,null,5]
[2,"5",2021,{"$f":"IFERROR(VLOOKUP(Tabla_SERIEBM_01_6[[#This Row],[IdEstablecimiento]],[1]Establecimientos!A$1:E$175,5,FALSE),0)","v":"04101-LA SERENA"},"105400","80309022","2021-11-09T13:47:47",0,null,null,12]
[2,"5",2021,{"$f":"IFERROR(VLOOKUP(Tabla_SERIEBM_01_6[[#This Row],[IdEstablecimiento]],[1]Establecimientos!A$1:E$175,5,FALSE),0)","v":"04101-LA SERENA"},"105400","80401051","2021-11-09T13:47:47",0,null,null,2]
[2,"5",2021,{"$f":"IFERROR(VLOOKUP(Tabla_SERIEBM_01_6[[#This Row],[IdEstablecimiento]],[1]Establecimientos!A$1:E$175,5,FALSE),0)","v":"04101-LA SERENA"},"105400","80401060","2021-11-09T13:47:47",0,null,null,4]
[2,"5",2021,{"$f":"IFERROR(VLOOKUP(Tabla_SERIEBM_01_6[[#This Row],[IdEstablecimiento]],[1]Establecimientos!A$1:E$175,5,FALSE),0)","v":"04101-LA SERENA"},"105400","80106002","2021-11-09T13:47:47",38,null,38,null,38]
[2,"5",2021,{"$f":"IFERROR(VLOOKUP(Tabla_SERIEBM_01_6[[#This Row],[IdEstablecimiento]],[1]Establecimientos!A$1:E$175,5,FALSE),0)","v":"04304-PUNITAQUI"},"105440","80106002","2021-11-09T14:09:13",36,null,36,null,36]
[2,"5",2021,{"$f":"IFERROR(VLOOKUP(Tabla_SERIEBM_01_6[[#This Row],[IdEstablecimiento]],[1]Establecimientos!A$1:E$175,5,FALSE),0)","v":"04304-PUNITAQUI"},"105440","80106005","2021-11-09T14:09:13",46,null,46,null,46]
[2,"5",2021,{"$f":"IFERROR(VLOOKUP(Tabla_SERIEBM_01_6[[#This Row],[IdEstablecimiento]],[1]Establecimientos!A$1:E$175,5,FALSE),0)","v":"04304-PUNITAQUI"},"105440","80106013","2021-11-09T14:09:13",18,null,18,null,18]
[2,"5",2021,{"$f":"IFERROR(VLOOKUP(Tabla_SERIEBM_01_6[[#This Row],[IdEstablecimiento]],[1]Establecimientos!A$1:E$175,5,FALSE),0)","v":"04304-PUNITAQUI"},"105440","80106014","2021-11-09T14:09:13",78,null,78,null,78]
[2,"5",2021,{"$f":"IFERROR(VLOOKUP(Tabla_SERIEBM_01_6[[#This Row],[IdEstablecimiento]],[1]Establecimientos!A$1:E$175,5,FALSE),0)","v":"04304-PUNITAQUI"},"105440","80106015","2021-11-09T14:09:13",16,null,16,null,16]
[2,"5",2021,{"$f":"IFERROR(VLOOKUP(Tabla_SERIEBM_01_6[[#This Row],[IdEstablecimiento]],[1]Establecimientos!A$1:E$175,5,FALSE),0)","v":"04304-PUNITAQUI"},"105440","80106022","2021-11-09T14:09:13",2,null,2,null,2]
[2,"5",2021,{"$f":"IFERROR(VLOOKUP(Tabla_SERIEBM_01_6[[#This Row],[IdEstablecimiento]],[1]Establecimientos!A$1:E$175,5,FALSE),0)","v":"04304-PUNITAQUI"},"105440","80106023","2021-11-09T14:09:13",4,null,4,null,4]
[2,"5",2021,{"$f":"IFERROR(VLOOKUP(Tabla_SERIEBM_01_6[[#This Row],[IdEstablecimiento]],[1]Establecimientos!A$1:E$175,5,FALSE),0)","v":"04304-PUNITAQUI"},"105440","80307011","2021-11-09T14:09:13",28,null,28]
[2,"5",2021,{"$f":"IFERROR(VLOOKUP(Tabla_SERIEBM_01_6[[#This Row],[IdEstablecimiento]],[1]Establecimientos!A$1:E$175,5,FALSE),0)","v":"04304-PUNITAQUI"},"105440","18400400","2021-11-09T14:09:13",3,0,3]
[2,"5",2021,{"$f":"IFERROR(VLOOKUP(Tabla_SERIEBM_01_6[[#This Row],[IdEstablecimiento]],[1]Establecimientos!A$1:E$175,5,FALSE),0)","v":"04304-PUNITAQUI"},"105440","18020500","2021-11-09T14:09:13",26,0,26]
[2,"5",2021,{"$f":"IFERROR(VLOOKUP(Tabla_SERIEBM_01_6[[#This Row],[IdEstablecimiento]],[1]Establecimientos!A$1:E$175,5,FALSE),0)","v":"04304-PUNITAQUI"},"105440","18020700","2021-11-09T14:09:13",2,0,2]
[2,"5",2021,{"$f":"IFERROR(VLOOKUP(Tabla_SERIEBM_01_6[[#This Row],[IdEstablecimiento]],[1]Establecimientos!A$1:E$175,5,FALSE),0)","v":"04304-PUNITAQUI"},"105440","18030000","2021-11-09T14:09:13",6,0,6]
[2,"5",2021,{"$f":"IFERROR(VLOOKUP(Tabla_SERIEBM_01_6[[#This Row],[IdEstablecimiento]],[1]Establecimientos!A$1:E$175,5,FALSE),0)","v":"04304-PUNITAQUI"},"105440","18040200","2021-11-09T14:09:13",6,1,5]
[2,"5",2021,{"$f":"IFERROR(VLOOKUP(Tabla_SERIEBM_01_6[[#This Row],[IdEstablecimiento]],[1]Establecimientos!A$1:E$175,5,FALSE),0)","v":"04304-PUNITAQUI"},"105440","18090000","2021-11-09T14:09:13",4,0,4]
[2,"5",2021,{"$f":"IFERROR(VLOOKUP(Tabla_SERIEBM_01_6[[#This Row],[IdEstablecimiento]],[1]Establecimientos!A$1:E$175,5,FALSE),0)","v":"04304-PUNITAQUI"},"105440","18050100","2021-11-09T14:09:13",36,0,36]
[2,"5",2021,{"$f":"IFERROR(VLOOKUP(Tabla_SERIEBM_01_6[[#This Row],[IdEstablecimiento]],[1]Establecimientos!A$1:E$175,5,FALSE),0)","v":"04304-PUNITAQUI"},"105440","18050200","2021-11-09T14:09:13",46,0,46]
[2,"5",2021,{"$f":"IFERROR(VLOOKUP(Tabla_SERIEBM_01_6[[#This Row],[IdEstablecimiento]],[1]Establecimientos!A$1:E$175,5,FALSE),0)","v":"04302-COMBARBALÁ"},"105441","80301041","2021-11-09T14:09:36",0,null,null,2]
[2,"5",2021,{"$f":"IFERROR(VLOOKUP(Tabla_SERIEBM_01_6[[#This Row],[IdEstablecimiento]],[1]Establecimientos!A$1:E$175,5,FALSE),0)","v":"04302-COMBARBALÁ"},"105441","80309013","2021-11-09T14:09:36",0,null,null,6]
[2,"5",2021,{"$f":"IFERROR(VLOOKUP(Tabla_SERIEBM_01_6[[#This Row],[IdEstablecimiento]],[1]Establecimientos!A$1:E$175,5,FALSE),0)","v":"04302-COMBARBALÁ"},"105441","81701001","2021-11-09T14:09:36",1,null,1,null,1]
[2,"5",2021,{"$f":"IFERROR(VLOOKUP(Tabla_SERIEBM_01_6[[#This Row],[IdEstablecimiento]],[1]Establecimientos!A$1:E$175,5,FALSE),0)","v":"04302-COMBARBALÁ"},"105441","80106002","2021-11-09T14:09:36",4,null,4,null,4]
[2,"5",2021,{"$f":"IFERROR(VLOOKUP(Tabla_SERIEBM_01_6[[#This Row],[IdEstablecimiento]],[1]Establecimientos!A$1:E$175,5,FALSE),0)","v":"04302-COMBARBALÁ"},"105441","80106017","2021-11-09T14:09:36",16,null,16,null,16]
[2,"5",2021,{"$f":"IFERROR(VLOOKUP(Tabla_SERIEBM_01_6[[#This Row],[IdEstablecimiento]],[1]Establecimientos!A$1:E$175,5,FALSE),0)","v":"04302-COMBARBALÁ"},"105441","80106014","2021-11-09T14:09:36",36,null,36,null,36]
[2,"5",2021,{"$f":"IFERROR(VLOOKUP(Tabla_SERIEBM_01_6[[#This Row],[IdEstablecimiento]],[1]Establecimientos!A$1:E$175,5,FALSE),0)","v":"04302-COMBARBALÁ"},"105441","80307011","2021-11-09T14:09:36",2,null,2]
[2,"5",2021,{"$f":"IFERROR(VLOOKUP(Tabla_SERIEBM_01_6[[#This Row],[IdEstablecimiento]],[1]Establecimientos!A$1:E$175,5,FALSE),0)","v":"04302-COMBARBALÁ"},"105441","18020500","2021-11-09T14:09:36",1,0,1]
[2,"5",2021,{"$f":"IFERROR(VLOOKUP(Tabla_SERIEBM_01_6[[#This Row],[IdEstablecimiento]],[1]Establecimientos!A$1:E$175,5,FALSE),0)","v":"04302-COMBARBALÁ"},"105441","18050100","2021-11-09T14:09:36",4,0,4]
[2,"5",2021,{"$f":"IFERROR(VLOOKUP(Tabla_SERIEBM_01_6[[#This Row],[IdEstablecimiento]],[1]Establecimientos!A$1:E$175,5,FALSE),0)","v":"04302-COMBARBALÁ"},"105441","18070300","2021-11-09T14:09:36",1,1]
[2,"5",2021,{"$f":"IFERROR(VLOOKUP(Tabla_SERIEBM_01_6[[#This Row],[IdEstablecimiento]],[1]Establecimientos!A$1:E$175,5,FALSE),0)","v":"04302-COMBARBALÁ"},"105441","18090200","2021-11-09T14:09:36",1]
[2,"5",2021,{"$f":"IFERROR(VLOOKUP(Tabla_SERIEBM_01_6[[#This Row],[IdEstablecimiento]],[1]Establecimientos!A$1:E$175,5,FALSE),0)","v":"04304-PUNITAQUI"},"105442","80106002","2021-11-09T14:10:01",3,null,3,null,3]
[2,"5",2021,{"$f":"IFERROR(VLOOKUP(Tabla_SERIEBM_01_6[[#This Row],[IdEstablecimiento]],[1]Establecimientos!A$1:E$175,5,FALSE),0)","v":"04304-PUNITAQUI"},"105442","80106008","2021-11-09T14:10:01",1,null,1,null,1]
[2,"5",2021,{"$f":"IFERROR(VLOOKUP(Tabla_SERIEBM_01_6[[#This Row],[IdEstablecimiento]],[1]Establecimientos!A$1:E$175,5,FALSE),0)","v":"04304-PUNITAQUI"},"105442","80106013","2021-11-09T14:10:01",1,null,1,null,1]
[2,"5",2021,{"$f":"IFERROR(VLOOKUP(Tabla_SERIEBM_01_6[[#This Row],[IdEstablecimiento]],[1]Establecimientos!A$1:E$175,5,FALSE),0)","v":"04304-PUNITAQUI"},"105442","80106014","2021-11-09T14:10:01",40,null,40,null,40]
[2,"5",2021,{"$f":"IFERROR(VLOOKUP(Tabla_SERIEBM_01_6[[#This Row],[IdEstablecimiento]],[1]Establecimientos!A$1:E$175,5,FALSE),0)","v":"04304-PUNITAQUI"},"105442","80106015","2021-11-09T14:10:01",2,null,2,null,2]
[2,"5",2021,{"$f":"IFERROR(VLOOKUP(Tabla_SERIEBM_01_6[[#This Row],[IdEstablecimiento]],[1]Establecimientos!A$1:E$175,5,FALSE),0)","v":"04304-PUNITAQUI"},"105442","18050100","2021-11-09T14:10:01",3,0,3]
[2,"5",2021,{"$f":"IFERROR(VLOOKUP(Tabla_SERIEBM_01_6[[#This Row],[IdEstablecimiento]],[1]Establecimientos!A$1:E$175,5,FALSE),0)","v":"04201-ILLAPEL"},"105443","80302047","2021-11-09T14:10:25",0,null,null,15]
[2,"5",2021,{"$f":"IFERROR(VLOOKUP(Tabla_SERIEBM_01_6[[#This Row],[IdEstablecimiento]],[1]Establecimientos!A$1:E$175,5,FALSE),0)","v":"04106-VICUÑA"},"105467","80303024","2021-11-09T14:38:33",0,null,null,9]
[2,"5",2021,{"$f":"IFERROR(VLOOKUP(Tabla_SERIEBM_01_6[[#This Row],[IdEstablecimiento]],[1]Establecimientos!A$1:E$175,5,FALSE),0)","v":"04106-VICUÑA"},"105467","80303026","2021-11-09T14:38:33",0,null,null,3]
[2,"5",2021,{"$f":"IFERROR(VLOOKUP(Tabla_SERIEBM_01_6[[#This Row],[IdEstablecimiento]],[1]Establecimientos!A$1:E$175,5,FALSE),0)","v":"04106-VICUÑA"},"105467","80301011","2021-11-09T14:38:33",0,null,null,5]
[2,"5",2021,{"$f":"IFERROR(VLOOKUP(Tabla_SERIEBM_01_6[[#This Row],[IdEstablecimiento]],[1]Establecimientos!A$1:E$175,5,FALSE),0)","v":"04106-VICUÑA"},"105467","80301041","2021-11-09T14:38:33",0,null,null,7]
[2,"5",2021,{"$f":"IFERROR(VLOOKUP(Tabla_SERIEBM_01_6[[#This Row],[IdEstablecimiento]],[1]Establecimientos!A$1:E$175,5,FALSE),0)","v":"04106-VICUÑA"},"105467","80301045","2021-11-09T14:38:33",0,null,null,16]
[2,"5",2021,{"$f":"IFERROR(VLOOKUP(Tabla_SERIEBM_01_6[[#This Row],[IdEstablecimiento]],[1]Establecimientos!A$1:E$175,5,FALSE),0)","v":"04106-VICUÑA"},"105467","80302023","2021-11-09T14:38:33",0,null,null,20]
[2,"5",2021,{"$f":"IFERROR(VLOOKUP(Tabla_SERIEBM_01_6[[#This Row],[IdEstablecimiento]],[1]Establecimientos!A$1:E$175,5,FALSE),0)","v":"04106-VICUÑA"},"105467","80302032","2021-11-09T14:38:33",0,null,null,12]
[2,"5",2021,{"$f":"IFERROR(VLOOKUP(Tabla_SERIEBM_01_6[[#This Row],[IdEstablecimiento]],[1]Establecimientos!A$1:E$175,5,FALSE),0)","v":"04106-VICUÑA"},"105467","80302034","2021-11-09T14:38:33",0,null,null,16]
[2,"5",2021,{"$f":"IFERROR(VLOOKUP(Tabla_SERIEBM_01_6[[#This Row],[IdEstablecimiento]],[1]Establecimientos!A$1:E$175,5,FALSE),0)","v":"04106-VICUÑA"},"105467","80306011","2021-11-09T14:38:33",0,null,null,3]
[2,"5",2021,{"$f":"IFERROR(VLOOKUP(Tabla_SERIEBM_01_6[[#This Row],[IdEstablecimiento]],[1]Establecimientos!A$1:E$175,5,FALSE),0)","v":"04106-VICUÑA"},"105467","80306025","2021-11-09T14:38:33",0,null,null,2]
[2,"5",2021,{"$f":"IFERROR(VLOOKUP(Tabla_SERIEBM_01_6[[#This Row],[IdEstablecimiento]],[1]Establecimientos!A$1:E$175,5,FALSE),0)","v":"04106-VICUÑA"},"105467","80306042","2021-11-09T14:38:33",0,null,null,8]
[2,"5",2021,{"$f":"IFERROR(VLOOKUP(Tabla_SERIEBM_01_6[[#This Row],[IdEstablecimiento]],[1]Establecimientos!A$1:E$175,5,FALSE),0)","v":"04106-VICUÑA"},"105467","80309013","2021-11-09T14:38:33",0,null,null,16]
[2,"5",2021,{"$f":"IFERROR(VLOOKUP(Tabla_SERIEBM_01_6[[#This Row],[IdEstablecimiento]],[1]Establecimientos!A$1:E$175,5,FALSE),0)","v":"04106-VICUÑA"},"105467","80309023","2021-11-09T14:38:33",0,null,null,20]
[2,"5",2021,{"$f":"IFERROR(VLOOKUP(Tabla_SERIEBM_01_6[[#This Row],[IdEstablecimiento]],[1]Establecimientos!A$1:E$175,5,FALSE),0)","v":"04106-VICUÑA"},"105467","80309024","2021-11-09T14:38:33",0,null,null,20]
[2,"5",2021,{"$f":"IFERROR(VLOOKUP(Tabla_SERIEBM_01_6[[#This Row],[IdEstablecimiento]],[1]Establecimientos!A$1:E$175,5,FALSE),0)","v":"04106-VICUÑA"},"105467","81701009","2021-11-09T14:38:33",4,null,4,null,4]
[2,"5",2021,{"$f":"IFERROR(VLOOKUP(Tabla_SERIEBM_01_6[[#This Row],[IdEstablecimiento]],[1]Establecimientos!A$1:E$175,5,FALSE),0)","v":"04106-VICUÑA"},"105467","81602231","2021-11-09T14:38:33",2,null,2,null,2]
[2,"5",2021,{"$f":"IFERROR(VLOOKUP(Tabla_SERIEBM_01_6[[#This Row],[IdEstablecimiento]],[1]Establecimientos!A$1:E$175,5,FALSE),0)","v":"04106-VICUÑA"},"105467","80106002","2021-11-09T14:38:33",18,null,18,null,18]
[2,"5",2021,{"$f":"IFERROR(VLOOKUP(Tabla_SERIEBM_01_6[[#This Row],[IdEstablecimiento]],[1]Establecimientos!A$1:E$175,5,FALSE),0)","v":"04106-VICUÑA"},"105467","80106010","2021-11-09T14:38:33",1,null,1,null,1]
[11,"5",2021,{"$f":"IFERROR(VLOOKUP(Tabla_SERIEBM_01_6[[#This Row],[IdEstablecimiento]],[1]Establecimientos!A$1:E$175,5,FALSE),0)","v":"04101-LA SERENA"},"105302","80302023","2021-12-17T11:11:51",0,null,null,426]
[11,"5",2021,{"$f":"IFERROR(VLOOKUP(Tabla_SERIEBM_01_6[[#This Row],[IdEstablecimiento]],[1]Establecimientos!A$1:E$175,5,FALSE),0)","v":"04101-LA SERENA"},"105302","80302032","2021-12-17T11:11:51",0,null,null,302]
[11,"5",2021,{"$f":"IFERROR(VLOOKUP(Tabla_SERIEBM_01_6[[#This Row],[IdEstablecimiento]],[1]Establecimientos!A$1:E$175,5,FALSE),0)","v":"04101-LA SERENA"},"105302","80302034","2021-12-17T11:11:51",0,null,null,453]
[11,"5",2021,{"$f":"IFERROR(VLOOKUP(Tabla_SERIEBM_01_6[[#This Row],[IdEstablecimiento]],[1]Establecimientos!A$1:E$175,5,FALSE),0)","v":"04101-LA SERENA"},"105302","80302040","2021-12-17T11:11:51",0,null,null,58]
[11,"5",2021,{"$f":"IFERROR(VLOOKUP(Tabla_SERIEBM_01_6[[#This Row],[IdEstablecimiento]],[1]Establecimientos!A$1:E$175,5,FALSE),0)","v":"04101-LA SERENA"},"105302","80306011","2021-12-17T11:11:51",0,null,null,40]
[11,"5",2021,{"$f":"IFERROR(VLOOKUP(Tabla_SERIEBM_01_6[[#This Row],[IdEstablecimiento]],[1]Establecimientos!A$1:E$175,5,FALSE),0)","v":"04101-LA SERENA"},"105302","80306042","2021-12-17T11:11:51",0,null,null,56]
[11,"5",2021,{"$f":"IFERROR(VLOOKUP(Tabla_SERIEBM_01_6[[#This Row],[IdEstablecimiento]],[1]Establecimientos!A$1:E$175,5,FALSE),0)","v":"04101-LA SERENA"},"105302","80306048","2021-12-17T11:11:51",0,null,null,3]
[11,"5",2021,{"$f":"IFERROR(VLOOKUP(Tabla_SERIEBM_01_6[[#This Row],[IdEstablecimiento]],[1]Establecimientos!A$1:E$175,5,FALSE),0)","v":"04101-LA SERENA"},"105302","80306051","2021-12-17T11:11:51",0,null,null,4]
[11,"5",2021,{"$f":"IFERROR(VLOOKUP(Tabla_SERIEBM_01_6[[#This Row],[IdEstablecimiento]],[1]Establecimientos!A$1:E$175,5,FALSE),0)","v":"04101-LA SERENA"},"105302","80309022","2021-12-17T11:11:51",0,null,null,424]
[11,"5",2021,{"$f":"IFERROR(VLOOKUP(Tabla_SERIEBM_01_6[[#This Row],[IdEstablecimiento]],[1]Establecimientos!A$1:E$175,5,FALSE),0)","v":"04101-LA SERENA"},"105302","80401051","2021-12-17T11:11:51",0,null,null,16]
[11,"5",2021,{"$f":"IFERROR(VLOOKUP(Tabla_SERIEBM_01_6[[#This Row],[IdEstablecimiento]],[1]Establecimientos!A$1:E$175,5,FALSE),0)","v":"04101-LA SERENA"},"105302","80401060","2021-12-17T11:11:51",0,null,null,21]
[11,"5",2021,{"$f":"IFERROR(VLOOKUP(Tabla_SERIEBM_01_6[[#This Row],[IdEstablecimiento]],[1]Establecimientos!A$1:E$175,5,FALSE),0)","v":"04101-LA SERENA"},"105302","80404002","2021-12-17T11:11:51",17,null,17]
[11,"5",2021,{"$f":"IFERROR(VLOOKUP(Tabla_SERIEBM_01_6[[#This Row],[IdEstablecimiento]],[1]Establecimientos!A$1:E$175,5,FALSE),0)","v":"04101-LA SERENA"},"105302","81701001","2021-12-17T11:11:51",74,null,74,null,74]
[11,"5",2021,{"$f":"IFERROR(VLOOKUP(Tabla_SERIEBM_01_6[[#This Row],[IdEstablecimiento]],[1]Establecimientos!A$1:E$175,5,FALSE),0)","v":"04101-LA SERENA"},"105302","82001015","2021-12-17T11:11:51",6,null,6,null,6]
[11,"5",2021,{"$f":"IFERROR(VLOOKUP(Tabla_SERIEBM_01_6[[#This Row],[IdEstablecimiento]],[1]Establecimientos!A$1:E$175,5,FALSE),0)","v":"04101-LA SERENA"},"105302","80106002","2021-12-17T11:11:51",224,null,224,null,224]
[11,"5",2021,{"$f":"IFERROR(VLOOKUP(Tabla_SERIEBM_01_6[[#This Row],[IdEstablecimiento]],[1]Establecimientos!A$1:E$175,5,FALSE),0)","v":"04101-LA SERENA"},"105302","80106017","2021-12-17T11:11:51",128,null,128,null,128]
[11,"5",2021,{"$f":"IFERROR(VLOOKUP(Tabla_SERIEBM_01_6[[#This Row],[IdEstablecimiento]],[1]Establecimientos!A$1:E$175,5,FALSE),0)","v":"04101-LA SERENA"},"105302","80106014","2021-12-17T11:11:51",256,null,256,null,256]
[11,"5",2021,{"$f":"IFERROR(VLOOKUP(Tabla_SERIEBM_01_6[[#This Row],[IdEstablecimiento]],[1]Establecimientos!A$1:E$175,5,FALSE),0)","v":"04101-LA SERENA"},"105302","80106023","2021-12-17T11:11:51",150,null,150,null,150]
[11,"5",2021,{"$f":"IFERROR(VLOOKUP(Tabla_SERIEBM_01_6[[#This Row],[IdEstablecimiento]],[1]Establecimientos!A$1:E$175,5,FALSE),0)","v":"04101-LA SERENA"},"105302","80307011","2021-12-17T11:11:51",660,null,660]
[11,"5",2021,{"$f":"IFERROR(VLOOKUP(Tabla_SERIEBM_01_6[[#This Row],[IdEstablecimiento]],[1]Establecimientos!A$1:E$175,5,FALSE),0)","v":"04101-LA SERENA"},"105302","80307012","2021-12-17T11:11:51",13,null,13]
[11,"5",2021,{"$f":"IFERROR(VLOOKUP(Tabla_SERIEBM_01_6[[#This Row],[IdEstablecimiento]],[1]Establecimientos!A$1:E$175,5,FALSE),0)","v":"04101-LA SERENA"},"105302","80500008","2021-12-17T11:11:51",13,null,13,null,13]
[11,"5",2021,{"$f":"IFERROR(VLOOKUP(Tabla_SERIEBM_01_6[[#This Row],[IdEstablecimiento]],[1]Establecimientos!A$1:E$175,5,FALSE),0)","v":"04101-LA SERENA"},"105302","80500009","2021-12-17T11:11:51",6,null,6,null,6]
[11,"5",2021,{"$f":"IFERROR(VLOOKUP(Tabla_SERIEBM_01_6[[#This Row],[IdEstablecimiento]],[1]Establecimientos!A$1:E$175,5,FALSE),0)","v":"04101-LA SERENA"},"105302","80500011","2021-12-17T11:11:51",6,null,6,null,6]
[11,"5",2021,{"$f":"IFERROR(VLOOKUP(Tabla_SERIEBM_01_6[[#This Row],[IdEstablecimiento]],[1]Establecimientos!A$1:E$175,5,FALSE),0)","v":"04101-LA SERENA"},"105302","18700270","2021-12-17T11:11:51",17,null,17]
[11,"5",2021,{"$f":"IFERROR(VLOOKUP(Tabla_SERIEBM_01_6[[#This Row],[IdEstablecimiento]],[1]Establecimientos!A$1:E$175,5,FALSE),0)","v":"04101-LA SERENA"},"105302","18020500","2021-12-17T11:11:51",74,0,74]
[11,"5",2021,{"$f":"IFERROR(VLOOKUP(Tabla_SERIEBM_01_6[[#This Row],[IdEstablecimiento]],[1]Establecimientos!A$1:E$175,5,FALSE),0)","v":"04101-LA SERENA"},"105302","18020900","2021-12-17T11:11:51",6,0,6]
[11,"5",2021,{"$f":"IFERROR(VLOOKUP(Tabla_SERIEBM_01_6[[#This Row],[IdEstablecimiento]],[1]Establecimientos!A$1:E$175,5,FALSE),0)","v":"04101-LA SERENA"},"105302","18090000","2021-12-17T11:11:51",150,0,150]
[11,"5",2021,{"$f":"IFERROR(VLOOKUP(Tabla_SERIEBM_01_6[[#This Row],[IdEstablecimiento]],[1]Establecimientos!A$1:E$175,5,FALSE),0)","v":"04101-LA SERENA"},"105302","18050100","2021-12-17T11:11:51",224,0,224]
[11,"5",2021,{"$f":"IFERROR(VLOOKUP(Tabla_SERIEBM_01_6[[#This Row],[IdEstablecimiento]],[1]Establecimientos!A$1:E$175,5,FALSE),0)","v":"04101-LA SERENA"},"105302","18090200","2021-12-17T11:11:51",27]
[11,"5",2021,{"$f":"IFERROR(VLOOKUP(Tabla_SERIEBM_01_6[[#This Row],[IdEstablecimiento]],[1]Establecimientos!A$1:E$175,5,FALSE),0)","v":"04101-LA SERENA"},"105302","18700100","2021-12-17T11:11:51",694,83,585,26]
[11,"5",2021,{"$f":"IFERROR(VLOOKUP(Tabla_SERIEBM_01_6[[#This Row],[IdEstablecimiento]],[1]Establecimientos!A$1:E$175,5,FALSE),0)","v":"04201-ILLAPEL"},"105446","80302047","2021-12-17T11:12:32",0,null,null,3]
[11,"5",2021,{"$f":"IFERROR(VLOOKUP(Tabla_SERIEBM_01_6[[#This Row],[IdEstablecimiento]],[1]Establecimientos!A$1:E$175,5,FALSE),0)","v":"04201-ILLAPEL"},"105446","80302057","2021-12-17T11:12:32",0,null,null,3]
[11,"5",2021,{"$f":"IFERROR(VLOOKUP(Tabla_SERIEBM_01_6[[#This Row],[IdEstablecimiento]],[1]Establecimientos!A$1:E$175,5,FALSE),0)","v":"04201-ILLAPEL"},"105446","80303024","2021-12-17T11:12:32",0,null,null,3]
[11,"5",2021,{"$f":"IFERROR(VLOOKUP(Tabla_SERIEBM_01_6[[#This Row],[IdEstablecimiento]],[1]Establecimientos!A$1:E$175,5,FALSE),0)","v":"04201-ILLAPEL"},"105446","80301036","2021-12-17T11:12:32",0,null,null,1]
[2,"5",2021,{"$f":"IFERROR(VLOOKUP(Tabla_SERIEBM_01_6[[#This Row],[IdEstablecimiento]],[1]Establecimientos!A$1:E$175,5,FALSE),0)","v":"04106-VICUÑA"},"105467","80106014","2021-11-09T14:38:33",22,null,22,null,22]
[2,"5",2021,{"$f":"IFERROR(VLOOKUP(Tabla_SERIEBM_01_6[[#This Row],[IdEstablecimiento]],[1]Establecimientos!A$1:E$175,5,FALSE),0)","v":"04106-VICUÑA"},"105467","80307011","2021-11-09T14:38:33",0,null,null,23]
[2,"5",2021,{"$f":"IFERROR(VLOOKUP(Tabla_SERIEBM_01_6[[#This Row],[IdEstablecimiento]],[1]Establecimientos!A$1:E$175,5,FALSE),0)","v":"04106-VICUÑA"},"105467","80500011","2021-11-09T14:38:33",14,null,14,null,14]
[2,"5",2021,{"$f":"IFERROR(VLOOKUP(Tabla_SERIEBM_01_6[[#This Row],[IdEstablecimiento]],[1]Establecimientos!A$1:E$175,5,FALSE),0)","v":"04106-VICUÑA"},"105467","18020500","2021-11-09T14:38:33",4,0,4]
[2,"5",2021,{"$f":"IFERROR(VLOOKUP(Tabla_SERIEBM_01_6[[#This Row],[IdEstablecimiento]],[1]Establecimientos!A$1:E$175,5,FALSE),0)","v":"04106-VICUÑA"},"105467","18030000","2021-11-09T14:38:33",2,0,2]
[2,"5",2021,{"$f":"IFERROR(VLOOKUP(Tabla_SERIEBM_01_6[[#This Row],[IdEstablecimiento]],[1]Establecimientos!A$1:E$175,5,FALSE),0)","v":"04106-VICUÑA"},"105467","18040200","2021-11-09T14:38:33",2,1,1]
[2,"5",2021,{"$f":"IFERROR(VLOOKUP(Tabla_SERIEBM_01_6[[#This Row],[IdEstablecimiento]],[1]Establecimientos!A$1:E$175,5,FALSE),0)","v":"04106-VICUÑA"},"105467","18050100","2021-11-09T14:38:33",18,0,18]
[2,"5",2021,{"$f":"IFERROR(VLOOKUP(Tabla_SERIEBM_01_6[[#This Row],[IdEstablecimiento]],[1]Establecimientos!A$1:E$175,5,FALSE),0)","v":"04106-VICUÑA"},"105467","18400900","2021-11-09T14:38:33",2,2]
[2,"5",2021,{"$f":"IFERROR(VLOOKUP(Tabla_SERIEBM_01_6[[#This Row],[IdEstablecimiento]],[1]Establecimientos!A$1:E$175,5,FALSE),0)","v":"04106-VICUÑA"},"105468","80302047","2021-11-09T14:39:10",0,null,null,4]
[2,"5",2021,{"$f":"IFERROR(VLOOKUP(Tabla_SERIEBM_01_6[[#This Row],[IdEstablecimiento]],[1]Establecimientos!A$1:E$175,5,FALSE),0)","v":"04106-VICUÑA"},"105468","80302048","2021-11-09T14:39:10",0,null,null,2]
[2,"5",2021,{"$f":"IFERROR(VLOOKUP(Tabla_SERIEBM_01_6[[#This Row],[IdEstablecimiento]],[1]Establecimientos!A$1:E$175,5,FALSE),0)","v":"04106-VICUÑA"},"105468","80302052","2021-11-09T14:39:10",0,null,null,3]
[2,"5",2021,{"$f":"IFERROR(VLOOKUP(Tabla_SERIEBM_01_6[[#This Row],[IdEstablecimiento]],[1]Establecimientos!A$1:E$175,5,FALSE),0)","v":"04106-VICUÑA"},"105468","80302076","2021-11-09T14:39:10",0,null,null,5]
[2,"5",2021,{"$f":"IFERROR(VLOOKUP(Tabla_SERIEBM_01_6[[#This Row],[IdEstablecimiento]],[1]Establecimientos!A$1:E$175,5,FALSE),0)","v":"04106-VICUÑA"},"105468","80303024","2021-11-09T14:39:10",0,null,null,4]
[2,"5",2021,{"$f":"IFERROR(VLOOKUP(Tabla_SERIEBM_01_6[[#This Row],[IdEstablecimiento]],[1]Establecimientos!A$1:E$175,5,FALSE),0)","v":"04106-VICUÑA"},"105468","80303028","2021-11-09T14:39:10",0,null,null,1]
[2,"5",2021,{"$f":"IFERROR(VLOOKUP(Tabla_SERIEBM_01_6[[#This Row],[IdEstablecimiento]],[1]Establecimientos!A$1:E$175,5,FALSE),0)","v":"04106-VICUÑA"},"105468","80301041","2021-11-09T14:39:10",0,null,null,4]
[2,"5",2021,{"$f":"IFERROR(VLOOKUP(Tabla_SERIEBM_01_6[[#This Row],[IdEstablecimiento]],[1]Establecimientos!A$1:E$175,5,FALSE),0)","v":"04106-VICUÑA"},"105468","80301045","2021-11-09T14:39:10",0,null,null,8]
[2,"5",2021,{"$f":"IFERROR(VLOOKUP(Tabla_SERIEBM_01_6[[#This Row],[IdEstablecimiento]],[1]Establecimientos!A$1:E$175,5,FALSE),0)","v":"04101-LA SERENA"},"105499","81701001","2021-11-09T14:58:43",0,{"$nulls":3},2]
[7,"5",2021,{"$f":"IFERROR(VLOOKUP(Tabla_SERIEBM_01_6[[#This Row],[IdEstablecimiento]],[1]Establecimientos!A$1:E$175,5,FALSE),0)","v":"04106-VICUÑA"},"105473","80302005","2021-08-17T06:54:10",0,null,null,15]
[7,"5",2021,{"$f":"IFERROR(VLOOKUP(Tabla_SERIEBM_01_6[[#This Row],[IdEstablecimiento]],[1]Establecimientos!A$1:E$175,5,FALSE),0)","v":"04106-VICUÑA"},"105473","80302012","2021-08-17T06:54:10",0,null,null,1]
[7,"5",2021,{"$f":"IFERROR(VLOOKUP(Tabla_SERIEBM_01_6[[#This Row],[IdEstablecimiento]],[1]Establecimientos!A$1:E$175,5,FALSE),0)","v":"04106-VICUÑA"},"105473","80302067","2021-08-17T06:54:10",0,null,null,5]
[7,"5",2021,{"$f":"IFERROR(VLOOKUP(Tabla_SERIEBM_01_6[[#This Row],[IdEstablecimiento]],[1]Establecimientos!A$1:E$175,5,FALSE),0)","v":"04106-VICUÑA"},"105473","80302023","2021-08-17T06:54:10",0,null,null,29]
[7,"5",2021,{"$f":"IFERROR(VLOOKUP(Tabla_SERIEBM_01_6[[#This Row],[IdEstablecimiento]],[1]Establecimientos!A$1:E$175,5,FALSE),0)","v":"04101-LA SERENA"},"105313","18020500","2021-08-17T05:00:26",157,0,157]
[9,"5",2021,{"$f":"IFERROR(VLOOKUP(Tabla_SERIEBM_01_6[[#This Row],[IdEstablecimiento]],[1]Establecimientos!A$1:E$175,5,FALSE),0)","v":"04305-RIO HURTADO"},"105310","80106014","2021-10-15T12:36:12",144,null,144,null,144]
[9,"5",2021,{"$f":"IFERROR(VLOOKUP(Tabla_SERIEBM_01_6[[#This Row],[IdEstablecimiento]],[1]Establecimientos!A$1:E$175,5,FALSE),0)","v":"04305-RIO HURTADO"},"105310","80106015","2021-10-15T12:36:12",50,null,50,null,50]
[9,"5",2021,{"$f":"IFERROR(VLOOKUP(Tabla_SERIEBM_01_6[[#This Row],[IdEstablecimiento]],[1]Establecimientos!A$1:E$175,5,FALSE),0)","v":"04305-RIO HURTADO"},"105310","80106020","2021-10-15T12:36:12",1,null,1,null,1]
[9,"5",2021,{"$f":"IFERROR(VLOOKUP(Tabla_SERIEBM_01_6[[#This Row],[IdEstablecimiento]],[1]Establecimientos!A$1:E$175,5,FALSE),0)","v":"04305-RIO HURTADO"},"105310","80106022","2021-10-15T12:36:12",8,null,8,null,8]
[9,"5",2021,{"$f":"IFERROR(VLOOKUP(Tabla_SERIEBM_01_6[[#This Row],[IdEstablecimiento]],[1]Establecimientos!A$1:E$175,5,FALSE),0)","v":"04305-RIO HURTADO"},"105310","80500008","2021-10-15T12:36:12",2,null,2,null,2]
[7,"5",2021,{"$f":"IFERROR(VLOOKUP(Tabla_SERIEBM_01_6[[#This Row],[IdEstablecimiento]],[1]Establecimientos!A$1:E$175,5,FALSE),0)","v":"04102-COQUIMBO"},"200607","80106002","2021-08-17T09:53:48",142,null,142,0,142]
[7,"5",2021,{"$f":"IFERROR(VLOOKUP(Tabla_SERIEBM_01_6[[#This Row],[IdEstablecimiento]],[1]Establecimientos!A$1:E$175,5,FALSE),0)","v":"04102-COQUIMBO"},"200607","80106017","2021-08-17T09:53:48",265,null,265,0,265]
[7,"5",2021,{"$f":"IFERROR(VLOOKUP(Tabla_SERIEBM_01_6[[#This Row],[IdEstablecimiento]],[1]Establecimientos!A$1:E$175,5,FALSE),0)","v":"04102-COQUIMBO"},"200607","80106014","2021-08-17T09:53:48",323,null,323,0,323]
[7,"5",2021,{"$f":"IFERROR(VLOOKUP(Tabla_SERIEBM_01_6[[#This Row],[IdEstablecimiento]],[1]Establecimientos!A$1:E$175,5,FALSE),0)","v":"04102-COQUIMBO"},"200607","80106021","2021-08-17T09:53:48",1,null,1,0,1]
[9,"5",2021,{"$f":"IFERROR(VLOOKUP(Tabla_SERIEBM_01_6[[#This Row],[IdEstablecimiento]],[1]Establecimientos!A$1:E$175,5,FALSE),0)","v":"04102-COQUIMBO"},"200607","80301045","2021-10-15T13:39:59",0,null,null,166]
[9,"5",2021,{"$f":"IFERROR(VLOOKUP(Tabla_SERIEBM_01_6[[#This Row],[IdEstablecimiento]],[1]Establecimientos!A$1:E$175,5,FALSE),0)","v":"04102-COQUIMBO"},"200607","80301059","2021-10-15T13:39:59",0,null,null,7]
[9,"5",2021,{"$f":"IFERROR(VLOOKUP(Tabla_SERIEBM_01_6[[#This Row],[IdEstablecimiento]],[1]Establecimientos!A$1:E$175,5,FALSE),0)","v":"04102-COQUIMBO"},"200607","80301085","2021-10-15T13:39:59",0,null,null,5]
[9,"5",2021,{"$f":"IFERROR(VLOOKUP(Tabla_SERIEBM_01_6[[#This Row],[IdEstablecimiento]],[1]Establecimientos!A$1:E$175,5,FALSE),0)","v":"04102-COQUIMBO"},"200607","80301086","2021-10-15T13:39:59",0,null,null,161]
[5,"5",2021,{"$f":"IFERROR(VLOOKUP(Tabla_SERIEBM_01_6[[#This Row],[IdEstablecimiento]],[1]Establecimientos!A$1:E$175,5,FALSE),0)","v":"04303-MONTE PATRIA"},"105428","80106015","2021-06-11T11:28:17",16,null,16,null,16]
[5,"5",2021,{"$f":"IFERROR(VLOOKUP(Tabla_SERIEBM_01_6[[#This Row],[IdEstablecimiento]],[1]Establecimientos!A$1:E$175,5,FALSE),0)","v":"04303-MONTE PATRIA"},"105428","80106020","2021-06-11T11:28:17",2,null,2,null,2]
[1,"5",2021,{"$f":"IFERROR(VLOOKUP(Tabla_SERIEBM_01_6[[#This Row],[IdEstablecimiento]],[1]Establecimientos!A$1:E$175,5,FALSE),0)","v":"04102-COQUIMBO"},"105805","80401052","2021-02-18T05:53:25",7,7]
[4,"5",2021,{"$f":"IFERROR(VLOOKUP(Tabla_SERIEBM_01_6[[#This Row],[IdEstablecimiento]],[1]Establecimientos!A$1:E$175,5,FALSE),0)","v":"04303-MONTE PATRIA"},"105307","18010800","2021-05-13T16:49:01",22,0,22]
[4,"5",2021,{"$f":"IFERROR(VLOOKUP(Tabla_SERIEBM_01_6[[#This Row],[IdEstablecimiento]],[1]Establecimientos!A$1:E$175,5,FALSE),0)","v":"04303-MONTE PATRIA"},"105307","18010900","2021-05-13T16:49:01",1462,0,1462]
[4,"5",2021,{"$f":"IFERROR(VLOOKUP(Tabla_SERIEBM_01_6[[#This Row],[IdEstablecimiento]],[1]Establecimientos!A$1:E$175,5,FALSE),0)","v":"04303-MONTE PATRIA"},"105307","18011002","2021-05-13T16:49:01",16,0,16]
[4,"5",2021,{"$f":"IFERROR(VLOOKUP(Tabla_SERIEBM_01_6[[#This Row],[IdEstablecimiento]],[1]Establecimientos!A$1:E$175,5,FALSE),0)","v":"04303-MONTE PATRIA"},"105307","18020400","2021-05-13T16:49:01",10,0,10]
[4,"5",2021,{"$f":"IFERROR(VLOOKUP(Tabla_SERIEBM_01_6[[#This Row],[IdEstablecimiento]],[1]Establecimientos!A$1:E$175,5,FALSE),0)","v":"04303-MONTE PATRIA"},"105307","18020500","2021-05-13T16:49:01",217,0,217]
[5,"5",2021,{"$f":"IFERROR(VLOOKUP(Tabla_SERIEBM_01_6[[#This Row],[IdEstablecimiento]],[1]Establecimientos!A$1:E$175,5,FALSE),0)","v":"04102-COQUIMBO"},"200499","80302048","2021-06-11T14:30:22",0,null,null,31]
[5,"5",2021,{"$f":"IFERROR(VLOOKUP(Tabla_SERIEBM_01_6[[#This Row],[IdEstablecimiento]],[1]Establecimientos!A$1:E$175,5,FALSE),0)","v":"04102-COQUIMBO"},"200499","80302057","2021-06-11T14:30:22",0,null,null,152]
[5,"5",2021,{"$f":"IFERROR(VLOOKUP(Tabla_SERIEBM_01_6[[#This Row],[IdEstablecimiento]],[1]Establecimientos!A$1:E$175,5,FALSE),0)","v":"04102-COQUIMBO"},"200499","80302075","2021-06-11T14:30:22",0,null,null,3]
[5,"5",2021,{"$f":"IFERROR(VLOOKUP(Tabla_SERIEBM_01_6[[#This Row],[IdEstablecimiento]],[1]Establecimientos!A$1:E$175,5,FALSE),0)","v":"04102-COQUIMBO"},"200499","80302060","2021-06-11T14:30:22",0,null,null,6]
[5,"5",2021,{"$f":"IFERROR(VLOOKUP(Tabla_SERIEBM_01_6[[#This Row],[IdEstablecimiento]],[1]Establecimientos!A$1:E$175,5,FALSE),0)","v":"04102-COQUIMBO"},"200499","80302076","2021-06-11T14:30:22",0,null,null,22]
[5,"5",2021,{"$f":"IFERROR(VLOOKUP(Tabla_SERIEBM_01_6[[#This Row],[IdEstablecimiento]],[1]Establecimientos!A$1:E$175,5,FALSE),0)","v":"04102-COQUIMBO"},"200499","80302063","2021-06-11T14:30:22",0,null,null,10]
[6,"5",2021,{"$f":"IFERROR(VLOOKUP(Tabla_SERIEBM_01_6[[#This Row],[IdEstablecimiento]],[1]Establecimientos!A$1:E$175,5,FALSE),0)","v":"04106-VICUÑA"},"105474","80302076","2021-07-19T14:30:44",0,null,null,6]
[6,"5",2021,{"$f":"IFERROR(VLOOKUP(Tabla_SERIEBM_01_6[[#This Row],[IdEstablecimiento]],[1]Establecimientos!A$1:E$175,5,FALSE),0)","v":"04106-VICUÑA"},"105474","80303024","2021-07-19T14:30:44",0,null,null,8]
[3,"5",2021,{"$f":"IFERROR(VLOOKUP(Tabla_SERIEBM_01_6[[#This Row],[IdEstablecimiento]],[1]Establecimientos!A$1:E$175,5,FALSE),0)","v":"04301-OVALLE"},"105822","80106020","2021-11-08T13:10:57",23,23,null,null,23]
[3,"5",2021,{"$f":"IFERROR(VLOOKUP(Tabla_SERIEBM_01_6[[#This Row],[IdEstablecimiento]],[1]Establecimientos!A$1:E$175,5,FALSE),0)","v":"04301-OVALLE"},"105822","80106022","2021-11-08T13:10:57",3,3,null,null,3]
[3,"5",2021,{"$f":"IFERROR(VLOOKUP(Tabla_SERIEBM_01_6[[#This Row],[IdEstablecimiento]],[1]Establecimientos!A$1:E$175,5,FALSE),0)","v":"04301-OVALLE"},"105822","80307011","2021-11-08T13:10:57",37,37]
[3,"5",2021,{"$f":"IFERROR(VLOOKUP(Tabla_SERIEBM_01_6[[#This Row],[IdEstablecimiento]],[1]Establecimientos!A$1:E$175,5,FALSE),0)","v":"04301-OVALLE"},"105822","80500016","2021-11-08T13:10:57",2,2,null,null,2]
[3,"5",2021,{"$f":"IFERROR(VLOOKUP(Tabla_SERIEBM_01_6[[#This Row],[IdEstablecimiento]],[1]Establecimientos!A$1:E$175,5,FALSE),0)","v":"04301-OVALLE"},"105822","18011001","2021-11-08T13:10:57",531,531,0]
[3,"5",2021,{"$f":"IFERROR(VLOOKUP(Tabla_SERIEBM_01_6[[#This Row],[IdEstablecimiento]],[1]Establecimientos!A$1:E$175,5,FALSE),0)","v":"04301-OVALLE"},"105822","18020500","2021-11-08T13:10:57",154,154,0]
[3,"5",2021,{"$f":"IFERROR(VLOOKUP(Tabla_SERIEBM_01_6[[#This Row],[IdEstablecimiento]],[1]Establecimientos!A$1:E$175,5,FALSE),0)","v":"04301-OVALLE"},"105822","18020600","2021-11-08T13:10:57",3,3,0]
[3,"5",2021,{"$f":"IFERROR(VLOOKUP(Tabla_SERIEBM_01_6[[#This Row],[IdEstablecimiento]],[1]Establecimientos!A$1:E$175,5,FALSE),0)","v":"04301-OVALLE"},"105822","18020700","2021-11-08T13:10:57",8,8,0]
[3,"5",2021,{"$f":"IFERROR(VLOOKUP(Tabla_SERIEBM_01_6[[#This Row],[IdEstablecimiento]],[1]Establecimientos!A$1:E$175,5,FALSE),0)","v":"04301-OVALLE"},"105822","18050100","2021-11-08T13:10:57",82,82,0]
[3,"5",2021,{"$f":"IFERROR(VLOOKUP(Tabla_SERIEBM_01_6[[#This Row],[IdEstablecimiento]],[1]Establecimientos!A$1:E$175,5,FALSE),0)","v":"04301-OVALLE"},"105822","18400700","2021-11-08T13:10:57",3]
[3,"5",2021,{"$f":"IFERROR(VLOOKUP(Tabla_SERIEBM_01_6[[#This Row],[IdEstablecimiento]],[1]Establecimientos!A$1:E$175,5,FALSE),0)","v":"04301-OVALLE"},"105822","18700100","2021-11-08T13:10:57",1938,650,1161,127]
[3,"5",2021,{"$f":"IFERROR(VLOOKUP(Tabla_SERIEBM_01_6[[#This Row],[IdEstablecimiento]],[1]Establecimientos!A$1:E$175,5,FALSE),0)","v":"04301-OVALLE"},"105822","18700140","2021-11-08T13:10:57",3,null,3]
[3,"5",2021,{"$f":"IFERROR(VLOOKUP(Tabla_SERIEBM_01_6[[#This Row],[IdEstablecimiento]],[1]Establecimientos!A$1:E$175,5,FALSE),0)","v":"04301-OVALLE"},"105822","18010200","2021-11-08T13:10:57",36,36,0]
[3,"5",2021,{"$f":"IFERROR(VLOOKUP(Tabla_SERIEBM_01_6[[#This Row],[IdEstablecimiento]],[1]Establecimientos!A$1:E$175,5,FALSE),0)","v":"04102-COQUIMBO"},"105823","80106014","2021-11-08T13:11:59",126,126,null,null,126]
[3,"5",2021,{"$f":"IFERROR(VLOOKUP(Tabla_SERIEBM_01_6[[#This Row],[IdEstablecimiento]],[1]Establecimientos!A$1:E$175,5,FALSE),0)","v":"04102-COQUIMBO"},"105823","80500011","2021-11-08T13:11:59",56,30,26,8,48]
[3,"5",2021,{"$f":"IFERROR(VLOOKUP(Tabla_SERIEBM_01_6[[#This Row],[IdEstablecimiento]],[1]Establecimientos!A$1:E$175,5,FALSE),0)","v":"04102-COQUIMBO"},"105823","18400700","2021-11-08T13:11:59",1450]
[3,"5",2021,{"$f":"IFERROR(VLOOKUP(Tabla_SERIEBM_01_6[[#This Row],[IdEstablecimiento]],[1]Establecimientos!A$1:E$175,5,FALSE),0)","v":"04101-LA SERENA"},"105825","81701001","2021-11-08T13:12:50",12,12,null,null,12]
[3,"5",2021,{"$f":"IFERROR(VLOOKUP(Tabla_SERIEBM_01_6[[#This Row],[IdEstablecimiento]],[1]Establecimientos!A$1:E$175,5,FALSE),0)","v":"04101-LA SERENA"},"105825","81602222","2021-11-08T13:12:50",16,16,null,16]
[3,"5",2021,{"$f":"IFERROR(VLOOKUP(Tabla_SERIEBM_01_6[[#This Row],[IdEstablecimiento]],[1]Establecimientos!A$1:E$175,5,FALSE),0)","v":"04101-LA SERENA"},"105825","80106002","2021-11-08T13:12:50",46,46,null,0,46]
[3,"5",2021,{"$f":"IFERROR(VLOOKUP(Tabla_SERIEBM_01_6[[#This Row],[IdEstablecimiento]],[1]Establecimientos!A$1:E$175,5,FALSE),0)","v":"04101-LA SERENA"},"105825","80106010","2021-11-08T13:12:50",1,1,null,1,0]
[3,"5",2021,{"$f":"IFERROR(VLOOKUP(Tabla_SERIEBM_01_6[[#This Row],[IdEstablecimiento]],[1]Establecimientos!A$1:E$175,5,FALSE),0)","v":"04101-LA SERENA"},"105825","80106013","2021-11-08T13:12:50",3,3,null,0,3]
[3,"5",2021,{"$f":"IFERROR(VLOOKUP(Tabla_SERIEBM_01_6[[#This Row],[IdEstablecimiento]],[1]Establecimientos!A$1:E$175,5,FALSE),0)","v":"04101-LA SERENA"},"105825","80106014","2021-11-08T13:12:50",366,366,null,0,366]
[3,"5",2021,{"$f":"IFERROR(VLOOKUP(Tabla_SERIEBM_01_6[[#This Row],[IdEstablecimiento]],[1]Establecimientos!A$1:E$175,5,FALSE),0)","v":"04101-LA SERENA"},"105825","80106015","2021-11-08T13:12:50",12,12,null,0,12]
[3,"5",2021,{"$f":"IFERROR(VLOOKUP(Tabla_SERIEBM_01_6[[#This Row],[IdEstablecimiento]],[1]Establecimientos!A$1:E$175,5,FALSE),0)","v":"04101-LA SERENA"},"105825","80106022","2021-11-08T13:12:50",1,1,null,0,1]
[3,"5",2021,{"$f":"IFERROR(VLOOKUP(Tabla_SERIEBM_01_6[[#This Row],[IdEstablecimiento]],[1]Establecimientos!A$1:E$175,5,FALSE),0)","v":"04101-LA SERENA"},"105825","80500011","2021-11-08T13:12:50",2,2,null,null,2]
[3,"5",2021,{"$f":"IFERROR(VLOOKUP(Tabla_SERIEBM_01_6[[#This Row],[IdEstablecimiento]],[1]Establecimientos!A$1:E$175,5,FALSE),0)","v":"04101-LA SERENA"},"105825","18020500","2021-11-08T13:12:50",12,12,0]
[3,"5",2021,{"$f":"IFERROR(VLOOKUP(Tabla_SERIEBM_01_6[[#This Row],[IdEstablecimiento]],[1]Establecimientos!A$1:E$175,5,FALSE),0)","v":"04101-LA SERENA"},"105825","18030000","2021-11-08T13:12:50",16,16,0]
[3,"5",2021,{"$f":"IFERROR(VLOOKUP(Tabla_SERIEBM_01_6[[#This Row],[IdEstablecimiento]],[1]Establecimientos!A$1:E$175,5,FALSE),0)","v":"04101-LA SERENA"},"105825","18040100","2021-11-08T13:12:50",16,4,12]
[3,"5",2021,{"$f":"IFERROR(VLOOKUP(Tabla_SERIEBM_01_6[[#This Row],[IdEstablecimiento]],[1]Establecimientos!A$1:E$175,5,FALSE),0)","v":"04101-LA SERENA"},"105825","18050100","2021-11-08T13:12:50",46,46,0]
[3,"5",2021,{"$f":"IFERROR(VLOOKUP(Tabla_SERIEBM_01_6[[#This Row],[IdEstablecimiento]],[1]Establecimientos!A$1:E$175,5,FALSE),0)","v":"04101-LA SERENA"},"105825","18400700","2021-11-08T13:12:50",1636]
[3,"5",2021,{"$f":"IFERROR(VLOOKUP(Tabla_SERIEBM_01_6[[#This Row],[IdEstablecimiento]],[1]Establecimientos!A$1:E$175,5,FALSE),0)","v":"04101-LA SERENA"},"105825","18700100","2021-11-08T13:12:50",160,12,128,20,0]
[3,"5",2021,{"$f":"IFERROR(VLOOKUP(Tabla_SERIEBM_01_6[[#This Row],[IdEstablecimiento]],[1]Establecimientos!A$1:E$175,5,FALSE),0)","v":"04101-LA SERENA"},"105826","80106002","2021-11-08T13:13:31",21,21,null,null,21]
[3,"5",2021,{"$f":"IFERROR(VLOOKUP(Tabla_SERIEBM_01_6[[#This Row],[IdEstablecimiento]],[1]Establecimientos!A$1:E$175,5,FALSE),0)","v":"04101-LA SERENA"},"105826","80106017","2021-11-08T13:13:31",4,4,null,null,4]
[3,"5",2021,{"$f":"IFERROR(VLOOKUP(Tabla_SERIEBM_01_6[[#This Row],[IdEstablecimiento]],[1]Establecimientos!A$1:E$175,5,FALSE),0)","v":"04301-OVALLE"},"200569","18700100","2021-11-08T13:18:57",138,28,64,46]
[6,"5",2021,{"$f":"IFERROR(VLOOKUP(Tabla_SERIEBM_01_6[[#This Row],[IdEstablecimiento]],[1]Establecimientos!A$1:E$175,5,FALSE),0)","v":"04106-VICUÑA"},"105474","80303026","2021-07-19T14:30:44",0,null,null,7]
[6,"5",2021,{"$f":"IFERROR(VLOOKUP(Tabla_SERIEBM_01_6[[#This Row],[IdEstablecimiento]],[1]Establecimientos!A$1:E$175,5,FALSE),0)","v":"04106-VICUÑA"},"105474","80301041","2021-07-19T14:30:44",0,null,null,6]
[6,"5",2021,{"$f":"IFERROR(VLOOKUP(Tabla_SERIEBM_01_6[[#This Row],[IdEstablecimiento]],[1]Establecimientos!A$1:E$175,5,FALSE),0)","v":"04106-VICUÑA"},"105474","80301045","2021-07-19T14:30:44",0,null,null,6]
[6,"5",2021,{"$f":"IFERROR(VLOOKUP(Tabla_SERIEBM_01_6[[#This Row],[IdEstablecimiento]],[1]Establecimientos!A$1:E$175,5,FALSE),0)","v":"04106-VICUÑA"},"105474","80301086","2021-07-19T14:30:44",0,null,null,6]
[6,"5",2021,{"$f":"IFERROR(VLOOKUP(Tabla_SERIEBM_01_6[[#This Row],[IdEstablecimiento]],[1]Establecimientos!A$1:E$175,5,FALSE),0)","v":"04106-VICUÑA"},"105474","80302005","2021-07-19T14:30:44",0,null,null,1]
[6,"5",2021,{"$f":"IFERROR(VLOOKUP(Tabla_SERIEBM_01_6[[#This Row],[IdEstablecimiento]],[1]Establecimientos!A$1:E$175,5,FALSE),0)","v":"04106-VICUÑA"},"105474","80302023","2021-07-19T14:30:44",0,null,null,7]
[6,"5",2021,{"$f":"IFERROR(VLOOKUP(Tabla_SERIEBM_01_6[[#This Row],[IdEstablecimiento]],[1]Establecimientos!A$1:E$175,5,FALSE),0)","v":"04106-VICUÑA"},"105474","80302032","2021-07-19T14:30:44",0,null,null,7]
[6,"5",2021,{"$f":"IFERROR(VLOOKUP(Tabla_SERIEBM_01_6[[#This Row],[IdEstablecimiento]],[1]Establecimientos!A$1:E$175,5,FALSE),0)","v":"04106-VICUÑA"},"105474","80302034","2021-07-19T14:30:44",0,null,null,8]
[6,"5",2021,{"$f":"IFERROR(VLOOKUP(Tabla_SERIEBM_01_6[[#This Row],[IdEstablecimiento]],[1]Establecimientos!A$1:E$175,5,FALSE),0)","v":"04106-VICUÑA"},"105474","80306011","2021-07-19T14:30:44",0,null,null,1]
[6,"5",2021,{"$f":"IFERROR(VLOOKUP(Tabla_SERIEBM_01_6[[#This Row],[IdEstablecimiento]],[1]Establecimientos!A$1:E$175,5,FALSE),0)","v":"04106-VICUÑA"},"105474","80306042","2021-07-19T14:30:44",0,null,null,1]
[6,"5",2021,{"$f":"IFERROR(VLOOKUP(Tabla_SERIEBM_01_6[[#This Row],[IdEstablecimiento]],[1]Establecimientos!A$1:E$175,5,FALSE),0)","v":"04106-VICUÑA"},"105474","80309010","2021-07-19T14:30:44",0,null,null,7]
[6,"5",2021,{"$f":"IFERROR(VLOOKUP(Tabla_SERIEBM_01_6[[#This Row],[IdEstablecimiento]],[1]Establecimientos!A$1:E$175,5,FALSE),0)","v":"04301-OVALLE"},"105317","80106017","2021-07-19T12:06:37",147,null,147,null,147]
[6,"5",2021,{"$f":"IFERROR(VLOOKUP(Tabla_SERIEBM_01_6[[#This Row],[IdEstablecimiento]],[1]Establecimientos!A$1:E$175,5,FALSE),0)","v":"04301-OVALLE"},"105317","80106014","2021-07-19T12:06:37",193,null,193,null,193]
[6,"5",2021,{"$f":"IFERROR(VLOOKUP(Tabla_SERIEBM_01_6[[#This Row],[IdEstablecimiento]],[1]Establecimientos!A$1:E$175,5,FALSE),0)","v":"04301-OVALLE"},"105317","80106015","2021-07-19T12:06:37",1,null,1,null,1]
[6,"5",2021,{"$f":"IFERROR(VLOOKUP(Tabla_SERIEBM_01_6[[#This Row],[IdEstablecimiento]],[1]Establecimientos!A$1:E$175,5,FALSE),0)","v":"04301-OVALLE"},"105317","80307011","2021-07-19T12:06:37",439,null,439]
[6,"5",2021,{"$f":"IFERROR(VLOOKUP(Tabla_SERIEBM_01_6[[#This Row],[IdEstablecimiento]],[1]Establecimientos!A$1:E$175,5,FALSE),0)","v":"04301-OVALLE"},"105317","80307012","2021-07-19T12:06:37",11,null,11]
[6,"5",2021,{"$f":"IFERROR(VLOOKUP(Tabla_SERIEBM_01_6[[#This Row],[IdEstablecimiento]],[1]Establecimientos!A$1:E$175,5,FALSE),0)","v":"04301-OVALLE"},"105317","80500011","2021-07-19T12:06:37",75,null,75,null,75]
[3,"5",2021,{"$f":"IFERROR(VLOOKUP(Tabla_SERIEBM_01_6[[#This Row],[IdEstablecimiento]],[1]Establecimientos!A$1:E$175,5,FALSE),0)","v":"04102-COQUIMBO"},"200499","81602202","2021-11-08T13:18:03",2,null,2,2]
[3,"5",2021,{"$f":"IFERROR(VLOOKUP(Tabla_SERIEBM_01_6[[#This Row],[IdEstablecimiento]],[1]Establecimientos!A$1:E$175,5,FALSE),0)","v":"04102-COQUIMBO"},"200499","81602204","2021-11-08T13:18:03",1,null,1,1]
[3,"5",2021,{"$f":"IFERROR(VLOOKUP(Tabla_SERIEBM_01_6[[#This Row],[IdEstablecimiento]],[1]Establecimientos!A$1:E$175,5,FALSE),0)","v":"04102-COQUIMBO"},"200499","80106002","2021-11-08T13:18:03",84,21,63,null,84]
[3,"5",2021,{"$f":"IFERROR(VLOOKUP(Tabla_SERIEBM_01_6[[#This Row],[IdEstablecimiento]],[1]Establecimientos!A$1:E$175,5,FALSE),0)","v":"04102-COQUIMBO"},"200499","80106017","2021-11-08T13:18:03",214,4,210,null,214]
[3,"5",2021,{"$f":"IFERROR(VLOOKUP(Tabla_SERIEBM_01_6[[#This Row],[IdEstablecimiento]],[1]Establecimientos!A$1:E$175,5,FALSE),0)","v":"04102-COQUIMBO"},"200499","80106013","2021-11-08T13:18:03",3,3,null,null,3]
[3,"5",2021,{"$f":"IFERROR(VLOOKUP(Tabla_SERIEBM_01_6[[#This Row],[IdEstablecimiento]],[1]Establecimientos!A$1:E$175,5,FALSE),0)","v":"04102-COQUIMBO"},"200499","80106014","2021-11-08T13:18:03",380,181,199]
[3,"5",2021,{"$f":"IFERROR(VLOOKUP(Tabla_SERIEBM_01_6[[#This Row],[IdEstablecimiento]],[1]Establecimientos!A$1:E$175,5,FALSE),0)","v":"04102-COQUIMBO"},"200499","80106015","2021-11-08T13:18:03",118,101,17,null,118]
[3,"5",2021,{"$f":"IFERROR(VLOOKUP(Tabla_SERIEBM_01_6[[#This Row],[IdEstablecimiento]],[1]Establecimientos!A$1:E$175,5,FALSE),0)","v":"04102-COQUIMBO"},"200499","80106020","2021-11-08T13:18:03",7,7]
[3,"5",2021,{"$f":"IFERROR(VLOOKUP(Tabla_SERIEBM_01_6[[#This Row],[IdEstablecimiento]],[1]Establecimientos!A$1:E$175,5,FALSE),0)","v":"04102-COQUIMBO"},"200499","80106022","2021-11-08T13:18:03",8,null,8,null,8]
[3,"5",2021,{"$f":"IFERROR(VLOOKUP(Tabla_SERIEBM_01_6[[#This Row],[IdEstablecimiento]],[1]Establecimientos!A$1:E$175,5,FALSE),0)","v":"04102-COQUIMBO"},"200499","80106023","2021-11-08T13:18:03",13,null,13]
[3,"5",2021,{"$f":"IFERROR(VLOOKUP(Tabla_SERIEBM_01_6[[#This Row],[IdEstablecimiento]],[1]Establecimientos!A$1:E$175,5,FALSE),0)","v":"04102-COQUIMBO"},"200499","80307011","2021-11-08T13:18:03",271,null,271]
[3,"5",2021,{"$f":"IFERROR(VLOOKUP(Tabla_SERIEBM_01_6[[#This Row],[IdEstablecimiento]],[1]Establecimientos!A$1:E$175,5,FALSE),0)","v":"04102-COQUIMBO"},"200499","80307012","2021-11-08T13:18:03",12,null,12]
[3,"5",2021,{"$f":"IFERROR(VLOOKUP(Tabla_SERIEBM_01_6[[#This Row],[IdEstablecimiento]],[1]Establecimientos!A$1:E$175,5,FALSE),0)","v":"04102-COQUIMBO"},"200499","80500008","2021-11-08T13:18:03",7,null,7,null,7]
[3,"5",2021,{"$f":"IFERROR(VLOOKUP(Tabla_SERIEBM_01_6[[#This Row],[IdEstablecimiento]],[1]Establecimientos!A$1:E$175,5,FALSE),0)","v":"04102-COQUIMBO"},"200499","80500009","2021-11-08T13:18:03",8,null,8,null,8]
[3,"5",2021,{"$f":"IFERROR(VLOOKUP(Tabla_SERIEBM_01_6[[#This Row],[IdEstablecimiento]],[1]Establecimientos!A$1:E$175,5,FALSE),0)","v":"04102-COQUIMBO"},"200499","80500011","2021-11-08T13:18:03",108,106,2,null,108]
[3,"5",2021,{"$f":"IFERROR(VLOOKUP(Tabla_SERIEBM_01_6[[#This Row],[IdEstablecimiento]],[1]Establecimientos!A$1:E$175,5,FALSE),0)","v":"04102-COQUIMBO"},"200499","80500014","2021-11-08T13:18:03",0,{"$nulls":4},22]
[3,"5",2021,{"$f":"IFERROR(VLOOKUP(Tabla_SERIEBM_01_6[[#This Row],[IdEstablecimiento]],[1]Establecimientos!A$1:E$175,5,FALSE),0)","v":"04102-COQUIMBO"},"200499","18010601","2021-11-08T13:18:03",11,0,11]
[3,"5",2021,{"$f":"IFERROR(VLOOKUP(Tabla_SERIEBM_01_6[[#This Row],[IdEstablecimiento]],[1]Establecimientos!A$1:E$175,5,FALSE),0)","v":"04102-COQUIMBO"},"200499","18700270","2021-11-08T13:18:03",2,null,2]
[3,"5",2021,{"$f":"IFERROR(VLOOKUP(Tabla_SERIEBM_01_6[[#This Row],[IdEstablecimiento]],[1]Establecimientos!A$1:E$175,5,FALSE),0)","v":"04102-COQUIMBO"},"200499","18700290","2021-11-08T13:18:03",1,null,1]
[2,"5",2021,{"$f":"IFERROR(VLOOKUP(Tabla_SERIEBM_01_6[[#This Row],[IdEstablecimiento]],[1]Establecimientos!A$1:E$175,5,FALSE),0)","v":"04303-MONTE PATRIA"},"105307","80308004","2021-11-09T13:39:57",13,null,13]
[2,"5",2021,{"$f":"IFERROR(VLOOKUP(Tabla_SERIEBM_01_6[[#This Row],[IdEstablecimiento]],[1]Establecimientos!A$1:E$175,5,FALSE),0)","v":"04303-MONTE PATRIA"},"105307","80308005","2021-11-09T13:39:57",17,null,17]
[2,"5",2021,{"$f":"IFERROR(VLOOKUP(Tabla_SERIEBM_01_6[[#This Row],[IdEstablecimiento]],[1]Establecimientos!A$1:E$175,5,FALSE),0)","v":"04303-MONTE PATRIA"},"105307","80309013","2021-11-09T13:39:57",522,null,522]
[2,"5",2021,{"$f":"IFERROR(VLOOKUP(Tabla_SERIEBM_01_6[[#This Row],[IdEstablecimiento]],[1]Establecimientos!A$1:E$175,5,FALSE),0)","v":"04303-MONTE PATRIA"},"105307","80309014","2021-11-09T13:39:57",8,null,8]
[2,"5",2021,{"$f":"IFERROR(VLOOKUP(Tabla_SERIEBM_01_6[[#This Row],[IdEstablecimiento]],[1]Establecimientos!A$1:E$175,5,FALSE),0)","v":"04303-MONTE PATRIA"},"105307","80309016","2021-11-09T13:39:57",57,null,57]
[2,"5",2021,{"$f":"IFERROR(VLOOKUP(Tabla_SERIEBM_01_6[[#This Row],[IdEstablecimiento]],[1]Establecimientos!A$1:E$175,5,FALSE),0)","v":"04303-MONTE PATRIA"},"105307","80309023","2021-11-09T13:39:57",855,null,855]
[2,"5",2021,{"$f":"IFERROR(VLOOKUP(Tabla_SERIEBM_01_6[[#This Row],[IdEstablecimiento]],[1]Establecimientos!A$1:E$175,5,FALSE),0)","v":"04303-MONTE PATRIA"},"105307","80309028","2021-11-09T13:39:57",35,null,35]
[2,"5",2021,{"$f":"IFERROR(VLOOKUP(Tabla_SERIEBM_01_6[[#This Row],[IdEstablecimiento]],[1]Establecimientos!A$1:E$175,5,FALSE),0)","v":"04303-MONTE PATRIA"},"105307","80404002","2021-11-09T13:39:57",35,null,35]
[2,"5",2021,{"$f":"IFERROR(VLOOKUP(Tabla_SERIEBM_01_6[[#This Row],[IdEstablecimiento]],[1]Establecimientos!A$1:E$175,5,FALSE),0)","v":"04303-MONTE PATRIA"},"105307","80404005","2021-11-09T13:39:57",6,null,6]
[2,"5",2021,{"$f":"IFERROR(VLOOKUP(Tabla_SERIEBM_01_6[[#This Row],[IdEstablecimiento]],[1]Establecimientos!A$1:E$175,5,FALSE),0)","v":"04303-MONTE PATRIA"},"105307","81601115","2021-11-09T13:39:57",14,null,14,null,14]
[2,"5",2021,{"$f":"IFERROR(VLOOKUP(Tabla_SERIEBM_01_6[[#This Row],[IdEstablecimiento]],[1]Establecimientos!A$1:E$175,5,FALSE),0)","v":"04303-MONTE PATRIA"},"105307","81701001","2021-11-09T13:39:57",93,null,93,null,93]
[2,"5",2021,{"$f":"IFERROR(VLOOKUP(Tabla_SERIEBM_01_6[[#This Row],[IdEstablecimiento]],[1]Establecimientos!A$1:E$175,5,FALSE),0)","v":"04303-MONTE PATRIA"},"105307","81701009","2021-11-09T13:39:57",71,null,71,null,71]
[2,"5",2021,{"$f":"IFERROR(VLOOKUP(Tabla_SERIEBM_01_6[[#This Row],[IdEstablecimiento]],[1]Establecimientos!A$1:E$175,5,FALSE),0)","v":"04303-MONTE PATRIA"},"105307","81901019","2021-11-09T13:39:57",5,null,5,null,5]
[2,"5",2021,{"$f":"IFERROR(VLOOKUP(Tabla_SERIEBM_01_6[[#This Row],[IdEstablecimiento]],[1]Establecimientos!A$1:E$175,5,FALSE),0)","v":"04303-MONTE PATRIA"},"105307","82001015","2021-11-09T13:39:57",2,null,2,null,2]
[2,"5",2021,{"$f":"IFERROR(VLOOKUP(Tabla_SERIEBM_01_6[[#This Row],[IdEstablecimiento]],[1]Establecimientos!A$1:E$175,5,FALSE),0)","v":"04303-MONTE PATRIA"},"105307","80106002","2021-11-09T13:39:57",126,null,126,null,126]
[2,"5",2021,{"$f":"IFERROR(VLOOKUP(Tabla_SERIEBM_01_6[[#This Row],[IdEstablecimiento]],[1]Establecimientos!A$1:E$175,5,FALSE),0)","v":"04303-MONTE PATRIA"},"105307","80106017","2021-11-09T13:39:57",77,null,77,null,77]
[2,"5",2021,{"$f":"IFERROR(VLOOKUP(Tabla_SERIEBM_01_6[[#This Row],[IdEstablecimiento]],[1]Establecimientos!A$1:E$175,5,FALSE),0)","v":"04303-MONTE PATRIA"},"105307","80106014","2021-11-09T13:39:57",148,null,148,null,148]
[2,"5",2021,{"$f":"IFERROR(VLOOKUP(Tabla_SERIEBM_01_6[[#This Row],[IdEstablecimiento]],[1]Establecimientos!A$1:E$175,5,FALSE),0)","v":"04303-MONTE PATRIA"},"105307","80106022","2021-11-09T13:39:57",5,null,5,null,5]
[2,"5",2021,{"$f":"IFERROR(VLOOKUP(Tabla_SERIEBM_01_6[[#This Row],[IdEstablecimiento]],[1]Establecimientos!A$1:E$175,5,FALSE),0)","v":"04303-MONTE PATRIA"},"105307","80307011","2021-11-09T13:39:57",377,null,377]
[2,"5",2021,{"$f":"IFERROR(VLOOKUP(Tabla_SERIEBM_01_6[[#This Row],[IdEstablecimiento]],[1]Establecimientos!A$1:E$175,5,FALSE),0)","v":"04303-MONTE PATRIA"},"105307","80307012","2021-11-09T13:39:57",15,null,15]
[2,"5",2021,{"$f":"IFERROR(VLOOKUP(Tabla_SERIEBM_01_6[[#This Row],[IdEstablecimiento]],[1]Establecimientos!A$1:E$175,5,FALSE),0)","v":"04303-MONTE PATRIA"},"105307","80500008","2021-11-09T13:39:57",7,null,7,null,7]
[2,"5",2021,{"$f":"IFERROR(VLOOKUP(Tabla_SERIEBM_01_6[[#This Row],[IdEstablecimiento]],[1]Establecimientos!A$1:E$175,5,FALSE),0)","v":"04303-MONTE PATRIA"},"105307","80500009","2021-11-09T13:39:57",7,null,7,null,7]
[2,"5",2021,{"$f":"IFERROR(VLOOKUP(Tabla_SERIEBM_01_6[[#This Row],[IdEstablecimiento]],[1]Establecimientos!A$1:E$175,5,FALSE),0)","v":"04303-MONTE PATRIA"},"105307","80500011","2021-11-09T13:39:57",44,null,44,null,44]
[2,"5",2021,{"$f":"IFERROR(VLOOKUP(Tabla_SERIEBM_01_6[[#This Row],[IdEstablecimiento]],[1]Establecimientos!A$1:E$175,5,FALSE),0)","v":"04303-MONTE PATRIA"},"105307","80500014","2021-11-09T13:39:57",7,null,7,null,null,7]
[2,"5",2021,{"$f":"IFERROR(VLOOKUP(Tabla_SERIEBM_01_6[[#This Row],[IdEstablecimiento]],[1]Establecimientos!A$1:E$175,5,FALSE),0)","v":"04303-MONTE PATRIA"},"105307","18010601","2021-11-09T13:39:57",331,0,331]
[2,"5",2021,{"$f":"IFERROR(VLOOKUP(Tabla_SERIEBM_01_6[[#This Row],[IdEstablecimiento]],[1]Establecimientos!A$1:E$175,5,FALSE),0)","v":"04303-MONTE PATRIA"},"105307","18010800","2021-11-09T13:39:57",30,0,30]
[2,"5",2021,{"$f":"IFERROR(VLOOKUP(Tabla_SERIEBM_01_6[[#This Row],[IdEstablecimiento]],[1]Establecimientos!A$1:E$175,5,FALSE),0)","v":"04303-MONTE PATRIA"},"105307","18010900","2021-11-09T13:39:57",1477,0,1477]
[2,"5",2021,{"$f":"IFERROR(VLOOKUP(Tabla_SERIEBM_01_6[[#This Row],[IdEstablecimiento]],[1]Establecimientos!A$1:E$175,5,FALSE),0)","v":"04303-MONTE PATRIA"},"105307","18011002","2021-11-09T13:39:57",6,0,6]
[2,"5",2021,{"$f":"IFERROR(VLOOKUP(Tabla_SERIEBM_01_6[[#This Row],[IdEstablecimiento]],[1]Establecimientos!A$1:E$175,5,FALSE),0)","v":"04303-MONTE PATRIA"},"105307","18020400","2021-11-09T13:39:57",14,0,14]
[2,"5",2021,{"$f":"IFERROR(VLOOKUP(Tabla_SERIEBM_01_6[[#This Row],[IdEstablecimiento]],[1]Establecimientos!A$1:E$175,5,FALSE),0)","v":"04303-MONTE PATRIA"},"105307","18020500","2021-11-09T13:39:57",164,0,164]
[2,"5",2021,{"$f":"IFERROR(VLOOKUP(Tabla_SERIEBM_01_6[[#This Row],[IdEstablecimiento]],[1]Establecimientos!A$1:E$175,5,FALSE),0)","v":"04303-MONTE PATRIA"},"105307","18020700","2021-11-09T13:39:57",5,0,5]
[2,"5",2021,{"$f":"IFERROR(VLOOKUP(Tabla_SERIEBM_01_6[[#This Row],[IdEstablecimiento]],[1]Establecimientos!A$1:E$175,5,FALSE),0)","v":"04303-MONTE PATRIA"},"105307","18020900","2021-11-09T13:39:57",2,0,2]
[11,"5",2021,{"$f":"IFERROR(VLOOKUP(Tabla_SERIEBM_01_6[[#This Row],[IdEstablecimiento]],[1]Establecimientos!A$1:E$175,5,FALSE),0)","v":"04102-COQUIMBO"},"200607","80401151","2021-12-17T09:40:15",0,null,null,13]
[11,"5",2021,{"$f":"IFERROR(VLOOKUP(Tabla_SERIEBM_01_6[[#This Row],[IdEstablecimiento]],[1]Establecimientos!A$1:E$175,5,FALSE),0)","v":"04102-COQUIMBO"},"200607","80404002","2021-12-17T09:40:15",14,null,14]
[11,"5",2021,{"$f":"IFERROR(VLOOKUP(Tabla_SERIEBM_01_6[[#This Row],[IdEstablecimiento]],[1]Establecimientos!A$1:E$175,5,FALSE),0)","v":"04102-COQUIMBO"},"200607","80404012","2021-12-17T09:40:15",0,null,null,8]
[11,"5",2021,{"$f":"IFERROR(VLOOKUP(Tabla_SERIEBM_01_6[[#This Row],[IdEstablecimiento]],[1]Establecimientos!A$1:E$175,5,FALSE),0)","v":"04102-COQUIMBO"},"200607","81701001","2021-12-17T09:40:15",181,null,181,null,181,181]
[11,"5",2021,{"$f":"IFERROR(VLOOKUP(Tabla_SERIEBM_01_6[[#This Row],[IdEstablecimiento]],[1]Establecimientos!A$1:E$175,5,FALSE),0)","v":"04102-COQUIMBO"},"200607","81701009","2021-12-17T09:40:15",255,null,255,null,255]
[11,"5",2021,{"$f":"IFERROR(VLOOKUP(Tabla_SERIEBM_01_6[[#This Row],[IdEstablecimiento]],[1]Establecimientos!A$1:E$175,5,FALSE),0)","v":"04102-COQUIMBO"},"200607","82001015","2021-12-17T09:40:15",3,null,3,null,3]
[11,"5",2021,{"$f":"IFERROR(VLOOKUP(Tabla_SERIEBM_01_6[[#This Row],[IdEstablecimiento]],[1]Establecimientos!A$1:E$175,5,FALSE),0)","v":"04102-COQUIMBO"},"200607","81602202","2021-12-17T09:40:15",4,0,4,4,0,4]
[11,"5",2021,{"$f":"IFERROR(VLOOKUP(Tabla_SERIEBM_01_6[[#This Row],[IdEstablecimiento]],[1]Establecimientos!A$1:E$175,5,FALSE),0)","v":"04102-COQUIMBO"},"200607","81602203","2021-12-17T09:40:15",1,0,1,1,0,1]
[11,"5",2021,{"$f":"IFERROR(VLOOKUP(Tabla_SERIEBM_01_6[[#This Row],[IdEstablecimiento]],[1]Establecimientos!A$1:E$175,5,FALSE),0)","v":"04102-COQUIMBO"},"200607","81602204","2021-12-17T09:40:15",4,0,4,4,0,4]
[11,"5",2021,{"$f":"IFERROR(VLOOKUP(Tabla_SERIEBM_01_6[[#This Row],[IdEstablecimiento]],[1]Establecimientos!A$1:E$175,5,FALSE),0)","v":"04102-COQUIMBO"},"200607","81602221","2021-12-17T09:40:15",1,0,1,1,0,1]
[11,"5",2021,{"$f":"IFERROR(VLOOKUP(Tabla_SERIEBM_01_6[[#This Row],[IdEstablecimiento]],[1]Establecimientos!A$1:E$175,5,FALSE),0)","v":"04102-COQUIMBO"},"200607","81602217","2021-12-17T09:40:15",1,0,1,1,0,1]
[11,"5",2021,{"$f":"IFERROR(VLOOKUP(Tabla_SERIEBM_01_6[[#This Row],[IdEstablecimiento]],[1]Establecimientos!A$1:E$175,5,FALSE),0)","v":"04102-COQUIMBO"},"200607","81602224","2021-12-17T09:40:15",21,0,21,21,0,21]
[11,"5",2021,{"$f":"IFERROR(VLOOKUP(Tabla_SERIEBM_01_6[[#This Row],[IdEstablecimiento]],[1]Establecimientos!A$1:E$175,5,FALSE),0)","v":"04102-COQUIMBO"},"200607","81602231","2021-12-17T09:40:15",4,0,4,4,0,4]
[11,"5",2021,{"$f":"IFERROR(VLOOKUP(Tabla_SERIEBM_01_6[[#This Row],[IdEstablecimiento]],[1]Establecimientos!A$1:E$175,5,FALSE),0)","v":"04102-COQUIMBO"},"200607","80106002","2021-12-17T09:40:15",142,null,142,null,142]
[11,"5",2021,{"$f":"IFERROR(VLOOKUP(Tabla_SERIEBM_01_6[[#This Row],[IdEstablecimiento]],[1]Establecimientos!A$1:E$175,5,FALSE),0)","v":"04102-COQUIMBO"},"200607","80106017","2021-12-17T09:40:15",265,null,265,null,265]
[11,"5",2021,{"$f":"IFERROR(VLOOKUP(Tabla_SERIEBM_01_6[[#This Row],[IdEstablecimiento]],[1]Establecimientos!A$1:E$175,5,FALSE),0)","v":"04102-COQUIMBO"},"200607","80106014","2021-12-17T09:40:15",31,null,31,null,31]
[11,"5",2021,{"$f":"IFERROR(VLOOKUP(Tabla_SERIEBM_01_6[[#This Row],[IdEstablecimiento]],[1]Establecimientos!A$1:E$175,5,FALSE),0)","v":"04102-COQUIMBO"},"200607","80106021","2021-12-17T09:40:15",1,null,1,1]
[11,"5",2021,{"$f":"IFERROR(VLOOKUP(Tabla_SERIEBM_01_6[[#This Row],[IdEstablecimiento]],[1]Establecimientos!A$1:E$175,5,FALSE),0)","v":"04102-COQUIMBO"},"200607","80106023","2021-12-17T09:40:15",15,null,15,null,15]
[11,"5",2021,{"$f":"IFERROR(VLOOKUP(Tabla_SERIEBM_01_6[[#This Row],[IdEstablecimiento]],[1]Establecimientos!A$1:E$175,5,FALSE),0)","v":"04102-COQUIMBO"},"200607","80307011","2021-12-17T09:40:15",536,null,536]
[11,"5",2021,{"$f":"IFERROR(VLOOKUP(Tabla_SERIEBM_01_6[[#This Row],[IdEstablecimiento]],[1]Establecimientos!A$1:E$175,5,FALSE),0)","v":"04102-COQUIMBO"},"200607","80307012","2021-12-17T09:40:15",20,null,20]
[11,"5",2021,{"$f":"IFERROR(VLOOKUP(Tabla_SERIEBM_01_6[[#This Row],[IdEstablecimiento]],[1]Establecimientos!A$1:E$175,5,FALSE),0)","v":"04102-COQUIMBO"},"200607","80500008","2021-12-17T09:40:15",17,null,17,null,17]
[11,"5",2021,{"$f":"IFERROR(VLOOKUP(Tabla_SERIEBM_01_6[[#This Row],[IdEstablecimiento]],[1]Establecimientos!A$1:E$175,5,FALSE),0)","v":"04102-COQUIMBO"},"200607","80500009","2021-12-17T09:40:15",15,null,15,null,15]
[11,"5",2021,{"$f":"IFERROR(VLOOKUP(Tabla_SERIEBM_01_6[[#This Row],[IdEstablecimiento]],[1]Establecimientos!A$1:E$175,5,FALSE),0)","v":"04102-COQUIMBO"},"200607","80500011","2021-12-17T09:40:15",128,null,128,null,128]
[11,"5",2021,{"$f":"IFERROR(VLOOKUP(Tabla_SERIEBM_01_6[[#This Row],[IdEstablecimiento]],[1]Establecimientos!A$1:E$175,5,FALSE),0)","v":"04102-COQUIMBO"},"200607","18700270","2021-12-17T09:40:15",14,null,14]
[11,"5",2021,{"$f":"IFERROR(VLOOKUP(Tabla_SERIEBM_01_6[[#This Row],[IdEstablecimiento]],[1]Establecimientos!A$1:E$175,5,FALSE),0)","v":"04102-COQUIMBO"},"200607","18700350","2021-12-17T09:40:15",2,null,2]
[11,"5",2021,{"$f":"IFERROR(VLOOKUP(Tabla_SERIEBM_01_6[[#This Row],[IdEstablecimiento]],[1]Establecimientos!A$1:E$175,5,FALSE),0)","v":"04102-COQUIMBO"},"200607","18400600","2021-12-17T09:40:15",2]
[11,"5",2021,{"$f":"IFERROR(VLOOKUP(Tabla_SERIEBM_01_6[[#This Row],[IdEstablecimiento]],[1]Establecimientos!A$1:E$175,5,FALSE),0)","v":"04102-COQUIMBO"},"200607","18020500","2021-12-17T09:40:15",436,0,436]
[11,"5",2021,{"$f":"IFERROR(VLOOKUP(Tabla_SERIEBM_01_6[[#This Row],[IdEstablecimiento]],[1]Establecimientos!A$1:E$175,5,FALSE),0)","v":"04102-COQUIMBO"},"200607","18020900","2021-12-17T09:40:15",3,0,3]
[11,"5",2021,{"$f":"IFERROR(VLOOKUP(Tabla_SERIEBM_01_6[[#This Row],[IdEstablecimiento]],[1]Establecimientos!A$1:E$175,5,FALSE),0)","v":"04102-COQUIMBO"},"200607","18030000","2021-12-17T09:40:15",36,0,36]
[11,"5",2021,{"$f":"IFERROR(VLOOKUP(Tabla_SERIEBM_01_6[[#This Row],[IdEstablecimiento]],[1]Establecimientos!A$1:E$175,5,FALSE),0)","v":"04102-COQUIMBO"},"200607","18040200","2021-12-17T09:40:15",36,5,31]
[11,"5",2021,{"$f":"IFERROR(VLOOKUP(Tabla_SERIEBM_01_6[[#This Row],[IdEstablecimiento]],[1]Establecimientos!A$1:E$175,5,FALSE),0)","v":"04102-COQUIMBO"},"200607","18090000","2021-12-17T09:40:15",15,0,15]
[11,"5",2021,{"$f":"IFERROR(VLOOKUP(Tabla_SERIEBM_01_6[[#This Row],[IdEstablecimiento]],[1]Establecimientos!A$1:E$175,5,FALSE),0)","v":"04102-COQUIMBO"},"200607","18050100","2021-12-17T09:40:15",142,0,142]
[11,"5",2021,{"$f":"IFERROR(VLOOKUP(Tabla_SERIEBM_01_6[[#This Row],[IdEstablecimiento]],[1]Establecimientos!A$1:E$175,5,FALSE),0)","v":"04102-COQUIMBO"},"200607","18400900","2021-12-17T09:40:15",132,27,105]
[11,"5",2021,{"$f":"IFERROR(VLOOKUP(Tabla_SERIEBM_01_6[[#This Row],[IdEstablecimiento]],[1]Establecimientos!A$1:E$175,5,FALSE),0)","v":"04303-MONTE PATRIA"},"200720","80401002","2021-12-17T09:40:36",1,1]
[11,"5",2021,{"$f":"IFERROR(VLOOKUP(Tabla_SERIEBM_01_6[[#This Row],[IdEstablecimiento]],[1]Establecimientos!A$1:E$175,5,FALSE),0)","v":"04303-MONTE PATRIA"},"200720","80401009","2021-12-17T09:40:36",3,3]
[11,"5",2021,{"$f":"IFERROR(VLOOKUP(Tabla_SERIEBM_01_6[[#This Row],[IdEstablecimiento]],[1]Establecimientos!A$1:E$175,5,FALSE),0)","v":"04303-MONTE PATRIA"},"200720","80401070","2021-12-17T09:40:36",57,35,22,22]
[11,"5",2021,{"$f":"IFERROR(VLOOKUP(Tabla_SERIEBM_01_6[[#This Row],[IdEstablecimiento]],[1]Establecimientos!A$1:E$175,5,FALSE),0)","v":"04303-MONTE PATRIA"},"200720","80401013","2021-12-17T09:40:36",11,11,null,3]
[11,"5",2021,{"$f":"IFERROR(VLOOKUP(Tabla_SERIEBM_01_6[[#This Row],[IdEstablecimiento]],[1]Establecimientos!A$1:E$175,5,FALSE),0)","v":"04303-MONTE PATRIA"},"200720","80401031","2021-12-17T09:40:36",11,11]
[11,"5",2021,{"$f":"IFERROR(VLOOKUP(Tabla_SERIEBM_01_6[[#This Row],[IdEstablecimiento]],[1]Establecimientos!A$1:E$175,5,FALSE),0)","v":"04303-MONTE PATRIA"},"200720","80401032","2021-12-17T09:40:36",13,13]
[11,"5",2021,{"$f":"IFERROR(VLOOKUP(Tabla_SERIEBM_01_6[[#This Row],[IdEstablecimiento]],[1]Establecimientos!A$1:E$175,5,FALSE),0)","v":"04303-MONTE PATRIA"},"200720","80401042","2021-12-17T09:40:36",11,11]
[11,"5",2021,{"$f":"IFERROR(VLOOKUP(Tabla_SERIEBM_01_6[[#This Row],[IdEstablecimiento]],[1]Establecimientos!A$1:E$175,5,FALSE),0)","v":"04303-MONTE PATRIA"},"200720","80401045","2021-12-17T09:40:36",13,13]
[11,"5",2021,{"$f":"IFERROR(VLOOKUP(Tabla_SERIEBM_01_6[[#This Row],[IdEstablecimiento]],[1]Establecimientos!A$1:E$175,5,FALSE),0)","v":"04303-MONTE PATRIA"},"200720","80401046","2021-12-17T09:40:36",5,5]
[11,"5",2021,{"$f":"IFERROR(VLOOKUP(Tabla_SERIEBM_01_6[[#This Row],[IdEstablecimiento]],[1]Establecimientos!A$1:E$175,5,FALSE),0)","v":"04303-MONTE PATRIA"},"200720","80401051","2021-12-17T09:40:36",7,7]
[11,"5",2021,{"$f":"IFERROR(VLOOKUP(Tabla_SERIEBM_01_6[[#This Row],[IdEstablecimiento]],[1]Establecimientos!A$1:E$175,5,FALSE),0)","v":"04303-MONTE PATRIA"},"200720","80401151","2021-12-17T09:40:36",27,null,27,27]
[11,"5",2021,{"$f":"IFERROR(VLOOKUP(Tabla_SERIEBM_01_6[[#This Row],[IdEstablecimiento]],[1]Establecimientos!A$1:E$175,5,FALSE),0)","v":"04303-MONTE PATRIA"},"200720","80401052","2021-12-17T09:40:36",1,1]
[11,"5",2021,{"$f":"IFERROR(VLOOKUP(Tabla_SERIEBM_01_6[[#This Row],[IdEstablecimiento]],[1]Establecimientos!A$1:E$175,5,FALSE),0)","v":"04303-MONTE PATRIA"},"200720","80401053","2021-12-17T09:40:36",3,3]
[11,"5",2021,{"$f":"IFERROR(VLOOKUP(Tabla_SERIEBM_01_6[[#This Row],[IdEstablecimiento]],[1]Establecimientos!A$1:E$175,5,FALSE),0)","v":"04303-MONTE PATRIA"},"200720","80401054","2021-12-17T09:40:36",63,63]
[11,"5",2021,{"$f":"IFERROR(VLOOKUP(Tabla_SERIEBM_01_6[[#This Row],[IdEstablecimiento]],[1]Establecimientos!A$1:E$175,5,FALSE),0)","v":"04303-MONTE PATRIA"},"200720","80401055","2021-12-17T09:40:36",2,2]
[11,"5",2021,{"$f":"IFERROR(VLOOKUP(Tabla_SERIEBM_01_6[[#This Row],[IdEstablecimiento]],[1]Establecimientos!A$1:E$175,5,FALSE),0)","v":"04303-MONTE PATRIA"},"200720","80401059","2021-12-17T09:40:36",24,24]
[11,"5",2021,{"$f":"IFERROR(VLOOKUP(Tabla_SERIEBM_01_6[[#This Row],[IdEstablecimiento]],[1]Establecimientos!A$1:E$175,5,FALSE),0)","v":"04303-MONTE PATRIA"},"200720","80401060","2021-12-17T09:40:36",30,30]
[11,"5",2021,{"$f":"IFERROR(VLOOKUP(Tabla_SERIEBM_01_6[[#This Row],[IdEstablecimiento]],[1]Establecimientos!A$1:E$175,5,FALSE),0)","v":"04303-MONTE PATRIA"},"200720","80401062","2021-12-17T09:40:36",6,6]
[11,"5",2021,{"$f":"IFERROR(VLOOKUP(Tabla_SERIEBM_01_6[[#This Row],[IdEstablecimiento]],[1]Establecimientos!A$1:E$175,5,FALSE),0)","v":"04303-MONTE PATRIA"},"200720","81301025","2021-12-17T09:40:36",1,1,null,null,1]
[11,"5",2021,{"$f":"IFERROR(VLOOKUP(Tabla_SERIEBM_01_6[[#This Row],[IdEstablecimiento]],[1]Establecimientos!A$1:E$175,5,FALSE),0)","v":"04303-MONTE PATRIA"},"200720","81701001","2021-12-17T09:40:36",69,69,null,null,69]
[11,"5",2021,{"$f":"IFERROR(VLOOKUP(Tabla_SERIEBM_01_6[[#This Row],[IdEstablecimiento]],[1]Establecimientos!A$1:E$175,5,FALSE),0)","v":"04303-MONTE PATRIA"},"200720","81701009","2021-12-17T09:40:36",152,152,null,null,152]
[11,"5",2021,{"$f":"IFERROR(VLOOKUP(Tabla_SERIEBM_01_6[[#This Row],[IdEstablecimiento]],[1]Establecimientos!A$1:E$175,5,FALSE),0)","v":"04303-MONTE PATRIA"},"200720","81901019","2021-12-17T09:40:36",11,11,null,null,11]
[11,"5",2021,{"$f":"IFERROR(VLOOKUP(Tabla_SERIEBM_01_6[[#This Row],[IdEstablecimiento]],[1]Establecimientos!A$1:E$175,5,FALSE),0)","v":"04303-MONTE PATRIA"},"200720","81901022","2021-12-17T09:40:36",11,11,null,null,11]
[11,"5",2021,{"$f":"IFERROR(VLOOKUP(Tabla_SERIEBM_01_6[[#This Row],[IdEstablecimiento]],[1]Establecimientos!A$1:E$175,5,FALSE),0)","v":"04303-MONTE PATRIA"},"200720","81602221","2021-12-17T09:40:36",8,8,null,8]
[11,"5",2021,{"$f":"IFERROR(VLOOKUP(Tabla_SERIEBM_01_6[[#This Row],[IdEstablecimiento]],[1]Establecimientos!A$1:E$175,5,FALSE),0)","v":"04303-MONTE PATRIA"},"200720","81602222","2021-12-17T09:40:36",7,7,null,7]
[11,"5",2021,{"$f":"IFERROR(VLOOKUP(Tabla_SERIEBM_01_6[[#This Row],[IdEstablecimiento]],[1]Establecimientos!A$1:E$175,5,FALSE),0)","v":"04303-MONTE PATRIA"},"200720","81602231","2021-12-17T09:40:36",1,1,null,1]
[11,"5",2021,{"$f":"IFERROR(VLOOKUP(Tabla_SERIEBM_01_6[[#This Row],[IdEstablecimiento]],[1]Establecimientos!A$1:E$175,5,FALSE),0)","v":"04303-MONTE PATRIA"},"200720","80106002","2021-12-17T09:40:36",84,84,null,null,84]
[11,"5",2021,{"$f":"IFERROR(VLOOKUP(Tabla_SERIEBM_01_6[[#This Row],[IdEstablecimiento]],[1]Establecimientos!A$1:E$175,5,FALSE),0)","v":"04303-MONTE PATRIA"},"200720","80106017","2021-12-17T09:40:36",8,8,null,null,8]
[11,"5",2021,{"$f":"IFERROR(VLOOKUP(Tabla_SERIEBM_01_6[[#This Row],[IdEstablecimiento]],[1]Establecimientos!A$1:E$175,5,FALSE),0)","v":"04303-MONTE PATRIA"},"200720","80106007","2021-12-17T09:40:36",2,2,null,2]
[11,"5",2021,{"$f":"IFERROR(VLOOKUP(Tabla_SERIEBM_01_6[[#This Row],[IdEstablecimiento]],[1]Establecimientos!A$1:E$175,5,FALSE),0)","v":"04303-MONTE PATRIA"},"200720","80106009","2021-12-17T09:40:36",1,1,null,null,1]
[11,"5",2021,{"$f":"IFERROR(VLOOKUP(Tabla_SERIEBM_01_6[[#This Row],[IdEstablecimiento]],[1]Establecimientos!A$1:E$175,5,FALSE),0)","v":"04303-MONTE PATRIA"},"200720","80106011","2021-12-17T09:40:36",1,1,null,null,1]
[11,"5",2021,{"$f":"IFERROR(VLOOKUP(Tabla_SERIEBM_01_6[[#This Row],[IdEstablecimiento]],[1]Establecimientos!A$1:E$175,5,FALSE),0)","v":"04303-MONTE PATRIA"},"200720","80106013","2021-12-17T09:40:36",20,20,null,null,20]
[11,"5",2021,{"$f":"IFERROR(VLOOKUP(Tabla_SERIEBM_01_6[[#This Row],[IdEstablecimiento]],[1]Establecimientos!A$1:E$175,5,FALSE),0)","v":"04303-MONTE PATRIA"},"200720","80106014","2021-12-17T09:40:36",633,633,null,null,633]
[11,"5",2021,{"$f":"IFERROR(VLOOKUP(Tabla_SERIEBM_01_6[[#This Row],[IdEstablecimiento]],[1]Establecimientos!A$1:E$175,5,FALSE),0)","v":"04303-MONTE PATRIA"},"200720","80106015","2021-12-17T09:40:36",342,342,null,null,342]
[11,"5",2021,{"$f":"IFERROR(VLOOKUP(Tabla_SERIEBM_01_6[[#This Row],[IdEstablecimiento]],[1]Establecimientos!A$1:E$175,5,FALSE),0)","v":"04303-MONTE PATRIA"},"200720","80106020","2021-12-17T09:40:36",13,13,null,null,13]
[11,"5",2021,{"$f":"IFERROR(VLOOKUP(Tabla_SERIEBM_01_6[[#This Row],[IdEstablecimiento]],[1]Establecimientos!A$1:E$175,5,FALSE),0)","v":"04303-MONTE PATRIA"},"200720","80106021","2021-12-17T09:40:36",6,6,null,null,6]
[11,"5",2021,{"$f":"IFERROR(VLOOKUP(Tabla_SERIEBM_01_6[[#This Row],[IdEstablecimiento]],[1]Establecimientos!A$1:E$175,5,FALSE),0)","v":"04303-MONTE PATRIA"},"200720","80106022","2021-12-17T09:40:36",10,10,null,null,10]
[11,"5",2021,{"$f":"IFERROR(VLOOKUP(Tabla_SERIEBM_01_6[[#This Row],[IdEstablecimiento]],[1]Establecimientos!A$1:E$175,5,FALSE),0)","v":"04303-MONTE PATRIA"},"200720","80307011","2021-12-17T09:40:36",208,208]
[11,"5",2021,{"$f":"IFERROR(VLOOKUP(Tabla_SERIEBM_01_6[[#This Row],[IdEstablecimiento]],[1]Establecimientos!A$1:E$175,5,FALSE),0)","v":"04303-MONTE PATRIA"},"200720","80307012","2021-12-17T09:40:36",22,22]
[11,"5",2021,{"$f":"IFERROR(VLOOKUP(Tabla_SERIEBM_01_6[[#This Row],[IdEstablecimiento]],[1]Establecimientos!A$1:E$175,5,FALSE),0)","v":"04303-MONTE PATRIA"},"200720","80500011","2021-12-17T09:40:36",260,260,null,null,260]
[11,"5",2021,{"$f":"IFERROR(VLOOKUP(Tabla_SERIEBM_01_6[[#This Row],[IdEstablecimiento]],[1]Establecimientos!A$1:E$175,5,FALSE),0)","v":"04303-MONTE PATRIA"},"200720","18011001","2021-12-17T09:40:36",288,239,49]
[11,"5",2021,{"$f":"IFERROR(VLOOKUP(Tabla_SERIEBM_01_6[[#This Row],[IdEstablecimiento]],[1]Establecimientos!A$1:E$175,5,FALSE),0)","v":"04303-MONTE PATRIA"},"200720","18020200","2021-12-17T09:40:36",1,1,0]
[11,"5",2021,{"$f":"IFERROR(VLOOKUP(Tabla_SERIEBM_01_6[[#This Row],[IdEstablecimiento]],[1]Establecimientos!A$1:E$175,5,FALSE),0)","v":"04303-MONTE PATRIA"},"200720","18020500","2021-12-17T09:40:36",221,221,0]
[11,"5",2021,{"$f":"IFERROR(VLOOKUP(Tabla_SERIEBM_01_6[[#This Row],[IdEstablecimiento]],[1]Establecimientos!A$1:E$175,5,FALSE),0)","v":"04303-MONTE PATRIA"},"200720","18020700","2021-12-17T09:40:36",22,22,0]
[11,"5",2021,{"$f":"IFERROR(VLOOKUP(Tabla_SERIEBM_01_6[[#This Row],[IdEstablecimiento]],[1]Establecimientos!A$1:E$175,5,FALSE),0)","v":"04303-MONTE PATRIA"},"200720","18030000","2021-12-17T09:40:36",16,16,0]
[11,"5",2021,{"$f":"IFERROR(VLOOKUP(Tabla_SERIEBM_01_6[[#This Row],[IdEstablecimiento]],[1]Establecimientos!A$1:E$175,5,FALSE),0)","v":"04303-MONTE PATRIA"},"200720","18040100","2021-12-17T09:40:36",16,13,3]
[11,"5",2021,{"$f":"IFERROR(VLOOKUP(Tabla_SERIEBM_01_6[[#This Row],[IdEstablecimiento]],[1]Establecimientos!A$1:E$175,5,FALSE),0)","v":"04303-MONTE PATRIA"},"200720","18050100","2021-12-17T09:40:36",84,84,0]
[11,"5",2021,{"$f":"IFERROR(VLOOKUP(Tabla_SERIEBM_01_6[[#This Row],[IdEstablecimiento]],[1]Establecimientos!A$1:E$175,5,FALSE),0)","v":"04301-OVALLE"},"200721","80309023","2021-12-17T09:40:57",37,37]
[11,"5",2021,{"$f":"IFERROR(VLOOKUP(Tabla_SERIEBM_01_6[[#This Row],[IdEstablecimiento]],[1]Establecimientos!A$1:E$175,5,FALSE),0)","v":"04301-OVALLE"},"200721","81701001","2021-12-17T09:40:57",21,21,null,null,21]
[11,"5",2021,{"$f":"IFERROR(VLOOKUP(Tabla_SERIEBM_01_6[[#This Row],[IdEstablecimiento]],[1]Establecimientos!A$1:E$175,5,FALSE),0)","v":"04301-OVALLE"},"200721","81801023","2021-12-17T09:40:57",2,2,null,2]
[11,"5",2021,{"$f":"IFERROR(VLOOKUP(Tabla_SERIEBM_01_6[[#This Row],[IdEstablecimiento]],[1]Establecimientos!A$1:E$175,5,FALSE),0)","v":"04301-OVALLE"},"200721","81901019","2021-12-17T09:40:57",6,6,null,null,6]
[11,"5",2021,{"$f":"IFERROR(VLOOKUP(Tabla_SERIEBM_01_6[[#This Row],[IdEstablecimiento]],[1]Establecimientos!A$1:E$175,5,FALSE),0)","v":"04301-OVALLE"},"200721","81602221","2021-12-17T09:40:57",7,7,null,7]
[11,"5",2021,{"$f":"IFERROR(VLOOKUP(Tabla_SERIEBM_01_6[[#This Row],[IdEstablecimiento]],[1]Establecimientos!A$1:E$175,5,FALSE),0)","v":"04301-OVALLE"},"200721","81602222","2021-12-17T09:40:57",12,12,null,null,12]
[11,"5",2021,{"$f":"IFERROR(VLOOKUP(Tabla_SERIEBM_01_6[[#This Row],[IdEstablecimiento]],[1]Establecimientos!A$1:E$175,5,FALSE),0)","v":"04301-OVALLE"},"200721","80106002","2021-12-17T09:40:57",69,69,null,null,69]
[11,"5",2021,{"$f":"IFERROR(VLOOKUP(Tabla_SERIEBM_01_6[[#This Row],[IdEstablecimiento]],[1]Establecimientos!A$1:E$175,5,FALSE),0)","v":"04301-OVALLE"},"200721","80106005","2021-12-17T09:40:57",283,283,null,null,283]
[11,"5",2021,{"$f":"IFERROR(VLOOKUP(Tabla_SERIEBM_01_6[[#This Row],[IdEstablecimiento]],[1]Establecimientos!A$1:E$175,5,FALSE),0)","v":"04301-OVALLE"},"200721","80106017","2021-12-17T09:40:57",3,3,null,null,3]
[11,"5",2021,{"$f":"IFERROR(VLOOKUP(Tabla_SERIEBM_01_6[[#This Row],[IdEstablecimiento]],[1]Establecimientos!A$1:E$175,5,FALSE),0)","v":"04301-OVALLE"},"200721","80106007","2021-12-17T09:40:57",5,5,null,5]
[11,"5",2021,{"$f":"IFERROR(VLOOKUP(Tabla_SERIEBM_01_6[[#This Row],[IdEstablecimiento]],[1]Establecimientos!A$1:E$175,5,FALSE),0)","v":"04301-OVALLE"},"200721","80106008","2021-12-17T09:40:57",3,3,null,null,3]
[11,"5",2021,{"$f":"IFERROR(VLOOKUP(Tabla_SERIEBM_01_6[[#This Row],[IdEstablecimiento]],[1]Establecimientos!A$1:E$175,5,FALSE),0)","v":"04301-OVALLE"},"200721","80106009","2021-12-17T09:40:57",3,3,null,null,3]
[11,"5",2021,{"$f":"IFERROR(VLOOKUP(Tabla_SERIEBM_01_6[[#This Row],[IdEstablecimiento]],[1]Establecimientos!A$1:E$175,5,FALSE),0)","v":"04301-OVALLE"},"200721","80106013","2021-12-17T09:40:57",18,18,null,null,18]
[11,"5",2021,{"$f":"IFERROR(VLOOKUP(Tabla_SERIEBM_01_6[[#This Row],[IdEstablecimiento]],[1]Establecimientos!A$1:E$175,5,FALSE),0)","v":"04301-OVALLE"},"200721","80106014","2021-12-17T09:40:57",296,296,null,null,296]
[11,"5",2021,{"$f":"IFERROR(VLOOKUP(Tabla_SERIEBM_01_6[[#This Row],[IdEstablecimiento]],[1]Establecimientos!A$1:E$175,5,FALSE),0)","v":"04301-OVALLE"},"200721","80106015","2021-12-17T09:40:57",61,61,null,null,61]
[11,"5",2021,{"$f":"IFERROR(VLOOKUP(Tabla_SERIEBM_01_6[[#This Row],[IdEstablecimiento]],[1]Establecimientos!A$1:E$175,5,FALSE),0)","v":"04301-OVALLE"},"200721","80106022","2021-12-17T09:40:57",8,8,null,null,8]
[11,"5",2021,{"$f":"IFERROR(VLOOKUP(Tabla_SERIEBM_01_6[[#This Row],[IdEstablecimiento]],[1]Establecimientos!A$1:E$175,5,FALSE),0)","v":"04301-OVALLE"},"200721","18010900","2021-12-17T09:40:57",37,37,0]
[11,"5",2021,{"$f":"IFERROR(VLOOKUP(Tabla_SERIEBM_01_6[[#This Row],[IdEstablecimiento]],[1]Establecimientos!A$1:E$175,5,FALSE),0)","v":"04301-OVALLE"},"200721","18020500","2021-12-17T09:40:57",21,21,0]
[11,"5",2021,{"$f":"IFERROR(VLOOKUP(Tabla_SERIEBM_01_6[[#This Row],[IdEstablecimiento]],[1]Establecimientos!A$1:E$175,5,FALSE),0)","v":"04301-OVALLE"},"200721","18020600","2021-12-17T09:40:57",2,2,0]
[11,"5",2021,{"$f":"IFERROR(VLOOKUP(Tabla_SERIEBM_01_6[[#This Row],[IdEstablecimiento]],[1]Establecimientos!A$1:E$175,5,FALSE),0)","v":"04301-OVALLE"},"200721","18020700","2021-12-17T09:40:57",6,6,0]
[11,"5",2021,{"$f":"IFERROR(VLOOKUP(Tabla_SERIEBM_01_6[[#This Row],[IdEstablecimiento]],[1]Establecimientos!A$1:E$175,5,FALSE),0)","v":"04301-OVALLE"},"200721","18030000","2021-12-17T09:40:57",19,19,0]
[11,"5",2021,{"$f":"IFERROR(VLOOKUP(Tabla_SERIEBM_01_6[[#This Row],[IdEstablecimiento]],[1]Establecimientos!A$1:E$175,5,FALSE),0)","v":"04301-OVALLE"},"200721","18040100","2021-12-17T09:40:57",19,null,19]
[11,"5",2021,{"$f":"IFERROR(VLOOKUP(Tabla_SERIEBM_01_6[[#This Row],[IdEstablecimiento]],[1]Establecimientos!A$1:E$175,5,FALSE),0)","v":"04301-OVALLE"},"200721","18050100","2021-12-17T09:40:57",69,69,0]
[11,"5",2021,{"$f":"IFERROR(VLOOKUP(Tabla_SERIEBM_01_6[[#This Row],[IdEstablecimiento]],[1]Establecimientos!A$1:E$175,5,FALSE),0)","v":"04301-OVALLE"},"200721","18050200","2021-12-17T09:40:57",283,283,0]
[11,"5",2021,{"$f":"IFERROR(VLOOKUP(Tabla_SERIEBM_01_6[[#This Row],[IdEstablecimiento]],[1]Establecimientos!A$1:E$175,5,FALSE),0)","v":"04301-OVALLE"},"200721","18700100","2021-12-17T09:40:57",139,28,90,21]
[11,"5",2021,{"$f":"IFERROR(VLOOKUP(Tabla_SERIEBM_01_6[[#This Row],[IdEstablecimiento]],[1]Establecimientos!A$1:E$175,5,FALSE),0)","v":"04105-PAIHUANO"},"200737","81602221","2021-12-17T09:41:19",7,7,null,null,7]
[11,"5",2021,{"$f":"IFERROR(VLOOKUP(Tabla_SERIEBM_01_6[[#This Row],[IdEstablecimiento]],[1]Establecimientos!A$1:E$175,5,FALSE),0)","v":"04105-PAIHUANO"},"200737","81602240","2021-12-17T09:41:19",1,1,null,null,1]
[11,"5",2021,{"$f":"IFERROR(VLOOKUP(Tabla_SERIEBM_01_6[[#This Row],[IdEstablecimiento]],[1]Establecimientos!A$1:E$175,5,FALSE),0)","v":"04105-PAIHUANO"},"200737","80106002","2021-12-17T09:41:19",12,12,null,null,12]
[11,"5",2021,{"$f":"IFERROR(VLOOKUP(Tabla_SERIEBM_01_6[[#This Row],[IdEstablecimiento]],[1]Establecimientos!A$1:E$175,5,FALSE),0)","v":"04105-PAIHUANO"},"200737","80106014","2021-12-17T09:41:19",86,86,null,null,86]
[11,"5",2021,{"$f":"IFERROR(VLOOKUP(Tabla_SERIEBM_01_6[[#This Row],[IdEstablecimiento]],[1]Establecimientos!A$1:E$175,5,FALSE),0)","v":"04105-PAIHUANO"},"200737","80106015","2021-12-17T09:41:19",5,5,null,null,5]
[11,"5",2021,{"$f":"IFERROR(VLOOKUP(Tabla_SERIEBM_01_6[[#This Row],[IdEstablecimiento]],[1]Establecimientos!A$1:E$175,5,FALSE),0)","v":"04105-PAIHUANO"},"200737","18030000","2021-12-17T09:41:19",8,8,0]
[11,"5",2021,{"$f":"IFERROR(VLOOKUP(Tabla_SERIEBM_01_6[[#This Row],[IdEstablecimiento]],[1]Establecimientos!A$1:E$175,5,FALSE),0)","v":"04105-PAIHUANO"},"200737","18040100","2021-12-17T09:41:19",8,3,5]
[11,"5",2021,{"$f":"IFERROR(VLOOKUP(Tabla_SERIEBM_01_6[[#This Row],[IdEstablecimiento]],[1]Establecimientos!A$1:E$175,5,FALSE),0)","v":"04105-PAIHUANO"},"200737","18050100","2021-12-17T09:41:19",12,12,0]
[11,"5",2021,{"$f":"IFERROR(VLOOKUP(Tabla_SERIEBM_01_6[[#This Row],[IdEstablecimiento]],[1]Establecimientos!A$1:E$175,5,FALSE),0)","v":"04301-OVALLE"},"200741","81701001","2021-12-17T09:43:37",15,15,null,null,15]
[11,"5",2021,{"$f":"IFERROR(VLOOKUP(Tabla_SERIEBM_01_6[[#This Row],[IdEstablecimiento]],[1]Establecimientos!A$1:E$175,5,FALSE),0)","v":"04301-OVALLE"},"200741","81701009","2021-12-17T09:43:37",10,10,null,null,10]
[11,"5",2021,{"$f":"IFERROR(VLOOKUP(Tabla_SERIEBM_01_6[[#This Row],[IdEstablecimiento]],[1]Establecimientos!A$1:E$175,5,FALSE),0)","v":"04301-OVALLE"},"200741","80106002","2021-12-17T09:43:37",13,13,null,null,13]
[11,"5",2021,{"$f":"IFERROR(VLOOKUP(Tabla_SERIEBM_01_6[[#This Row],[IdEstablecimiento]],[1]Establecimientos!A$1:E$175,5,FALSE),0)","v":"04301-OVALLE"},"200741","80106017","2021-12-17T09:43:37",2,2,null,null,2]
[11,"5",2021,{"$f":"IFERROR(VLOOKUP(Tabla_SERIEBM_01_6[[#This Row],[IdEstablecimiento]],[1]Establecimientos!A$1:E$175,5,FALSE),0)","v":"04301-OVALLE"},"200741","80106014","2021-12-17T09:43:37",111,111,null,null,111]
[11,"5",2021,{"$f":"IFERROR(VLOOKUP(Tabla_SERIEBM_01_6[[#This Row],[IdEstablecimiento]],[1]Establecimientos!A$1:E$175,5,FALSE),0)","v":"04301-OVALLE"},"200741","80106015","2021-12-17T09:43:37",44,44,null,null,44]
[11,"5",2021,{"$f":"IFERROR(VLOOKUP(Tabla_SERIEBM_01_6[[#This Row],[IdEstablecimiento]],[1]Establecimientos!A$1:E$175,5,FALSE),0)","v":"04301-OVALLE"},"200741","80106022","2021-12-17T09:43:37",2,2,null,null,2]
[11,"5",2021,{"$f":"IFERROR(VLOOKUP(Tabla_SERIEBM_01_6[[#This Row],[IdEstablecimiento]],[1]Establecimientos!A$1:E$175,5,FALSE),0)","v":"04301-OVALLE"},"200741","80500011","2021-12-17T09:43:37",6,6,null,null,6]
[11,"5",2021,{"$f":"IFERROR(VLOOKUP(Tabla_SERIEBM_01_6[[#This Row],[IdEstablecimiento]],[1]Establecimientos!A$1:E$175,5,FALSE),0)","v":"04301-OVALLE"},"200741","18020500","2021-12-17T09:43:37",25,25,0]
[11,"5",2021,{"$f":"IFERROR(VLOOKUP(Tabla_SERIEBM_01_6[[#This Row],[IdEstablecimiento]],[1]Establecimientos!A$1:E$175,5,FALSE),0)","v":"04301-OVALLE"},"200741","18050100","2021-12-17T09:43:37",13,13,0]
[11,"5",2021,{"$f":"IFERROR(VLOOKUP(Tabla_SERIEBM_01_6[[#This Row],[IdEstablecimiento]],[1]Establecimientos!A$1:E$175,5,FALSE),0)","v":"04301-OVALLE"},"200742","81301026","2021-12-17T09:44:18",0,{"$nulls":3},1]
[11,"5",2021,{"$f":"IFERROR(VLOOKUP(Tabla_SERIEBM_01_6[[#This Row],[IdEstablecimiento]],[1]Establecimientos!A$1:E$175,5,FALSE),0)","v":"04301-OVALLE"},"200742","81701001","2021-12-17T09:44:18",15,15,null,null,15]
[11,"5",2021,{"$f":"IFERROR(VLOOKUP(Tabla_SERIEBM_01_6[[#This Row],[IdEstablecimiento]],[1]Establecimientos!A$1:E$175,5,FALSE),0)","v":"04301-OVALLE"},"200742","80106002","2021-12-17T09:44:18",13,13,null,null,13]
[11,"5",2021,{"$f":"IFERROR(VLOOKUP(Tabla_SERIEBM_01_6[[#This Row],[IdEstablecimiento]],[1]Establecimientos!A$1:E$175,5,FALSE),0)","v":"04301-OVALLE"},"200742","80106017","2021-12-17T09:44:18",1,1,null,null,1]
[11,"5",2021,{"$f":"IFERROR(VLOOKUP(Tabla_SERIEBM_01_6[[#This Row],[IdEstablecimiento]],[1]Establecimientos!A$1:E$175,5,FALSE),0)","v":"04301-OVALLE"},"200742","80106013","2021-12-17T09:44:18",6,6,null,null,6]
[11,"5",2021,{"$f":"IFERROR(VLOOKUP(Tabla_SERIEBM_01_6[[#This Row],[IdEstablecimiento]],[1]Establecimientos!A$1:E$175,5,FALSE),0)","v":"04301-OVALLE"},"200742","80106014","2021-12-17T09:44:18",89,89,null,null,89]
[11,"5",2021,{"$f":"IFERROR(VLOOKUP(Tabla_SERIEBM_01_6[[#This Row],[IdEstablecimiento]],[1]Establecimientos!A$1:E$175,5,FALSE),0)","v":"04301-OVALLE"},"200742","80106015","2021-12-17T09:44:18",19,19,null,null,19]
[11,"5",2021,{"$f":"IFERROR(VLOOKUP(Tabla_SERIEBM_01_6[[#This Row],[IdEstablecimiento]],[1]Establecimientos!A$1:E$175,5,FALSE),0)","v":"04301-OVALLE"},"200742","80106020","2021-12-17T09:44:18",4,4,null,null,4]
[11,"5",2021,{"$f":"IFERROR(VLOOKUP(Tabla_SERIEBM_01_6[[#This Row],[IdEstablecimiento]],[1]Establecimientos!A$1:E$175,5,FALSE),0)","v":"04301-OVALLE"},"200742","80106021","2021-12-17T09:44:18",2,2,null,null,2]
[11,"5",2021,{"$f":"IFERROR(VLOOKUP(Tabla_SERIEBM_01_6[[#This Row],[IdEstablecimiento]],[1]Establecimientos!A$1:E$175,5,FALSE),0)","v":"04301-OVALLE"},"200742","80500011","2021-12-17T09:44:18",33,33,null,null,33]
[11,"5",2021,{"$f":"IFERROR(VLOOKUP(Tabla_SERIEBM_01_6[[#This Row],[IdEstablecimiento]],[1]Establecimientos!A$1:E$175,5,FALSE),0)","v":"04301-OVALLE"},"200742","18020500","2021-12-17T09:44:18",15,15,0]
[11,"5",2021,{"$f":"IFERROR(VLOOKUP(Tabla_SERIEBM_01_6[[#This Row],[IdEstablecimiento]],[1]Establecimientos!A$1:E$175,5,FALSE),0)","v":"04301-OVALLE"},"200742","18050100","2021-12-17T09:44:18",13,13,0]
[11,"5",2021,{"$f":"IFERROR(VLOOKUP(Tabla_SERIEBM_01_6[[#This Row],[IdEstablecimiento]],[1]Establecimientos!A$1:E$175,5,FALSE),0)","v":"04301-OVALLE"},"200742","18400700","2021-12-17T09:44:18",222]
[11,"5",2021,{"$f":"IFERROR(VLOOKUP(Tabla_SERIEBM_01_6[[#This Row],[IdEstablecimiento]],[1]Establecimientos!A$1:E$175,5,FALSE),0)","v":"04301-OVALLE"},"200742","18700100","2021-12-17T09:44:18",15,4,11]
[11,"5",2021,{"$f":"IFERROR(VLOOKUP(Tabla_SERIEBM_01_6[[#This Row],[IdEstablecimiento]],[1]Establecimientos!A$1:E$175,5,FALSE),0)","v":"04102-COQUIMBO"},"200848","81301025","2021-12-17T09:44:44",4,4,null,4]
[11,"5",2021,{"$f":"IFERROR(VLOOKUP(Tabla_SERIEBM_01_6[[#This Row],[IdEstablecimiento]],[1]Establecimientos!A$1:E$175,5,FALSE),0)","v":"04102-COQUIMBO"},"200848","81301030","2021-12-17T09:44:44",1,1,null,1]
[11,"5",2021,{"$f":"IFERROR(VLOOKUP(Tabla_SERIEBM_01_6[[#This Row],[IdEstablecimiento]],[1]Establecimientos!A$1:E$175,5,FALSE),0)","v":"04102-COQUIMBO"},"200848","81701001","2021-12-17T09:44:44",45,45,null,null,45,45]
[11,"5",2021,{"$f":"IFERROR(VLOOKUP(Tabla_SERIEBM_01_6[[#This Row],[IdEstablecimiento]],[1]Establecimientos!A$1:E$175,5,FALSE),0)","v":"04102-COQUIMBO"},"200848","81701009","2021-12-17T09:44:44",9,9,null,null,9]
[11,"5",2021,{"$f":"IFERROR(VLOOKUP(Tabla_SERIEBM_01_6[[#This Row],[IdEstablecimiento]],[1]Establecimientos!A$1:E$175,5,FALSE),0)","v":"04102-COQUIMBO"},"200848","81707030","2021-12-17T09:44:44",20,20,null,null,20]
[11,"5",2021,{"$f":"IFERROR(VLOOKUP(Tabla_SERIEBM_01_6[[#This Row],[IdEstablecimiento]],[1]Establecimientos!A$1:E$175,5,FALSE),0)","v":"04102-COQUIMBO"},"200848","81901019","2021-12-17T09:44:44",1,1,null,null,1]
[11,"5",2021,{"$f":"IFERROR(VLOOKUP(Tabla_SERIEBM_01_6[[#This Row],[IdEstablecimiento]],[1]Establecimientos!A$1:E$175,5,FALSE),0)","v":"04102-COQUIMBO"},"200848","81602221","2021-12-17T09:44:44",1,1,null,1]
[11,"5",2021,{"$f":"IFERROR(VLOOKUP(Tabla_SERIEBM_01_6[[#This Row],[IdEstablecimiento]],[1]Establecimientos!A$1:E$175,5,FALSE),0)","v":"04102-COQUIMBO"},"200848","81602222","2021-12-17T09:44:44",14,14,null,null,14]
[11,"5",2021,{"$f":"IFERROR(VLOOKUP(Tabla_SERIEBM_01_6[[#This Row],[IdEstablecimiento]],[1]Establecimientos!A$1:E$175,5,FALSE),0)","v":"04102-COQUIMBO"},"200848","80106002","2021-12-17T09:44:44",33,33,null,null,33]
[11,"5",2021,{"$f":"IFERROR(VLOOKUP(Tabla_SERIEBM_01_6[[#This Row],[IdEstablecimiento]],[1]Establecimientos!A$1:E$175,5,FALSE),0)","v":"04102-COQUIMBO"},"200848","80106006","2021-12-17T09:44:44",2,2,null,null,2]
[11,"5",2021,{"$f":"IFERROR(VLOOKUP(Tabla_SERIEBM_01_6[[#This Row],[IdEstablecimiento]],[1]Establecimientos!A$1:E$175,5,FALSE),0)","v":"04102-COQUIMBO"},"200848","80106017","2021-12-17T09:44:44",5,5,null,null,5]
[11,"5",2021,{"$f":"IFERROR(VLOOKUP(Tabla_SERIEBM_01_6[[#This Row],[IdEstablecimiento]],[1]Establecimientos!A$1:E$175,5,FALSE),0)","v":"04102-COQUIMBO"},"200848","80106010","2021-12-17T09:44:44",2,2,null,2]
[11,"5",2021,{"$f":"IFERROR(VLOOKUP(Tabla_SERIEBM_01_6[[#This Row],[IdEstablecimiento]],[1]Establecimientos!A$1:E$175,5,FALSE),0)","v":"04102-COQUIMBO"},"200848","80106013","2021-12-17T09:44:44",5,5,null,5]
[11,"5",2021,{"$f":"IFERROR(VLOOKUP(Tabla_SERIEBM_01_6[[#This Row],[IdEstablecimiento]],[1]Establecimientos!A$1:E$175,5,FALSE),0)","v":"04102-COQUIMBO"},"200848","80106014","2021-12-17T09:44:44",2372,2372,null,null,2372]
[11,"5",2021,{"$f":"IFERROR(VLOOKUP(Tabla_SERIEBM_01_6[[#This Row],[IdEstablecimiento]],[1]Establecimientos!A$1:E$175,5,FALSE),0)","v":"04102-COQUIMBO"},"200848","80106015","2021-12-17T09:44:44",119,119,null,null,119]
[11,"5",2021,{"$f":"IFERROR(VLOOKUP(Tabla_SERIEBM_01_6[[#This Row],[IdEstablecimiento]],[1]Establecimientos!A$1:E$175,5,FALSE),0)","v":"04102-COQUIMBO"},"200848","80106022","2021-12-17T09:44:44",1,1,null,null,1]
[11,"5",2021,{"$f":"IFERROR(VLOOKUP(Tabla_SERIEBM_01_6[[#This Row],[IdEstablecimiento]],[1]Establecimientos!A$1:E$175,5,FALSE),0)","v":"04102-COQUIMBO"},"200848","80500011","2021-12-17T09:44:44",139,139,null,null,139]
[11,"5",2021,{"$f":"IFERROR(VLOOKUP(Tabla_SERIEBM_01_6[[#This Row],[IdEstablecimiento]],[1]Establecimientos!A$1:E$175,5,FALSE),0)","v":"04102-COQUIMBO"},"200848","18020200","2021-12-17T09:44:44",5,5,0]
[11,"5",2021,{"$f":"IFERROR(VLOOKUP(Tabla_SERIEBM_01_6[[#This Row],[IdEstablecimiento]],[1]Establecimientos!A$1:E$175,5,FALSE),0)","v":"04102-COQUIMBO"},"200848","18020300","2021-12-17T09:44:44",20,20,0]
[11,"5",2021,{"$f":"IFERROR(VLOOKUP(Tabla_SERIEBM_01_6[[#This Row],[IdEstablecimiento]],[1]Establecimientos!A$1:E$175,5,FALSE),0)","v":"04102-COQUIMBO"},"200848","18020500","2021-12-17T09:44:44",54,54,0]
[11,"5",2021,{"$f":"IFERROR(VLOOKUP(Tabla_SERIEBM_01_6[[#This Row],[IdEstablecimiento]],[1]Establecimientos!A$1:E$175,5,FALSE),0)","v":"04102-COQUIMBO"},"200848","18020700","2021-12-17T09:44:44",1,1,0]
[11,"5",2021,{"$f":"IFERROR(VLOOKUP(Tabla_SERIEBM_01_6[[#This Row],[IdEstablecimiento]],[1]Establecimientos!A$1:E$175,5,FALSE),0)","v":"04102-COQUIMBO"},"200848","18030000","2021-12-17T09:44:44",15,15,0]
[11,"5",2021,{"$f":"IFERROR(VLOOKUP(Tabla_SERIEBM_01_6[[#This Row],[IdEstablecimiento]],[1]Establecimientos!A$1:E$175,5,FALSE),0)","v":"04102-COQUIMBO"},"200848","18040100","2021-12-17T09:44:44",15,null,15]
[11,"5",2021,{"$f":"IFERROR(VLOOKUP(Tabla_SERIEBM_01_6[[#This Row],[IdEstablecimiento]],[1]Establecimientos!A$1:E$175,5,FALSE),0)","v":"04102-COQUIMBO"},"200848","18050100","2021-12-17T09:44:44",33,33,0]
[11,"5",2021,{"$f":"IFERROR(VLOOKUP(Tabla_SERIEBM_01_6[[#This Row],[IdEstablecimiento]],[1]Establecimientos!A$1:E$175,5,FALSE),0)","v":"04102-COQUIMBO"},"200848","18050300","2021-12-17T09:44:44",2,2,0]
[11,"5",2021,{"$f":"IFERROR(VLOOKUP(Tabla_SERIEBM_01_6[[#This Row],[IdEstablecimiento]],[1]Establecimientos!A$1:E$175,5,FALSE),0)","v":"04102-COQUIMBO"},"200848","18400700","2021-12-17T09:44:44",1933]
[11,"5",2021,{"$f":"IFERROR(VLOOKUP(Tabla_SERIEBM_01_6[[#This Row],[IdEstablecimiento]],[1]Establecimientos!A$1:E$175,5,FALSE),0)","v":"04102-COQUIMBO"},"200848","18700100","2021-12-17T09:44:44",333,97,221,15]
[11,"5",2021,{"$f":"IFERROR(VLOOKUP(Tabla_SERIEBM_01_6[[#This Row],[IdEstablecimiento]],[1]Establecimientos!A$1:E$175,5,FALSE),0)","v":"04102-COQUIMBO"},"200848","18700230","2021-12-17T09:44:44",57,19,35,3,57,4,53]
[11,"5",2021,{"$f":"IFERROR(VLOOKUP(Tabla_SERIEBM_01_6[[#This Row],[IdEstablecimiento]],[1]Establecimientos!A$1:E$175,5,FALSE),0)","v":0},"200928","81701001","2021-12-17T09:45:04",49,49,null,null,49,49]
[11,"5",2021,{"$f":"IFERROR(VLOOKUP(Tabla_SERIEBM_01_6[[#This Row],[IdEstablecimiento]],[1]Establecimientos!A$1:E$175,5,FALSE),0)","v":0},"200928","81707030","2021-12-17T09:45:04",1,1,null,null,1]
[11,"5",2021,{"$f":"IFERROR(VLOOKUP(Tabla_SERIEBM_01_6[[#This Row],[IdEstablecimiento]],[1]Establecimientos!A$1:E$175,5,FALSE),0)","v":0},"200928","81602221","2021-12-17T09:45:04",7,7,null,7]
[11,"5",2021,{"$f":"IFERROR(VLOOKUP(Tabla_SERIEBM_01_6[[#This Row],[IdEstablecimiento]],[1]Establecimientos!A$1:E$175,5,FALSE),0)","v":0},"200928","81602222","2021-12-17T09:45:04",24,24,null,24]
[11,"5",2021,{"$f":"IFERROR(VLOOKUP(Tabla_SERIEBM_01_6[[#This Row],[IdEstablecimiento]],[1]Establecimientos!A$1:E$175,5,FALSE),0)","v":0},"200928","81602242","2021-12-17T09:45:04",2,2,null,2]
[11,"5",2021,{"$f":"IFERROR(VLOOKUP(Tabla_SERIEBM_01_6[[#This Row],[IdEstablecimiento]],[1]Establecimientos!A$1:E$175,5,FALSE),0)","v":0},"200928","80106002","2021-12-17T09:45:04",30,30,null,null,30]
[11,"5",2021,{"$f":"IFERROR(VLOOKUP(Tabla_SERIEBM_01_6[[#This Row],[IdEstablecimiento]],[1]Establecimientos!A$1:E$175,5,FALSE),0)","v":0},"200928","80106017","2021-12-17T09:45:04",8,8,null,null,8]
[11,"5",2021,{"$f":"IFERROR(VLOOKUP(Tabla_SERIEBM_01_6[[#This Row],[IdEstablecimiento]],[1]Establecimientos!A$1:E$175,5,FALSE),0)","v":0},"200928","80106013","2021-12-17T09:45:04",9,9,null,null,9]
[11,"5",2021,{"$f":"IFERROR(VLOOKUP(Tabla_SERIEBM_01_6[[#This Row],[IdEstablecimiento]],[1]Establecimientos!A$1:E$175,5,FALSE),0)","v":0},"200928","80106014","2021-12-17T09:45:04",767,767,null,null,767]
[11,"5",2021,{"$f":"IFERROR(VLOOKUP(Tabla_SERIEBM_01_6[[#This Row],[IdEstablecimiento]],[1]Establecimientos!A$1:E$175,5,FALSE),0)","v":0},"200928","80106015","2021-12-17T09:45:04",172,172,null,null,172]
[11,"5",2021,{"$f":"IFERROR(VLOOKUP(Tabla_SERIEBM_01_6[[#This Row],[IdEstablecimiento]],[1]Establecimientos!A$1:E$175,5,FALSE),0)","v":0},"200928","80106020","2021-12-17T09:45:04",6,6,null,null,6]
[11,"5",2021,{"$f":"IFERROR(VLOOKUP(Tabla_SERIEBM_01_6[[#This Row],[IdEstablecimiento]],[1]Establecimientos!A$1:E$175,5,FALSE),0)","v":0},"200928","80106022","2021-12-17T09:45:04",2,2,null,null,2]
[11,"5",2021,{"$f":"IFERROR(VLOOKUP(Tabla_SERIEBM_01_6[[#This Row],[IdEstablecimiento]],[1]Establecimientos!A$1:E$175,5,FALSE),0)","v":0},"200928","80500011","2021-12-17T09:45:04",174,174,null,null,174]
[11,"5",2021,{"$f":"IFERROR(VLOOKUP(Tabla_SERIEBM_01_6[[#This Row],[IdEstablecimiento]],[1]Establecimientos!A$1:E$175,5,FALSE),0)","v":0},"200928","18020300","2021-12-17T09:45:04",1,1,0]
[11,"5",2021,{"$f":"IFERROR(VLOOKUP(Tabla_SERIEBM_01_6[[#This Row],[IdEstablecimiento]],[1]Establecimientos!A$1:E$175,5,FALSE),0)","v":0},"200928","18020500","2021-12-17T09:45:04",49,49,0]
[11,"5",2021,{"$f":"IFERROR(VLOOKUP(Tabla_SERIEBM_01_6[[#This Row],[IdEstablecimiento]],[1]Establecimientos!A$1:E$175,5,FALSE),0)","v":0},"200928","18030000","2021-12-17T09:45:04",33,33,0]
[11,"5",2021,{"$f":"IFERROR(VLOOKUP(Tabla_SERIEBM_01_6[[#This Row],[IdEstablecimiento]],[1]Establecimientos!A$1:E$175,5,FALSE),0)","v":0},"200928","18040100","2021-12-17T09:45:04",33,6,27]
[11,"5",2021,{"$f":"IFERROR(VLOOKUP(Tabla_SERIEBM_01_6[[#This Row],[IdEstablecimiento]],[1]Establecimientos!A$1:E$175,5,FALSE),0)","v":0},"200928","18050100","2021-12-17T09:45:04",30,30,0]
[11,"5",2021,{"$f":"IFERROR(VLOOKUP(Tabla_SERIEBM_01_6[[#This Row],[IdEstablecimiento]],[1]Establecimientos!A$1:E$175,5,FALSE),0)","v":0},"200928","18400700","2021-12-17T09:45:04",1888]
[11,"5",2021,{"$f":"IFERROR(VLOOKUP(Tabla_SERIEBM_01_6[[#This Row],[IdEstablecimiento]],[1]Establecimientos!A$1:E$175,5,FALSE),0)","v":"04201-ILLAPEL"},"105445","80302047","2021-12-17T10:32:48",0,null,null,11]
[11,"5",2021,{"$f":"IFERROR(VLOOKUP(Tabla_SERIEBM_01_6[[#This Row],[IdEstablecimiento]],[1]Establecimientos!A$1:E$175,5,FALSE),0)","v":"04201-ILLAPEL"},"105445","80302057","2021-12-17T10:32:48",0,null,null,11]
[11,"5",2021,{"$f":"IFERROR(VLOOKUP(Tabla_SERIEBM_01_6[[#This Row],[IdEstablecimiento]],[1]Establecimientos!A$1:E$175,5,FALSE),0)","v":"04201-ILLAPEL"},"105445","80303024","2021-12-17T10:32:48",0,null,null,8]
[11,"5",2021,{"$f":"IFERROR(VLOOKUP(Tabla_SERIEBM_01_6[[#This Row],[IdEstablecimiento]],[1]Establecimientos!A$1:E$175,5,FALSE),0)","v":"04201-ILLAPEL"},"105445","80301036","2021-12-17T10:32:48",0,null,null,8]
[11,"5",2021,{"$f":"IFERROR(VLOOKUP(Tabla_SERIEBM_01_6[[#This Row],[IdEstablecimiento]],[1]Establecimientos!A$1:E$175,5,FALSE),0)","v":"04201-ILLAPEL"},"105445","80301041","2021-12-17T10:32:48",0,null,null,3]
[11,"5",2021,{"$f":"IFERROR(VLOOKUP(Tabla_SERIEBM_01_6[[#This Row],[IdEstablecimiento]],[1]Establecimientos!A$1:E$175,5,FALSE),0)","v":"04201-ILLAPEL"},"105445","80301045","2021-12-17T10:32:48",0,null,null,4]
[11,"5",2021,{"$f":"IFERROR(VLOOKUP(Tabla_SERIEBM_01_6[[#This Row],[IdEstablecimiento]],[1]Establecimientos!A$1:E$175,5,FALSE),0)","v":"04201-ILLAPEL"},"105445","80302023","2021-12-17T10:32:48",0,null,null,11]
[11,"5",2021,{"$f":"IFERROR(VLOOKUP(Tabla_SERIEBM_01_6[[#This Row],[IdEstablecimiento]],[1]Establecimientos!A$1:E$175,5,FALSE),0)","v":"04201-ILLAPEL"},"105445","80302034","2021-12-17T10:32:48",0,null,null,11]
[11,"5",2021,{"$f":"IFERROR(VLOOKUP(Tabla_SERIEBM_01_6[[#This Row],[IdEstablecimiento]],[1]Establecimientos!A$1:E$175,5,FALSE),0)","v":"04201-ILLAPEL"},"105445","80306042","2021-12-17T10:32:48",0,null,null,1]
[11,"5",2021,{"$f":"IFERROR(VLOOKUP(Tabla_SERIEBM_01_6[[#This Row],[IdEstablecimiento]],[1]Establecimientos!A$1:E$175,5,FALSE),0)","v":"04201-ILLAPEL"},"105445","80306061","2021-12-17T10:32:48",0,null,null,1]
[11,"5",2021,{"$f":"IFERROR(VLOOKUP(Tabla_SERIEBM_01_6[[#This Row],[IdEstablecimiento]],[1]Establecimientos!A$1:E$175,5,FALSE),0)","v":"04201-ILLAPEL"},"105445","80309010","2021-12-17T10:32:48",0,null,null,3]
[11,"5",2021,{"$f":"IFERROR(VLOOKUP(Tabla_SERIEBM_01_6[[#This Row],[IdEstablecimiento]],[1]Establecimientos!A$1:E$175,5,FALSE),0)","v":"04201-ILLAPEL"},"105445","80309023","2021-12-17T10:32:48",0,null,null,9]
[11,"5",2021,{"$f":"IFERROR(VLOOKUP(Tabla_SERIEBM_01_6[[#This Row],[IdEstablecimiento]],[1]Establecimientos!A$1:E$175,5,FALSE),0)","v":"04201-ILLAPEL"},"105445","81701001","2021-12-17T10:32:48",12,null,12,null,12]
[11,"5",2021,{"$f":"IFERROR(VLOOKUP(Tabla_SERIEBM_01_6[[#This Row],[IdEstablecimiento]],[1]Establecimientos!A$1:E$175,5,FALSE),0)","v":"04201-ILLAPEL"},"105445","81701009","2021-12-17T10:32:48",16,null,16,null,16]
[11,"5",2021,{"$f":"IFERROR(VLOOKUP(Tabla_SERIEBM_01_6[[#This Row],[IdEstablecimiento]],[1]Establecimientos!A$1:E$175,5,FALSE),0)","v":"04201-ILLAPEL"},"105445","80106002","2021-12-17T10:32:48",26,null,26,null,26]
[11,"5",2021,{"$f":"IFERROR(VLOOKUP(Tabla_SERIEBM_01_6[[#This Row],[IdEstablecimiento]],[1]Establecimientos!A$1:E$175,5,FALSE),0)","v":"04201-ILLAPEL"},"105445","80106017","2021-12-17T10:32:48",2,null,2,null,2]
[11,"5",2021,{"$f":"IFERROR(VLOOKUP(Tabla_SERIEBM_01_6[[#This Row],[IdEstablecimiento]],[1]Establecimientos!A$1:E$175,5,FALSE),0)","v":"04201-ILLAPEL"},"105445","80106013","2021-12-17T10:32:48",2,null,2,null,2]
[11,"5",2021,{"$f":"IFERROR(VLOOKUP(Tabla_SERIEBM_01_6[[#This Row],[IdEstablecimiento]],[1]Establecimientos!A$1:E$175,5,FALSE),0)","v":"04201-ILLAPEL"},"105445","80106014","2021-12-17T10:32:48",168,null,168,null,168]
[11,"5",2021,{"$f":"IFERROR(VLOOKUP(Tabla_SERIEBM_01_6[[#This Row],[IdEstablecimiento]],[1]Establecimientos!A$1:E$175,5,FALSE),0)","v":"04201-ILLAPEL"},"105445","80106015","2021-12-17T10:32:48",5,null,5,null,5]
[11,"5",2021,{"$f":"IFERROR(VLOOKUP(Tabla_SERIEBM_01_6[[#This Row],[IdEstablecimiento]],[1]Establecimientos!A$1:E$175,5,FALSE),0)","v":"04201-ILLAPEL"},"105445","80106020","2021-12-17T10:32:48",3,null,3,null,3]
[11,"5",2021,{"$f":"IFERROR(VLOOKUP(Tabla_SERIEBM_01_6[[#This Row],[IdEstablecimiento]],[1]Establecimientos!A$1:E$175,5,FALSE),0)","v":"04201-ILLAPEL"},"105445","80106023","2021-12-17T10:32:48",6,null,6,null,6]
[11,"5",2021,{"$f":"IFERROR(VLOOKUP(Tabla_SERIEBM_01_6[[#This Row],[IdEstablecimiento]],[1]Establecimientos!A$1:E$175,5,FALSE),0)","v":"04201-ILLAPEL"},"105445","80307011","2021-12-17T10:32:48",0,null,null,14]
[11,"5",2021,{"$f":"IFERROR(VLOOKUP(Tabla_SERIEBM_01_6[[#This Row],[IdEstablecimiento]],[1]Establecimientos!A$1:E$175,5,FALSE),0)","v":"04201-ILLAPEL"},"105445","18020500","2021-12-17T10:32:48",28,0,28]
[11,"5",2021,{"$f":"IFERROR(VLOOKUP(Tabla_SERIEBM_01_6[[#This Row],[IdEstablecimiento]],[1]Establecimientos!A$1:E$175,5,FALSE),0)","v":"04302-COMBARBALÁ"},"105459","18090000","2021-12-17T08:55:44",14,0,14]
[11,"5",2021,{"$f":"IFERROR(VLOOKUP(Tabla_SERIEBM_01_6[[#This Row],[IdEstablecimiento]],[1]Establecimientos!A$1:E$175,5,FALSE),0)","v":"04302-COMBARBALÁ"},"105459","18050100","2021-12-17T08:55:44",6,0,6]
[11,"5",2021,{"$f":"IFERROR(VLOOKUP(Tabla_SERIEBM_01_6[[#This Row],[IdEstablecimiento]],[1]Establecimientos!A$1:E$175,5,FALSE),0)","v":"04302-COMBARBALÁ"},"105459","18070300","2021-12-17T08:55:44",14,{"$nulls":4},7,7]
[11,"5",2021,{"$f":"IFERROR(VLOOKUP(Tabla_SERIEBM_01_6[[#This Row],[IdEstablecimiento]],[1]Establecimientos!A$1:E$175,5,FALSE),0)","v":"04302-COMBARBALÁ"},"105459","18700100","2021-12-17T08:55:44",33,5,22,6]
[11,"5",2021,{"$f":"IFERROR(VLOOKUP(Tabla_SERIEBM_01_6[[#This Row],[IdEstablecimiento]],[1]Establecimientos!A$1:E$175,5,FALSE),0)","v":"04105-PAIHUANO"},"105477","81602221","2021-12-17T09:06:23",6,null,6,null,6]
[11,"5",2021,{"$f":"IFERROR(VLOOKUP(Tabla_SERIEBM_01_6[[#This Row],[IdEstablecimiento]],[1]Establecimientos!A$1:E$175,5,FALSE),0)","v":"04105-PAIHUANO"},"105477","80106002","2021-12-17T09:06:23",43,null,43,null,43]
[11,"5",2021,{"$f":"IFERROR(VLOOKUP(Tabla_SERIEBM_01_6[[#This Row],[IdEstablecimiento]],[1]Establecimientos!A$1:E$175,5,FALSE),0)","v":"04105-PAIHUANO"},"105477","80106013","2021-12-17T09:06:23",4,null,4,null,4]
[11,"5",2021,{"$f":"IFERROR(VLOOKUP(Tabla_SERIEBM_01_6[[#This Row],[IdEstablecimiento]],[1]Establecimientos!A$1:E$175,5,FALSE),0)","v":"04105-PAIHUANO"},"105477","80106014","2021-12-17T09:06:23",177,null,177,null,177]
[11,"5",2021,{"$f":"IFERROR(VLOOKUP(Tabla_SERIEBM_01_6[[#This Row],[IdEstablecimiento]],[1]Establecimientos!A$1:E$175,5,FALSE),0)","v":"04105-PAIHUANO"},"105477","80106015","2021-12-17T09:06:23",24,null,24,null,24]
[11,"5",2021,{"$f":"IFERROR(VLOOKUP(Tabla_SERIEBM_01_6[[#This Row],[IdEstablecimiento]],[1]Establecimientos!A$1:E$175,5,FALSE),0)","v":"04105-PAIHUANO"},"105477","80106022","2021-12-17T09:06:23",1,null,1,null,1]
[11,"5",2021,{"$f":"IFERROR(VLOOKUP(Tabla_SERIEBM_01_6[[#This Row],[IdEstablecimiento]],[1]Establecimientos!A$1:E$175,5,FALSE),0)","v":"04105-PAIHUANO"},"105477","80106023","2021-12-17T09:06:23",15,null,15,null,15]
[11,"5",2021,{"$f":"IFERROR(VLOOKUP(Tabla_SERIEBM_01_6[[#This Row],[IdEstablecimiento]],[1]Establecimientos!A$1:E$175,5,FALSE),0)","v":"04105-PAIHUANO"},"105477","80307011","2021-12-17T09:06:23",91,null,91]
[11,"5",2021,{"$f":"IFERROR(VLOOKUP(Tabla_SERIEBM_01_6[[#This Row],[IdEstablecimiento]],[1]Establecimientos!A$1:E$175,5,FALSE),0)","v":"04105-PAIHUANO"},"105477","80500011","2021-12-17T09:06:23",8,null,8,null,8]
[11,"5",2021,{"$f":"IFERROR(VLOOKUP(Tabla_SERIEBM_01_6[[#This Row],[IdEstablecimiento]],[1]Establecimientos!A$1:E$175,5,FALSE),0)","v":"04105-PAIHUANO"},"105477","18020500","2021-12-17T09:06:23",9,0,9]
[11,"5",2021,{"$f":"IFERROR(VLOOKUP(Tabla_SERIEBM_01_6[[#This Row],[IdEstablecimiento]],[1]Establecimientos!A$1:E$175,5,FALSE),0)","v":"04105-PAIHUANO"},"105477","18030000","2021-12-17T09:06:23",6,0,6]
[11,"5",2021,{"$f":"IFERROR(VLOOKUP(Tabla_SERIEBM_01_6[[#This Row],[IdEstablecimiento]],[1]Establecimientos!A$1:E$175,5,FALSE),0)","v":"04105-PAIHUANO"},"105477","18040200","2021-12-17T09:06:23",6,null,6]
[11,"5",2021,{"$f":"IFERROR(VLOOKUP(Tabla_SERIEBM_01_6[[#This Row],[IdEstablecimiento]],[1]Establecimientos!A$1:E$175,5,FALSE),0)","v":"04105-PAIHUANO"},"105477","18090000","2021-12-17T09:06:23",15,0,15]
[11,"5",2021,{"$f":"IFERROR(VLOOKUP(Tabla_SERIEBM_01_6[[#This Row],[IdEstablecimiento]],[1]Establecimientos!A$1:E$175,5,FALSE),0)","v":"04105-PAIHUANO"},"105477","18050100","2021-12-17T09:06:23",43,0,43]
[11,"5",2021,{"$f":"IFERROR(VLOOKUP(Tabla_SERIEBM_01_6[[#This Row],[IdEstablecimiento]],[1]Establecimientos!A$1:E$175,5,FALSE),0)","v":"04105-PAIHUANO"},"105477","18400700","2021-12-17T09:06:23",527]
[11,"5",2021,{"$f":"IFERROR(VLOOKUP(Tabla_SERIEBM_01_6[[#This Row],[IdEstablecimiento]],[1]Establecimientos!A$1:E$175,5,FALSE),0)","v":"04203-LOS VILOS"},"105478","80302047","2021-12-17T09:06:42",0,null,null,35]
[11,"5",2021,{"$f":"IFERROR(VLOOKUP(Tabla_SERIEBM_01_6[[#This Row],[IdEstablecimiento]],[1]Establecimientos!A$1:E$175,5,FALSE),0)","v":"04203-LOS VILOS"},"105478","80302057","2021-12-17T09:06:42",0,null,null,62]
[11,"5",2021,{"$f":"IFERROR(VLOOKUP(Tabla_SERIEBM_01_6[[#This Row],[IdEstablecimiento]],[1]Establecimientos!A$1:E$175,5,FALSE),0)","v":"04102-COQUIMBO"},"200494","80302040","2021-12-17T09:38:50",0,null,null,16]
[11,"5",2021,{"$f":"IFERROR(VLOOKUP(Tabla_SERIEBM_01_6[[#This Row],[IdEstablecimiento]],[1]Establecimientos!A$1:E$175,5,FALSE),0)","v":"04102-COQUIMBO"},"200494","80305070","2021-12-17T09:38:50",0,null,null,11]
[11,"5",2021,{"$f":"IFERROR(VLOOKUP(Tabla_SERIEBM_01_6[[#This Row],[IdEstablecimiento]],[1]Establecimientos!A$1:E$175,5,FALSE),0)","v":"04102-COQUIMBO"},"200494","80305019","2021-12-17T09:38:50",0,null,null,10]
[11,"5",2021,{"$f":"IFERROR(VLOOKUP(Tabla_SERIEBM_01_6[[#This Row],[IdEstablecimiento]],[1]Establecimientos!A$1:E$175,5,FALSE),0)","v":"04102-COQUIMBO"},"200494","80306002","2021-12-17T09:38:50",0,null,null,9]
[11,"5",2021,{"$f":"IFERROR(VLOOKUP(Tabla_SERIEBM_01_6[[#This Row],[IdEstablecimiento]],[1]Establecimientos!A$1:E$175,5,FALSE),0)","v":"04102-COQUIMBO"},"200494","80306011","2021-12-17T09:38:50",0,null,null,101]
[11,"5",2021,{"$f":"IFERROR(VLOOKUP(Tabla_SERIEBM_01_6[[#This Row],[IdEstablecimiento]],[1]Establecimientos!A$1:E$175,5,FALSE),0)","v":"04102-COQUIMBO"},"200494","80306042","2021-12-17T09:38:50",0,null,null,67]
[11,"5",2021,{"$f":"IFERROR(VLOOKUP(Tabla_SERIEBM_01_6[[#This Row],[IdEstablecimiento]],[1]Establecimientos!A$1:E$175,5,FALSE),0)","v":"04102-COQUIMBO"},"200494","80306061","2021-12-17T09:38:50",0,null,null,18]
[11,"5",2021,{"$f":"IFERROR(VLOOKUP(Tabla_SERIEBM_01_6[[#This Row],[IdEstablecimiento]],[1]Establecimientos!A$1:E$175,5,FALSE),0)","v":"04102-COQUIMBO"},"200494","80306169","2021-12-17T09:38:50",0,null,null,43]
[11,"5",2021,{"$f":"IFERROR(VLOOKUP(Tabla_SERIEBM_01_6[[#This Row],[IdEstablecimiento]],[1]Establecimientos!A$1:E$175,5,FALSE),0)","v":"04102-COQUIMBO"},"200494","80308004","2021-12-17T09:38:50",0,null,null,3]
[11,"5",2021,{"$f":"IFERROR(VLOOKUP(Tabla_SERIEBM_01_6[[#This Row],[IdEstablecimiento]],[1]Establecimientos!A$1:E$175,5,FALSE),0)","v":"04102-COQUIMBO"},"200494","80308005","2021-12-17T09:38:50",0,null,null,1]
[11,"5",2021,{"$f":"IFERROR(VLOOKUP(Tabla_SERIEBM_01_6[[#This Row],[IdEstablecimiento]],[1]Establecimientos!A$1:E$175,5,FALSE),0)","v":"04102-COQUIMBO"},"200494","80309010","2021-12-17T09:38:50",0,null,null,149]
[11,"5",2021,{"$f":"IFERROR(VLOOKUP(Tabla_SERIEBM_01_6[[#This Row],[IdEstablecimiento]],[1]Establecimientos!A$1:E$175,5,FALSE),0)","v":"04102-COQUIMBO"},"200494","80309013","2021-12-17T09:38:50",0,null,null,149]
[11,"5",2021,{"$f":"IFERROR(VLOOKUP(Tabla_SERIEBM_01_6[[#This Row],[IdEstablecimiento]],[1]Establecimientos!A$1:E$175,5,FALSE),0)","v":"04102-COQUIMBO"},"200494","80309022","2021-12-17T09:38:50",0,null,null,260]
[11,"5",2021,{"$f":"IFERROR(VLOOKUP(Tabla_SERIEBM_01_6[[#This Row],[IdEstablecimiento]],[1]Establecimientos!A$1:E$175,5,FALSE),0)","v":"04102-COQUIMBO"},"200494","80309028","2021-12-17T09:38:50",0,null,null,1]
[11,"5",2021,{"$f":"IFERROR(VLOOKUP(Tabla_SERIEBM_01_6[[#This Row],[IdEstablecimiento]],[1]Establecimientos!A$1:E$175,5,FALSE),0)","v":"04102-COQUIMBO"},"200494","80401070","2021-12-17T09:38:50",0,null,null,6]
[11,"5",2021,{"$f":"IFERROR(VLOOKUP(Tabla_SERIEBM_01_6[[#This Row],[IdEstablecimiento]],[1]Establecimientos!A$1:E$175,5,FALSE),0)","v":"04102-COQUIMBO"},"200494","80401010","2021-12-17T09:38:50",0,null,null,50]
[11,"5",2021,{"$f":"IFERROR(VLOOKUP(Tabla_SERIEBM_01_6[[#This Row],[IdEstablecimiento]],[1]Establecimientos!A$1:E$175,5,FALSE),0)","v":"04102-COQUIMBO"},"200494","80401151","2021-12-17T09:38:50",0,null,null,17]
[11,"5",2021,{"$f":"IFERROR(VLOOKUP(Tabla_SERIEBM_01_6[[#This Row],[IdEstablecimiento]],[1]Establecimientos!A$1:E$175,5,FALSE),0)","v":"04203-LOS VILOS"},"105479","80303024","2021-12-17T09:07:39",0,null,null,13]
[11,"5",2021,{"$f":"IFERROR(VLOOKUP(Tabla_SERIEBM_01_6[[#This Row],[IdEstablecimiento]],[1]Establecimientos!A$1:E$175,5,FALSE),0)","v":"04203-LOS VILOS"},"105479","80303026","2021-12-17T09:07:39",0,null,null,6]
[11,"5",2021,{"$f":"IFERROR(VLOOKUP(Tabla_SERIEBM_01_6[[#This Row],[IdEstablecimiento]],[1]Establecimientos!A$1:E$175,5,FALSE),0)","v":"04203-LOS VILOS"},"105479","80301041","2021-12-17T09:07:39",0,null,null,8]
[11,"5",2021,{"$f":"IFERROR(VLOOKUP(Tabla_SERIEBM_01_6[[#This Row],[IdEstablecimiento]],[1]Establecimientos!A$1:E$175,5,FALSE),0)","v":"04203-LOS VILOS"},"105479","80301045","2021-12-17T09:07:39",0,null,null,13]
[11,"5",2021,{"$f":"IFERROR(VLOOKUP(Tabla_SERIEBM_01_6[[#This Row],[IdEstablecimiento]],[1]Establecimientos!A$1:E$175,5,FALSE),0)","v":"04203-LOS VILOS"},"105479","80301059","2021-12-17T09:07:39",0,null,null,3]
[11,"5",2021,{"$f":"IFERROR(VLOOKUP(Tabla_SERIEBM_01_6[[#This Row],[IdEstablecimiento]],[1]Establecimientos!A$1:E$175,5,FALSE),0)","v":"04203-LOS VILOS"},"105479","80301085","2021-12-17T09:07:39",0,null,null,2]
[11,"5",2021,{"$f":"IFERROR(VLOOKUP(Tabla_SERIEBM_01_6[[#This Row],[IdEstablecimiento]],[1]Establecimientos!A$1:E$175,5,FALSE),0)","v":"04203-LOS VILOS"},"105479","80301086","2021-12-17T09:07:39",0,null,null,2]
[11,"5",2021,{"$f":"IFERROR(VLOOKUP(Tabla_SERIEBM_01_6[[#This Row],[IdEstablecimiento]],[1]Establecimientos!A$1:E$175,5,FALSE),0)","v":"04203-LOS VILOS"},"105479","80302005","2021-12-17T09:07:39",0,null,null,6]
[11,"5",2021,{"$f":"IFERROR(VLOOKUP(Tabla_SERIEBM_01_6[[#This Row],[IdEstablecimiento]],[1]Establecimientos!A$1:E$175,5,FALSE),0)","v":"04203-LOS VILOS"},"105479","80302067","2021-12-17T09:07:39",0,null,null,4]
[11,"5",2021,{"$f":"IFERROR(VLOOKUP(Tabla_SERIEBM_01_6[[#This Row],[IdEstablecimiento]],[1]Establecimientos!A$1:E$175,5,FALSE),0)","v":"04203-LOS VILOS"},"105479","80302023","2021-12-17T09:07:39",0,null,null,38]
[11,"5",2021,{"$f":"IFERROR(VLOOKUP(Tabla_SERIEBM_01_6[[#This Row],[IdEstablecimiento]],[1]Establecimientos!A$1:E$175,5,FALSE),0)","v":"04203-LOS VILOS"},"105479","80302032","2021-12-17T09:07:39",0,null,null,11]
[11,"5",2021,{"$f":"IFERROR(VLOOKUP(Tabla_SERIEBM_01_6[[#This Row],[IdEstablecimiento]],[1]Establecimientos!A$1:E$175,5,FALSE),0)","v":"04203-LOS VILOS"},"105479","80302034","2021-12-17T09:07:39",0,null,null,39]
[11,"5",2021,{"$f":"IFERROR(VLOOKUP(Tabla_SERIEBM_01_6[[#This Row],[IdEstablecimiento]],[1]Establecimientos!A$1:E$175,5,FALSE),0)","v":"04203-LOS VILOS"},"105479","80305070","2021-12-17T09:07:39",0,null,null,3]
[11,"5",2021,{"$f":"IFERROR(VLOOKUP(Tabla_SERIEBM_01_6[[#This Row],[IdEstablecimiento]],[1]Establecimientos!A$1:E$175,5,FALSE),0)","v":"04203-LOS VILOS"},"105479","80305019","2021-12-17T09:07:39",0,null,null,2]
[11,"5",2021,{"$f":"IFERROR(VLOOKUP(Tabla_SERIEBM_01_6[[#This Row],[IdEstablecimiento]],[1]Establecimientos!A$1:E$175,5,FALSE),0)","v":"04203-LOS VILOS"},"105479","80305030","2021-12-17T09:07:39",0,null,null,2]
[11,"5",2021,{"$f":"IFERROR(VLOOKUP(Tabla_SERIEBM_01_6[[#This Row],[IdEstablecimiento]],[1]Establecimientos!A$1:E$175,5,FALSE),0)","v":"04203-LOS VILOS"},"105479","80306011","2021-12-17T09:07:39",0,null,null,3]
[11,"5",2021,{"$f":"IFERROR(VLOOKUP(Tabla_SERIEBM_01_6[[#This Row],[IdEstablecimiento]],[1]Establecimientos!A$1:E$175,5,FALSE),0)","v":"04203-LOS VILOS"},"105479","80306038","2021-12-17T09:07:39",0,null,null,2]
[11,"5",2021,{"$f":"IFERROR(VLOOKUP(Tabla_SERIEBM_01_6[[#This Row],[IdEstablecimiento]],[1]Establecimientos!A$1:E$175,5,FALSE),0)","v":"04203-LOS VILOS"},"105479","80309013","2021-12-17T09:07:39",0,null,null,16]
[11,"5",2021,{"$f":"IFERROR(VLOOKUP(Tabla_SERIEBM_01_6[[#This Row],[IdEstablecimiento]],[1]Establecimientos!A$1:E$175,5,FALSE),0)","v":"04203-LOS VILOS"},"105479","80309022","2021-12-17T09:07:39",0,null,null,36]
[11,"5",2021,{"$f":"IFERROR(VLOOKUP(Tabla_SERIEBM_01_6[[#This Row],[IdEstablecimiento]],[1]Establecimientos!A$1:E$175,5,FALSE),0)","v":"04203-LOS VILOS"},"105479","80401070","2021-12-17T09:07:39",0,null,null,1]
[11,"5",2021,{"$f":"IFERROR(VLOOKUP(Tabla_SERIEBM_01_6[[#This Row],[IdEstablecimiento]],[1]Establecimientos!A$1:E$175,5,FALSE),0)","v":"04203-LOS VILOS"},"105479","81701001","2021-12-17T09:07:39",2,null,2,null,2]
[11,"5",2021,{"$f":"IFERROR(VLOOKUP(Tabla_SERIEBM_01_6[[#This Row],[IdEstablecimiento]],[1]Establecimientos!A$1:E$175,5,FALSE),0)","v":"04203-LOS VILOS"},"105479","81701009","2021-12-17T09:07:39",18,null,18,null,18]
[11,"5",2021,{"$f":"IFERROR(VLOOKUP(Tabla_SERIEBM_01_6[[#This Row],[IdEstablecimiento]],[1]Establecimientos!A$1:E$175,5,FALSE),0)","v":"04203-LOS VILOS"},"105479","80106002","2021-12-17T09:07:39",11,null,11,null,11]
[11,"5",2021,{"$f":"IFERROR(VLOOKUP(Tabla_SERIEBM_01_6[[#This Row],[IdEstablecimiento]],[1]Establecimientos!A$1:E$175,5,FALSE),0)","v":"04203-LOS VILOS"},"105479","80106014","2021-12-17T09:07:39",6,null,6,null,6]
[11,"5",2021,{"$f":"IFERROR(VLOOKUP(Tabla_SERIEBM_01_6[[#This Row],[IdEstablecimiento]],[1]Establecimientos!A$1:E$175,5,FALSE),0)","v":"04203-LOS VILOS"},"105479","80307011","2021-12-17T09:07:39",37,null,37]
[11,"5",2021,{"$f":"IFERROR(VLOOKUP(Tabla_SERIEBM_01_6[[#This Row],[IdEstablecimiento]],[1]Establecimientos!A$1:E$175,5,FALSE),0)","v":"04203-LOS VILOS"},"105479","80500011","2021-12-17T09:07:39",2,null,2,null,2]
[11,"5",2021,{"$f":"IFERROR(VLOOKUP(Tabla_SERIEBM_01_6[[#This Row],[IdEstablecimiento]],[1]Establecimientos!A$1:E$175,5,FALSE),0)","v":"04203-LOS VILOS"},"105479","18020500","2021-12-17T09:07:39",20,0,20]
[11,"5",2021,{"$f":"IFERROR(VLOOKUP(Tabla_SERIEBM_01_6[[#This Row],[IdEstablecimiento]],[1]Establecimientos!A$1:E$175,5,FALSE),0)","v":"04203-LOS VILOS"},"105479","18050100","2021-12-17T09:07:39",11,0,11]
[11,"5",2021,{"$f":"IFERROR(VLOOKUP(Tabla_SERIEBM_01_6[[#This Row],[IdEstablecimiento]],[1]Establecimientos!A$1:E$175,5,FALSE),0)","v":"04203-LOS VILOS"},"105480","80302047","2021-12-17T09:08:00",0,null,null,87]
[11,"5",2021,{"$f":"IFERROR(VLOOKUP(Tabla_SERIEBM_01_6[[#This Row],[IdEstablecimiento]],[1]Establecimientos!A$1:E$175,5,FALSE),0)","v":"04203-LOS VILOS"},"105480","80302057","2021-12-17T09:08:00",0,null,null,133]
[11,"5",2021,{"$f":"IFERROR(VLOOKUP(Tabla_SERIEBM_01_6[[#This Row],[IdEstablecimiento]],[1]Establecimientos!A$1:E$175,5,FALSE),0)","v":"04203-LOS VILOS"},"105480","80302075","2021-12-17T09:08:00",0,null,null,4]
[11,"5",2021,{"$f":"IFERROR(VLOOKUP(Tabla_SERIEBM_01_6[[#This Row],[IdEstablecimiento]],[1]Establecimientos!A$1:E$175,5,FALSE),0)","v":"04203-LOS VILOS"},"105480","80302060","2021-12-17T09:08:00",0,null,null,3]
[11,"5",2021,{"$f":"IFERROR(VLOOKUP(Tabla_SERIEBM_01_6[[#This Row],[IdEstablecimiento]],[1]Establecimientos!A$1:E$175,5,FALSE),0)","v":"04203-LOS VILOS"},"105480","80302076","2021-12-17T09:08:00",0,null,null,22]
[11,"5",2021,{"$f":"IFERROR(VLOOKUP(Tabla_SERIEBM_01_6[[#This Row],[IdEstablecimiento]],[1]Establecimientos!A$1:E$175,5,FALSE),0)","v":"04203-LOS VILOS"},"105480","80303015","2021-12-17T09:08:00",0,null,null,3]
[11,"5",2021,{"$f":"IFERROR(VLOOKUP(Tabla_SERIEBM_01_6[[#This Row],[IdEstablecimiento]],[1]Establecimientos!A$1:E$175,5,FALSE),0)","v":"04102-COQUIMBO"},"200494","80404002","2021-12-17T09:38:50",2,null,2]
[11,"5",2021,{"$f":"IFERROR(VLOOKUP(Tabla_SERIEBM_01_6[[#This Row],[IdEstablecimiento]],[1]Establecimientos!A$1:E$175,5,FALSE),0)","v":"04102-COQUIMBO"},"200494","80404005","2021-12-17T09:38:50",23,null,23]
[11,"5",2021,{"$f":"IFERROR(VLOOKUP(Tabla_SERIEBM_01_6[[#This Row],[IdEstablecimiento]],[1]Establecimientos!A$1:E$175,5,FALSE),0)","v":"04102-COQUIMBO"},"200494","80404006","2021-12-17T09:38:50",23,null,23]
[11,"5",2021,{"$f":"IFERROR(VLOOKUP(Tabla_SERIEBM_01_6[[#This Row],[IdEstablecimiento]],[1]Establecimientos!A$1:E$175,5,FALSE),0)","v":"04102-COQUIMBO"},"200494","80404012","2021-12-17T09:38:50",0,null,null,19]
[11,"5",2021,{"$f":"IFERROR(VLOOKUP(Tabla_SERIEBM_01_6[[#This Row],[IdEstablecimiento]],[1]Establecimientos!A$1:E$175,5,FALSE),0)","v":"04102-COQUIMBO"},"200494","81701001","2021-12-17T09:38:50",108,null,108,null,108,108]
[11,"5",2021,{"$f":"IFERROR(VLOOKUP(Tabla_SERIEBM_01_6[[#This Row],[IdEstablecimiento]],[1]Establecimientos!A$1:E$175,5,FALSE),0)","v":"04102-COQUIMBO"},"200494","81707030","2021-12-17T09:38:50",1,null,1,null,1]
[11,"5",2021,{"$f":"IFERROR(VLOOKUP(Tabla_SERIEBM_01_6[[#This Row],[IdEstablecimiento]],[1]Establecimientos!A$1:E$175,5,FALSE),0)","v":"04102-COQUIMBO"},"200494","82001015","2021-12-17T09:38:50",5,null,5,null,5]
[11,"5",2021,{"$f":"IFERROR(VLOOKUP(Tabla_SERIEBM_01_6[[#This Row],[IdEstablecimiento]],[1]Establecimientos!A$1:E$175,5,FALSE),0)","v":"04102-COQUIMBO"},"200494","80106002","2021-12-17T09:38:50",149,null,149,null,149]
[11,"5",2021,{"$f":"IFERROR(VLOOKUP(Tabla_SERIEBM_01_6[[#This Row],[IdEstablecimiento]],[1]Establecimientos!A$1:E$175,5,FALSE),0)","v":"04102-COQUIMBO"},"200494","80106017","2021-12-17T09:38:50",212,null,212,null,212]
[11,"5",2021,{"$f":"IFERROR(VLOOKUP(Tabla_SERIEBM_01_6[[#This Row],[IdEstablecimiento]],[1]Establecimientos!A$1:E$175,5,FALSE),0)","v":"04102-COQUIMBO"},"200494","80106014","2021-12-17T09:38:50",298,null,298,null,298]
[11,"5",2021,{"$f":"IFERROR(VLOOKUP(Tabla_SERIEBM_01_6[[#This Row],[IdEstablecimiento]],[1]Establecimientos!A$1:E$175,5,FALSE),0)","v":"04102-COQUIMBO"},"200494","80106015","2021-12-17T09:38:50",12,null,12,null,12]
[11,"5",2021,{"$f":"IFERROR(VLOOKUP(Tabla_SERIEBM_01_6[[#This Row],[IdEstablecimiento]],[1]Establecimientos!A$1:E$175,5,FALSE),0)","v":"04102-COQUIMBO"},"200494","80106022","2021-12-17T09:38:50",3,null,3,null,3]
[11,"5",2021,{"$f":"IFERROR(VLOOKUP(Tabla_SERIEBM_01_6[[#This Row],[IdEstablecimiento]],[1]Establecimientos!A$1:E$175,5,FALSE),0)","v":"04102-COQUIMBO"},"200494","80106023","2021-12-17T09:38:50",62,null,62,null,62]
[11,"5",2021,{"$f":"IFERROR(VLOOKUP(Tabla_SERIEBM_01_6[[#This Row],[IdEstablecimiento]],[1]Establecimientos!A$1:E$175,5,FALSE),0)","v":"04102-COQUIMBO"},"200494","80307011","2021-12-17T09:38:50",0,null,null,421]
[11,"5",2021,{"$f":"IFERROR(VLOOKUP(Tabla_SERIEBM_01_6[[#This Row],[IdEstablecimiento]],[1]Establecimientos!A$1:E$175,5,FALSE),0)","v":"04102-COQUIMBO"},"200494","80307012","2021-12-17T09:38:50",0,null,null,14]
[11,"5",2021,{"$f":"IFERROR(VLOOKUP(Tabla_SERIEBM_01_6[[#This Row],[IdEstablecimiento]],[1]Establecimientos!A$1:E$175,5,FALSE),0)","v":"04102-COQUIMBO"},"200494","80500008","2021-12-17T09:38:50",16,null,16,null,16]
[11,"5",2021,{"$f":"IFERROR(VLOOKUP(Tabla_SERIEBM_01_6[[#This Row],[IdEstablecimiento]],[1]Establecimientos!A$1:E$175,5,FALSE),0)","v":"04102-COQUIMBO"},"200494","80500009","2021-12-17T09:38:50",13,null,13,null,13]
[11,"5",2021,{"$f":"IFERROR(VLOOKUP(Tabla_SERIEBM_01_6[[#This Row],[IdEstablecimiento]],[1]Establecimientos!A$1:E$175,5,FALSE),0)","v":"04106-VICUÑA"},"105509","80309013","2021-12-17T09:21:19",0,null,null,1]
[11,"5",2021,{"$f":"IFERROR(VLOOKUP(Tabla_SERIEBM_01_6[[#This Row],[IdEstablecimiento]],[1]Establecimientos!A$1:E$175,5,FALSE),0)","v":"04106-VICUÑA"},"105509","80309014","2021-12-17T09:21:19",0,null,null,1]
[11,"5",2021,{"$f":"IFERROR(VLOOKUP(Tabla_SERIEBM_01_6[[#This Row],[IdEstablecimiento]],[1]Establecimientos!A$1:E$175,5,FALSE),0)","v":"04106-VICUÑA"},"105509","80309024","2021-12-17T09:21:19",0,null,null,5]
[11,"5",2021,{"$f":"IFERROR(VLOOKUP(Tabla_SERIEBM_01_6[[#This Row],[IdEstablecimiento]],[1]Establecimientos!A$1:E$175,5,FALSE),0)","v":"04106-VICUÑA"},"105509","81701001","2021-12-17T09:21:19",1,null,1,null,1]
[11,"5",2021,{"$f":"IFERROR(VLOOKUP(Tabla_SERIEBM_01_6[[#This Row],[IdEstablecimiento]],[1]Establecimientos!A$1:E$175,5,FALSE),0)","v":"04106-VICUÑA"},"105509","81701009","2021-12-17T09:21:19",6,null,6,null,6]
[11,"5",2021,{"$f":"IFERROR(VLOOKUP(Tabla_SERIEBM_01_6[[#This Row],[IdEstablecimiento]],[1]Establecimientos!A$1:E$175,5,FALSE),0)","v":"04106-VICUÑA"},"105509","80106002","2021-12-17T09:21:19",21,null,21,null,21]
[11,"5",2021,{"$f":"IFERROR(VLOOKUP(Tabla_SERIEBM_01_6[[#This Row],[IdEstablecimiento]],[1]Establecimientos!A$1:E$175,5,FALSE),0)","v":"04106-VICUÑA"},"105509","80106014","2021-12-17T09:21:19",80,null,80,null,80]
[11,"5",2021,{"$f":"IFERROR(VLOOKUP(Tabla_SERIEBM_01_6[[#This Row],[IdEstablecimiento]],[1]Establecimientos!A$1:E$175,5,FALSE),0)","v":"04106-VICUÑA"},"105509","80106015","2021-12-17T09:21:19",1,null,1,null,1]
[11,"5",2021,{"$f":"IFERROR(VLOOKUP(Tabla_SERIEBM_01_6[[#This Row],[IdEstablecimiento]],[1]Establecimientos!A$1:E$175,5,FALSE),0)","v":"04106-VICUÑA"},"105509","80106021","2021-12-17T09:21:19",1,null,1,null,1]
[11,"5",2021,{"$f":"IFERROR(VLOOKUP(Tabla_SERIEBM_01_6[[#This Row],[IdEstablecimiento]],[1]Establecimientos!A$1:E$175,5,FALSE),0)","v":"04106-VICUÑA"},"105509","80106023","2021-12-17T09:21:19",11,null,11,null,11]
[11,"5",2021,{"$f":"IFERROR(VLOOKUP(Tabla_SERIEBM_01_6[[#This Row],[IdEstablecimiento]],[1]Establecimientos!A$1:E$175,5,FALSE),0)","v":"04106-VICUÑA"},"105509","80307011","2021-12-17T09:21:19",0,null,null,9]
[11,"5",2021,{"$f":"IFERROR(VLOOKUP(Tabla_SERIEBM_01_6[[#This Row],[IdEstablecimiento]],[1]Establecimientos!A$1:E$175,5,FALSE),0)","v":"04106-VICUÑA"},"105509","80500011","2021-12-17T09:21:19",10,null,10,null,10]
[11,"5",2021,{"$f":"IFERROR(VLOOKUP(Tabla_SERIEBM_01_6[[#This Row],[IdEstablecimiento]],[1]Establecimientos!A$1:E$175,5,FALSE),0)","v":"04106-VICUÑA"},"105509","18020500","2021-12-17T09:21:19",7,0,7]
[11,"5",2021,{"$f":"IFERROR(VLOOKUP(Tabla_SERIEBM_01_6[[#This Row],[IdEstablecimiento]],[1]Establecimientos!A$1:E$175,5,FALSE),0)","v":"04106-VICUÑA"},"105509","18090000","2021-12-17T09:21:19",11,0,11]
[11,"5",2021,{"$f":"IFERROR(VLOOKUP(Tabla_SERIEBM_01_6[[#This Row],[IdEstablecimiento]],[1]Establecimientos!A$1:E$175,5,FALSE),0)","v":"04106-VICUÑA"},"105509","18050100","2021-12-17T09:21:19",21,0,21]
[11,"5",2021,{"$f":"IFERROR(VLOOKUP(Tabla_SERIEBM_01_6[[#This Row],[IdEstablecimiento]],[1]Establecimientos!A$1:E$175,5,FALSE),0)","v":"04301-OVALLE"},"105510","80106002","2021-12-17T09:21:42",40,null,40]
[11,"5",2021,{"$f":"IFERROR(VLOOKUP(Tabla_SERIEBM_01_6[[#This Row],[IdEstablecimiento]],[1]Establecimientos!A$1:E$175,5,FALSE),0)","v":"04301-OVALLE"},"105510","80106017","2021-12-17T09:21:42",40,null,40]
[11,"5",2021,{"$f":"IFERROR(VLOOKUP(Tabla_SERIEBM_01_6[[#This Row],[IdEstablecimiento]],[1]Establecimientos!A$1:E$175,5,FALSE),0)","v":"04301-OVALLE"},"105510","80106014","2021-12-17T09:21:42",30,null,30]
[11,"5",2021,{"$f":"IFERROR(VLOOKUP(Tabla_SERIEBM_01_6[[#This Row],[IdEstablecimiento]],[1]Establecimientos!A$1:E$175,5,FALSE),0)","v":"04301-OVALLE"},"105510","80106015","2021-12-17T09:21:42",2,null,2]
[11,"5",2021,{"$f":"IFERROR(VLOOKUP(Tabla_SERIEBM_01_6[[#This Row],[IdEstablecimiento]],[1]Establecimientos!A$1:E$175,5,FALSE),0)","v":"04301-OVALLE"},"105510","18050100","2021-12-17T09:21:42",40,0,40]
[11,"5",2021,{"$f":"IFERROR(VLOOKUP(Tabla_SERIEBM_01_6[[#This Row],[IdEstablecimiento]],[1]Establecimientos!A$1:E$175,5,FALSE),0)","v":"04203-LOS VILOS"},"105511","80302047","2021-12-17T09:22:08",0,null,null,34]
[11,"5",2021,{"$f":"IFERROR(VLOOKUP(Tabla_SERIEBM_01_6[[#This Row],[IdEstablecimiento]],[1]Establecimientos!A$1:E$175,5,FALSE),0)","v":"04203-LOS VILOS"},"105511","80302057","2021-12-17T09:22:08",0,null,null,50]
[11,"5",2021,{"$f":"IFERROR(VLOOKUP(Tabla_SERIEBM_01_6[[#This Row],[IdEstablecimiento]],[1]Establecimientos!A$1:E$175,5,FALSE),0)","v":"04203-LOS VILOS"},"105511","80302075","2021-12-17T09:22:08",0,null,null,3]
[11,"5",2021,{"$f":"IFERROR(VLOOKUP(Tabla_SERIEBM_01_6[[#This Row],[IdEstablecimiento]],[1]Establecimientos!A$1:E$175,5,FALSE),0)","v":"04203-LOS VILOS"},"105511","80302060","2021-12-17T09:22:08",0,null,null,2]
[11,"5",2021,{"$f":"IFERROR(VLOOKUP(Tabla_SERIEBM_01_6[[#This Row],[IdEstablecimiento]],[1]Establecimientos!A$1:E$175,5,FALSE),0)","v":"04203-LOS VILOS"},"105511","80302076","2021-12-17T09:22:08",0,null,null,10]
[11,"5",2021,{"$f":"IFERROR(VLOOKUP(Tabla_SERIEBM_01_6[[#This Row],[IdEstablecimiento]],[1]Establecimientos!A$1:E$175,5,FALSE),0)","v":"04203-LOS VILOS"},"105511","80303024","2021-12-17T09:22:08",0,null,null,23]
[11,"5",2021,{"$f":"IFERROR(VLOOKUP(Tabla_SERIEBM_01_6[[#This Row],[IdEstablecimiento]],[1]Establecimientos!A$1:E$175,5,FALSE),0)","v":"04203-LOS VILOS"},"105511","80303026","2021-12-17T09:22:08",0,null,null,4]
[11,"5",2021,{"$f":"IFERROR(VLOOKUP(Tabla_SERIEBM_01_6[[#This Row],[IdEstablecimiento]],[1]Establecimientos!A$1:E$175,5,FALSE),0)","v":"04203-LOS VILOS"},"105511","80301041","2021-12-17T09:22:08",0,null,null,7]
[11,"5",2021,{"$f":"IFERROR(VLOOKUP(Tabla_SERIEBM_01_6[[#This Row],[IdEstablecimiento]],[1]Establecimientos!A$1:E$175,5,FALSE),0)","v":"04203-LOS VILOS"},"105511","80301045","2021-12-17T09:22:08",0,null,null,18]
[11,"5",2021,{"$f":"IFERROR(VLOOKUP(Tabla_SERIEBM_01_6[[#This Row],[IdEstablecimiento]],[1]Establecimientos!A$1:E$175,5,FALSE),0)","v":"04203-LOS VILOS"},"105511","80301059","2021-12-17T09:22:08",0,null,null,1]
[11,"5",2021,{"$f":"IFERROR(VLOOKUP(Tabla_SERIEBM_01_6[[#This Row],[IdEstablecimiento]],[1]Establecimientos!A$1:E$175,5,FALSE),0)","v":"04203-LOS VILOS"},"105511","80301085","2021-12-17T09:22:08",0,null,null,1]
[11,"5",2021,{"$f":"IFERROR(VLOOKUP(Tabla_SERIEBM_01_6[[#This Row],[IdEstablecimiento]],[1]Establecimientos!A$1:E$175,5,FALSE),0)","v":"04203-LOS VILOS"},"105511","80302005","2021-12-17T09:22:08",0,null,null,2]
[11,"5",2021,{"$f":"IFERROR(VLOOKUP(Tabla_SERIEBM_01_6[[#This Row],[IdEstablecimiento]],[1]Establecimientos!A$1:E$175,5,FALSE),0)","v":"04203-LOS VILOS"},"105511","80302067","2021-12-17T09:22:08",0,null,null,1]
[11,"5",2021,{"$f":"IFERROR(VLOOKUP(Tabla_SERIEBM_01_6[[#This Row],[IdEstablecimiento]],[1]Establecimientos!A$1:E$175,5,FALSE),0)","v":"04203-LOS VILOS"},"105511","80302023","2021-12-17T09:22:08",0,null,null,28]
[11,"5",2021,{"$f":"IFERROR(VLOOKUP(Tabla_SERIEBM_01_6[[#This Row],[IdEstablecimiento]],[1]Establecimientos!A$1:E$175,5,FALSE),0)","v":"04102-COQUIMBO"},"200494","80500011","2021-12-17T09:38:50",35,null,35,null,35]
[11,"5",2021,{"$f":"IFERROR(VLOOKUP(Tabla_SERIEBM_01_6[[#This Row],[IdEstablecimiento]],[1]Establecimientos!A$1:E$175,5,FALSE),0)","v":"04102-COQUIMBO"},"200494","18011002","2021-12-17T09:38:50",46,0,46]
[11,"5",2021,{"$f":"IFERROR(VLOOKUP(Tabla_SERIEBM_01_6[[#This Row],[IdEstablecimiento]],[1]Establecimientos!A$1:E$175,5,FALSE),0)","v":"04102-COQUIMBO"},"200494","18700270","2021-12-17T09:38:50",6,null,6]
[11,"5",2021,{"$f":"IFERROR(VLOOKUP(Tabla_SERIEBM_01_6[[#This Row],[IdEstablecimiento]],[1]Establecimientos!A$1:E$175,5,FALSE),0)","v":"04102-COQUIMBO"},"200494","18700290","2021-12-17T09:38:50",6,null,6]
[11,"5",2021,{"$f":"IFERROR(VLOOKUP(Tabla_SERIEBM_01_6[[#This Row],[IdEstablecimiento]],[1]Establecimientos!A$1:E$175,5,FALSE),0)","v":"04102-COQUIMBO"},"200494","18700350","2021-12-17T09:38:50",36,null,36]
[11,"5",2021,{"$f":"IFERROR(VLOOKUP(Tabla_SERIEBM_01_6[[#This Row],[IdEstablecimiento]],[1]Establecimientos!A$1:E$175,5,FALSE),0)","v":"04102-COQUIMBO"},"200494","18400600","2021-12-17T09:38:50",36]
[11,"5",2021,{"$f":"IFERROR(VLOOKUP(Tabla_SERIEBM_01_6[[#This Row],[IdEstablecimiento]],[1]Establecimientos!A$1:E$175,5,FALSE),0)","v":"04102-COQUIMBO"},"200494","18020300","2021-12-17T09:38:50",1,0,1]
[11,"5",2021,{"$f":"IFERROR(VLOOKUP(Tabla_SERIEBM_01_6[[#This Row],[IdEstablecimiento]],[1]Establecimientos!A$1:E$175,5,FALSE),0)","v":"04102-COQUIMBO"},"200494","18020500","2021-12-17T09:38:50",108,0,108]
[11,"5",2021,{"$f":"IFERROR(VLOOKUP(Tabla_SERIEBM_01_6[[#This Row],[IdEstablecimiento]],[1]Establecimientos!A$1:E$175,5,FALSE),0)","v":"04102-COQUIMBO"},"200494","18020900","2021-12-17T09:38:50",5,0,5]
[11,"5",2021,{"$f":"IFERROR(VLOOKUP(Tabla_SERIEBM_01_6[[#This Row],[IdEstablecimiento]],[1]Establecimientos!A$1:E$175,5,FALSE),0)","v":"04102-COQUIMBO"},"200494","18090000","2021-12-17T09:38:50",62,0,62]
[11,"5",2021,{"$f":"IFERROR(VLOOKUP(Tabla_SERIEBM_01_6[[#This Row],[IdEstablecimiento]],[1]Establecimientos!A$1:E$175,5,FALSE),0)","v":"04102-COQUIMBO"},"200494","18050100","2021-12-17T09:38:50",149,0,149]
[11,"5",2021,{"$f":"IFERROR(VLOOKUP(Tabla_SERIEBM_01_6[[#This Row],[IdEstablecimiento]],[1]Establecimientos!A$1:E$175,5,FALSE),0)","v":"04102-COQUIMBO"},"200494","18400900","2021-12-17T09:38:50",39,9,30]
[11,"5",2021,{"$f":"IFERROR(VLOOKUP(Tabla_SERIEBM_01_6[[#This Row],[IdEstablecimiento]],[1]Establecimientos!A$1:E$175,5,FALSE),0)","v":"04102-COQUIMBO"},"200499","80302047","2021-12-17T09:39:08",0,null,null,293]
[11,"5",2021,{"$f":"IFERROR(VLOOKUP(Tabla_SERIEBM_01_6[[#This Row],[IdEstablecimiento]],[1]Establecimientos!A$1:E$175,5,FALSE),0)","v":"04102-COQUIMBO"},"200499","80302048","2021-12-17T09:39:08",0,null,null,24]
[11,"5",2021,{"$f":"IFERROR(VLOOKUP(Tabla_SERIEBM_01_6[[#This Row],[IdEstablecimiento]],[1]Establecimientos!A$1:E$175,5,FALSE),0)","v":"04102-COQUIMBO"},"200499","80302057","2021-12-17T09:39:08",0,null,null,115]
[11,"5",2021,{"$f":"IFERROR(VLOOKUP(Tabla_SERIEBM_01_6[[#This Row],[IdEstablecimiento]],[1]Establecimientos!A$1:E$175,5,FALSE),0)","v":"04102-COQUIMBO"},"200499","80302060","2021-12-17T09:39:08",0,null,null,2]
[11,"5",2021,{"$f":"IFERROR(VLOOKUP(Tabla_SERIEBM_01_6[[#This Row],[IdEstablecimiento]],[1]Establecimientos!A$1:E$175,5,FALSE),0)","v":"04102-COQUIMBO"},"200499","80302076","2021-12-17T09:39:08",0,null,null,52]
[11,"5",2021,{"$f":"IFERROR(VLOOKUP(Tabla_SERIEBM_01_6[[#This Row],[IdEstablecimiento]],[1]Establecimientos!A$1:E$175,5,FALSE),0)","v":"04203-LOS VILOS"},"105480","80303025","2021-12-17T09:08:00",0,null,null,44]
[11,"5",2021,{"$f":"IFERROR(VLOOKUP(Tabla_SERIEBM_01_6[[#This Row],[IdEstablecimiento]],[1]Establecimientos!A$1:E$175,5,FALSE),0)","v":"04203-LOS VILOS"},"105480","80303027","2021-12-17T09:08:00",0,null,null,22]
[11,"5",2021,{"$f":"IFERROR(VLOOKUP(Tabla_SERIEBM_01_6[[#This Row],[IdEstablecimiento]],[1]Establecimientos!A$1:E$175,5,FALSE),0)","v":"04203-LOS VILOS"},"105480","80301041","2021-12-17T09:08:00",0,null,null,37]
[11,"5",2021,{"$f":"IFERROR(VLOOKUP(Tabla_SERIEBM_01_6[[#This Row],[IdEstablecimiento]],[1]Establecimientos!A$1:E$175,5,FALSE),0)","v":"04203-LOS VILOS"},"105480","80301045","2021-12-17T09:08:00",0,null,null,67]
[11,"5",2021,{"$f":"IFERROR(VLOOKUP(Tabla_SERIEBM_01_6[[#This Row],[IdEstablecimiento]],[1]Establecimientos!A$1:E$175,5,FALSE),0)","v":"04203-LOS VILOS"},"105480","80301059","2021-12-17T09:08:00",0,null,null,7]
[11,"5",2021,{"$f":"IFERROR(VLOOKUP(Tabla_SERIEBM_01_6[[#This Row],[IdEstablecimiento]],[1]Establecimientos!A$1:E$175,5,FALSE),0)","v":"04203-LOS VILOS"},"105480","80301085","2021-12-17T09:08:00",0,null,null,6]
[11,"5",2021,{"$f":"IFERROR(VLOOKUP(Tabla_SERIEBM_01_6[[#This Row],[IdEstablecimiento]],[1]Establecimientos!A$1:E$175,5,FALSE),0)","v":"04203-LOS VILOS"},"105480","80302005","2021-12-17T09:08:00",0,null,null,30]
[11,"5",2021,{"$f":"IFERROR(VLOOKUP(Tabla_SERIEBM_01_6[[#This Row],[IdEstablecimiento]],[1]Establecimientos!A$1:E$175,5,FALSE),0)","v":"04203-LOS VILOS"},"105480","80302067","2021-12-17T09:08:00",0,null,null,1]
[11,"5",2021,{"$f":"IFERROR(VLOOKUP(Tabla_SERIEBM_01_6[[#This Row],[IdEstablecimiento]],[1]Establecimientos!A$1:E$175,5,FALSE),0)","v":"04203-LOS VILOS"},"105480","80302023","2021-12-17T09:08:00",0,null,null,78]
[11,"5",2021,{"$f":"IFERROR(VLOOKUP(Tabla_SERIEBM_01_6[[#This Row],[IdEstablecimiento]],[1]Establecimientos!A$1:E$175,5,FALSE),0)","v":"04203-LOS VILOS"},"105480","80302032","2021-12-17T09:08:00",0,null,null,29]
[11,"5",2021,{"$f":"IFERROR(VLOOKUP(Tabla_SERIEBM_01_6[[#This Row],[IdEstablecimiento]],[1]Establecimientos!A$1:E$175,5,FALSE),0)","v":"04203-LOS VILOS"},"105480","80302034","2021-12-17T09:08:00",0,null,null,85]
[11,"5",2021,{"$f":"IFERROR(VLOOKUP(Tabla_SERIEBM_01_6[[#This Row],[IdEstablecimiento]],[1]Establecimientos!A$1:E$175,5,FALSE),0)","v":"04203-LOS VILOS"},"105480","80305070","2021-12-17T09:08:00",0,null,null,8]
[11,"5",2021,{"$f":"IFERROR(VLOOKUP(Tabla_SERIEBM_01_6[[#This Row],[IdEstablecimiento]],[1]Establecimientos!A$1:E$175,5,FALSE),0)","v":"04203-LOS VILOS"},"105480","80305019","2021-12-17T09:08:00",0,null,null,1]
[11,"5",2021,{"$f":"IFERROR(VLOOKUP(Tabla_SERIEBM_01_6[[#This Row],[IdEstablecimiento]],[1]Establecimientos!A$1:E$175,5,FALSE),0)","v":"04203-LOS VILOS"},"105480","80306007","2021-12-17T09:08:00",0,null,null,1]
[11,"5",2021,{"$f":"IFERROR(VLOOKUP(Tabla_SERIEBM_01_6[[#This Row],[IdEstablecimiento]],[1]Establecimientos!A$1:E$175,5,FALSE),0)","v":"04203-LOS VILOS"},"105480","80306011","2021-12-17T09:08:00",0,null,null,6]
[11,"5",2021,{"$f":"IFERROR(VLOOKUP(Tabla_SERIEBM_01_6[[#This Row],[IdEstablecimiento]],[1]Establecimientos!A$1:E$175,5,FALSE),0)","v":"04203-LOS VILOS"},"105480","80306051","2021-12-17T09:08:00",0,null,null,1]
[11,"5",2021,{"$f":"IFERROR(VLOOKUP(Tabla_SERIEBM_01_6[[#This Row],[IdEstablecimiento]],[1]Establecimientos!A$1:E$175,5,FALSE),0)","v":"04203-LOS VILOS"},"105480","80309013","2021-12-17T09:08:00",0,null,null,40]
[11,"5",2021,{"$f":"IFERROR(VLOOKUP(Tabla_SERIEBM_01_6[[#This Row],[IdEstablecimiento]],[1]Establecimientos!A$1:E$175,5,FALSE),0)","v":"04203-LOS VILOS"},"105480","80309022","2021-12-17T09:08:00",0,null,null,66]
[11,"5",2021,{"$f":"IFERROR(VLOOKUP(Tabla_SERIEBM_01_6[[#This Row],[IdEstablecimiento]],[1]Establecimientos!A$1:E$175,5,FALSE),0)","v":"04203-LOS VILOS"},"105480","80401070","2021-12-17T09:08:00",0,null,null,3]
[11,"5",2021,{"$f":"IFERROR(VLOOKUP(Tabla_SERIEBM_01_6[[#This Row],[IdEstablecimiento]],[1]Establecimientos!A$1:E$175,5,FALSE),0)","v":"04203-LOS VILOS"},"105480","80401151","2021-12-17T09:08:00",0,null,null,3]
[11,"5",2021,{"$f":"IFERROR(VLOOKUP(Tabla_SERIEBM_01_6[[#This Row],[IdEstablecimiento]],[1]Establecimientos!A$1:E$175,5,FALSE),0)","v":"04203-LOS VILOS"},"105480","80106002","2021-12-17T09:08:00",33,null,33,null,33]
[11,"5",2021,{"$f":"IFERROR(VLOOKUP(Tabla_SERIEBM_01_6[[#This Row],[IdEstablecimiento]],[1]Establecimientos!A$1:E$175,5,FALSE),0)","v":"04203-LOS VILOS"},"105480","80106011","2021-12-17T09:08:00",18,null,18,null,18]
[11,"5",2021,{"$f":"IFERROR(VLOOKUP(Tabla_SERIEBM_01_6[[#This Row],[IdEstablecimiento]],[1]Establecimientos!A$1:E$175,5,FALSE),0)","v":"04203-LOS VILOS"},"105480","80106014","2021-12-17T09:08:00",48,null,48,null,48]
[11,"5",2021,{"$f":"IFERROR(VLOOKUP(Tabla_SERIEBM_01_6[[#This Row],[IdEstablecimiento]],[1]Establecimientos!A$1:E$175,5,FALSE),0)","v":"04203-LOS VILOS"},"105480","80106022","2021-12-17T09:08:00",2,null,2,null,2]
[11,"5",2021,{"$f":"IFERROR(VLOOKUP(Tabla_SERIEBM_01_6[[#This Row],[IdEstablecimiento]],[1]Establecimientos!A$1:E$175,5,FALSE),0)","v":"04203-LOS VILOS"},"105480","80307011","2021-12-17T09:08:00",59,null,59]
[11,"5",2021,{"$f":"IFERROR(VLOOKUP(Tabla_SERIEBM_01_6[[#This Row],[IdEstablecimiento]],[1]Establecimientos!A$1:E$175,5,FALSE),0)","v":"04203-LOS VILOS"},"105480","80500014","2021-12-17T09:08:00",3,null,3,null,3]
[11,"5",2021,{"$f":"IFERROR(VLOOKUP(Tabla_SERIEBM_01_6[[#This Row],[IdEstablecimiento]],[1]Establecimientos!A$1:E$175,5,FALSE),0)","v":"04203-LOS VILOS"},"105480","18050100","2021-12-17T09:08:00",33,0,33]
[11,"5",2021,{"$f":"IFERROR(VLOOKUP(Tabla_SERIEBM_01_6[[#This Row],[IdEstablecimiento]],[1]Establecimientos!A$1:E$175,5,FALSE),0)","v":"04203-LOS VILOS"},"105480","18400900","2021-12-17T09:08:00",17,2,15]
[11,"5",2021,{"$f":"IFERROR(VLOOKUP(Tabla_SERIEBM_01_6[[#This Row],[IdEstablecimiento]],[1]Establecimientos!A$1:E$175,5,FALSE),0)","v":"04203-LOS VILOS"},"105480","18700100","2021-12-17T09:08:00",824,43,720,61,0]
[11,"5",2021,{"$f":"IFERROR(VLOOKUP(Tabla_SERIEBM_01_6[[#This Row],[IdEstablecimiento]],[1]Establecimientos!A$1:E$175,5,FALSE),0)","v":"04203-LOS VILOS"},"105481","80302047","2021-12-17T09:08:21",0,null,null,20]
[11,"5",2021,{"$f":"IFERROR(VLOOKUP(Tabla_SERIEBM_01_6[[#This Row],[IdEstablecimiento]],[1]Establecimientos!A$1:E$175,5,FALSE),0)","v":"04203-LOS VILOS"},"105481","80302057","2021-12-17T09:08:21",0,null,null,40]
[11,"5",2021,{"$f":"IFERROR(VLOOKUP(Tabla_SERIEBM_01_6[[#This Row],[IdEstablecimiento]],[1]Establecimientos!A$1:E$175,5,FALSE),0)","v":"04203-LOS VILOS"},"105481","80302076","2021-12-17T09:08:21",0,null,null,6]
[11,"5",2021,{"$f":"IFERROR(VLOOKUP(Tabla_SERIEBM_01_6[[#This Row],[IdEstablecimiento]],[1]Establecimientos!A$1:E$175,5,FALSE),0)","v":"04203-LOS VILOS"},"105481","80303024","2021-12-17T09:08:21",0,null,null,11]
[11,"5",2021,{"$f":"IFERROR(VLOOKUP(Tabla_SERIEBM_01_6[[#This Row],[IdEstablecimiento]],[1]Establecimientos!A$1:E$175,5,FALSE),0)","v":"04203-LOS VILOS"},"105481","80303026","2021-12-17T09:08:21",0,null,null,3]
[11,"5",2021,{"$f":"IFERROR(VLOOKUP(Tabla_SERIEBM_01_6[[#This Row],[IdEstablecimiento]],[1]Establecimientos!A$1:E$175,5,FALSE),0)","v":"04203-LOS VILOS"},"105481","80301041","2021-12-17T09:08:21",0,null,null,9]
[11,"5",2021,{"$f":"IFERROR(VLOOKUP(Tabla_SERIEBM_01_6[[#This Row],[IdEstablecimiento]],[1]Establecimientos!A$1:E$175,5,FALSE),0)","v":"04203-LOS VILOS"},"105481","80301045","2021-12-17T09:08:21",0,null,null,10]
[11,"5",2021,{"$f":"IFERROR(VLOOKUP(Tabla_SERIEBM_01_6[[#This Row],[IdEstablecimiento]],[1]Establecimientos!A$1:E$175,5,FALSE),0)","v":"04203-LOS VILOS"},"105481","80301059","2021-12-17T09:08:21",0,null,null,3]
[11,"5",2021,{"$f":"IFERROR(VLOOKUP(Tabla_SERIEBM_01_6[[#This Row],[IdEstablecimiento]],[1]Establecimientos!A$1:E$175,5,FALSE),0)","v":"04203-LOS VILOS"},"105481","80301085","2021-12-17T09:08:21",0,null,null,3]
[11,"5",2021,{"$f":"IFERROR(VLOOKUP(Tabla_SERIEBM_01_6[[#This Row],[IdEstablecimiento]],[1]Establecimientos!A$1:E$175,5,FALSE),0)","v":"04203-LOS VILOS"},"105481","80302005","2021-12-17T09:08:21",0,null,null,5]
[11,"5",2021,{"$f":"IFERROR(VLOOKUP(Tabla_SERIEBM_01_6[[#This Row],[IdEstablecimiento]],[1]Establecimientos!A$1:E$175,5,FALSE),0)","v":"04203-LOS VILOS"},"105481","80302023","2021-12-17T09:08:21",0,null,null,22]
[11,"5",2021,{"$f":"IFERROR(VLOOKUP(Tabla_SERIEBM_01_6[[#This Row],[IdEstablecimiento]],[1]Establecimientos!A$1:E$175,5,FALSE),0)","v":"04203-LOS VILOS"},"105481","80302032","2021-12-17T09:08:21",0,null,null,16]
[11,"5",2021,{"$f":"IFERROR(VLOOKUP(Tabla_SERIEBM_01_6[[#This Row],[IdEstablecimiento]],[1]Establecimientos!A$1:E$175,5,FALSE),0)","v":"04203-LOS VILOS"},"105481","80302034","2021-12-17T09:08:21",0,null,null,23]
[11,"5",2021,{"$f":"IFERROR(VLOOKUP(Tabla_SERIEBM_01_6[[#This Row],[IdEstablecimiento]],[1]Establecimientos!A$1:E$175,5,FALSE),0)","v":"04203-LOS VILOS"},"105481","80305070","2021-12-17T09:08:21",0,null,null,2]
[11,"5",2021,{"$f":"IFERROR(VLOOKUP(Tabla_SERIEBM_01_6[[#This Row],[IdEstablecimiento]],[1]Establecimientos!A$1:E$175,5,FALSE),0)","v":"04203-LOS VILOS"},"105481","80306011","2021-12-17T09:08:21",0,null,null,1]
[11,"5",2021,{"$f":"IFERROR(VLOOKUP(Tabla_SERIEBM_01_6[[#This Row],[IdEstablecimiento]],[1]Establecimientos!A$1:E$175,5,FALSE),0)","v":"04203-LOS VILOS"},"105481","80309013","2021-12-17T09:08:21",0,null,null,16]
[11,"5",2021,{"$f":"IFERROR(VLOOKUP(Tabla_SERIEBM_01_6[[#This Row],[IdEstablecimiento]],[1]Establecimientos!A$1:E$175,5,FALSE),0)","v":"04203-LOS VILOS"},"105481","80309022","2021-12-17T09:08:21",0,null,null,20]
[11,"5",2021,{"$f":"IFERROR(VLOOKUP(Tabla_SERIEBM_01_6[[#This Row],[IdEstablecimiento]],[1]Establecimientos!A$1:E$175,5,FALSE),0)","v":"04203-LOS VILOS"},"105481","80106002","2021-12-17T09:08:21",10,null,10,null,10]
[11,"5",2021,{"$f":"IFERROR(VLOOKUP(Tabla_SERIEBM_01_6[[#This Row],[IdEstablecimiento]],[1]Establecimientos!A$1:E$175,5,FALSE),0)","v":"04203-LOS VILOS"},"105481","80106005","2021-12-17T09:08:21",5,null,5,null,5]
[11,"5",2021,{"$f":"IFERROR(VLOOKUP(Tabla_SERIEBM_01_6[[#This Row],[IdEstablecimiento]],[1]Establecimientos!A$1:E$175,5,FALSE),0)","v":"04203-LOS VILOS"},"105481","80106007","2021-12-17T09:08:21",2,null,2,null,2]
[11,"5",2021,{"$f":"IFERROR(VLOOKUP(Tabla_SERIEBM_01_6[[#This Row],[IdEstablecimiento]],[1]Establecimientos!A$1:E$175,5,FALSE),0)","v":"04203-LOS VILOS"},"105481","80106014","2021-12-17T09:08:21",5,null,5,null,5]
[11,"5",2021,{"$f":"IFERROR(VLOOKUP(Tabla_SERIEBM_01_6[[#This Row],[IdEstablecimiento]],[1]Establecimientos!A$1:E$175,5,FALSE),0)","v":"04203-LOS VILOS"},"105481","80106015","2021-12-17T09:08:21",3,null,3,null,3]
[11,"5",2021,{"$f":"IFERROR(VLOOKUP(Tabla_SERIEBM_01_6[[#This Row],[IdEstablecimiento]],[1]Establecimientos!A$1:E$175,5,FALSE),0)","v":"04203-LOS VILOS"},"105481","80307011","2021-12-17T09:08:21",10,null,10]
[11,"5",2021,{"$f":"IFERROR(VLOOKUP(Tabla_SERIEBM_01_6[[#This Row],[IdEstablecimiento]],[1]Establecimientos!A$1:E$175,5,FALSE),0)","v":"04203-LOS VILOS"},"105481","80307012","2021-12-17T09:08:21",1,null,1]
[11,"5",2021,{"$f":"IFERROR(VLOOKUP(Tabla_SERIEBM_01_6[[#This Row],[IdEstablecimiento]],[1]Establecimientos!A$1:E$175,5,FALSE),0)","v":"04203-LOS VILOS"},"105481","18050100","2021-12-17T09:08:21",10,0,10]
[11,"5",2021,{"$f":"IFERROR(VLOOKUP(Tabla_SERIEBM_01_6[[#This Row],[IdEstablecimiento]],[1]Establecimientos!A$1:E$175,5,FALSE),0)","v":"04203-LOS VILOS"},"105481","18050200","2021-12-17T09:08:21",5,0,5]
[11,"5",2021,{"$f":"IFERROR(VLOOKUP(Tabla_SERIEBM_01_6[[#This Row],[IdEstablecimiento]],[1]Establecimientos!A$1:E$175,5,FALSE),0)","v":"04203-LOS VILOS"},"105481","18400900","2021-12-17T09:08:21",3,null,3]
[11,"5",2021,{"$f":"IFERROR(VLOOKUP(Tabla_SERIEBM_01_6[[#This Row],[IdEstablecimiento]],[1]Establecimientos!A$1:E$175,5,FALSE),0)","v":"04202-CANELA"},"105482","81701009","2021-12-17T09:08:42",29,29,null,null,29]
[11,"5",2021,{"$f":"IFERROR(VLOOKUP(Tabla_SERIEBM_01_6[[#This Row],[IdEstablecimiento]],[1]Establecimientos!A$1:E$175,5,FALSE),0)","v":"04202-CANELA"},"105482","80106002","2021-12-17T09:08:42",15,15,null,null,15]
[11,"5",2021,{"$f":"IFERROR(VLOOKUP(Tabla_SERIEBM_01_6[[#This Row],[IdEstablecimiento]],[1]Establecimientos!A$1:E$175,5,FALSE),0)","v":"04202-CANELA"},"105482","80106005","2021-12-17T09:08:42",14,14,null,null,14]
[11,"5",2021,{"$f":"IFERROR(VLOOKUP(Tabla_SERIEBM_01_6[[#This Row],[IdEstablecimiento]],[1]Establecimientos!A$1:E$175,5,FALSE),0)","v":"04202-CANELA"},"105482","80106017","2021-12-17T09:08:42",1,1,null,null,1]
[11,"5",2021,{"$f":"IFERROR(VLOOKUP(Tabla_SERIEBM_01_6[[#This Row],[IdEstablecimiento]],[1]Establecimientos!A$1:E$175,5,FALSE),0)","v":"04202-CANELA"},"105482","80106014","2021-12-17T09:08:42",66,66,null,null,66]
[11,"5",2021,{"$f":"IFERROR(VLOOKUP(Tabla_SERIEBM_01_6[[#This Row],[IdEstablecimiento]],[1]Establecimientos!A$1:E$175,5,FALSE),0)","v":"04202-CANELA"},"105482","80106015","2021-12-17T09:08:42",7,7,null,null,7]
[11,"5",2021,{"$f":"IFERROR(VLOOKUP(Tabla_SERIEBM_01_6[[#This Row],[IdEstablecimiento]],[1]Establecimientos!A$1:E$175,5,FALSE),0)","v":"04202-CANELA"},"105482","80106023","2021-12-17T09:08:42",1,1,null,null,1]
[11,"5",2021,{"$f":"IFERROR(VLOOKUP(Tabla_SERIEBM_01_6[[#This Row],[IdEstablecimiento]],[1]Establecimientos!A$1:E$175,5,FALSE),0)","v":"04202-CANELA"},"105482","80500011","2021-12-17T09:08:42",5,5,null,null,5]
[11,"5",2021,{"$f":"IFERROR(VLOOKUP(Tabla_SERIEBM_01_6[[#This Row],[IdEstablecimiento]],[1]Establecimientos!A$1:E$175,5,FALSE),0)","v":"04202-CANELA"},"105482","18020500","2021-12-17T09:08:42",29,29,0]
[11,"5",2021,{"$f":"IFERROR(VLOOKUP(Tabla_SERIEBM_01_6[[#This Row],[IdEstablecimiento]],[1]Establecimientos!A$1:E$175,5,FALSE),0)","v":"04202-CANELA"},"105482","18090000","2021-12-17T09:08:42",1,1,0]
[11,"5",2021,{"$f":"IFERROR(VLOOKUP(Tabla_SERIEBM_01_6[[#This Row],[IdEstablecimiento]],[1]Establecimientos!A$1:E$175,5,FALSE),0)","v":"04202-CANELA"},"105482","18050100","2021-12-17T09:08:42",15,15,0]
[11,"5",2021,{"$f":"IFERROR(VLOOKUP(Tabla_SERIEBM_01_6[[#This Row],[IdEstablecimiento]],[1]Establecimientos!A$1:E$175,5,FALSE),0)","v":"04202-CANELA"},"105482","18050200","2021-12-17T09:08:42",14,14,0]
[11,"5",2021,{"$f":"IFERROR(VLOOKUP(Tabla_SERIEBM_01_6[[#This Row],[IdEstablecimiento]],[1]Establecimientos!A$1:E$175,5,FALSE),0)","v":"04202-CANELA"},"105483","81701009","2021-12-17T09:09:04",12,12,null,null,12]
[11,"5",2021,{"$f":"IFERROR(VLOOKUP(Tabla_SERIEBM_01_6[[#This Row],[IdEstablecimiento]],[1]Establecimientos!A$1:E$175,5,FALSE),0)","v":"04202-CANELA"},"105483","81602222","2021-12-17T09:09:04",2,2,null,null,2]
[11,"5",2021,{"$f":"IFERROR(VLOOKUP(Tabla_SERIEBM_01_6[[#This Row],[IdEstablecimiento]],[1]Establecimientos!A$1:E$175,5,FALSE),0)","v":"04202-CANELA"},"105483","80106002","2021-12-17T09:09:04",3,3,null,null,3]
[11,"5",2021,{"$f":"IFERROR(VLOOKUP(Tabla_SERIEBM_01_6[[#This Row],[IdEstablecimiento]],[1]Establecimientos!A$1:E$175,5,FALSE),0)","v":"04202-CANELA"},"105483","80106017","2021-12-17T09:09:04",6,6,null,null,6]
[11,"5",2021,{"$f":"IFERROR(VLOOKUP(Tabla_SERIEBM_01_6[[#This Row],[IdEstablecimiento]],[1]Establecimientos!A$1:E$175,5,FALSE),0)","v":"04202-CANELA"},"105483","80106014","2021-12-17T09:09:04",17,17,null,null,17]
[11,"5",2021,{"$f":"IFERROR(VLOOKUP(Tabla_SERIEBM_01_6[[#This Row],[IdEstablecimiento]],[1]Establecimientos!A$1:E$175,5,FALSE),0)","v":"04202-CANELA"},"105483","80106015","2021-12-17T09:09:04",2,2,null,null,2]
[11,"5",2021,{"$f":"IFERROR(VLOOKUP(Tabla_SERIEBM_01_6[[#This Row],[IdEstablecimiento]],[1]Establecimientos!A$1:E$175,5,FALSE),0)","v":"04202-CANELA"},"105483","80500011","2021-12-17T09:09:04",15,15,null,null,15]
[11,"5",2021,{"$f":"IFERROR(VLOOKUP(Tabla_SERIEBM_01_6[[#This Row],[IdEstablecimiento]],[1]Establecimientos!A$1:E$175,5,FALSE),0)","v":"04202-CANELA"},"105483","18020500","2021-12-17T09:09:04",12,12,0]
[11,"5",2021,{"$f":"IFERROR(VLOOKUP(Tabla_SERIEBM_01_6[[#This Row],[IdEstablecimiento]],[1]Establecimientos!A$1:E$175,5,FALSE),0)","v":"04202-CANELA"},"105483","18030000","2021-12-17T09:09:04",2,2,0]
[11,"5",2021,{"$f":"IFERROR(VLOOKUP(Tabla_SERIEBM_01_6[[#This Row],[IdEstablecimiento]],[1]Establecimientos!A$1:E$175,5,FALSE),0)","v":"04202-CANELA"},"105483","18040100","2021-12-17T09:09:04",2,null,2]
[11,"5",2021,{"$f":"IFERROR(VLOOKUP(Tabla_SERIEBM_01_6[[#This Row],[IdEstablecimiento]],[1]Establecimientos!A$1:E$175,5,FALSE),0)","v":"04202-CANELA"},"105483","18050100","2021-12-17T09:09:04",3,3,0]
[11,"5",2021,{"$f":"IFERROR(VLOOKUP(Tabla_SERIEBM_01_6[[#This Row],[IdEstablecimiento]],[1]Establecimientos!A$1:E$175,5,FALSE),0)","v":"04202-CANELA"},"105484","81602221","2021-12-17T09:09:25",1,1,null,null,1]
[11,"5",2021,{"$f":"IFERROR(VLOOKUP(Tabla_SERIEBM_01_6[[#This Row],[IdEstablecimiento]],[1]Establecimientos!A$1:E$175,5,FALSE),0)","v":"04202-CANELA"},"105484","81602225","2021-12-17T09:09:25",1,1,null,null,1]
[11,"5",2021,{"$f":"IFERROR(VLOOKUP(Tabla_SERIEBM_01_6[[#This Row],[IdEstablecimiento]],[1]Establecimientos!A$1:E$175,5,FALSE),0)","v":"04202-CANELA"},"105484","81602231","2021-12-17T09:09:25",1,1,null,null,1]
[11,"5",2021,{"$f":"IFERROR(VLOOKUP(Tabla_SERIEBM_01_6[[#This Row],[IdEstablecimiento]],[1]Establecimientos!A$1:E$175,5,FALSE),0)","v":"04202-CANELA"},"105484","80106002","2021-12-17T09:09:25",28,28,null,null,28]
[11,"5",2021,{"$f":"IFERROR(VLOOKUP(Tabla_SERIEBM_01_6[[#This Row],[IdEstablecimiento]],[1]Establecimientos!A$1:E$175,5,FALSE),0)","v":"04202-CANELA"},"105484","80106005","2021-12-17T09:09:25",7,7,null,null,7]
[11,"5",2021,{"$f":"IFERROR(VLOOKUP(Tabla_SERIEBM_01_6[[#This Row],[IdEstablecimiento]],[1]Establecimientos!A$1:E$175,5,FALSE),0)","v":"04202-CANELA"},"105484","80106017","2021-12-17T09:09:25",8,8,null,null,8]
[11,"5",2021,{"$f":"IFERROR(VLOOKUP(Tabla_SERIEBM_01_6[[#This Row],[IdEstablecimiento]],[1]Establecimientos!A$1:E$175,5,FALSE),0)","v":"04202-CANELA"},"105484","80106007","2021-12-17T09:09:25",1,1,null,null,1]
[11,"5",2021,{"$f":"IFERROR(VLOOKUP(Tabla_SERIEBM_01_6[[#This Row],[IdEstablecimiento]],[1]Establecimientos!A$1:E$175,5,FALSE),0)","v":"04202-CANELA"},"105484","80106013","2021-12-17T09:09:25",2,2,null,null,2]
[11,"5",2021,{"$f":"IFERROR(VLOOKUP(Tabla_SERIEBM_01_6[[#This Row],[IdEstablecimiento]],[1]Establecimientos!A$1:E$175,5,FALSE),0)","v":"04202-CANELA"},"105484","80106014","2021-12-17T09:09:25",69,69,null,null,69]
[11,"5",2021,{"$f":"IFERROR(VLOOKUP(Tabla_SERIEBM_01_6[[#This Row],[IdEstablecimiento]],[1]Establecimientos!A$1:E$175,5,FALSE),0)","v":"04202-CANELA"},"105484","80106015","2021-12-17T09:09:25",8,8,null,null,8]
[11,"5",2021,{"$f":"IFERROR(VLOOKUP(Tabla_SERIEBM_01_6[[#This Row],[IdEstablecimiento]],[1]Establecimientos!A$1:E$175,5,FALSE),0)","v":"04202-CANELA"},"105484","80500011","2021-12-17T09:09:25",22,22,null,null,22]
[11,"5",2021,{"$f":"IFERROR(VLOOKUP(Tabla_SERIEBM_01_6[[#This Row],[IdEstablecimiento]],[1]Establecimientos!A$1:E$175,5,FALSE),0)","v":"04202-CANELA"},"105484","18030000","2021-12-17T09:09:25",3,3,0]
[11,"5",2021,{"$f":"IFERROR(VLOOKUP(Tabla_SERIEBM_01_6[[#This Row],[IdEstablecimiento]],[1]Establecimientos!A$1:E$175,5,FALSE),0)","v":"04202-CANELA"},"105484","18040100","2021-12-17T09:09:25",3,null,3]
[11,"5",2021,{"$f":"IFERROR(VLOOKUP(Tabla_SERIEBM_01_6[[#This Row],[IdEstablecimiento]],[1]Establecimientos!A$1:E$175,5,FALSE),0)","v":"04202-CANELA"},"105484","18050100","2021-12-17T09:09:25",28,28,0]
[11,"5",2021,{"$f":"IFERROR(VLOOKUP(Tabla_SERIEBM_01_6[[#This Row],[IdEstablecimiento]],[1]Establecimientos!A$1:E$175,5,FALSE),0)","v":"04202-CANELA"},"105484","18050200","2021-12-17T09:09:25",7,7,0]
[11,"5",2021,{"$f":"IFERROR(VLOOKUP(Tabla_SERIEBM_01_6[[#This Row],[IdEstablecimiento]],[1]Establecimientos!A$1:E$175,5,FALSE),0)","v":"04202-CANELA"},"105484","18400900","2021-12-17T09:09:25",12,null,12]
[11,"5",2021,{"$f":"IFERROR(VLOOKUP(Tabla_SERIEBM_01_6[[#This Row],[IdEstablecimiento]],[1]Establecimientos!A$1:E$175,5,FALSE),0)","v":"04201-ILLAPEL"},"105485","80302047","2021-12-17T09:09:50",0,null,null,10]
[11,"5",2021,{"$f":"IFERROR(VLOOKUP(Tabla_SERIEBM_01_6[[#This Row],[IdEstablecimiento]],[1]Establecimientos!A$1:E$175,5,FALSE),0)","v":"04201-ILLAPEL"},"105485","80302057","2021-12-17T09:09:50",0,null,null,9]
[11,"5",2021,{"$f":"IFERROR(VLOOKUP(Tabla_SERIEBM_01_6[[#This Row],[IdEstablecimiento]],[1]Establecimientos!A$1:E$175,5,FALSE),0)","v":"04201-ILLAPEL"},"105485","80302076","2021-12-17T09:09:50",0,null,null,1]
[11,"5",2021,{"$f":"IFERROR(VLOOKUP(Tabla_SERIEBM_01_6[[#This Row],[IdEstablecimiento]],[1]Establecimientos!A$1:E$175,5,FALSE),0)","v":"04201-ILLAPEL"},"105485","80303024","2021-12-17T09:09:50",0,null,null,10]
[11,"5",2021,{"$f":"IFERROR(VLOOKUP(Tabla_SERIEBM_01_6[[#This Row],[IdEstablecimiento]],[1]Establecimientos!A$1:E$175,5,FALSE),0)","v":"04201-ILLAPEL"},"105485","80301036","2021-12-17T09:09:50",0,null,null,1]
[11,"5",2021,{"$f":"IFERROR(VLOOKUP(Tabla_SERIEBM_01_6[[#This Row],[IdEstablecimiento]],[1]Establecimientos!A$1:E$175,5,FALSE),0)","v":"04201-ILLAPEL"},"105485","80301041","2021-12-17T09:09:50",0,null,null,13]
[11,"5",2021,{"$f":"IFERROR(VLOOKUP(Tabla_SERIEBM_01_6[[#This Row],[IdEstablecimiento]],[1]Establecimientos!A$1:E$175,5,FALSE),0)","v":"04201-ILLAPEL"},"105485","80301045","2021-12-17T09:09:50",0,null,null,10]
[11,"5",2021,{"$f":"IFERROR(VLOOKUP(Tabla_SERIEBM_01_6[[#This Row],[IdEstablecimiento]],[1]Establecimientos!A$1:E$175,5,FALSE),0)","v":"04201-ILLAPEL"},"105485","80302023","2021-12-17T09:09:50",0,null,null,10]
[11,"5",2021,{"$f":"IFERROR(VLOOKUP(Tabla_SERIEBM_01_6[[#This Row],[IdEstablecimiento]],[1]Establecimientos!A$1:E$175,5,FALSE),0)","v":"04201-ILLAPEL"},"105485","80302032","2021-12-17T09:09:50",0,null,null,1]
[11,"5",2021,{"$f":"IFERROR(VLOOKUP(Tabla_SERIEBM_01_6[[#This Row],[IdEstablecimiento]],[1]Establecimientos!A$1:E$175,5,FALSE),0)","v":"04201-ILLAPEL"},"105485","80302034","2021-12-17T09:09:50",0,null,null,10]
[11,"5",2021,{"$f":"IFERROR(VLOOKUP(Tabla_SERIEBM_01_6[[#This Row],[IdEstablecimiento]],[1]Establecimientos!A$1:E$175,5,FALSE),0)","v":"04201-ILLAPEL"},"105485","80305070","2021-12-17T09:09:50",0,null,null,1]
[11,"5",2021,{"$f":"IFERROR(VLOOKUP(Tabla_SERIEBM_01_6[[#This Row],[IdEstablecimiento]],[1]Establecimientos!A$1:E$175,5,FALSE),0)","v":"04201-ILLAPEL"},"105485","80306011","2021-12-17T09:09:50",0,null,null,3]
[11,"5",2021,{"$f":"IFERROR(VLOOKUP(Tabla_SERIEBM_01_6[[#This Row],[IdEstablecimiento]],[1]Establecimientos!A$1:E$175,5,FALSE),0)","v":"04201-ILLAPEL"},"105485","80306042","2021-12-17T09:09:50",0,null,null,9]
[11,"5",2021,{"$f":"IFERROR(VLOOKUP(Tabla_SERIEBM_01_6[[#This Row],[IdEstablecimiento]],[1]Establecimientos!A$1:E$175,5,FALSE),0)","v":"04201-ILLAPEL"},"105485","80306061","2021-12-17T09:09:50",0,null,null,1]
[11,"5",2021,{"$f":"IFERROR(VLOOKUP(Tabla_SERIEBM_01_6[[#This Row],[IdEstablecimiento]],[1]Establecimientos!A$1:E$175,5,FALSE),0)","v":"04201-ILLAPEL"},"105485","80309023","2021-12-17T09:09:50",0,null,null,8]
[11,"5",2021,{"$f":"IFERROR(VLOOKUP(Tabla_SERIEBM_01_6[[#This Row],[IdEstablecimiento]],[1]Establecimientos!A$1:E$175,5,FALSE),0)","v":"04201-ILLAPEL"},"105485","81701001","2021-12-17T09:09:50",4,null,4,null,4]
[11,"5",2021,{"$f":"IFERROR(VLOOKUP(Tabla_SERIEBM_01_6[[#This Row],[IdEstablecimiento]],[1]Establecimientos!A$1:E$175,5,FALSE),0)","v":"04201-ILLAPEL"},"105485","81701009","2021-12-17T09:09:50",39,null,39,null,39]
[11,"5",2021,{"$f":"IFERROR(VLOOKUP(Tabla_SERIEBM_01_6[[#This Row],[IdEstablecimiento]],[1]Establecimientos!A$1:E$175,5,FALSE),0)","v":"04201-ILLAPEL"},"105485","80106002","2021-12-17T09:09:50",28,null,28,null,28]
[11,"5",2021,{"$f":"IFERROR(VLOOKUP(Tabla_SERIEBM_01_6[[#This Row],[IdEstablecimiento]],[1]Establecimientos!A$1:E$175,5,FALSE),0)","v":"04201-ILLAPEL"},"105485","80106014","2021-12-17T09:09:50",49,null,49,null,49]
[11,"5",2021,{"$f":"IFERROR(VLOOKUP(Tabla_SERIEBM_01_6[[#This Row],[IdEstablecimiento]],[1]Establecimientos!A$1:E$175,5,FALSE),0)","v":"04201-ILLAPEL"},"105485","80106015","2021-12-17T09:09:50",2,null,2,null,2]
[11,"5",2021,{"$f":"IFERROR(VLOOKUP(Tabla_SERIEBM_01_6[[#This Row],[IdEstablecimiento]],[1]Establecimientos!A$1:E$175,5,FALSE),0)","v":"04201-ILLAPEL"},"105485","80106023","2021-12-17T09:09:50",7,null,7,null,7]
[11,"5",2021,{"$f":"IFERROR(VLOOKUP(Tabla_SERIEBM_01_6[[#This Row],[IdEstablecimiento]],[1]Establecimientos!A$1:E$175,5,FALSE),0)","v":"04201-ILLAPEL"},"105485","80307011","2021-12-17T09:09:50",0,null,null,46]
[11,"5",2021,{"$f":"IFERROR(VLOOKUP(Tabla_SERIEBM_01_6[[#This Row],[IdEstablecimiento]],[1]Establecimientos!A$1:E$175,5,FALSE),0)","v":"04201-ILLAPEL"},"105485","18020500","2021-12-17T09:09:50",43,0,43]
[11,"5",2021,{"$f":"IFERROR(VLOOKUP(Tabla_SERIEBM_01_6[[#This Row],[IdEstablecimiento]],[1]Establecimientos!A$1:E$175,5,FALSE),0)","v":"04201-ILLAPEL"},"105485","18090000","2021-12-17T09:09:50",7,0,7]
[11,"5",2021,{"$f":"IFERROR(VLOOKUP(Tabla_SERIEBM_01_6[[#This Row],[IdEstablecimiento]],[1]Establecimientos!A$1:E$175,5,FALSE),0)","v":"04201-ILLAPEL"},"105485","18050100","2021-12-17T09:09:50",28,0,28]
[11,"5",2021,{"$f":"IFERROR(VLOOKUP(Tabla_SERIEBM_01_6[[#This Row],[IdEstablecimiento]],[1]Establecimientos!A$1:E$175,5,FALSE),0)","v":"04201-ILLAPEL"},"105485","18700100","2021-12-17T09:09:50",19,1,17,1]
[11,"5",2021,{"$f":"IFERROR(VLOOKUP(Tabla_SERIEBM_01_6[[#This Row],[IdEstablecimiento]],[1]Establecimientos!A$1:E$175,5,FALSE),0)","v":"04201-ILLAPEL"},"105486","80302047","2021-12-17T09:46:13",0,null,null,18]
[11,"5",2021,{"$f":"IFERROR(VLOOKUP(Tabla_SERIEBM_01_6[[#This Row],[IdEstablecimiento]],[1]Establecimientos!A$1:E$175,5,FALSE),0)","v":"04201-ILLAPEL"},"105486","80301041","2021-12-17T09:46:13",0,null,null,18]
[11,"5",2021,{"$f":"IFERROR(VLOOKUP(Tabla_SERIEBM_01_6[[#This Row],[IdEstablecimiento]],[1]Establecimientos!A$1:E$175,5,FALSE),0)","v":"04201-ILLAPEL"},"105486","80306007","2021-12-17T09:46:13",0,null,null,1]
[11,"5",2021,{"$f":"IFERROR(VLOOKUP(Tabla_SERIEBM_01_6[[#This Row],[IdEstablecimiento]],[1]Establecimientos!A$1:E$175,5,FALSE),0)","v":"04201-ILLAPEL"},"105486","81701001","2021-12-17T09:46:13",1,null,1,null,1]
[11,"5",2021,{"$f":"IFERROR(VLOOKUP(Tabla_SERIEBM_01_6[[#This Row],[IdEstablecimiento]],[1]Establecimientos!A$1:E$175,5,FALSE),0)","v":"04201-ILLAPEL"},"105486","81701009","2021-12-17T09:46:13",10,null,10,null,10]
[11,"5",2021,{"$f":"IFERROR(VLOOKUP(Tabla_SERIEBM_01_6[[#This Row],[IdEstablecimiento]],[1]Establecimientos!A$1:E$175,5,FALSE),0)","v":"04201-ILLAPEL"},"105487","80302047","2021-12-17T09:11:10",0,null,null,63]
[11,"5",2021,{"$f":"IFERROR(VLOOKUP(Tabla_SERIEBM_01_6[[#This Row],[IdEstablecimiento]],[1]Establecimientos!A$1:E$175,5,FALSE),0)","v":"04201-ILLAPEL"},"105486","80106014","2021-12-17T09:46:13",56,null,56,null,56]
[11,"5",2021,{"$f":"IFERROR(VLOOKUP(Tabla_SERIEBM_01_6[[#This Row],[IdEstablecimiento]],[1]Establecimientos!A$1:E$175,5,FALSE),0)","v":"04201-ILLAPEL"},"105486","80106015","2021-12-17T09:46:13",2,null,2,null,2]
[11,"5",2021,{"$f":"IFERROR(VLOOKUP(Tabla_SERIEBM_01_6[[#This Row],[IdEstablecimiento]],[1]Establecimientos!A$1:E$175,5,FALSE),0)","v":"04201-ILLAPEL"},"105486","80106023","2021-12-17T09:46:13",1,null,1,null,1]
[11,"5",2021,{"$f":"IFERROR(VLOOKUP(Tabla_SERIEBM_01_6[[#This Row],[IdEstablecimiento]],[1]Establecimientos!A$1:E$175,5,FALSE),0)","v":"04201-ILLAPEL"},"105486","80307011","2021-12-17T09:46:13",0,null,null,18]
[11,"5",2021,{"$f":"IFERROR(VLOOKUP(Tabla_SERIEBM_01_6[[#This Row],[IdEstablecimiento]],[1]Establecimientos!A$1:E$175,5,FALSE),0)","v":"04201-ILLAPEL"},"105486","18020500","2021-12-17T09:46:13",11,0,11]
[11,"5",2021,{"$f":"IFERROR(VLOOKUP(Tabla_SERIEBM_01_6[[#This Row],[IdEstablecimiento]],[1]Establecimientos!A$1:E$175,5,FALSE),0)","v":"04201-ILLAPEL"},"105486","18090000","2021-12-17T09:46:13",1,0,1]
[11,"5",2021,{"$f":"IFERROR(VLOOKUP(Tabla_SERIEBM_01_6[[#This Row],[IdEstablecimiento]],[1]Establecimientos!A$1:E$175,5,FALSE),0)","v":"04201-ILLAPEL"},"105486","18700100","2021-12-17T09:46:13",5,0,5,0]
[11,"5",2021,{"$f":"IFERROR(VLOOKUP(Tabla_SERIEBM_01_6[[#This Row],[IdEstablecimiento]],[1]Establecimientos!A$1:E$175,5,FALSE),0)","v":"04201-ILLAPEL"},"105487","80302048","2021-12-17T09:11:10",0,null,null,4]
[11,"5",2021,{"$f":"IFERROR(VLOOKUP(Tabla_SERIEBM_01_6[[#This Row],[IdEstablecimiento]],[1]Establecimientos!A$1:E$175,5,FALSE),0)","v":"04201-ILLAPEL"},"105487","80302057","2021-12-17T09:11:10",0,null,null,16]
[11,"5",2021,{"$f":"IFERROR(VLOOKUP(Tabla_SERIEBM_01_6[[#This Row],[IdEstablecimiento]],[1]Establecimientos!A$1:E$175,5,FALSE),0)","v":"04106-VICUÑA"},"105471","80302032","2021-12-17T09:03:35",0,null,null,22]
[11,"5",2021,{"$f":"IFERROR(VLOOKUP(Tabla_SERIEBM_01_6[[#This Row],[IdEstablecimiento]],[1]Establecimientos!A$1:E$175,5,FALSE),0)","v":"04106-VICUÑA"},"105471","80302034","2021-12-17T09:03:35",0,null,null,28]
[11,"5",2021,{"$f":"IFERROR(VLOOKUP(Tabla_SERIEBM_01_6[[#This Row],[IdEstablecimiento]],[1]Establecimientos!A$1:E$175,5,FALSE),0)","v":"04106-VICUÑA"},"105471","80305070","2021-12-17T09:03:35",0,null,null,2]
[11,"5",2021,{"$f":"IFERROR(VLOOKUP(Tabla_SERIEBM_01_6[[#This Row],[IdEstablecimiento]],[1]Establecimientos!A$1:E$175,5,FALSE),0)","v":"04106-VICUÑA"},"105471","80305019","2021-12-17T09:03:35",0,null,null,1]
[11,"5",2021,{"$f":"IFERROR(VLOOKUP(Tabla_SERIEBM_01_6[[#This Row],[IdEstablecimiento]],[1]Establecimientos!A$1:E$175,5,FALSE),0)","v":"04106-VICUÑA"},"105471","80306011","2021-12-17T09:03:35",0,null,null,8]
[11,"5",2021,{"$f":"IFERROR(VLOOKUP(Tabla_SERIEBM_01_6[[#This Row],[IdEstablecimiento]],[1]Establecimientos!A$1:E$175,5,FALSE),0)","v":"04106-VICUÑA"},"105471","80306061","2021-12-17T09:03:35",0,null,null,2]
[11,"5",2021,{"$f":"IFERROR(VLOOKUP(Tabla_SERIEBM_01_6[[#This Row],[IdEstablecimiento]],[1]Establecimientos!A$1:E$175,5,FALSE),0)","v":"04106-VICUÑA"},"105471","80308004","2021-12-17T09:03:35",0,null,null,1]
[11,"5",2021,{"$f":"IFERROR(VLOOKUP(Tabla_SERIEBM_01_6[[#This Row],[IdEstablecimiento]],[1]Establecimientos!A$1:E$175,5,FALSE),0)","v":"04106-VICUÑA"},"105471","80309010","2021-12-17T09:03:35",0,null,null,6]
[11,"5",2021,{"$f":"IFERROR(VLOOKUP(Tabla_SERIEBM_01_6[[#This Row],[IdEstablecimiento]],[1]Establecimientos!A$1:E$175,5,FALSE),0)","v":"04106-VICUÑA"},"105471","80309013","2021-12-17T09:03:35",0,null,null,6]
[11,"5",2021,{"$f":"IFERROR(VLOOKUP(Tabla_SERIEBM_01_6[[#This Row],[IdEstablecimiento]],[1]Establecimientos!A$1:E$175,5,FALSE),0)","v":"04106-VICUÑA"},"105471","80309022","2021-12-17T09:03:35",0,null,null,8]
[11,"5",2021,{"$f":"IFERROR(VLOOKUP(Tabla_SERIEBM_01_6[[#This Row],[IdEstablecimiento]],[1]Establecimientos!A$1:E$175,5,FALSE),0)","v":"04106-VICUÑA"},"105471","80309024","2021-12-17T09:03:35",0,null,null,21]
[11,"5",2021,{"$f":"IFERROR(VLOOKUP(Tabla_SERIEBM_01_6[[#This Row],[IdEstablecimiento]],[1]Establecimientos!A$1:E$175,5,FALSE),0)","v":"04106-VICUÑA"},"105471","81701001","2021-12-17T09:03:35",1,null,1,null,1]
[11,"5",2021,{"$f":"IFERROR(VLOOKUP(Tabla_SERIEBM_01_6[[#This Row],[IdEstablecimiento]],[1]Establecimientos!A$1:E$175,5,FALSE),0)","v":"04106-VICUÑA"},"105471","81701009","2021-12-17T09:03:35",18,null,18,null,18]
[11,"5",2021,{"$f":"IFERROR(VLOOKUP(Tabla_SERIEBM_01_6[[#This Row],[IdEstablecimiento]],[1]Establecimientos!A$1:E$175,5,FALSE),0)","v":"04106-VICUÑA"},"105471","80106002","2021-12-17T09:03:35",27,null,27,null,27]
[11,"5",2021,{"$f":"IFERROR(VLOOKUP(Tabla_SERIEBM_01_6[[#This Row],[IdEstablecimiento]],[1]Establecimientos!A$1:E$175,5,FALSE),0)","v":"04106-VICUÑA"},"105471","80106017","2021-12-17T09:03:35",12,null,12,null,12]
[11,"5",2021,{"$f":"IFERROR(VLOOKUP(Tabla_SERIEBM_01_6[[#This Row],[IdEstablecimiento]],[1]Establecimientos!A$1:E$175,5,FALSE),0)","v":"04106-VICUÑA"},"105471","80106013","2021-12-17T09:03:35",2,null,2,null,2]
[11,"5",2021,{"$f":"IFERROR(VLOOKUP(Tabla_SERIEBM_01_6[[#This Row],[IdEstablecimiento]],[1]Establecimientos!A$1:E$175,5,FALSE),0)","v":"04106-VICUÑA"},"105471","80106014","2021-12-17T09:03:35",204,null,204,null,204]
[11,"5",2021,{"$f":"IFERROR(VLOOKUP(Tabla_SERIEBM_01_6[[#This Row],[IdEstablecimiento]],[1]Establecimientos!A$1:E$175,5,FALSE),0)","v":"04106-VICUÑA"},"105471","80106023","2021-12-17T09:03:35",19,null,19,null,19]
[11,"5",2021,{"$f":"IFERROR(VLOOKUP(Tabla_SERIEBM_01_6[[#This Row],[IdEstablecimiento]],[1]Establecimientos!A$1:E$175,5,FALSE),0)","v":"04106-VICUÑA"},"105471","80307011","2021-12-17T09:03:35",0,null,null,42]
[11,"5",2021,{"$f":"IFERROR(VLOOKUP(Tabla_SERIEBM_01_6[[#This Row],[IdEstablecimiento]],[1]Establecimientos!A$1:E$175,5,FALSE),0)","v":"04106-VICUÑA"},"105471","80307012","2021-12-17T09:03:35",0,null,null,1]
[11,"5",2021,{"$f":"IFERROR(VLOOKUP(Tabla_SERIEBM_01_6[[#This Row],[IdEstablecimiento]],[1]Establecimientos!A$1:E$175,5,FALSE),0)","v":"04106-VICUÑA"},"105471","80500011","2021-12-17T09:03:35",31,null,31,null,31]
[11,"5",2021,{"$f":"IFERROR(VLOOKUP(Tabla_SERIEBM_01_6[[#This Row],[IdEstablecimiento]],[1]Establecimientos!A$1:E$175,5,FALSE),0)","v":"04106-VICUÑA"},"105471","18020500","2021-12-17T09:03:35",19,0,19]
[11,"5",2021,{"$f":"IFERROR(VLOOKUP(Tabla_SERIEBM_01_6[[#This Row],[IdEstablecimiento]],[1]Establecimientos!A$1:E$175,5,FALSE),0)","v":"04106-VICUÑA"},"105471","18090000","2021-12-17T09:03:35",19,0,19]
[11,"5",2021,{"$f":"IFERROR(VLOOKUP(Tabla_SERIEBM_01_6[[#This Row],[IdEstablecimiento]],[1]Establecimientos!A$1:E$175,5,FALSE),0)","v":"04106-VICUÑA"},"105471","18050100","2021-12-17T09:03:35",27,0,27]
[11,"5",2021,{"$f":"IFERROR(VLOOKUP(Tabla_SERIEBM_01_6[[#This Row],[IdEstablecimiento]],[1]Establecimientos!A$1:E$175,5,FALSE),0)","v":"04106-VICUÑA"},"105471","18400900","2021-12-17T09:03:35",10,2,8]
[10,"5",2021,{"$f":"IFERROR(VLOOKUP(Tabla_SERIEBM_01_6[[#This Row],[IdEstablecimiento]],[1]Establecimientos!A$1:E$175,5,FALSE),0)","v":"04106-VICUÑA"},"105467","80302047","2022-01-11T11:03:08",0,null,null,29]
[10,"5",2021,{"$f":"IFERROR(VLOOKUP(Tabla_SERIEBM_01_6[[#This Row],[IdEstablecimiento]],[1]Establecimientos!A$1:E$175,5,FALSE),0)","v":"04106-VICUÑA"},"105467","80302048","2022-01-11T11:03:08",0,null,null,1]
[10,"5",2021,{"$f":"IFERROR(VLOOKUP(Tabla_SERIEBM_01_6[[#This Row],[IdEstablecimiento]],[1]Establecimientos!A$1:E$175,5,FALSE),0)","v":"04106-VICUÑA"},"105467","80302057","2022-01-11T11:03:08",0,null,null,25]
[10,"5",2021,{"$f":"IFERROR(VLOOKUP(Tabla_SERIEBM_01_6[[#This Row],[IdEstablecimiento]],[1]Establecimientos!A$1:E$175,5,FALSE),0)","v":"04106-VICUÑA"},"105467","18400900","2022-01-11T11:03:08",8,4,4]
[11,"5",2021,{"$f":"IFERROR(VLOOKUP(Tabla_SERIEBM_01_6[[#This Row],[IdEstablecimiento]],[1]Establecimientos!A$1:E$175,5,FALSE),0)","v":"04106-VICUÑA"},"105472","80302047","2022-01-11T11:04:23",0,null,null,25]
[11,"5",2021,{"$f":"IFERROR(VLOOKUP(Tabla_SERIEBM_01_6[[#This Row],[IdEstablecimiento]],[1]Establecimientos!A$1:E$175,5,FALSE),0)","v":"04106-VICUÑA"},"105472","80302057","2022-01-11T11:04:23",0,null,null,23]
[11,"5",2021,{"$f":"IFERROR(VLOOKUP(Tabla_SERIEBM_01_6[[#This Row],[IdEstablecimiento]],[1]Establecimientos!A$1:E$175,5,FALSE),0)","v":"04106-VICUÑA"},"105472","80302076","2022-01-11T11:04:23",0,null,null,20]
[11,"5",2021,{"$f":"IFERROR(VLOOKUP(Tabla_SERIEBM_01_6[[#This Row],[IdEstablecimiento]],[1]Establecimientos!A$1:E$175,5,FALSE),0)","v":"04106-VICUÑA"},"105472","80303024","2022-01-11T11:04:23",0,null,null,22]
[11,"5",2021,{"$f":"IFERROR(VLOOKUP(Tabla_SERIEBM_01_6[[#This Row],[IdEstablecimiento]],[1]Establecimientos!A$1:E$175,5,FALSE),0)","v":"04106-VICUÑA"},"105472","80303026","2022-01-11T11:04:23",0,null,null,21]
[11,"5",2021,{"$f":"IFERROR(VLOOKUP(Tabla_SERIEBM_01_6[[#This Row],[IdEstablecimiento]],[1]Establecimientos!A$1:E$175,5,FALSE),0)","v":"04106-VICUÑA"},"105472","80301036","2022-01-11T11:04:23",0,null,null,1]
[11,"5",2021,{"$f":"IFERROR(VLOOKUP(Tabla_SERIEBM_01_6[[#This Row],[IdEstablecimiento]],[1]Establecimientos!A$1:E$175,5,FALSE),0)","v":"04106-VICUÑA"},"105472","80301041","2022-01-11T11:04:23",0,null,null,12]
[11,"5",2021,{"$f":"IFERROR(VLOOKUP(Tabla_SERIEBM_01_6[[#This Row],[IdEstablecimiento]],[1]Establecimientos!A$1:E$175,5,FALSE),0)","v":"04106-VICUÑA"},"105472","80301042","2022-01-11T11:04:23",0,null,null,1]
[11,"5",2021,{"$f":"IFERROR(VLOOKUP(Tabla_SERIEBM_01_6[[#This Row],[IdEstablecimiento]],[1]Establecimientos!A$1:E$175,5,FALSE),0)","v":"04106-VICUÑA"},"105472","80301045","2022-01-11T11:04:23",0,null,null,26]
[11,"5",2021,{"$f":"IFERROR(VLOOKUP(Tabla_SERIEBM_01_6[[#This Row],[IdEstablecimiento]],[1]Establecimientos!A$1:E$175,5,FALSE),0)","v":"04106-VICUÑA"},"105472","80301086","2022-01-11T11:04:23",0,null,null,2]
[11,"5",2021,{"$f":"IFERROR(VLOOKUP(Tabla_SERIEBM_01_6[[#This Row],[IdEstablecimiento]],[1]Establecimientos!A$1:E$175,5,FALSE),0)","v":"04106-VICUÑA"},"105472","80302005","2022-01-11T11:04:23",0,null,null,11]
[11,"5",2021,{"$f":"IFERROR(VLOOKUP(Tabla_SERIEBM_01_6[[#This Row],[IdEstablecimiento]],[1]Establecimientos!A$1:E$175,5,FALSE),0)","v":"04106-VICUÑA"},"105472","80302023","2022-01-11T11:04:23",0,null,null,24]
[11,"5",2021,{"$f":"IFERROR(VLOOKUP(Tabla_SERIEBM_01_6[[#This Row],[IdEstablecimiento]],[1]Establecimientos!A$1:E$175,5,FALSE),0)","v":"04106-VICUÑA"},"105472","80302032","2022-01-11T11:04:23",0,null,null,23]
[11,"5",2021,{"$f":"IFERROR(VLOOKUP(Tabla_SERIEBM_01_6[[#This Row],[IdEstablecimiento]],[1]Establecimientos!A$1:E$175,5,FALSE),0)","v":"04106-VICUÑA"},"105472","80302034","2022-01-11T11:04:23",0,null,null,24]
[11,"5",2021,{"$f":"IFERROR(VLOOKUP(Tabla_SERIEBM_01_6[[#This Row],[IdEstablecimiento]],[1]Establecimientos!A$1:E$175,5,FALSE),0)","v":"04106-VICUÑA"},"105472","80306042","2022-01-11T11:04:23",0,null,null,2]
[11,"5",2021,{"$f":"IFERROR(VLOOKUP(Tabla_SERIEBM_01_6[[#This Row],[IdEstablecimiento]],[1]Establecimientos!A$1:E$175,5,FALSE),0)","v":"04201-ILLAPEL"},"105487","80302076","2021-12-17T09:11:10",0,null,null,5]
[10,"5",2021,{"$f":"IFERROR(VLOOKUP(Tabla_SERIEBM_01_6[[#This Row],[IdEstablecimiento]],[1]Establecimientos!A$1:E$175,5,FALSE),0)","v":"04106-VICUÑA"},"105467","80302076","2022-01-11T11:03:08",0,null,null,24]
[10,"5",2021,{"$f":"IFERROR(VLOOKUP(Tabla_SERIEBM_01_6[[#This Row],[IdEstablecimiento]],[1]Establecimientos!A$1:E$175,5,FALSE),0)","v":"04106-VICUÑA"},"105467","80303024","2022-01-11T11:03:08",0,null,null,24]
[10,"5",2021,{"$f":"IFERROR(VLOOKUP(Tabla_SERIEBM_01_6[[#This Row],[IdEstablecimiento]],[1]Establecimientos!A$1:E$175,5,FALSE),0)","v":"04106-VICUÑA"},"105467","80303026","2022-01-11T11:03:08",0,null,null,22]
[10,"5",2021,{"$f":"IFERROR(VLOOKUP(Tabla_SERIEBM_01_6[[#This Row],[IdEstablecimiento]],[1]Establecimientos!A$1:E$175,5,FALSE),0)","v":"04106-VICUÑA"},"105467","80301036","2022-01-11T11:03:08",0,null,null,1]
[10,"5",2021,{"$f":"IFERROR(VLOOKUP(Tabla_SERIEBM_01_6[[#This Row],[IdEstablecimiento]],[1]Establecimientos!A$1:E$175,5,FALSE),0)","v":"04106-VICUÑA"},"105467","80301041","2022-01-11T11:03:08",0,null,null,19]
[10,"5",2021,{"$f":"IFERROR(VLOOKUP(Tabla_SERIEBM_01_6[[#This Row],[IdEstablecimiento]],[1]Establecimientos!A$1:E$175,5,FALSE),0)","v":"04106-VICUÑA"},"105467","80301042","2022-01-11T11:03:08",0,null,null,1]
[10,"5",2021,{"$f":"IFERROR(VLOOKUP(Tabla_SERIEBM_01_6[[#This Row],[IdEstablecimiento]],[1]Establecimientos!A$1:E$175,5,FALSE),0)","v":"04106-VICUÑA"},"105467","80301045","2022-01-11T11:03:08",0,null,null,30]
[11,"5",2021,{"$f":"IFERROR(VLOOKUP(Tabla_SERIEBM_01_6[[#This Row],[IdEstablecimiento]],[1]Establecimientos!A$1:E$175,5,FALSE),0)","v":"04201-ILLAPEL"},"105487","80303024","2021-12-17T09:11:10",0,null,null,19]
[11,"5",2021,{"$f":"IFERROR(VLOOKUP(Tabla_SERIEBM_01_6[[#This Row],[IdEstablecimiento]],[1]Establecimientos!A$1:E$175,5,FALSE),0)","v":"04201-ILLAPEL"},"105487","80301036","2021-12-17T09:11:10",0,null,null,2]
[11,"5",2021,{"$f":"IFERROR(VLOOKUP(Tabla_SERIEBM_01_6[[#This Row],[IdEstablecimiento]],[1]Establecimientos!A$1:E$175,5,FALSE),0)","v":"04201-ILLAPEL"},"105487","80301041","2021-12-17T09:11:10",0,null,null,46]
[11,"5",2021,{"$f":"IFERROR(VLOOKUP(Tabla_SERIEBM_01_6[[#This Row],[IdEstablecimiento]],[1]Establecimientos!A$1:E$175,5,FALSE),0)","v":"04201-ILLAPEL"},"105487","80301045","2021-12-17T09:11:10",0,null,null,13]
[11,"5",2021,{"$f":"IFERROR(VLOOKUP(Tabla_SERIEBM_01_6[[#This Row],[IdEstablecimiento]],[1]Establecimientos!A$1:E$175,5,FALSE),0)","v":"04201-ILLAPEL"},"105487","80301085","2021-12-17T09:11:10",0,null,null,1]
[11,"5",2021,{"$f":"IFERROR(VLOOKUP(Tabla_SERIEBM_01_6[[#This Row],[IdEstablecimiento]],[1]Establecimientos!A$1:E$175,5,FALSE),0)","v":"04201-ILLAPEL"},"105487","80302067","2021-12-17T09:11:10",0,null,null,1]
[11,"5",2021,{"$f":"IFERROR(VLOOKUP(Tabla_SERIEBM_01_6[[#This Row],[IdEstablecimiento]],[1]Establecimientos!A$1:E$175,5,FALSE),0)","v":"04201-ILLAPEL"},"105487","80302023","2021-12-17T09:11:10",0,null,null,21]
[11,"5",2021,{"$f":"IFERROR(VLOOKUP(Tabla_SERIEBM_01_6[[#This Row],[IdEstablecimiento]],[1]Establecimientos!A$1:E$175,5,FALSE),0)","v":"04201-ILLAPEL"},"105487","80302032","2021-12-17T09:11:10",0,null,null,2]
[11,"5",2021,{"$f":"IFERROR(VLOOKUP(Tabla_SERIEBM_01_6[[#This Row],[IdEstablecimiento]],[1]Establecimientos!A$1:E$175,5,FALSE),0)","v":"04201-ILLAPEL"},"105487","80302034","2021-12-17T09:11:10",0,null,null,23]
[11,"5",2021,{"$f":"IFERROR(VLOOKUP(Tabla_SERIEBM_01_6[[#This Row],[IdEstablecimiento]],[1]Establecimientos!A$1:E$175,5,FALSE),0)","v":"04201-ILLAPEL"},"105487","80305070","2021-12-17T09:11:10",0,null,null,2]
[11,"5",2021,{"$f":"IFERROR(VLOOKUP(Tabla_SERIEBM_01_6[[#This Row],[IdEstablecimiento]],[1]Establecimientos!A$1:E$175,5,FALSE),0)","v":"04201-ILLAPEL"},"105487","80306011","2021-12-17T09:11:10",0,null,null,6]
[11,"5",2021,{"$f":"IFERROR(VLOOKUP(Tabla_SERIEBM_01_6[[#This Row],[IdEstablecimiento]],[1]Establecimientos!A$1:E$175,5,FALSE),0)","v":"04201-ILLAPEL"},"105487","80306042","2021-12-17T09:11:10",0,null,null,11]
[11,"5",2021,{"$f":"IFERROR(VLOOKUP(Tabla_SERIEBM_01_6[[#This Row],[IdEstablecimiento]],[1]Establecimientos!A$1:E$175,5,FALSE),0)","v":"04201-ILLAPEL"},"105487","80306061","2021-12-17T09:11:10",0,null,null,1]
[11,"5",2021,{"$f":"IFERROR(VLOOKUP(Tabla_SERIEBM_01_6[[#This Row],[IdEstablecimiento]],[1]Establecimientos!A$1:E$175,5,FALSE),0)","v":"04201-ILLAPEL"},"105487","80309010","2021-12-17T09:11:10",0,null,null,1]
[11,"5",2021,{"$f":"IFERROR(VLOOKUP(Tabla_SERIEBM_01_6[[#This Row],[IdEstablecimiento]],[1]Establecimientos!A$1:E$175,5,FALSE),0)","v":"04201-ILLAPEL"},"105487","80309023","2021-12-17T09:11:10",0,null,null,20]
[11,"5",2021,{"$f":"IFERROR(VLOOKUP(Tabla_SERIEBM_01_6[[#This Row],[IdEstablecimiento]],[1]Establecimientos!A$1:E$175,5,FALSE),0)","v":"04201-ILLAPEL"},"105487","81701001","2021-12-17T09:11:10",2,null,2,null,2]
[11,"5",2021,{"$f":"IFERROR(VLOOKUP(Tabla_SERIEBM_01_6[[#This Row],[IdEstablecimiento]],[1]Establecimientos!A$1:E$175,5,FALSE),0)","v":"04201-ILLAPEL"},"105487","81701009","2021-12-17T09:11:10",12,null,12,null,12]
[11,"5",2021,{"$f":"IFERROR(VLOOKUP(Tabla_SERIEBM_01_6[[#This Row],[IdEstablecimiento]],[1]Establecimientos!A$1:E$175,5,FALSE),0)","v":"04201-ILLAPEL"},"105487","81707030","2021-12-17T09:11:10",1,null,1,null,1]
[11,"5",2021,{"$f":"IFERROR(VLOOKUP(Tabla_SERIEBM_01_6[[#This Row],[IdEstablecimiento]],[1]Establecimientos!A$1:E$175,5,FALSE),0)","v":"04201-ILLAPEL"},"105487","81602222","2021-12-17T09:11:10",2,null,2,null,2]
[11,"5",2021,{"$f":"IFERROR(VLOOKUP(Tabla_SERIEBM_01_6[[#This Row],[IdEstablecimiento]],[1]Establecimientos!A$1:E$175,5,FALSE),0)","v":"04201-ILLAPEL"},"105487","81602217","2021-12-17T09:11:10",1,null,1,null,1]
[11,"5",2021,{"$f":"IFERROR(VLOOKUP(Tabla_SERIEBM_01_6[[#This Row],[IdEstablecimiento]],[1]Establecimientos!A$1:E$175,5,FALSE),0)","v":"04201-ILLAPEL"},"105487","81602225","2021-12-17T09:11:10",1,null,1,null,1]
[11,"5",2021,{"$f":"IFERROR(VLOOKUP(Tabla_SERIEBM_01_6[[#This Row],[IdEstablecimiento]],[1]Establecimientos!A$1:E$175,5,FALSE),0)","v":"04201-ILLAPEL"},"105487","80106002","2021-12-17T09:11:10",67,null,67,null,67]
[11,"5",2021,{"$f":"IFERROR(VLOOKUP(Tabla_SERIEBM_01_6[[#This Row],[IdEstablecimiento]],[1]Establecimientos!A$1:E$175,5,FALSE),0)","v":"04201-ILLAPEL"},"105487","80106017","2021-12-17T09:11:10",15,null,15,null,15]
[11,"5",2021,{"$f":"IFERROR(VLOOKUP(Tabla_SERIEBM_01_6[[#This Row],[IdEstablecimiento]],[1]Establecimientos!A$1:E$175,5,FALSE),0)","v":"04201-ILLAPEL"},"105487","80106007","2021-12-17T09:11:10",3,null,3,null,3]
[11,"5",2021,{"$f":"IFERROR(VLOOKUP(Tabla_SERIEBM_01_6[[#This Row],[IdEstablecimiento]],[1]Establecimientos!A$1:E$175,5,FALSE),0)","v":"04201-ILLAPEL"},"105487","80106013","2021-12-17T09:11:10",3,null,3,null,3]
[11,"5",2021,{"$f":"IFERROR(VLOOKUP(Tabla_SERIEBM_01_6[[#This Row],[IdEstablecimiento]],[1]Establecimientos!A$1:E$175,5,FALSE),0)","v":"04201-ILLAPEL"},"105487","80106014","2021-12-17T09:11:10",157,null,157,null,157]
[11,"5",2021,{"$f":"IFERROR(VLOOKUP(Tabla_SERIEBM_01_6[[#This Row],[IdEstablecimiento]],[1]Establecimientos!A$1:E$175,5,FALSE),0)","v":"04201-ILLAPEL"},"105487","80106015","2021-12-17T09:11:10",12,null,12,null,12]
[11,"5",2021,{"$f":"IFERROR(VLOOKUP(Tabla_SERIEBM_01_6[[#This Row],[IdEstablecimiento]],[1]Establecimientos!A$1:E$175,5,FALSE),0)","v":"04201-ILLAPEL"},"105487","80106023","2021-12-17T09:11:10",27,null,27,null,27]
[11,"5",2021,{"$f":"IFERROR(VLOOKUP(Tabla_SERIEBM_01_6[[#This Row],[IdEstablecimiento]],[1]Establecimientos!A$1:E$175,5,FALSE),0)","v":"04201-ILLAPEL"},"105487","80307011","2021-12-17T09:11:10",0,null,null,71]
[11,"5",2021,{"$f":"IFERROR(VLOOKUP(Tabla_SERIEBM_01_6[[#This Row],[IdEstablecimiento]],[1]Establecimientos!A$1:E$175,5,FALSE),0)","v":"04201-ILLAPEL"},"105487","80500011","2021-12-17T09:11:10",20,null,20,null,20]
[11,"5",2021,{"$f":"IFERROR(VLOOKUP(Tabla_SERIEBM_01_6[[#This Row],[IdEstablecimiento]],[1]Establecimientos!A$1:E$175,5,FALSE),0)","v":"04201-ILLAPEL"},"105487","18020300","2021-12-17T09:11:10",1,0,1]
[11,"5",2021,{"$f":"IFERROR(VLOOKUP(Tabla_SERIEBM_01_6[[#This Row],[IdEstablecimiento]],[1]Establecimientos!A$1:E$175,5,FALSE),0)","v":"04201-ILLAPEL"},"105487","18020500","2021-12-17T09:11:10",14,0,14]
[11,"5",2021,{"$f":"IFERROR(VLOOKUP(Tabla_SERIEBM_01_6[[#This Row],[IdEstablecimiento]],[1]Establecimientos!A$1:E$175,5,FALSE),0)","v":"04201-ILLAPEL"},"105487","18030000","2021-12-17T09:11:10",4,0,4]
[11,"5",2021,{"$f":"IFERROR(VLOOKUP(Tabla_SERIEBM_01_6[[#This Row],[IdEstablecimiento]],[1]Establecimientos!A$1:E$175,5,FALSE),0)","v":"04201-ILLAPEL"},"105487","18090000","2021-12-17T09:11:10",27,0,27]
[11,"5",2021,{"$f":"IFERROR(VLOOKUP(Tabla_SERIEBM_01_6[[#This Row],[IdEstablecimiento]],[1]Establecimientos!A$1:E$175,5,FALSE),0)","v":"04201-ILLAPEL"},"105487","18050100","2021-12-17T09:11:10",67,0,67]
[11,"5",2021,{"$f":"IFERROR(VLOOKUP(Tabla_SERIEBM_01_6[[#This Row],[IdEstablecimiento]],[1]Establecimientos!A$1:E$175,5,FALSE),0)","v":"04201-ILLAPEL"},"105487","18700100","2021-12-17T09:11:10",36,2,34,0]
[11,"5",2021,{"$f":"IFERROR(VLOOKUP(Tabla_SERIEBM_01_6[[#This Row],[IdEstablecimiento]],[1]Establecimientos!A$1:E$175,5,FALSE),0)","v":"04202-CANELA"},"105488","81701009","2021-12-17T09:11:50",5,5,null,null,5]
[11,"5",2021,{"$f":"IFERROR(VLOOKUP(Tabla_SERIEBM_01_6[[#This Row],[IdEstablecimiento]],[1]Establecimientos!A$1:E$175,5,FALSE),0)","v":"04303-MONTE PATRIA"},"105489","81701001","2021-12-17T09:12:18",9,null,9,null,9]
[11,"5",2021,{"$f":"IFERROR(VLOOKUP(Tabla_SERIEBM_01_6[[#This Row],[IdEstablecimiento]],[1]Establecimientos!A$1:E$175,5,FALSE),0)","v":"04303-MONTE PATRIA"},"105489","81701009","2021-12-17T09:12:18",10,null,10,null,10]
[11,"5",2021,{"$f":"IFERROR(VLOOKUP(Tabla_SERIEBM_01_6[[#This Row],[IdEstablecimiento]],[1]Establecimientos!A$1:E$175,5,FALSE),0)","v":"04303-MONTE PATRIA"},"105489","80106002","2021-12-17T09:12:18",6,null,6,null,6]
[11,"5",2021,{"$f":"IFERROR(VLOOKUP(Tabla_SERIEBM_01_6[[#This Row],[IdEstablecimiento]],[1]Establecimientos!A$1:E$175,5,FALSE),0)","v":"04303-MONTE PATRIA"},"105489","80106014","2021-12-17T09:12:18",12,null,12,null,12]
[11,"5",2021,{"$f":"IFERROR(VLOOKUP(Tabla_SERIEBM_01_6[[#This Row],[IdEstablecimiento]],[1]Establecimientos!A$1:E$175,5,FALSE),0)","v":"04303-MONTE PATRIA"},"105489","80106015","2021-12-17T09:12:18",1,null,1,null,1]
[2,"5",2021,{"$f":"IFERROR(VLOOKUP(Tabla_SERIEBM_01_6[[#This Row],[IdEstablecimiento]],[1]Establecimientos!A$1:E$175,5,FALSE),0)","v":"04301-OVALLE"},"105322","80302045","2021-11-09T13:45:51",6,null,6]
[2,"5",2021,{"$f":"IFERROR(VLOOKUP(Tabla_SERIEBM_01_6[[#This Row],[IdEstablecimiento]],[1]Establecimientos!A$1:E$175,5,FALSE),0)","v":"04301-OVALLE"},"105322","80302047","2021-11-09T13:45:51",1681,null,1681]
[2,"5",2021,{"$f":"IFERROR(VLOOKUP(Tabla_SERIEBM_01_6[[#This Row],[IdEstablecimiento]],[1]Establecimientos!A$1:E$175,5,FALSE),0)","v":"04301-OVALLE"},"105322","80302048","2021-11-09T13:45:51",205,null,205]
[2,"5",2021,{"$f":"IFERROR(VLOOKUP(Tabla_SERIEBM_01_6[[#This Row],[IdEstablecimiento]],[1]Establecimientos!A$1:E$175,5,FALSE),0)","v":"04301-OVALLE"},"105322","80302057","2021-11-09T13:45:51",1025,null,1025]
[2,"5",2021,{"$f":"IFERROR(VLOOKUP(Tabla_SERIEBM_01_6[[#This Row],[IdEstablecimiento]],[1]Establecimientos!A$1:E$175,5,FALSE),0)","v":"04301-OVALLE"},"105322","80302059","2021-11-09T13:45:51",52,null,52]
[2,"5",2021,{"$f":"IFERROR(VLOOKUP(Tabla_SERIEBM_01_6[[#This Row],[IdEstablecimiento]],[1]Establecimientos!A$1:E$175,5,FALSE),0)","v":"04301-OVALLE"},"105322","80302060","2021-11-09T13:45:51",25,null,25]
[2,"5",2021,{"$f":"IFERROR(VLOOKUP(Tabla_SERIEBM_01_6[[#This Row],[IdEstablecimiento]],[1]Establecimientos!A$1:E$175,5,FALSE),0)","v":"04301-OVALLE"},"105322","80302076","2021-11-09T13:45:51",724,null,724]
[2,"5",2021,{"$f":"IFERROR(VLOOKUP(Tabla_SERIEBM_01_6[[#This Row],[IdEstablecimiento]],[1]Establecimientos!A$1:E$175,5,FALSE),0)","v":"04301-OVALLE"},"105322","80302063","2021-11-09T13:45:51",26,null,26]
[2,"5",2021,{"$f":"IFERROR(VLOOKUP(Tabla_SERIEBM_01_6[[#This Row],[IdEstablecimiento]],[1]Establecimientos!A$1:E$175,5,FALSE),0)","v":"04301-OVALLE"},"105322","80302064","2021-11-09T13:45:51",14,null,14]
[2,"5",2021,{"$f":"IFERROR(VLOOKUP(Tabla_SERIEBM_01_6[[#This Row],[IdEstablecimiento]],[1]Establecimientos!A$1:E$175,5,FALSE),0)","v":"04301-OVALLE"},"105322","80303024","2021-11-09T13:45:51",931,null,931]
[2,"5",2021,{"$f":"IFERROR(VLOOKUP(Tabla_SERIEBM_01_6[[#This Row],[IdEstablecimiento]],[1]Establecimientos!A$1:E$175,5,FALSE),0)","v":"04301-OVALLE"},"105322","80303026","2021-11-09T13:45:51",731,null,731]
[2,"5",2021,{"$f":"IFERROR(VLOOKUP(Tabla_SERIEBM_01_6[[#This Row],[IdEstablecimiento]],[1]Establecimientos!A$1:E$175,5,FALSE),0)","v":"04301-OVALLE"},"105322","80301034","2021-11-09T13:45:51",53,null,53]
[2,"5",2021,{"$f":"IFERROR(VLOOKUP(Tabla_SERIEBM_01_6[[#This Row],[IdEstablecimiento]],[1]Establecimientos!A$1:E$175,5,FALSE),0)","v":"04301-OVALLE"},"105322","80301036","2021-11-09T13:45:51",191,null,191]
[2,"5",2021,{"$f":"IFERROR(VLOOKUP(Tabla_SERIEBM_01_6[[#This Row],[IdEstablecimiento]],[1]Establecimientos!A$1:E$175,5,FALSE),0)","v":"04301-OVALLE"},"105322","80301038","2021-11-09T13:45:51",76,null,76]
[2,"5",2021,{"$f":"IFERROR(VLOOKUP(Tabla_SERIEBM_01_6[[#This Row],[IdEstablecimiento]],[1]Establecimientos!A$1:E$175,5,FALSE),0)","v":"04301-OVALLE"},"105322","80301041","2021-11-09T13:45:51",703,null,703]
[2,"5",2021,{"$f":"IFERROR(VLOOKUP(Tabla_SERIEBM_01_6[[#This Row],[IdEstablecimiento]],[1]Establecimientos!A$1:E$175,5,FALSE),0)","v":"04301-OVALLE"},"105322","80301045","2021-11-09T13:45:51",1317,null,1317]
[2,"5",2021,{"$f":"IFERROR(VLOOKUP(Tabla_SERIEBM_01_6[[#This Row],[IdEstablecimiento]],[1]Establecimientos!A$1:E$175,5,FALSE),0)","v":"04301-OVALLE"},"105322","80301059","2021-11-09T13:45:51",28,null,28]
[3,"5",2021,{"$f":"IFERROR(VLOOKUP(Tabla_SERIEBM_01_6[[#This Row],[IdEstablecimiento]],[1]Establecimientos!A$1:E$175,5,FALSE),0)","v":"04201-ILLAPEL"},"105449","80309022","2021-11-08T12:17:47",0,null,null,11]
[3,"5",2021,{"$f":"IFERROR(VLOOKUP(Tabla_SERIEBM_01_6[[#This Row],[IdEstablecimiento]],[1]Establecimientos!A$1:E$175,5,FALSE),0)","v":"04201-ILLAPEL"},"105449","81701001","2021-11-08T12:17:47",2,null,2,null,2]
[3,"5",2021,{"$f":"IFERROR(VLOOKUP(Tabla_SERIEBM_01_6[[#This Row],[IdEstablecimiento]],[1]Establecimientos!A$1:E$175,5,FALSE),0)","v":"04201-ILLAPEL"},"105449","80106002","2021-11-08T12:17:47",9,null,9,null,9]
[3,"5",2021,{"$f":"IFERROR(VLOOKUP(Tabla_SERIEBM_01_6[[#This Row],[IdEstablecimiento]],[1]Establecimientos!A$1:E$175,5,FALSE),0)","v":"04201-ILLAPEL"},"105449","80106010","2021-11-08T12:17:47",1,null,1,null,1]
[3,"5",2021,{"$f":"IFERROR(VLOOKUP(Tabla_SERIEBM_01_6[[#This Row],[IdEstablecimiento]],[1]Establecimientos!A$1:E$175,5,FALSE),0)","v":"04201-ILLAPEL"},"105449","80106014","2021-11-08T12:17:47",15,null,15,null,15]
[3,"5",2021,{"$f":"IFERROR(VLOOKUP(Tabla_SERIEBM_01_6[[#This Row],[IdEstablecimiento]],[1]Establecimientos!A$1:E$175,5,FALSE),0)","v":"04201-ILLAPEL"},"105449","80106015","2021-11-08T12:17:47",1,null,1,null,1]
[9,"5",2021,{"$f":"IFERROR(VLOOKUP(Tabla_SERIEBM_01_6[[#This Row],[IdEstablecimiento]],[1]Establecimientos!A$1:E$175,5,FALSE),0)","v":"04304-PUNITAQUI"},"105308","80106007","2021-10-15T12:35:21",3,null,3,null,3]
[9,"5",2021,{"$f":"IFERROR(VLOOKUP(Tabla_SERIEBM_01_6[[#This Row],[IdEstablecimiento]],[1]Establecimientos!A$1:E$175,5,FALSE),0)","v":"04304-PUNITAQUI"},"105308","80106008","2021-10-15T12:35:21",1,null,1,null,1]
[9,"5",2021,{"$f":"IFERROR(VLOOKUP(Tabla_SERIEBM_01_6[[#This Row],[IdEstablecimiento]],[1]Establecimientos!A$1:E$175,5,FALSE),0)","v":"04304-PUNITAQUI"},"105308","80106013","2021-10-15T12:35:21",1,null,1,null,1]
[9,"5",2021,{"$f":"IFERROR(VLOOKUP(Tabla_SERIEBM_01_6[[#This Row],[IdEstablecimiento]],[1]Establecimientos!A$1:E$175,5,FALSE),0)","v":"04304-PUNITAQUI"},"105308","80106014","2021-10-15T12:35:21",275,null,275,null,275]
[9,"5",2021,{"$f":"IFERROR(VLOOKUP(Tabla_SERIEBM_01_6[[#This Row],[IdEstablecimiento]],[1]Establecimientos!A$1:E$175,5,FALSE),0)","v":"04304-PUNITAQUI"},"105308","80106015","2021-10-15T12:35:21",81,null,81,null,81]
[9,"5",2021,{"$f":"IFERROR(VLOOKUP(Tabla_SERIEBM_01_6[[#This Row],[IdEstablecimiento]],[1]Establecimientos!A$1:E$175,5,FALSE),0)","v":"04304-PUNITAQUI"},"105308","80106020","2021-10-15T12:35:21",5,null,5,null,5]
[9,"5",2021,{"$f":"IFERROR(VLOOKUP(Tabla_SERIEBM_01_6[[#This Row],[IdEstablecimiento]],[1]Establecimientos!A$1:E$175,5,FALSE),0)","v":"04304-PUNITAQUI"},"105308","80106022","2021-10-15T12:35:21",2,null,2,null,2]
[9,"5",2021,{"$f":"IFERROR(VLOOKUP(Tabla_SERIEBM_01_6[[#This Row],[IdEstablecimiento]],[1]Establecimientos!A$1:E$175,5,FALSE),0)","v":"04304-PUNITAQUI"},"105308","80307011","2021-10-15T12:35:21",406,null,406]
[9,"5",2021,{"$f":"IFERROR(VLOOKUP(Tabla_SERIEBM_01_6[[#This Row],[IdEstablecimiento]],[1]Establecimientos!A$1:E$175,5,FALSE),0)","v":"04304-PUNITAQUI"},"105308","80307012","2021-10-15T12:35:21",12,null,12]
[9,"5",2021,{"$f":"IFERROR(VLOOKUP(Tabla_SERIEBM_01_6[[#This Row],[IdEstablecimiento]],[1]Establecimientos!A$1:E$175,5,FALSE),0)","v":"04304-PUNITAQUI"},"105308","80500011","2021-10-15T12:35:21",94,null,94,null,94]
[9,"5",2021,{"$f":"IFERROR(VLOOKUP(Tabla_SERIEBM_01_6[[#This Row],[IdEstablecimiento]],[1]Establecimientos!A$1:E$175,5,FALSE),0)","v":"04304-PUNITAQUI"},"105308","18020400","2021-10-15T12:35:21",2,0,2]
[9,"5",2021,{"$f":"IFERROR(VLOOKUP(Tabla_SERIEBM_01_6[[#This Row],[IdEstablecimiento]],[1]Establecimientos!A$1:E$175,5,FALSE),0)","v":"04202-CANELA"},"105309","80106017","2021-10-15T12:35:47",45,null,45,0,45]
[9,"5",2021,{"$f":"IFERROR(VLOOKUP(Tabla_SERIEBM_01_6[[#This Row],[IdEstablecimiento]],[1]Establecimientos!A$1:E$175,5,FALSE),0)","v":"04202-CANELA"},"105309","80106007","2021-10-15T12:35:47",1,null,1,null,1]
[9,"5",2021,{"$f":"IFERROR(VLOOKUP(Tabla_SERIEBM_01_6[[#This Row],[IdEstablecimiento]],[1]Establecimientos!A$1:E$175,5,FALSE),0)","v":"04202-CANELA"},"105309","80106013","2021-10-15T12:35:47",3,null,3,null,3]
[9,"5",2021,{"$f":"IFERROR(VLOOKUP(Tabla_SERIEBM_01_6[[#This Row],[IdEstablecimiento]],[1]Establecimientos!A$1:E$175,5,FALSE),0)","v":"04202-CANELA"},"105309","80106014","2021-10-15T12:35:47",256,null,256,null,256]
[9,"5",2021,{"$f":"IFERROR(VLOOKUP(Tabla_SERIEBM_01_6[[#This Row],[IdEstablecimiento]],[1]Establecimientos!A$1:E$175,5,FALSE),0)","v":"04202-CANELA"},"105309","80106015","2021-10-15T12:35:47",60,null,60,null,60]
[9,"5",2021,{"$f":"IFERROR(VLOOKUP(Tabla_SERIEBM_01_6[[#This Row],[IdEstablecimiento]],[1]Establecimientos!A$1:E$175,5,FALSE),0)","v":"04202-CANELA"},"105309","80106020","2021-10-15T12:35:47",5,null,5,null,5]
[9,"5",2021,{"$f":"IFERROR(VLOOKUP(Tabla_SERIEBM_01_6[[#This Row],[IdEstablecimiento]],[1]Establecimientos!A$1:E$175,5,FALSE),0)","v":"04301-OVALLE"},"105437","80500011","2021-10-15T12:57:43",4,null,4]
[9,"5",2021,{"$f":"IFERROR(VLOOKUP(Tabla_SERIEBM_01_6[[#This Row],[IdEstablecimiento]],[1]Establecimientos!A$1:E$175,5,FALSE),0)","v":"04301-OVALLE"},"105437","18090000","2021-10-15T12:57:43",8,0,8]
[9,"5",2021,{"$f":"IFERROR(VLOOKUP(Tabla_SERIEBM_01_6[[#This Row],[IdEstablecimiento]],[1]Establecimientos!A$1:E$175,5,FALSE),0)","v":"04301-OVALLE"},"105437","18050100","2021-10-15T12:57:43",12,0,12]
[9,"5",2021,{"$f":"IFERROR(VLOOKUP(Tabla_SERIEBM_01_6[[#This Row],[IdEstablecimiento]],[1]Establecimientos!A$1:E$175,5,FALSE),0)","v":"04304-PUNITAQUI"},"105440","18020200","2021-10-15T12:58:35",1,0,1]
[9,"5",2021,{"$f":"IFERROR(VLOOKUP(Tabla_SERIEBM_01_6[[#This Row],[IdEstablecimiento]],[1]Establecimientos!A$1:E$175,5,FALSE),0)","v":"04304-PUNITAQUI"},"105440","18020300","2021-10-15T12:58:35",12,0,12]
[9,"5",2021,{"$f":"IFERROR(VLOOKUP(Tabla_SERIEBM_01_6[[#This Row],[IdEstablecimiento]],[1]Establecimientos!A$1:E$175,5,FALSE),0)","v":"04304-PUNITAQUI"},"105440","18020500","2021-10-15T12:58:35",18,0,18]
[9,"5",2021,{"$f":"IFERROR(VLOOKUP(Tabla_SERIEBM_01_6[[#This Row],[IdEstablecimiento]],[1]Establecimientos!A$1:E$175,5,FALSE),0)","v":"04304-PUNITAQUI"},"105440","18020700","2021-10-15T12:58:35",4,0,4]
[9,"5",2021,{"$f":"IFERROR(VLOOKUP(Tabla_SERIEBM_01_6[[#This Row],[IdEstablecimiento]],[1]Establecimientos!A$1:E$175,5,FALSE),0)","v":"04304-PUNITAQUI"},"105440","18030000","2021-10-15T12:58:35",11,0,11]
[9,"5",2021,{"$f":"IFERROR(VLOOKUP(Tabla_SERIEBM_01_6[[#This Row],[IdEstablecimiento]],[1]Establecimientos!A$1:E$175,5,FALSE),0)","v":"04101-LA SERENA"},"105499","80500011","2021-10-15T13:22:20",38,null,38,null,38]
[9,"5",2021,{"$f":"IFERROR(VLOOKUP(Tabla_SERIEBM_01_6[[#This Row],[IdEstablecimiento]],[1]Establecimientos!A$1:E$175,5,FALSE),0)","v":"04101-LA SERENA"},"105499","18020500","2021-10-15T13:22:20",12,0,12]
[9,"5",2021,{"$f":"IFERROR(VLOOKUP(Tabla_SERIEBM_01_6[[#This Row],[IdEstablecimiento]],[1]Establecimientos!A$1:E$175,5,FALSE),0)","v":"04101-LA SERENA"},"105499","18050100","2021-10-15T13:22:20",14,0,14]
[9,"5",2021,{"$f":"IFERROR(VLOOKUP(Tabla_SERIEBM_01_6[[#This Row],[IdEstablecimiento]],[1]Establecimientos!A$1:E$175,5,FALSE),0)","v":"04104-LA HIGUERA"},"105500","80307011","2021-10-15T13:22:44",20,null,20]
[9,"5",2021,{"$f":"IFERROR(VLOOKUP(Tabla_SERIEBM_01_6[[#This Row],[IdEstablecimiento]],[1]Establecimientos!A$1:E$175,5,FALSE),0)","v":"04104-LA HIGUERA"},"105500","18400900","2021-10-15T13:22:44",11,null,11]
[9,"5",2021,{"$f":"IFERROR(VLOOKUP(Tabla_SERIEBM_01_6[[#This Row],[IdEstablecimiento]],[1]Establecimientos!A$1:E$175,5,FALSE),0)","v":"04204-SALAMANCA"},"105501","81701001","2021-10-15T13:23:09",10,null,10]
[9,"5",2021,{"$f":"IFERROR(VLOOKUP(Tabla_SERIEBM_01_6[[#This Row],[IdEstablecimiento]],[1]Establecimientos!A$1:E$175,5,FALSE),0)","v":"04204-SALAMANCA"},"105501","80106002","2021-10-15T13:23:09",25,null,25]
[9,"5",2021,{"$f":"IFERROR(VLOOKUP(Tabla_SERIEBM_01_6[[#This Row],[IdEstablecimiento]],[1]Establecimientos!A$1:E$175,5,FALSE),0)","v":"04204-SALAMANCA"},"105501","80106007","2021-10-15T13:23:09",1,null,1]
[9,"5",2021,{"$f":"IFERROR(VLOOKUP(Tabla_SERIEBM_01_6[[#This Row],[IdEstablecimiento]],[1]Establecimientos!A$1:E$175,5,FALSE),0)","v":"04204-SALAMANCA"},"105501","80106008","2021-10-15T13:23:09",1,null,1]
[9,"5",2021,{"$f":"IFERROR(VLOOKUP(Tabla_SERIEBM_01_6[[#This Row],[IdEstablecimiento]],[1]Establecimientos!A$1:E$175,5,FALSE),0)","v":"04204-SALAMANCA"},"105501","80106010","2021-10-15T13:23:09",2,null,2]
[9,"5",2021,{"$f":"IFERROR(VLOOKUP(Tabla_SERIEBM_01_6[[#This Row],[IdEstablecimiento]],[1]Establecimientos!A$1:E$175,5,FALSE),0)","v":"04204-SALAMANCA"},"105501","80106015","2021-10-15T13:23:09",2,null,2]
[9,"5",2021,{"$f":"IFERROR(VLOOKUP(Tabla_SERIEBM_01_6[[#This Row],[IdEstablecimiento]],[1]Establecimientos!A$1:E$175,5,FALSE),0)","v":"04204-SALAMANCA"},"105501","80106022","2021-10-15T13:23:09",1,null,1]
[9,"5",2021,{"$f":"IFERROR(VLOOKUP(Tabla_SERIEBM_01_6[[#This Row],[IdEstablecimiento]],[1]Establecimientos!A$1:E$175,5,FALSE),0)","v":"04204-SALAMANCA"},"105501","80106023","2021-10-15T13:23:09",21,null,21]
[9,"5",2021,{"$f":"IFERROR(VLOOKUP(Tabla_SERIEBM_01_6[[#This Row],[IdEstablecimiento]],[1]Establecimientos!A$1:E$175,5,FALSE),0)","v":"04204-SALAMANCA"},"105501","80500011","2021-10-15T13:23:09",43,null,43]
[9,"5",2021,{"$f":"IFERROR(VLOOKUP(Tabla_SERIEBM_01_6[[#This Row],[IdEstablecimiento]],[1]Establecimientos!A$1:E$175,5,FALSE),0)","v":"04204-SALAMANCA"},"105501","18020500","2021-10-15T13:23:09",10,0,10]
[9,"5",2021,{"$f":"IFERROR(VLOOKUP(Tabla_SERIEBM_01_6[[#This Row],[IdEstablecimiento]],[1]Establecimientos!A$1:E$175,5,FALSE),0)","v":"04204-SALAMANCA"},"105501","18090000","2021-10-15T13:23:09",21,0,21]
[9,"5",2021,{"$f":"IFERROR(VLOOKUP(Tabla_SERIEBM_01_6[[#This Row],[IdEstablecimiento]],[1]Establecimientos!A$1:E$175,5,FALSE),0)","v":"04204-SALAMANCA"},"105501","18050100","2021-10-15T13:23:09",25,0,25]
[9,"5",2021,{"$f":"IFERROR(VLOOKUP(Tabla_SERIEBM_01_6[[#This Row],[IdEstablecimiento]],[1]Establecimientos!A$1:E$175,5,FALSE),0)","v":"04204-SALAMANCA"},"105501","18700100","2021-10-15T13:23:09",8,null,8]
[9,"5",2021,{"$f":"IFERROR(VLOOKUP(Tabla_SERIEBM_01_6[[#This Row],[IdEstablecimiento]],[1]Establecimientos!A$1:E$175,5,FALSE),0)","v":"04305-RIO HURTADO"},"105503","80302047","2021-10-15T13:23:35",0,null,null,15]
[9,"5",2021,{"$f":"IFERROR(VLOOKUP(Tabla_SERIEBM_01_6[[#This Row],[IdEstablecimiento]],[1]Establecimientos!A$1:E$175,5,FALSE),0)","v":"04305-RIO HURTADO"},"105503","80302057","2021-10-15T13:23:35",0,null,null,1]
[2,"5",2021,{"$f":"IFERROR(VLOOKUP(Tabla_SERIEBM_01_6[[#This Row],[IdEstablecimiento]],[1]Establecimientos!A$1:E$175,5,FALSE),0)","v":"04303-MONTE PATRIA"},"105307","80302048","2021-11-09T13:39:57",99,null,99]
[2,"5",2021,{"$f":"IFERROR(VLOOKUP(Tabla_SERIEBM_01_6[[#This Row],[IdEstablecimiento]],[1]Establecimientos!A$1:E$175,5,FALSE),0)","v":"04303-MONTE PATRIA"},"105307","80302057","2021-11-09T13:39:57",248,null,248]
[2,"5",2021,{"$f":"IFERROR(VLOOKUP(Tabla_SERIEBM_01_6[[#This Row],[IdEstablecimiento]],[1]Establecimientos!A$1:E$175,5,FALSE),0)","v":"04303-MONTE PATRIA"},"105307","80302059","2021-11-09T13:39:57",22,null,22]
[2,"5",2021,{"$f":"IFERROR(VLOOKUP(Tabla_SERIEBM_01_6[[#This Row],[IdEstablecimiento]],[1]Establecimientos!A$1:E$175,5,FALSE),0)","v":"04303-MONTE PATRIA"},"105307","80302060","2021-11-09T13:39:57",33,null,33]
[2,"5",2021,{"$f":"IFERROR(VLOOKUP(Tabla_SERIEBM_01_6[[#This Row],[IdEstablecimiento]],[1]Establecimientos!A$1:E$175,5,FALSE),0)","v":"04303-MONTE PATRIA"},"105307","80302076","2021-11-09T13:39:57",417,null,417]
[2,"5",2021,{"$f":"IFERROR(VLOOKUP(Tabla_SERIEBM_01_6[[#This Row],[IdEstablecimiento]],[1]Establecimientos!A$1:E$175,5,FALSE),0)","v":"04303-MONTE PATRIA"},"105307","80302064","2021-11-09T13:39:57",2,null,2]
[2,"5",2021,{"$f":"IFERROR(VLOOKUP(Tabla_SERIEBM_01_6[[#This Row],[IdEstablecimiento]],[1]Establecimientos!A$1:E$175,5,FALSE),0)","v":"04303-MONTE PATRIA"},"105307","80303024","2021-11-09T13:39:57",584,null,584]
[2,"5",2021,{"$f":"IFERROR(VLOOKUP(Tabla_SERIEBM_01_6[[#This Row],[IdEstablecimiento]],[1]Establecimientos!A$1:E$175,5,FALSE),0)","v":"04303-MONTE PATRIA"},"105307","80303026","2021-11-09T13:39:57",254,null,254]
[2,"5",2021,{"$f":"IFERROR(VLOOKUP(Tabla_SERIEBM_01_6[[#This Row],[IdEstablecimiento]],[1]Establecimientos!A$1:E$175,5,FALSE),0)","v":"04303-MONTE PATRIA"},"105307","80303027","2021-11-09T13:39:57",25,null,25]
[2,"5",2021,{"$f":"IFERROR(VLOOKUP(Tabla_SERIEBM_01_6[[#This Row],[IdEstablecimiento]],[1]Establecimientos!A$1:E$175,5,FALSE),0)","v":"04303-MONTE PATRIA"},"105307","80303028","2021-11-09T13:39:57",21,null,21]
[2,"5",2021,{"$f":"IFERROR(VLOOKUP(Tabla_SERIEBM_01_6[[#This Row],[IdEstablecimiento]],[1]Establecimientos!A$1:E$175,5,FALSE),0)","v":"04303-MONTE PATRIA"},"105307","80301034","2021-11-09T13:39:57",32,null,32]
[2,"5",2021,{"$f":"IFERROR(VLOOKUP(Tabla_SERIEBM_01_6[[#This Row],[IdEstablecimiento]],[1]Establecimientos!A$1:E$175,5,FALSE),0)","v":"04303-MONTE PATRIA"},"105307","80301036","2021-11-09T13:39:57",136,null,136]
[2,"5",2021,{"$f":"IFERROR(VLOOKUP(Tabla_SERIEBM_01_6[[#This Row],[IdEstablecimiento]],[1]Establecimientos!A$1:E$175,5,FALSE),0)","v":"04303-MONTE PATRIA"},"105307","80301038","2021-11-09T13:39:57",136,null,136]
[2,"5",2021,{"$f":"IFERROR(VLOOKUP(Tabla_SERIEBM_01_6[[#This Row],[IdEstablecimiento]],[1]Establecimientos!A$1:E$175,5,FALSE),0)","v":"04303-MONTE PATRIA"},"105307","80301041","2021-11-09T13:39:57",288,null,288]
[2,"5",2021,{"$f":"IFERROR(VLOOKUP(Tabla_SERIEBM_01_6[[#This Row],[IdEstablecimiento]],[1]Establecimientos!A$1:E$175,5,FALSE),0)","v":"04303-MONTE PATRIA"},"105307","80301045","2021-11-09T13:39:57",767,null,767]
[2,"5",2021,{"$f":"IFERROR(VLOOKUP(Tabla_SERIEBM_01_6[[#This Row],[IdEstablecimiento]],[1]Establecimientos!A$1:E$175,5,FALSE),0)","v":"04303-MONTE PATRIA"},"105307","80301059","2021-11-09T13:39:57",217,null,217]
[2,"5",2021,{"$f":"IFERROR(VLOOKUP(Tabla_SERIEBM_01_6[[#This Row],[IdEstablecimiento]],[1]Establecimientos!A$1:E$175,5,FALSE),0)","v":"04303-MONTE PATRIA"},"105307","80301072","2021-11-09T13:39:57",4,null,4]
[2,"5",2021,{"$f":"IFERROR(VLOOKUP(Tabla_SERIEBM_01_6[[#This Row],[IdEstablecimiento]],[1]Establecimientos!A$1:E$175,5,FALSE),0)","v":"04303-MONTE PATRIA"},"105307","80301085","2021-11-09T13:39:57",54,null,54]
[2,"5",2021,{"$f":"IFERROR(VLOOKUP(Tabla_SERIEBM_01_6[[#This Row],[IdEstablecimiento]],[1]Establecimientos!A$1:E$175,5,FALSE),0)","v":"04303-MONTE PATRIA"},"105307","80301086","2021-11-09T13:39:57",767,null,767]
[2,"5",2021,{"$f":"IFERROR(VLOOKUP(Tabla_SERIEBM_01_6[[#This Row],[IdEstablecimiento]],[1]Establecimientos!A$1:E$175,5,FALSE),0)","v":"04303-MONTE PATRIA"},"105307","80302005","2021-11-09T13:39:57",428,null,428]
[2,"5",2021,{"$f":"IFERROR(VLOOKUP(Tabla_SERIEBM_01_6[[#This Row],[IdEstablecimiento]],[1]Establecimientos!A$1:E$175,5,FALSE),0)","v":"04303-MONTE PATRIA"},"105307","80302067","2021-11-09T13:39:57",33,null,33]
[2,"5",2021,{"$f":"IFERROR(VLOOKUP(Tabla_SERIEBM_01_6[[#This Row],[IdEstablecimiento]],[1]Establecimientos!A$1:E$175,5,FALSE),0)","v":"04303-MONTE PATRIA"},"105307","80302023","2021-11-09T13:39:57",763,null,763]
[2,"5",2021,{"$f":"IFERROR(VLOOKUP(Tabla_SERIEBM_01_6[[#This Row],[IdEstablecimiento]],[1]Establecimientos!A$1:E$175,5,FALSE),0)","v":"04303-MONTE PATRIA"},"105307","80302024","2021-11-09T13:39:57",2,null,2]
[2,"5",2021,{"$f":"IFERROR(VLOOKUP(Tabla_SERIEBM_01_6[[#This Row],[IdEstablecimiento]],[1]Establecimientos!A$1:E$175,5,FALSE),0)","v":"04303-MONTE PATRIA"},"105307","80302032","2021-11-09T13:39:57",501,null,501]
[2,"5",2021,{"$f":"IFERROR(VLOOKUP(Tabla_SERIEBM_01_6[[#This Row],[IdEstablecimiento]],[1]Establecimientos!A$1:E$175,5,FALSE),0)","v":"04303-MONTE PATRIA"},"105307","80302034","2021-11-09T13:39:57",838,null,838]
[9,"5",2021,{"$f":"IFERROR(VLOOKUP(Tabla_SERIEBM_01_6[[#This Row],[IdEstablecimiento]],[1]Establecimientos!A$1:E$175,5,FALSE),0)","v":"04305-RIO HURTADO"},"105503","80302076","2021-10-15T13:23:35",0,null,null,4]
[9,"5",2021,{"$f":"IFERROR(VLOOKUP(Tabla_SERIEBM_01_6[[#This Row],[IdEstablecimiento]],[1]Establecimientos!A$1:E$175,5,FALSE),0)","v":"04305-RIO HURTADO"},"105503","80303015","2021-10-15T13:23:35",0,null,null,7]
[9,"5",2021,{"$f":"IFERROR(VLOOKUP(Tabla_SERIEBM_01_6[[#This Row],[IdEstablecimiento]],[1]Establecimientos!A$1:E$175,5,FALSE),0)","v":"04305-RIO HURTADO"},"105503","80303026","2021-10-15T13:23:35",0,null,null,3]
[9,"5",2021,{"$f":"IFERROR(VLOOKUP(Tabla_SERIEBM_01_6[[#This Row],[IdEstablecimiento]],[1]Establecimientos!A$1:E$175,5,FALSE),0)","v":"04305-RIO HURTADO"},"105503","80301045","2021-10-15T13:23:35",0,null,null,13]
[9,"5",2021,{"$f":"IFERROR(VLOOKUP(Tabla_SERIEBM_01_6[[#This Row],[IdEstablecimiento]],[1]Establecimientos!A$1:E$175,5,FALSE),0)","v":"04305-RIO HURTADO"},"105503","80301085","2021-10-15T13:23:35",0,null,null,1]
[9,"5",2021,{"$f":"IFERROR(VLOOKUP(Tabla_SERIEBM_01_6[[#This Row],[IdEstablecimiento]],[1]Establecimientos!A$1:E$175,5,FALSE),0)","v":"04305-RIO HURTADO"},"105503","80302005","2021-10-15T13:23:35",0,null,null,3]
[9,"5",2021,{"$f":"IFERROR(VLOOKUP(Tabla_SERIEBM_01_6[[#This Row],[IdEstablecimiento]],[1]Establecimientos!A$1:E$175,5,FALSE),0)","v":"04305-RIO HURTADO"},"105503","80302023","2021-10-15T13:23:35",0,null,null,12]
[9,"5",2021,{"$f":"IFERROR(VLOOKUP(Tabla_SERIEBM_01_6[[#This Row],[IdEstablecimiento]],[1]Establecimientos!A$1:E$175,5,FALSE),0)","v":"04305-RIO HURTADO"},"105503","80302032","2021-10-15T13:23:35",0,null,null,2]
[9,"5",2021,{"$f":"IFERROR(VLOOKUP(Tabla_SERIEBM_01_6[[#This Row],[IdEstablecimiento]],[1]Establecimientos!A$1:E$175,5,FALSE),0)","v":"04305-RIO HURTADO"},"105503","80302034","2021-10-15T13:23:35",0,null,null,16]
[9,"5",2021,{"$f":"IFERROR(VLOOKUP(Tabla_SERIEBM_01_6[[#This Row],[IdEstablecimiento]],[1]Establecimientos!A$1:E$175,5,FALSE),0)","v":"04305-RIO HURTADO"},"105503","80306011","2021-10-15T13:23:35",0,null,null,2]
[9,"5",2021,{"$f":"IFERROR(VLOOKUP(Tabla_SERIEBM_01_6[[#This Row],[IdEstablecimiento]],[1]Establecimientos!A$1:E$175,5,FALSE),0)","v":"04305-RIO HURTADO"},"105503","80309013","2021-10-15T13:23:35",0,null,null,10]
[9,"5",2021,{"$f":"IFERROR(VLOOKUP(Tabla_SERIEBM_01_6[[#This Row],[IdEstablecimiento]],[1]Establecimientos!A$1:E$175,5,FALSE),0)","v":"04305-RIO HURTADO"},"105503","80309022","2021-10-15T13:23:35",0,null,null,13]
[9,"5",2021,{"$f":"IFERROR(VLOOKUP(Tabla_SERIEBM_01_6[[#This Row],[IdEstablecimiento]],[1]Establecimientos!A$1:E$175,5,FALSE),0)","v":"04305-RIO HURTADO"},"105503","81701001","2021-10-15T13:23:35",2,null,2,null,2]
[9,"5",2021,{"$f":"IFERROR(VLOOKUP(Tabla_SERIEBM_01_6[[#This Row],[IdEstablecimiento]],[1]Establecimientos!A$1:E$175,5,FALSE),0)","v":"04305-RIO HURTADO"},"105503","81602222","2021-10-15T13:23:35",1,null,1,null,1]
[9,"5",2021,{"$f":"IFERROR(VLOOKUP(Tabla_SERIEBM_01_6[[#This Row],[IdEstablecimiento]],[1]Establecimientos!A$1:E$175,5,FALSE),0)","v":"04301-OVALLE"},"200569","18030000","2021-10-15T13:39:34",71,0,71]
[9,"5",2021,{"$f":"IFERROR(VLOOKUP(Tabla_SERIEBM_01_6[[#This Row],[IdEstablecimiento]],[1]Establecimientos!A$1:E$175,5,FALSE),0)","v":"04301-OVALLE"},"200569","18040200","2021-10-15T13:39:34",71,1,70]
[9,"5",2021,{"$f":"IFERROR(VLOOKUP(Tabla_SERIEBM_01_6[[#This Row],[IdEstablecimiento]],[1]Establecimientos!A$1:E$175,5,FALSE),0)","v":"04301-OVALLE"},"200569","18050100","2021-10-15T13:39:34",200,0,200]
[9,"5",2021,{"$f":"IFERROR(VLOOKUP(Tabla_SERIEBM_01_6[[#This Row],[IdEstablecimiento]],[1]Establecimientos!A$1:E$175,5,FALSE),0)","v":"04301-OVALLE"},"200569","18090200","2021-10-15T13:39:34",72]
[9,"5",2021,{"$f":"IFERROR(VLOOKUP(Tabla_SERIEBM_01_6[[#This Row],[IdEstablecimiento]],[1]Establecimientos!A$1:E$175,5,FALSE),0)","v":"04301-OVALLE"},"200569","18700100","2021-10-15T13:39:34",204,52,141,11]
[9,"5",2021,{"$f":"IFERROR(VLOOKUP(Tabla_SERIEBM_01_6[[#This Row],[IdEstablecimiento]],[1]Establecimientos!A$1:E$175,5,FALSE),0)","v":"04102-COQUIMBO"},"200607","80302047","2021-10-15T13:39:59",0,null,null,238]
[9,"5",2021,{"$f":"IFERROR(VLOOKUP(Tabla_SERIEBM_01_6[[#This Row],[IdEstablecimiento]],[1]Establecimientos!A$1:E$175,5,FALSE),0)","v":"04102-COQUIMBO"},"200607","80302048","2021-10-15T13:39:59",0,null,null,34]
[9,"5",2021,{"$f":"IFERROR(VLOOKUP(Tabla_SERIEBM_01_6[[#This Row],[IdEstablecimiento]],[1]Establecimientos!A$1:E$175,5,FALSE),0)","v":"04102-COQUIMBO"},"200607","80302057","2021-10-15T13:39:59",0,null,null,144]
[9,"5",2021,{"$f":"IFERROR(VLOOKUP(Tabla_SERIEBM_01_6[[#This Row],[IdEstablecimiento]],[1]Establecimientos!A$1:E$175,5,FALSE),0)","v":"04102-COQUIMBO"},"200607","80302060","2021-10-15T13:39:59",0,null,null,6]
[9,"5",2021,{"$f":"IFERROR(VLOOKUP(Tabla_SERIEBM_01_6[[#This Row],[IdEstablecimiento]],[1]Establecimientos!A$1:E$175,5,FALSE),0)","v":"04102-COQUIMBO"},"200607","80302076","2021-10-15T13:39:59",0,null,null,19]
[9,"5",2021,{"$f":"IFERROR(VLOOKUP(Tabla_SERIEBM_01_6[[#This Row],[IdEstablecimiento]],[1]Establecimientos!A$1:E$175,5,FALSE),0)","v":"04102-COQUIMBO"},"200607","80302063","2021-10-15T13:39:59",0,null,null,41]
[9,"5",2021,{"$f":"IFERROR(VLOOKUP(Tabla_SERIEBM_01_6[[#This Row],[IdEstablecimiento]],[1]Establecimientos!A$1:E$175,5,FALSE),0)","v":"04102-COQUIMBO"},"200607","80302064","2021-10-15T13:39:59",0,null,null,185]
[9,"5",2021,{"$f":"IFERROR(VLOOKUP(Tabla_SERIEBM_01_6[[#This Row],[IdEstablecimiento]],[1]Establecimientos!A$1:E$175,5,FALSE),0)","v":"04102-COQUIMBO"},"200607","80303024","2021-10-15T13:39:59",0,null,null,167]
[9,"5",2021,{"$f":"IFERROR(VLOOKUP(Tabla_SERIEBM_01_6[[#This Row],[IdEstablecimiento]],[1]Establecimientos!A$1:E$175,5,FALSE),0)","v":"04102-COQUIMBO"},"200607","80303026","2021-10-15T13:39:59",0,null,null,20]
[9,"5",2021,{"$f":"IFERROR(VLOOKUP(Tabla_SERIEBM_01_6[[#This Row],[IdEstablecimiento]],[1]Establecimientos!A$1:E$175,5,FALSE),0)","v":"04102-COQUIMBO"},"200607","80301015","2021-10-15T13:39:59",0,null,null,24]
[9,"5",2021,{"$f":"IFERROR(VLOOKUP(Tabla_SERIEBM_01_6[[#This Row],[IdEstablecimiento]],[1]Establecimientos!A$1:E$175,5,FALSE),0)","v":"04102-COQUIMBO"},"200607","80301034","2021-10-15T13:39:59",0,null,null,25]
[9,"5",2021,{"$f":"IFERROR(VLOOKUP(Tabla_SERIEBM_01_6[[#This Row],[IdEstablecimiento]],[1]Establecimientos!A$1:E$175,5,FALSE),0)","v":"04102-COQUIMBO"},"200607","80301036","2021-10-15T13:39:59",0,null,null,85]
[9,"5",2021,{"$f":"IFERROR(VLOOKUP(Tabla_SERIEBM_01_6[[#This Row],[IdEstablecimiento]],[1]Establecimientos!A$1:E$175,5,FALSE),0)","v":"04303-MONTE PATRIA"},"105307","80303027","2021-10-15T12:34:53",66,null,66]
[9,"5",2021,{"$f":"IFERROR(VLOOKUP(Tabla_SERIEBM_01_6[[#This Row],[IdEstablecimiento]],[1]Establecimientos!A$1:E$175,5,FALSE),0)","v":"04303-MONTE PATRIA"},"105307","80303028","2021-10-15T12:34:53",62,null,62]
[9,"5",2021,{"$f":"IFERROR(VLOOKUP(Tabla_SERIEBM_01_6[[#This Row],[IdEstablecimiento]],[1]Establecimientos!A$1:E$175,5,FALSE),0)","v":"04303-MONTE PATRIA"},"105307","80301034","2021-10-15T12:34:53",23,null,23]
[9,"5",2021,{"$f":"IFERROR(VLOOKUP(Tabla_SERIEBM_01_6[[#This Row],[IdEstablecimiento]],[1]Establecimientos!A$1:E$175,5,FALSE),0)","v":"04303-MONTE PATRIA"},"105307","80301036","2021-10-15T12:34:53",102,null,102]
[9,"5",2021,{"$f":"IFERROR(VLOOKUP(Tabla_SERIEBM_01_6[[#This Row],[IdEstablecimiento]],[1]Establecimientos!A$1:E$175,5,FALSE),0)","v":"04303-MONTE PATRIA"},"105307","80301038","2021-10-15T12:34:53",102,null,102]
[9,"5",2021,{"$f":"IFERROR(VLOOKUP(Tabla_SERIEBM_01_6[[#This Row],[IdEstablecimiento]],[1]Establecimientos!A$1:E$175,5,FALSE),0)","v":"04303-MONTE PATRIA"},"105307","80301041","2021-10-15T12:34:53",398,null,398]
[9,"5",2021,{"$f":"IFERROR(VLOOKUP(Tabla_SERIEBM_01_6[[#This Row],[IdEstablecimiento]],[1]Establecimientos!A$1:E$175,5,FALSE),0)","v":"04201-ILLAPEL"},"105445","18090000","2021-10-15T13:00:38",3,0,3]
[9,"5",2021,{"$f":"IFERROR(VLOOKUP(Tabla_SERIEBM_01_6[[#This Row],[IdEstablecimiento]],[1]Establecimientos!A$1:E$175,5,FALSE),0)","v":"04201-ILLAPEL"},"105445","18050100","2021-10-15T13:00:38",21,0,21]
[9,"5",2021,{"$f":"IFERROR(VLOOKUP(Tabla_SERIEBM_01_6[[#This Row],[IdEstablecimiento]],[1]Establecimientos!A$1:E$175,5,FALSE),0)","v":"04201-ILLAPEL"},"105445","18090200","2021-10-15T13:00:38",1]
[9,"5",2021,{"$f":"IFERROR(VLOOKUP(Tabla_SERIEBM_01_6[[#This Row],[IdEstablecimiento]],[1]Establecimientos!A$1:E$175,5,FALSE),0)","v":"04201-ILLAPEL"},"105445","18700100","2021-10-15T13:00:38",14,0,14,0]
[9,"5",2021,{"$f":"IFERROR(VLOOKUP(Tabla_SERIEBM_01_6[[#This Row],[IdEstablecimiento]],[1]Establecimientos!A$1:E$175,5,FALSE),0)","v":"04201-ILLAPEL"},"105446","81602222","2021-10-15T13:01:10",1,null,1,null,1]
[9,"5",2021,{"$f":"IFERROR(VLOOKUP(Tabla_SERIEBM_01_6[[#This Row],[IdEstablecimiento]],[1]Establecimientos!A$1:E$175,5,FALSE),0)","v":"04201-ILLAPEL"},"105446","80106002","2021-10-15T13:01:10",10,null,10,null,10]
[9,"5",2021,{"$f":"IFERROR(VLOOKUP(Tabla_SERIEBM_01_6[[#This Row],[IdEstablecimiento]],[1]Establecimientos!A$1:E$175,5,FALSE),0)","v":"04201-ILLAPEL"},"105446","80106010","2021-10-15T13:01:10",1,null,1,null,1]
[9,"5",2021,{"$f":"IFERROR(VLOOKUP(Tabla_SERIEBM_01_6[[#This Row],[IdEstablecimiento]],[1]Establecimientos!A$1:E$175,5,FALSE),0)","v":"04201-ILLAPEL"},"105446","80106013","2021-10-15T13:01:10",2,null,2,null,2]
[9,"5",2021,{"$f":"IFERROR(VLOOKUP(Tabla_SERIEBM_01_6[[#This Row],[IdEstablecimiento]],[1]Establecimientos!A$1:E$175,5,FALSE),0)","v":"04201-ILLAPEL"},"105446","80106014","2021-10-15T13:01:10",14,null,14,null,14]
[9,"5",2021,{"$f":"IFERROR(VLOOKUP(Tabla_SERIEBM_01_6[[#This Row],[IdEstablecimiento]],[1]Establecimientos!A$1:E$175,5,FALSE),0)","v":"04201-ILLAPEL"},"105446","80106015","2021-10-15T13:01:10",1,null,1,null,1]
[9,"5",2021,{"$f":"IFERROR(VLOOKUP(Tabla_SERIEBM_01_6[[#This Row],[IdEstablecimiento]],[1]Establecimientos!A$1:E$175,5,FALSE),0)","v":"04201-ILLAPEL"},"105446","80106023","2021-10-15T13:01:10",5,null,5,null,5]
[9,"5",2021,{"$f":"IFERROR(VLOOKUP(Tabla_SERIEBM_01_6[[#This Row],[IdEstablecimiento]],[1]Establecimientos!A$1:E$175,5,FALSE),0)","v":"04102-COQUIMBO"},"200607","80301038","2021-10-15T13:39:59",0,null,null,84]
[9,"5",2021,{"$f":"IFERROR(VLOOKUP(Tabla_SERIEBM_01_6[[#This Row],[IdEstablecimiento]],[1]Establecimientos!A$1:E$175,5,FALSE),0)","v":"04102-COQUIMBO"},"200607","80301041","2021-10-15T13:39:59",0,null,null,105]
[7,"5",2021,{"$f":"IFERROR(VLOOKUP(Tabla_SERIEBM_01_6[[#This Row],[IdEstablecimiento]],[1]Establecimientos!A$1:E$175,5,FALSE),0)","v":"04106-VICUÑA"},"105473","80302057","2021-08-17T06:54:10",0,null,null,19]
[7,"5",2021,{"$f":"IFERROR(VLOOKUP(Tabla_SERIEBM_01_6[[#This Row],[IdEstablecimiento]],[1]Establecimientos!A$1:E$175,5,FALSE),0)","v":"04106-VICUÑA"},"105473","80302076","2021-08-17T06:54:10",0,null,null,21]
[7,"5",2021,{"$f":"IFERROR(VLOOKUP(Tabla_SERIEBM_01_6[[#This Row],[IdEstablecimiento]],[1]Establecimientos!A$1:E$175,5,FALSE),0)","v":"04106-VICUÑA"},"105473","80303024","2021-08-17T06:54:10",0,null,null,26]
[7,"5",2021,{"$f":"IFERROR(VLOOKUP(Tabla_SERIEBM_01_6[[#This Row],[IdEstablecimiento]],[1]Establecimientos!A$1:E$175,5,FALSE),0)","v":"04106-VICUÑA"},"105473","80303026","2021-08-17T06:54:10",0,null,null,13]
[7,"5",2021,{"$f":"IFERROR(VLOOKUP(Tabla_SERIEBM_01_6[[#This Row],[IdEstablecimiento]],[1]Establecimientos!A$1:E$175,5,FALSE),0)","v":"04106-VICUÑA"},"105473","80301034","2021-08-17T06:54:10",0,null,null,1]
[7,"5",2021,{"$f":"IFERROR(VLOOKUP(Tabla_SERIEBM_01_6[[#This Row],[IdEstablecimiento]],[1]Establecimientos!A$1:E$175,5,FALSE),0)","v":"04106-VICUÑA"},"105473","80301041","2021-08-17T06:54:10",0,null,null,16]
[7,"5",2021,{"$f":"IFERROR(VLOOKUP(Tabla_SERIEBM_01_6[[#This Row],[IdEstablecimiento]],[1]Establecimientos!A$1:E$175,5,FALSE),0)","v":"04106-VICUÑA"},"105473","80301045","2021-08-17T06:54:10",0,null,null,30]
[7,"5",2021,{"$f":"IFERROR(VLOOKUP(Tabla_SERIEBM_01_6[[#This Row],[IdEstablecimiento]],[1]Establecimientos!A$1:E$175,5,FALSE),0)","v":"04106-VICUÑA"},"105473","80301083","2021-08-17T06:54:10",0,null,null,6]
[7,"5",2021,{"$f":"IFERROR(VLOOKUP(Tabla_SERIEBM_01_6[[#This Row],[IdEstablecimiento]],[1]Establecimientos!A$1:E$175,5,FALSE),0)","v":"04106-VICUÑA"},"105473","80301085","2021-08-17T06:54:10",0,null,null,2]
[7,"5",2021,{"$f":"IFERROR(VLOOKUP(Tabla_SERIEBM_01_6[[#This Row],[IdEstablecimiento]],[1]Establecimientos!A$1:E$175,5,FALSE),0)","v":"04106-VICUÑA"},"105473","80301086","2021-08-17T06:54:10",0,null,null,13]
[3,"5",2021,{"$f":"IFERROR(VLOOKUP(Tabla_SERIEBM_01_6[[#This Row],[IdEstablecimiento]],[1]Establecimientos!A$1:E$175,5,FALSE),0)","v":"04101-LA SERENA"},"105702","80302032","2021-11-08T12:54:47",0,null,null,44]
[3,"5",2021,{"$f":"IFERROR(VLOOKUP(Tabla_SERIEBM_01_6[[#This Row],[IdEstablecimiento]],[1]Establecimientos!A$1:E$175,5,FALSE),0)","v":"04101-LA SERENA"},"105702","80302040","2021-11-08T12:54:47",0,null,null,2]
[3,"5",2021,{"$f":"IFERROR(VLOOKUP(Tabla_SERIEBM_01_6[[#This Row],[IdEstablecimiento]],[1]Establecimientos!A$1:E$175,5,FALSE),0)","v":"04101-LA SERENA"},"105702","80306011","2021-11-08T12:54:47",0,null,null,5]
[3,"5",2021,{"$f":"IFERROR(VLOOKUP(Tabla_SERIEBM_01_6[[#This Row],[IdEstablecimiento]],[1]Establecimientos!A$1:E$175,5,FALSE),0)","v":"04101-LA SERENA"},"105702","80306042","2021-11-08T12:54:47",0,null,null,18]
[3,"5",2021,{"$f":"IFERROR(VLOOKUP(Tabla_SERIEBM_01_6[[#This Row],[IdEstablecimiento]],[1]Establecimientos!A$1:E$175,5,FALSE),0)","v":"04101-LA SERENA"},"105702","80306061","2021-11-08T12:54:47",0,null,null,2]
[3,"5",2021,{"$f":"IFERROR(VLOOKUP(Tabla_SERIEBM_01_6[[#This Row],[IdEstablecimiento]],[1]Establecimientos!A$1:E$175,5,FALSE),0)","v":"04101-LA SERENA"},"105702","80309013","2021-11-08T12:54:47",0,null,null,3]
[3,"5",2021,{"$f":"IFERROR(VLOOKUP(Tabla_SERIEBM_01_6[[#This Row],[IdEstablecimiento]],[1]Establecimientos!A$1:E$175,5,FALSE),0)","v":"04101-LA SERENA"},"105702","80309022","2021-11-08T12:54:47",0,null,null,75]
[3,"5",2021,{"$f":"IFERROR(VLOOKUP(Tabla_SERIEBM_01_6[[#This Row],[IdEstablecimiento]],[1]Establecimientos!A$1:E$175,5,FALSE),0)","v":"04101-LA SERENA"},"105702","80106002","2021-11-08T12:54:47",70,null,70,70]
[3,"5",2021,{"$f":"IFERROR(VLOOKUP(Tabla_SERIEBM_01_6[[#This Row],[IdEstablecimiento]],[1]Establecimientos!A$1:E$175,5,FALSE),0)","v":"04101-LA SERENA"},"105702","80106017","2021-11-08T12:54:47",17,null,17,17]
[3,"5",2021,{"$f":"IFERROR(VLOOKUP(Tabla_SERIEBM_01_6[[#This Row],[IdEstablecimiento]],[1]Establecimientos!A$1:E$175,5,FALSE),0)","v":"04101-LA SERENA"},"105702","80106014","2021-11-08T12:54:47",53,null,53,53]
[3,"5",2021,{"$f":"IFERROR(VLOOKUP(Tabla_SERIEBM_01_6[[#This Row],[IdEstablecimiento]],[1]Establecimientos!A$1:E$175,5,FALSE),0)","v":"04101-LA SERENA"},"105702","80106022","2021-11-08T12:54:47",2,null,2,2]
[3,"5",2021,{"$f":"IFERROR(VLOOKUP(Tabla_SERIEBM_01_6[[#This Row],[IdEstablecimiento]],[1]Establecimientos!A$1:E$175,5,FALSE),0)","v":"04101-LA SERENA"},"105702","80307011","2021-11-08T12:54:47",127,null,127,127]
[3,"5",2021,{"$f":"IFERROR(VLOOKUP(Tabla_SERIEBM_01_6[[#This Row],[IdEstablecimiento]],[1]Establecimientos!A$1:E$175,5,FALSE),0)","v":"04101-LA SERENA"},"105702","80307012","2021-11-08T12:54:47",1,null,1,1]
[3,"5",2021,{"$f":"IFERROR(VLOOKUP(Tabla_SERIEBM_01_6[[#This Row],[IdEstablecimiento]],[1]Establecimientos!A$1:E$175,5,FALSE),0)","v":"04101-LA SERENA"},"105702","80500011","2021-11-08T12:54:47",5,null,5]
[3,"5",2021,{"$f":"IFERROR(VLOOKUP(Tabla_SERIEBM_01_6[[#This Row],[IdEstablecimiento]],[1]Establecimientos!A$1:E$175,5,FALSE),0)","v":"04101-LA SERENA"},"105702","18050100","2021-11-08T12:54:47",70,0,70]
[3,"5",2021,{"$f":"IFERROR(VLOOKUP(Tabla_SERIEBM_01_6[[#This Row],[IdEstablecimiento]],[1]Establecimientos!A$1:E$175,5,FALSE),0)","v":"04301-OVALLE"},"105722","80308044","2021-11-08T13:01:17",1,null,1]
[3,"5",2021,{"$f":"IFERROR(VLOOKUP(Tabla_SERIEBM_01_6[[#This Row],[IdEstablecimiento]],[1]Establecimientos!A$1:E$175,5,FALSE),0)","v":"04301-OVALLE"},"105722","82001015","2021-11-08T13:01:17",6,null,6,null,6]
[3,"5",2021,{"$f":"IFERROR(VLOOKUP(Tabla_SERIEBM_01_6[[#This Row],[IdEstablecimiento]],[1]Establecimientos!A$1:E$175,5,FALSE),0)","v":"04301-OVALLE"},"105722","80106017","2021-11-08T13:01:17",30,null,30,null,30]
[3,"5",2021,{"$f":"IFERROR(VLOOKUP(Tabla_SERIEBM_01_6[[#This Row],[IdEstablecimiento]],[1]Establecimientos!A$1:E$175,5,FALSE),0)","v":"04301-OVALLE"},"105722","80106022","2021-11-08T13:01:17",4,null,4,null,4]
[3,"5",2021,{"$f":"IFERROR(VLOOKUP(Tabla_SERIEBM_01_6[[#This Row],[IdEstablecimiento]],[1]Establecimientos!A$1:E$175,5,FALSE),0)","v":"04301-OVALLE"},"105722","80500008","2021-11-08T13:01:17",12,null,12,null,12]
[3,"5",2021,{"$f":"IFERROR(VLOOKUP(Tabla_SERIEBM_01_6[[#This Row],[IdEstablecimiento]],[1]Establecimientos!A$1:E$175,5,FALSE),0)","v":"04102-COQUIMBO"},"105804","80106015","2021-11-08T13:06:56",73,73,null,null,73]
[3,"5",2021,{"$f":"IFERROR(VLOOKUP(Tabla_SERIEBM_01_6[[#This Row],[IdEstablecimiento]],[1]Establecimientos!A$1:E$175,5,FALSE),0)","v":"04102-COQUIMBO"},"105804","80106020","2021-11-08T13:06:56",6,6,null,null,6]
[3,"5",2021,{"$f":"IFERROR(VLOOKUP(Tabla_SERIEBM_01_6[[#This Row],[IdEstablecimiento]],[1]Establecimientos!A$1:E$175,5,FALSE),0)","v":"04102-COQUIMBO"},"105804","80106022","2021-11-08T13:06:56",5,5,null,1,4]
[3,"5",2021,{"$f":"IFERROR(VLOOKUP(Tabla_SERIEBM_01_6[[#This Row],[IdEstablecimiento]],[1]Establecimientos!A$1:E$175,5,FALSE),0)","v":"04201-ILLAPEL"},"105449","80302047","2021-11-08T12:17:47",0,null,null,11]
[3,"5",2021,{"$f":"IFERROR(VLOOKUP(Tabla_SERIEBM_01_6[[#This Row],[IdEstablecimiento]],[1]Establecimientos!A$1:E$175,5,FALSE),0)","v":"04201-ILLAPEL"},"105449","80302057","2021-11-08T12:17:47",0,null,null,11]
[3,"5",2021,{"$f":"IFERROR(VLOOKUP(Tabla_SERIEBM_01_6[[#This Row],[IdEstablecimiento]],[1]Establecimientos!A$1:E$175,5,FALSE),0)","v":"04201-ILLAPEL"},"105449","80303024","2021-11-08T12:17:47",0,null,null,4]
[3,"5",2021,{"$f":"IFERROR(VLOOKUP(Tabla_SERIEBM_01_6[[#This Row],[IdEstablecimiento]],[1]Establecimientos!A$1:E$175,5,FALSE),0)","v":"04201-ILLAPEL"},"105449","80301036","2021-11-08T12:17:47",0,null,null,3]
[3,"5",2021,{"$f":"IFERROR(VLOOKUP(Tabla_SERIEBM_01_6[[#This Row],[IdEstablecimiento]],[1]Establecimientos!A$1:E$175,5,FALSE),0)","v":"04201-ILLAPEL"},"105449","80301041","2021-11-08T12:17:47",0,null,null,9]
[3,"5",2021,{"$f":"IFERROR(VLOOKUP(Tabla_SERIEBM_01_6[[#This Row],[IdEstablecimiento]],[1]Establecimientos!A$1:E$175,5,FALSE),0)","v":"04201-ILLAPEL"},"105449","80301045","2021-11-08T12:17:47",0,null,null,2]
[3,"5",2021,{"$f":"IFERROR(VLOOKUP(Tabla_SERIEBM_01_6[[#This Row],[IdEstablecimiento]],[1]Establecimientos!A$1:E$175,5,FALSE),0)","v":"04201-ILLAPEL"},"105449","80302005","2021-11-08T12:17:47",0,null,null,11]
[3,"5",2021,{"$f":"IFERROR(VLOOKUP(Tabla_SERIEBM_01_6[[#This Row],[IdEstablecimiento]],[1]Establecimientos!A$1:E$175,5,FALSE),0)","v":"04201-ILLAPEL"},"105449","80302034","2021-11-08T12:17:47",0,null,null,11]
[3,"5",2021,{"$f":"IFERROR(VLOOKUP(Tabla_SERIEBM_01_6[[#This Row],[IdEstablecimiento]],[1]Establecimientos!A$1:E$175,5,FALSE),0)","v":"04201-ILLAPEL"},"105449","80306042","2021-11-08T12:17:47",0,null,null,2]
[3,"5",2021,{"$f":"IFERROR(VLOOKUP(Tabla_SERIEBM_01_6[[#This Row],[IdEstablecimiento]],[1]Establecimientos!A$1:E$175,5,FALSE),0)","v":"04201-ILLAPEL"},"105449","80309010","2021-11-08T12:17:47",0,null,null,11]
[3,"5",2021,{"$f":"IFERROR(VLOOKUP(Tabla_SERIEBM_01_6[[#This Row],[IdEstablecimiento]],[1]Establecimientos!A$1:E$175,5,FALSE),0)","v":"04201-ILLAPEL"},"105449","80309013","2021-11-08T12:17:47",0,null,null,9]
[3,"5",2021,{"$f":"IFERROR(VLOOKUP(Tabla_SERIEBM_01_6[[#This Row],[IdEstablecimiento]],[1]Establecimientos!A$1:E$175,5,FALSE),0)","v":"04102-COQUIMBO"},"105305","80308005","2021-11-08T10:17:13",0,null,null,2]
[3,"5",2021,{"$f":"IFERROR(VLOOKUP(Tabla_SERIEBM_01_6[[#This Row],[IdEstablecimiento]],[1]Establecimientos!A$1:E$175,5,FALSE),0)","v":"04102-COQUIMBO"},"105305","80309013","2021-11-08T10:17:13",0,null,null,296]
[3,"5",2021,{"$f":"IFERROR(VLOOKUP(Tabla_SERIEBM_01_6[[#This Row],[IdEstablecimiento]],[1]Establecimientos!A$1:E$175,5,FALSE),0)","v":"04303-MONTE PATRIA"},"105489","81701001","2021-11-08T12:40:00",8,null,8,null,8]
[3,"5",2021,{"$f":"IFERROR(VLOOKUP(Tabla_SERIEBM_01_6[[#This Row],[IdEstablecimiento]],[1]Establecimientos!A$1:E$175,5,FALSE),0)","v":"04303-MONTE PATRIA"},"105489","81701009","2021-11-08T12:40:00",18,null,18,null,18]
[3,"5",2021,{"$f":"IFERROR(VLOOKUP(Tabla_SERIEBM_01_6[[#This Row],[IdEstablecimiento]],[1]Establecimientos!A$1:E$175,5,FALSE),0)","v":"04303-MONTE PATRIA"},"105489","82001015","2021-11-08T12:40:00",1,null,1,null,1]
[3,"5",2021,{"$f":"IFERROR(VLOOKUP(Tabla_SERIEBM_01_6[[#This Row],[IdEstablecimiento]],[1]Establecimientos!A$1:E$175,5,FALSE),0)","v":"04303-MONTE PATRIA"},"105489","81602221","2021-11-08T12:40:00",1,null,1,null,1]
[3,"5",2021,{"$f":"IFERROR(VLOOKUP(Tabla_SERIEBM_01_6[[#This Row],[IdEstablecimiento]],[1]Establecimientos!A$1:E$175,5,FALSE),0)","v":"04303-MONTE PATRIA"},"105489","80106002","2021-11-08T12:40:00",16,null,16,null,16]
[3,"5",2021,{"$f":"IFERROR(VLOOKUP(Tabla_SERIEBM_01_6[[#This Row],[IdEstablecimiento]],[1]Establecimientos!A$1:E$175,5,FALSE),0)","v":"04303-MONTE PATRIA"},"105489","80106013","2021-11-08T12:40:00",2,null,2,null,2]
[3,"5",2021,{"$f":"IFERROR(VLOOKUP(Tabla_SERIEBM_01_6[[#This Row],[IdEstablecimiento]],[1]Establecimientos!A$1:E$175,5,FALSE),0)","v":"04303-MONTE PATRIA"},"105489","80106014","2021-11-08T12:40:00",15,null,15,null,15]
[3,"5",2021,{"$f":"IFERROR(VLOOKUP(Tabla_SERIEBM_01_6[[#This Row],[IdEstablecimiento]],[1]Establecimientos!A$1:E$175,5,FALSE),0)","v":"04303-MONTE PATRIA"},"105489","80106015","2021-11-08T12:40:00",2,null,2,null,2]
[3,"5",2021,{"$f":"IFERROR(VLOOKUP(Tabla_SERIEBM_01_6[[#This Row],[IdEstablecimiento]],[1]Establecimientos!A$1:E$175,5,FALSE),0)","v":"04303-MONTE PATRIA"},"105489","80106020","2021-11-08T12:40:00",1,null,1,null,1]
[3,"5",2021,{"$f":"IFERROR(VLOOKUP(Tabla_SERIEBM_01_6[[#This Row],[IdEstablecimiento]],[1]Establecimientos!A$1:E$175,5,FALSE),0)","v":"04303-MONTE PATRIA"},"105489","80307011","2021-11-08T12:40:00",15,null,15]
[3,"5",2021,{"$f":"IFERROR(VLOOKUP(Tabla_SERIEBM_01_6[[#This Row],[IdEstablecimiento]],[1]Establecimientos!A$1:E$175,5,FALSE),0)","v":"04303-MONTE PATRIA"},"105489","80500011","2021-11-08T12:40:00",5,null,5,null,5]
[3,"5",2021,{"$f":"IFERROR(VLOOKUP(Tabla_SERIEBM_01_6[[#This Row],[IdEstablecimiento]],[1]Establecimientos!A$1:E$175,5,FALSE),0)","v":"04303-MONTE PATRIA"},"105489","18020500","2021-11-08T12:40:00",26,0,26]
[3,"5",2021,{"$f":"IFERROR(VLOOKUP(Tabla_SERIEBM_01_6[[#This Row],[IdEstablecimiento]],[1]Establecimientos!A$1:E$175,5,FALSE),0)","v":"04303-MONTE PATRIA"},"105489","18020900","2021-11-08T12:40:00",1,0,1]
[3,"5",2021,{"$f":"IFERROR(VLOOKUP(Tabla_SERIEBM_01_6[[#This Row],[IdEstablecimiento]],[1]Establecimientos!A$1:E$175,5,FALSE),0)","v":"04303-MONTE PATRIA"},"105489","18030000","2021-11-08T12:40:00",1,0,1]
[3,"5",2021,{"$f":"IFERROR(VLOOKUP(Tabla_SERIEBM_01_6[[#This Row],[IdEstablecimiento]],[1]Establecimientos!A$1:E$175,5,FALSE),0)","v":"04303-MONTE PATRIA"},"105489","18040200","2021-11-08T12:40:00",1,null,1]
[3,"5",2021,{"$f":"IFERROR(VLOOKUP(Tabla_SERIEBM_01_6[[#This Row],[IdEstablecimiento]],[1]Establecimientos!A$1:E$175,5,FALSE),0)","v":"04303-MONTE PATRIA"},"105489","18050100","2021-11-08T12:40:00",16,0,16]
[3,"5",2021,{"$f":"IFERROR(VLOOKUP(Tabla_SERIEBM_01_6[[#This Row],[IdEstablecimiento]],[1]Establecimientos!A$1:E$175,5,FALSE),0)","v":"04302-COMBARBALÁ"},"105490","80106017","2021-11-08T12:40:24",9,null,9,null,9]
[3,"5",2021,{"$f":"IFERROR(VLOOKUP(Tabla_SERIEBM_01_6[[#This Row],[IdEstablecimiento]],[1]Establecimientos!A$1:E$175,5,FALSE),0)","v":"04302-COMBARBALÁ"},"105490","80106014","2021-11-08T12:40:24",4,null,4,null,4]
[3,"5",2021,{"$f":"IFERROR(VLOOKUP(Tabla_SERIEBM_01_6[[#This Row],[IdEstablecimiento]],[1]Establecimientos!A$1:E$175,5,FALSE),0)","v":"04302-COMBARBALÁ"},"105490","80500001","2021-11-08T12:40:24",1,null,1,null,1]
[3,"5",2021,{"$f":"IFERROR(VLOOKUP(Tabla_SERIEBM_01_6[[#This Row],[IdEstablecimiento]],[1]Establecimientos!A$1:E$175,5,FALSE),0)","v":"04105-PAIHUANO"},"105306","80306007","2021-11-08T10:17:39",0,null,null,1]
[3,"5",2021,{"$f":"IFERROR(VLOOKUP(Tabla_SERIEBM_01_6[[#This Row],[IdEstablecimiento]],[1]Establecimientos!A$1:E$175,5,FALSE),0)","v":"04105-PAIHUANO"},"105306","80306011","2021-11-08T10:17:39",0,null,null,31]
[3,"5",2021,{"$f":"IFERROR(VLOOKUP(Tabla_SERIEBM_01_6[[#This Row],[IdEstablecimiento]],[1]Establecimientos!A$1:E$175,5,FALSE),0)","v":"04105-PAIHUANO"},"105306","80306038","2021-11-08T10:17:39",0,null,null,17]
[3,"5",2021,{"$f":"IFERROR(VLOOKUP(Tabla_SERIEBM_01_6[[#This Row],[IdEstablecimiento]],[1]Establecimientos!A$1:E$175,5,FALSE),0)","v":"04105-PAIHUANO"},"105306","80306042","2021-11-08T10:17:39",0,null,null,17]
[3,"5",2021,{"$f":"IFERROR(VLOOKUP(Tabla_SERIEBM_01_6[[#This Row],[IdEstablecimiento]],[1]Establecimientos!A$1:E$175,5,FALSE),0)","v":"04105-PAIHUANO"},"105306","80306061","2021-11-08T10:17:39",0,null,null,2]
[3,"5",2021,{"$f":"IFERROR(VLOOKUP(Tabla_SERIEBM_01_6[[#This Row],[IdEstablecimiento]],[1]Establecimientos!A$1:E$175,5,FALSE),0)","v":"04105-PAIHUANO"},"105306","80309013","2021-11-08T10:17:39",0,null,null,51]
[3,"5",2021,{"$f":"IFERROR(VLOOKUP(Tabla_SERIEBM_01_6[[#This Row],[IdEstablecimiento]],[1]Establecimientos!A$1:E$175,5,FALSE),0)","v":"04304-PUNITAQUI"},"105440","80106022","2021-11-08T12:13:53",1,null,1,null,1]
[3,"5",2021,{"$f":"IFERROR(VLOOKUP(Tabla_SERIEBM_01_6[[#This Row],[IdEstablecimiento]],[1]Establecimientos!A$1:E$175,5,FALSE),0)","v":"04304-PUNITAQUI"},"105440","80307011","2021-11-08T12:13:53",20,null,20]
[3,"5",2021,{"$f":"IFERROR(VLOOKUP(Tabla_SERIEBM_01_6[[#This Row],[IdEstablecimiento]],[1]Establecimientos!A$1:E$175,5,FALSE),0)","v":"04304-PUNITAQUI"},"105440","18020300","2021-11-08T12:13:53",5,0,5]
[3,"5",2021,{"$f":"IFERROR(VLOOKUP(Tabla_SERIEBM_01_6[[#This Row],[IdEstablecimiento]],[1]Establecimientos!A$1:E$175,5,FALSE),0)","v":"04304-PUNITAQUI"},"105440","18020500","2021-11-08T12:13:53",23,0,23]
[3,"5",2021,{"$f":"IFERROR(VLOOKUP(Tabla_SERIEBM_01_6[[#This Row],[IdEstablecimiento]],[1]Establecimientos!A$1:E$175,5,FALSE),0)","v":"04304-PUNITAQUI"},"105440","18020700","2021-11-08T12:13:53",1,0,1]
[3,"5",2021,{"$f":"IFERROR(VLOOKUP(Tabla_SERIEBM_01_6[[#This Row],[IdEstablecimiento]],[1]Establecimientos!A$1:E$175,5,FALSE),0)","v":"04304-PUNITAQUI"},"105440","18030000","2021-11-08T12:13:53",1,0,1]
[3,"5",2021,{"$f":"IFERROR(VLOOKUP(Tabla_SERIEBM_01_6[[#This Row],[IdEstablecimiento]],[1]Establecimientos!A$1:E$175,5,FALSE),0)","v":"04304-PUNITAQUI"},"105440","18040200","2021-11-08T12:13:53",1,null,1]
[3,"5",2021,{"$f":"IFERROR(VLOOKUP(Tabla_SERIEBM_01_6[[#This Row],[IdEstablecimiento]],[1]Establecimientos!A$1:E$175,5,FALSE),0)","v":"04304-PUNITAQUI"},"105440","18050100","2021-11-08T12:13:53",28,0,28]
[3,"5",2021,{"$f":"IFERROR(VLOOKUP(Tabla_SERIEBM_01_6[[#This Row],[IdEstablecimiento]],[1]Establecimientos!A$1:E$175,5,FALSE),0)","v":"04304-PUNITAQUI"},"105440","18050200","2021-11-08T12:13:53",36,0,36]
[3,"5",2021,{"$f":"IFERROR(VLOOKUP(Tabla_SERIEBM_01_6[[#This Row],[IdEstablecimiento]],[1]Establecimientos!A$1:E$175,5,FALSE),0)","v":"04302-COMBARBALÁ"},"105441","80106002","2021-11-08T12:14:16",7,null,7,null,7]
[3,"5",2021,{"$f":"IFERROR(VLOOKUP(Tabla_SERIEBM_01_6[[#This Row],[IdEstablecimiento]],[1]Establecimientos!A$1:E$175,5,FALSE),0)","v":"04302-COMBARBALÁ"},"105441","80106017","2021-11-08T12:14:16",6,null,6,null,6]
[3,"5",2021,{"$f":"IFERROR(VLOOKUP(Tabla_SERIEBM_01_6[[#This Row],[IdEstablecimiento]],[1]Establecimientos!A$1:E$175,5,FALSE),0)","v":"04302-COMBARBALÁ"},"105441","80106013","2021-11-08T12:14:16",2,null,2,null,2]
[3,"5",2021,{"$f":"IFERROR(VLOOKUP(Tabla_SERIEBM_01_6[[#This Row],[IdEstablecimiento]],[1]Establecimientos!A$1:E$175,5,FALSE),0)","v":"04302-COMBARBALÁ"},"105441","80106014","2021-11-08T12:14:16",27,null,27,null,27]
[3,"5",2021,{"$f":"IFERROR(VLOOKUP(Tabla_SERIEBM_01_6[[#This Row],[IdEstablecimiento]],[1]Establecimientos!A$1:E$175,5,FALSE),0)","v":"04302-COMBARBALÁ"},"105441","80500014","2021-11-08T12:14:16",4,null,4,null,4,4]
[3,"5",2021,{"$f":"IFERROR(VLOOKUP(Tabla_SERIEBM_01_6[[#This Row],[IdEstablecimiento]],[1]Establecimientos!A$1:E$175,5,FALSE),0)","v":"04302-COMBARBALÁ"},"105441","18050100","2021-11-08T12:14:16",7,0,7]
[3,"5",2021,{"$f":"IFERROR(VLOOKUP(Tabla_SERIEBM_01_6[[#This Row],[IdEstablecimiento]],[1]Establecimientos!A$1:E$175,5,FALSE),0)","v":"04302-COMBARBALÁ"},"105441","18070300","2021-11-08T12:14:16",3,1,1,1]
[3,"5",2021,{"$f":"IFERROR(VLOOKUP(Tabla_SERIEBM_01_6[[#This Row],[IdEstablecimiento]],[1]Establecimientos!A$1:E$175,5,FALSE),0)","v":"04302-COMBARBALÁ"},"105441","18400900","2021-11-08T12:14:16",2,1,1]
[3,"5",2021,{"$f":"IFERROR(VLOOKUP(Tabla_SERIEBM_01_6[[#This Row],[IdEstablecimiento]],[1]Establecimientos!A$1:E$175,5,FALSE),0)","v":"04304-PUNITAQUI"},"105442","80106002","2021-11-08T12:14:41",1,null,1,null,1]
[3,"5",2021,{"$f":"IFERROR(VLOOKUP(Tabla_SERIEBM_01_6[[#This Row],[IdEstablecimiento]],[1]Establecimientos!A$1:E$175,5,FALSE),0)","v":"04304-PUNITAQUI"},"105442","80106013","2021-11-08T12:14:41",1,null,1,null,1]
[3,"5",2021,{"$f":"IFERROR(VLOOKUP(Tabla_SERIEBM_01_6[[#This Row],[IdEstablecimiento]],[1]Establecimientos!A$1:E$175,5,FALSE),0)","v":"04304-PUNITAQUI"},"105442","80106014","2021-11-08T12:14:41",34,null,34,null,34]
[3,"5",2021,{"$f":"IFERROR(VLOOKUP(Tabla_SERIEBM_01_6[[#This Row],[IdEstablecimiento]],[1]Establecimientos!A$1:E$175,5,FALSE),0)","v":"04304-PUNITAQUI"},"105442","80500011","2021-11-08T12:14:41",4,null,4,null,4]
[3,"5",2021,{"$f":"IFERROR(VLOOKUP(Tabla_SERIEBM_01_6[[#This Row],[IdEstablecimiento]],[1]Establecimientos!A$1:E$175,5,FALSE),0)","v":"04304-PUNITAQUI"},"105442","18050100","2021-11-08T12:14:41",1,0,1]
[3,"5",2021,{"$f":"IFERROR(VLOOKUP(Tabla_SERIEBM_01_6[[#This Row],[IdEstablecimiento]],[1]Establecimientos!A$1:E$175,5,FALSE),0)","v":"04201-ILLAPEL"},"105443","80302047","2021-11-08T12:15:06",0,null,null,17]
[3,"5",2021,{"$f":"IFERROR(VLOOKUP(Tabla_SERIEBM_01_6[[#This Row],[IdEstablecimiento]],[1]Establecimientos!A$1:E$175,5,FALSE),0)","v":"04201-ILLAPEL"},"105443","80302057","2021-11-08T12:15:06",0,null,null,17]
[2,"5",2021,{"$f":"IFERROR(VLOOKUP(Tabla_SERIEBM_01_6[[#This Row],[IdEstablecimiento]],[1]Establecimientos!A$1:E$175,5,FALSE),0)","v":"04304-PUNITAQUI"},"105308","80106015","2021-11-09T13:40:23",175,null,175,null,175]
[2,"5",2021,{"$f":"IFERROR(VLOOKUP(Tabla_SERIEBM_01_6[[#This Row],[IdEstablecimiento]],[1]Establecimientos!A$1:E$175,5,FALSE),0)","v":"04304-PUNITAQUI"},"105308","80106020","2021-11-09T13:40:23",1,null,1,null,1]
[3,"5",2021,{"$f":"IFERROR(VLOOKUP(Tabla_SERIEBM_01_6[[#This Row],[IdEstablecimiento]],[1]Establecimientos!A$1:E$175,5,FALSE),0)","v":"04101-LA SERENA"},"200105","80106022","2021-11-08T13:14:11",5,5,null,null,5]
[3,"5",2021,{"$f":"IFERROR(VLOOKUP(Tabla_SERIEBM_01_6[[#This Row],[IdEstablecimiento]],[1]Establecimientos!A$1:E$175,5,FALSE),0)","v":"04101-LA SERENA"},"200105","80500011","2021-11-08T13:14:11",42,42,null,null,42]
[3,"5",2021,{"$f":"IFERROR(VLOOKUP(Tabla_SERIEBM_01_6[[#This Row],[IdEstablecimiento]],[1]Establecimientos!A$1:E$175,5,FALSE),0)","v":"04101-LA SERENA"},"200105","18050100","2021-11-08T13:14:11",34,34,0]
[3,"5",2021,{"$f":"IFERROR(VLOOKUP(Tabla_SERIEBM_01_6[[#This Row],[IdEstablecimiento]],[1]Establecimientos!A$1:E$175,5,FALSE),0)","v":"04101-LA SERENA"},"200105","18400700","2021-11-08T13:14:11",624]
[3,"5",2021,{"$f":"IFERROR(VLOOKUP(Tabla_SERIEBM_01_6[[#This Row],[IdEstablecimiento]],[1]Establecimientos!A$1:E$175,5,FALSE),0)","v":"04301-OVALLE"},"200258","81701001","2021-11-08T13:15:05",17,null,17,null,17]
[3,"5",2021,{"$f":"IFERROR(VLOOKUP(Tabla_SERIEBM_01_6[[#This Row],[IdEstablecimiento]],[1]Establecimientos!A$1:E$175,5,FALSE),0)","v":"04301-OVALLE"},"200258","81701009","2021-11-08T13:15:05",13,null,13,null,13]
[3,"5",2021,{"$f":"IFERROR(VLOOKUP(Tabla_SERIEBM_01_6[[#This Row],[IdEstablecimiento]],[1]Establecimientos!A$1:E$175,5,FALSE),0)","v":"04301-OVALLE"},"200258","80106002","2021-11-08T13:15:05",37,null,37,null,37]
[3,"5",2021,{"$f":"IFERROR(VLOOKUP(Tabla_SERIEBM_01_6[[#This Row],[IdEstablecimiento]],[1]Establecimientos!A$1:E$175,5,FALSE),0)","v":"04301-OVALLE"},"200258","80106017","2021-11-08T13:15:05",23,null,23,null,23]
[3,"5",2021,{"$f":"IFERROR(VLOOKUP(Tabla_SERIEBM_01_6[[#This Row],[IdEstablecimiento]],[1]Establecimientos!A$1:E$175,5,FALSE),0)","v":"04301-OVALLE"},"200258","80106014","2021-11-08T13:15:05",61,null,61,null,61]
[3,"5",2021,{"$f":"IFERROR(VLOOKUP(Tabla_SERIEBM_01_6[[#This Row],[IdEstablecimiento]],[1]Establecimientos!A$1:E$175,5,FALSE),0)","v":"04301-OVALLE"},"200258","80106022","2021-11-08T13:15:05",3,null,3,null,3]
[3,"5",2021,{"$f":"IFERROR(VLOOKUP(Tabla_SERIEBM_01_6[[#This Row],[IdEstablecimiento]],[1]Establecimientos!A$1:E$175,5,FALSE),0)","v":"04301-OVALLE"},"200258","80307011","2021-11-08T13:15:05",126,null,126]
[3,"5",2021,{"$f":"IFERROR(VLOOKUP(Tabla_SERIEBM_01_6[[#This Row],[IdEstablecimiento]],[1]Establecimientos!A$1:E$175,5,FALSE),0)","v":"04301-OVALLE"},"200258","80307012","2021-11-08T13:15:05",4,null,4]
[3,"5",2021,{"$f":"IFERROR(VLOOKUP(Tabla_SERIEBM_01_6[[#This Row],[IdEstablecimiento]],[1]Establecimientos!A$1:E$175,5,FALSE),0)","v":"04301-OVALLE"},"200258","80500001","2021-11-08T13:15:05",9,null,9,null,9]
[3,"5",2021,{"$f":"IFERROR(VLOOKUP(Tabla_SERIEBM_01_6[[#This Row],[IdEstablecimiento]],[1]Establecimientos!A$1:E$175,5,FALSE),0)","v":"04301-OVALLE"},"200258","18020500","2021-11-08T13:15:05",30,0,30]
[3,"5",2021,{"$f":"IFERROR(VLOOKUP(Tabla_SERIEBM_01_6[[#This Row],[IdEstablecimiento]],[1]Establecimientos!A$1:E$175,5,FALSE),0)","v":"04301-OVALLE"},"200258","18050100","2021-11-08T13:15:05",37,0,37]
[3,"5",2021,{"$f":"IFERROR(VLOOKUP(Tabla_SERIEBM_01_6[[#This Row],[IdEstablecimiento]],[1]Establecimientos!A$1:E$175,5,FALSE),0)","v":"04102-COQUIMBO"},"200273","80302047","2021-11-08T13:15:37",0,null,null,83]
[3,"5",2021,{"$f":"IFERROR(VLOOKUP(Tabla_SERIEBM_01_6[[#This Row],[IdEstablecimiento]],[1]Establecimientos!A$1:E$175,5,FALSE),0)","v":"04102-COQUIMBO"},"200273","80302048","2021-11-08T13:15:37",0,null,null,4]
[3,"5",2021,{"$f":"IFERROR(VLOOKUP(Tabla_SERIEBM_01_6[[#This Row],[IdEstablecimiento]],[1]Establecimientos!A$1:E$175,5,FALSE),0)","v":"04102-COQUIMBO"},"200273","80302057","2021-11-08T13:15:37",0,null,null,10]
[3,"5",2021,{"$f":"IFERROR(VLOOKUP(Tabla_SERIEBM_01_6[[#This Row],[IdEstablecimiento]],[1]Establecimientos!A$1:E$175,5,FALSE),0)","v":"04102-COQUIMBO"},"200273","80302063","2021-11-08T13:15:37",0,null,null,10]
[3,"5",2021,{"$f":"IFERROR(VLOOKUP(Tabla_SERIEBM_01_6[[#This Row],[IdEstablecimiento]],[1]Establecimientos!A$1:E$175,5,FALSE),0)","v":"04102-COQUIMBO"},"200273","80302064","2021-11-08T13:15:37",0,null,null,69]
[3,"5",2021,{"$f":"IFERROR(VLOOKUP(Tabla_SERIEBM_01_6[[#This Row],[IdEstablecimiento]],[1]Establecimientos!A$1:E$175,5,FALSE),0)","v":"04102-COQUIMBO"},"200273","80303024","2021-11-08T13:15:37",0,null,null,64]
[3,"5",2021,{"$f":"IFERROR(VLOOKUP(Tabla_SERIEBM_01_6[[#This Row],[IdEstablecimiento]],[1]Establecimientos!A$1:E$175,5,FALSE),0)","v":"04102-COQUIMBO"},"200273","80303026","2021-11-08T13:15:37",0,null,null,2]
[3,"5",2021,{"$f":"IFERROR(VLOOKUP(Tabla_SERIEBM_01_6[[#This Row],[IdEstablecimiento]],[1]Establecimientos!A$1:E$175,5,FALSE),0)","v":"04102-COQUIMBO"},"200273","80303027","2021-11-08T13:15:37",0,null,null,1]
[3,"5",2021,{"$f":"IFERROR(VLOOKUP(Tabla_SERIEBM_01_6[[#This Row],[IdEstablecimiento]],[1]Establecimientos!A$1:E$175,5,FALSE),0)","v":"04102-COQUIMBO"},"200273","80303028","2021-11-08T13:15:37",0,null,null,11]
[3,"5",2021,{"$f":"IFERROR(VLOOKUP(Tabla_SERIEBM_01_6[[#This Row],[IdEstablecimiento]],[1]Establecimientos!A$1:E$175,5,FALSE),0)","v":"04102-COQUIMBO"},"200273","80301015","2021-11-08T13:15:37",1,null,1]
[3,"5",2021,{"$f":"IFERROR(VLOOKUP(Tabla_SERIEBM_01_6[[#This Row],[IdEstablecimiento]],[1]Establecimientos!A$1:E$175,5,FALSE),0)","v":"04102-COQUIMBO"},"200273","80301034","2021-11-08T13:15:37",1,null,1]
[3,"5",2021,{"$f":"IFERROR(VLOOKUP(Tabla_SERIEBM_01_6[[#This Row],[IdEstablecimiento]],[1]Establecimientos!A$1:E$175,5,FALSE),0)","v":"04102-COQUIMBO"},"200273","80301036","2021-11-08T13:15:37",0,null,null,58]
[3,"5",2021,{"$f":"IFERROR(VLOOKUP(Tabla_SERIEBM_01_6[[#This Row],[IdEstablecimiento]],[1]Establecimientos!A$1:E$175,5,FALSE),0)","v":"04102-COQUIMBO"},"200273","80301038","2021-11-08T13:15:37",0,null,null,58]
[3,"5",2021,{"$f":"IFERROR(VLOOKUP(Tabla_SERIEBM_01_6[[#This Row],[IdEstablecimiento]],[1]Establecimientos!A$1:E$175,5,FALSE),0)","v":"04102-COQUIMBO"},"200273","80301041","2021-11-08T13:15:37",0,null,null,28]
[3,"5",2021,{"$f":"IFERROR(VLOOKUP(Tabla_SERIEBM_01_6[[#This Row],[IdEstablecimiento]],[1]Establecimientos!A$1:E$175,5,FALSE),0)","v":"04102-COQUIMBO"},"200273","80301045","2021-11-08T13:15:37",0,null,null,21]
[3,"5",2021,{"$f":"IFERROR(VLOOKUP(Tabla_SERIEBM_01_6[[#This Row],[IdEstablecimiento]],[1]Establecimientos!A$1:E$175,5,FALSE),0)","v":"04102-COQUIMBO"},"200273","80302005","2021-11-08T13:15:37",0,null,null,10]
[3,"5",2021,{"$f":"IFERROR(VLOOKUP(Tabla_SERIEBM_01_6[[#This Row],[IdEstablecimiento]],[1]Establecimientos!A$1:E$175,5,FALSE),0)","v":"04102-COQUIMBO"},"200273","80302013","2021-11-08T13:15:37",0,null,null,2]
[3,"5",2021,{"$f":"IFERROR(VLOOKUP(Tabla_SERIEBM_01_6[[#This Row],[IdEstablecimiento]],[1]Establecimientos!A$1:E$175,5,FALSE),0)","v":"04102-COQUIMBO"},"200273","80302067","2021-11-08T13:15:37",0,null,null,74]
[3,"5",2021,{"$f":"IFERROR(VLOOKUP(Tabla_SERIEBM_01_6[[#This Row],[IdEstablecimiento]],[1]Establecimientos!A$1:E$175,5,FALSE),0)","v":"04102-COQUIMBO"},"200273","80302068","2021-11-08T13:15:37",0,null,null,70]
[3,"5",2021,{"$f":"IFERROR(VLOOKUP(Tabla_SERIEBM_01_6[[#This Row],[IdEstablecimiento]],[1]Establecimientos!A$1:E$175,5,FALSE),0)","v":"04303-MONTE PATRIA"},"200720","81901019","2021-11-08T13:21:38",7,7,null,null,7]
[3,"5",2021,{"$f":"IFERROR(VLOOKUP(Tabla_SERIEBM_01_6[[#This Row],[IdEstablecimiento]],[1]Establecimientos!A$1:E$175,5,FALSE),0)","v":"04303-MONTE PATRIA"},"200720","81901022","2021-11-08T13:21:38",6,6,null,null,6]
[3,"5",2021,{"$f":"IFERROR(VLOOKUP(Tabla_SERIEBM_01_6[[#This Row],[IdEstablecimiento]],[1]Establecimientos!A$1:E$175,5,FALSE),0)","v":"04303-MONTE PATRIA"},"200720","81602221","2021-11-08T13:21:38",10,10,null,10]
[3,"5",2021,{"$f":"IFERROR(VLOOKUP(Tabla_SERIEBM_01_6[[#This Row],[IdEstablecimiento]],[1]Establecimientos!A$1:E$175,5,FALSE),0)","v":"04303-MONTE PATRIA"},"200720","81602222","2021-11-08T13:21:38",10,10,null,10]
[3,"5",2021,{"$f":"IFERROR(VLOOKUP(Tabla_SERIEBM_01_6[[#This Row],[IdEstablecimiento]],[1]Establecimientos!A$1:E$175,5,FALSE),0)","v":"04303-MONTE PATRIA"},"200720","81602240","2021-11-08T13:21:38",11,11,null,11]
[3,"5",2021,{"$f":"IFERROR(VLOOKUP(Tabla_SERIEBM_01_6[[#This Row],[IdEstablecimiento]],[1]Establecimientos!A$1:E$175,5,FALSE),0)","v":"04303-MONTE PATRIA"},"200720","80106002","2021-11-08T13:21:38",69,69,null,null,69]
[3,"5",2021,{"$f":"IFERROR(VLOOKUP(Tabla_SERIEBM_01_6[[#This Row],[IdEstablecimiento]],[1]Establecimientos!A$1:E$175,5,FALSE),0)","v":"04303-MONTE PATRIA"},"200720","80106006","2021-11-08T13:21:38",6,6,null,null,6]
[3,"5",2021,{"$f":"IFERROR(VLOOKUP(Tabla_SERIEBM_01_6[[#This Row],[IdEstablecimiento]],[1]Establecimientos!A$1:E$175,5,FALSE),0)","v":"04303-MONTE PATRIA"},"200720","80106017","2021-11-08T13:21:38",2,2,null,2]
[3,"5",2021,{"$f":"IFERROR(VLOOKUP(Tabla_SERIEBM_01_6[[#This Row],[IdEstablecimiento]],[1]Establecimientos!A$1:E$175,5,FALSE),0)","v":"04303-MONTE PATRIA"},"200720","80106010","2021-11-08T13:21:38",1,1,null,1]
[3,"5",2021,{"$f":"IFERROR(VLOOKUP(Tabla_SERIEBM_01_6[[#This Row],[IdEstablecimiento]],[1]Establecimientos!A$1:E$175,5,FALSE),0)","v":"04303-MONTE PATRIA"},"200720","80106013","2021-11-08T13:21:38",15,15,null,null,15]
[3,"5",2021,{"$f":"IFERROR(VLOOKUP(Tabla_SERIEBM_01_6[[#This Row],[IdEstablecimiento]],[1]Establecimientos!A$1:E$175,5,FALSE),0)","v":"04303-MONTE PATRIA"},"200720","80106014","2021-11-08T13:21:38",886,886,null,null,886]
[3,"5",2021,{"$f":"IFERROR(VLOOKUP(Tabla_SERIEBM_01_6[[#This Row],[IdEstablecimiento]],[1]Establecimientos!A$1:E$175,5,FALSE),0)","v":"04303-MONTE PATRIA"},"200720","80106015","2021-11-08T13:21:38",294,294,null,null,294]
[3,"5",2021,{"$f":"IFERROR(VLOOKUP(Tabla_SERIEBM_01_6[[#This Row],[IdEstablecimiento]],[1]Establecimientos!A$1:E$175,5,FALSE),0)","v":"04303-MONTE PATRIA"},"200720","80106021","2021-11-08T13:21:38",4,4,null,null,4]
[3,"5",2021,{"$f":"IFERROR(VLOOKUP(Tabla_SERIEBM_01_6[[#This Row],[IdEstablecimiento]],[1]Establecimientos!A$1:E$175,5,FALSE),0)","v":"04303-MONTE PATRIA"},"200720","80106022","2021-11-08T13:21:38",7,7,null,null,7]
[3,"5",2021,{"$f":"IFERROR(VLOOKUP(Tabla_SERIEBM_01_6[[#This Row],[IdEstablecimiento]],[1]Establecimientos!A$1:E$175,5,FALSE),0)","v":"04303-MONTE PATRIA"},"200720","80307011","2021-11-08T13:21:38",222,222]
[3,"5",2021,{"$f":"IFERROR(VLOOKUP(Tabla_SERIEBM_01_6[[#This Row],[IdEstablecimiento]],[1]Establecimientos!A$1:E$175,5,FALSE),0)","v":"04303-MONTE PATRIA"},"200720","80307012","2021-11-08T13:21:38",5,5]
[3,"5",2021,{"$f":"IFERROR(VLOOKUP(Tabla_SERIEBM_01_6[[#This Row],[IdEstablecimiento]],[1]Establecimientos!A$1:E$175,5,FALSE),0)","v":"04303-MONTE PATRIA"},"200720","80500011","2021-11-08T13:21:38",303,303,null,null,303]
[3,"5",2021,{"$f":"IFERROR(VLOOKUP(Tabla_SERIEBM_01_6[[#This Row],[IdEstablecimiento]],[1]Establecimientos!A$1:E$175,5,FALSE),0)","v":"04303-MONTE PATRIA"},"200720","80500014","2021-11-08T13:21:38",15,15,{"$nulls":3},15]
[3,"5",2021,{"$f":"IFERROR(VLOOKUP(Tabla_SERIEBM_01_6[[#This Row],[IdEstablecimiento]],[1]Establecimientos!A$1:E$175,5,FALSE),0)","v":"04303-MONTE PATRIA"},"200720","80500016","2021-11-08T13:21:38",17,17,null,null,17]
[3,"5",2021,{"$f":"IFERROR(VLOOKUP(Tabla_SERIEBM_01_6[[#This Row],[IdEstablecimiento]],[1]Establecimientos!A$1:E$175,5,FALSE),0)","v":"04303-MONTE PATRIA"},"200720","80500017","2021-11-08T13:21:38",41,41,null,null,41]
[3,"5",2021,{"$f":"IFERROR(VLOOKUP(Tabla_SERIEBM_01_6[[#This Row],[IdEstablecimiento]],[1]Establecimientos!A$1:E$175,5,FALSE),0)","v":"04303-MONTE PATRIA"},"200720","18011001","2021-11-08T13:21:38",270,270,0]
[3,"5",2021,{"$f":"IFERROR(VLOOKUP(Tabla_SERIEBM_01_6[[#This Row],[IdEstablecimiento]],[1]Establecimientos!A$1:E$175,5,FALSE),0)","v":"04303-MONTE PATRIA"},"200720","18020300","2021-11-08T13:21:38",58,58,0]
[3,"5",2021,{"$f":"IFERROR(VLOOKUP(Tabla_SERIEBM_01_6[[#This Row],[IdEstablecimiento]],[1]Establecimientos!A$1:E$175,5,FALSE),0)","v":"04303-MONTE PATRIA"},"200720","18020500","2021-11-08T13:21:38",289,289,0]
[3,"5",2021,{"$f":"IFERROR(VLOOKUP(Tabla_SERIEBM_01_6[[#This Row],[IdEstablecimiento]],[1]Establecimientos!A$1:E$175,5,FALSE),0)","v":"04303-MONTE PATRIA"},"200720","18020600","2021-11-08T13:21:38",1,1,0]
[3,"5",2021,{"$f":"IFERROR(VLOOKUP(Tabla_SERIEBM_01_6[[#This Row],[IdEstablecimiento]],[1]Establecimientos!A$1:E$175,5,FALSE),0)","v":"04303-MONTE PATRIA"},"200720","18020700","2021-11-08T13:21:38",13,13,0]
[3,"5",2021,{"$f":"IFERROR(VLOOKUP(Tabla_SERIEBM_01_6[[#This Row],[IdEstablecimiento]],[1]Establecimientos!A$1:E$175,5,FALSE),0)","v":"04303-MONTE PATRIA"},"200720","18030000","2021-11-08T13:21:38",31,31,0]
[3,"5",2021,{"$f":"IFERROR(VLOOKUP(Tabla_SERIEBM_01_6[[#This Row],[IdEstablecimiento]],[1]Establecimientos!A$1:E$175,5,FALSE),0)","v":"04303-MONTE PATRIA"},"200720","18040100","2021-11-08T13:21:38",31,10,21]
[3,"5",2021,{"$f":"IFERROR(VLOOKUP(Tabla_SERIEBM_01_6[[#This Row],[IdEstablecimiento]],[1]Establecimientos!A$1:E$175,5,FALSE),0)","v":"04303-MONTE PATRIA"},"200720","18050100","2021-11-08T13:21:38",69,69,0]
[3,"5",2021,{"$f":"IFERROR(VLOOKUP(Tabla_SERIEBM_01_6[[#This Row],[IdEstablecimiento]],[1]Establecimientos!A$1:E$175,5,FALSE),0)","v":"04303-MONTE PATRIA"},"200720","18050300","2021-11-08T13:21:38",6,6,0]
[3,"5",2021,{"$f":"IFERROR(VLOOKUP(Tabla_SERIEBM_01_6[[#This Row],[IdEstablecimiento]],[1]Establecimientos!A$1:E$175,5,FALSE),0)","v":"04303-MONTE PATRIA"},"200720","18400700","2021-11-08T13:21:38",1297]
[3,"5",2021,{"$f":"IFERROR(VLOOKUP(Tabla_SERIEBM_01_6[[#This Row],[IdEstablecimiento]],[1]Establecimientos!A$1:E$175,5,FALSE),0)","v":"04303-MONTE PATRIA"},"200720","18090200","2021-11-08T13:21:38",134,0]
[3,"5",2021,{"$f":"IFERROR(VLOOKUP(Tabla_SERIEBM_01_6[[#This Row],[IdEstablecimiento]],[1]Establecimientos!A$1:E$175,5,FALSE),0)","v":"04303-MONTE PATRIA"},"200720","18700100","2021-11-08T13:21:38",175,30,100,45,0]
[3,"5",2021,{"$f":"IFERROR(VLOOKUP(Tabla_SERIEBM_01_6[[#This Row],[IdEstablecimiento]],[1]Establecimientos!A$1:E$175,5,FALSE),0)","v":"04301-OVALLE"},"200721","80309023","2021-11-08T13:22:10",77,77]
[3,"5",2021,{"$f":"IFERROR(VLOOKUP(Tabla_SERIEBM_01_6[[#This Row],[IdEstablecimiento]],[1]Establecimientos!A$1:E$175,5,FALSE),0)","v":"04301-OVALLE"},"200721","81701001","2021-11-08T13:22:10",17,17,null,null,17]
[3,"5",2021,{"$f":"IFERROR(VLOOKUP(Tabla_SERIEBM_01_6[[#This Row],[IdEstablecimiento]],[1]Establecimientos!A$1:E$175,5,FALSE),0)","v":"04301-OVALLE"},"200721","81801023","2021-11-08T13:22:10",3,3,null,null,3]
[3,"5",2021,{"$f":"IFERROR(VLOOKUP(Tabla_SERIEBM_01_6[[#This Row],[IdEstablecimiento]],[1]Establecimientos!A$1:E$175,5,FALSE),0)","v":"04301-OVALLE"},"200721","81901019","2021-11-08T13:22:10",4,4,null,null,4]
[3,"5",2021,{"$f":"IFERROR(VLOOKUP(Tabla_SERIEBM_01_6[[#This Row],[IdEstablecimiento]],[1]Establecimientos!A$1:E$175,5,FALSE),0)","v":"04301-OVALLE"},"200721","81602221","2021-11-08T13:22:10",7,7,null,7]
[3,"5",2021,{"$f":"IFERROR(VLOOKUP(Tabla_SERIEBM_01_6[[#This Row],[IdEstablecimiento]],[1]Establecimientos!A$1:E$175,5,FALSE),0)","v":"04301-OVALLE"},"200721","81602222","2021-11-08T13:22:10",8,8,null,null,8]
[3,"5",2021,{"$f":"IFERROR(VLOOKUP(Tabla_SERIEBM_01_6[[#This Row],[IdEstablecimiento]],[1]Establecimientos!A$1:E$175,5,FALSE),0)","v":"04301-OVALLE"},"200721","80106002","2021-11-08T13:22:10",59,59,null,null,59]
[3,"5",2021,{"$f":"IFERROR(VLOOKUP(Tabla_SERIEBM_01_6[[#This Row],[IdEstablecimiento]],[1]Establecimientos!A$1:E$175,5,FALSE),0)","v":"04301-OVALLE"},"200721","80106005","2021-11-08T13:22:10",314,314,null,null,314]
[3,"5",2021,{"$f":"IFERROR(VLOOKUP(Tabla_SERIEBM_01_6[[#This Row],[IdEstablecimiento]],[1]Establecimientos!A$1:E$175,5,FALSE),0)","v":"04301-OVALLE"},"200721","80106017","2021-11-08T13:22:10",6,6,null,null,6]
[3,"5",2021,{"$f":"IFERROR(VLOOKUP(Tabla_SERIEBM_01_6[[#This Row],[IdEstablecimiento]],[1]Establecimientos!A$1:E$175,5,FALSE),0)","v":"04301-OVALLE"},"200721","80106007","2021-11-08T13:22:10",4,4,null,4]
[3,"5",2021,{"$f":"IFERROR(VLOOKUP(Tabla_SERIEBM_01_6[[#This Row],[IdEstablecimiento]],[1]Establecimientos!A$1:E$175,5,FALSE),0)","v":"04301-OVALLE"},"200721","80106008","2021-11-08T13:22:10",2,2,null,null,2]
[3,"5",2021,{"$f":"IFERROR(VLOOKUP(Tabla_SERIEBM_01_6[[#This Row],[IdEstablecimiento]],[1]Establecimientos!A$1:E$175,5,FALSE),0)","v":"04301-OVALLE"},"200721","80106013","2021-11-08T13:22:10",4,4,null,4]
[3,"5",2021,{"$f":"IFERROR(VLOOKUP(Tabla_SERIEBM_01_6[[#This Row],[IdEstablecimiento]],[1]Establecimientos!A$1:E$175,5,FALSE),0)","v":"04301-OVALLE"},"200721","80106014","2021-11-08T13:22:10",258,258,null,null,258]
[3,"5",2021,{"$f":"IFERROR(VLOOKUP(Tabla_SERIEBM_01_6[[#This Row],[IdEstablecimiento]],[1]Establecimientos!A$1:E$175,5,FALSE),0)","v":"04301-OVALLE"},"200721","80106015","2021-11-08T13:22:10",48,48,null,null,48]
[3,"5",2021,{"$f":"IFERROR(VLOOKUP(Tabla_SERIEBM_01_6[[#This Row],[IdEstablecimiento]],[1]Establecimientos!A$1:E$175,5,FALSE),0)","v":"04301-OVALLE"},"200721","80106022","2021-11-08T13:22:10",4,4,null,null,4]
[3,"5",2021,{"$f":"IFERROR(VLOOKUP(Tabla_SERIEBM_01_6[[#This Row],[IdEstablecimiento]],[1]Establecimientos!A$1:E$175,5,FALSE),0)","v":"04301-OVALLE"},"200721","18010900","2021-11-08T13:22:10",77,77,0]
[3,"5",2021,{"$f":"IFERROR(VLOOKUP(Tabla_SERIEBM_01_6[[#This Row],[IdEstablecimiento]],[1]Establecimientos!A$1:E$175,5,FALSE),0)","v":"04301-OVALLE"},"200721","18020500","2021-11-08T13:22:10",17,17,0]
[3,"5",2021,{"$f":"IFERROR(VLOOKUP(Tabla_SERIEBM_01_6[[#This Row],[IdEstablecimiento]],[1]Establecimientos!A$1:E$175,5,FALSE),0)","v":"04301-OVALLE"},"200721","18020600","2021-11-08T13:22:10",3,3,0]
[3,"5",2021,{"$f":"IFERROR(VLOOKUP(Tabla_SERIEBM_01_6[[#This Row],[IdEstablecimiento]],[1]Establecimientos!A$1:E$175,5,FALSE),0)","v":"04301-OVALLE"},"200721","18020700","2021-11-08T13:22:10",4,4,0]
[3,"5",2021,{"$f":"IFERROR(VLOOKUP(Tabla_SERIEBM_01_6[[#This Row],[IdEstablecimiento]],[1]Establecimientos!A$1:E$175,5,FALSE),0)","v":"04301-OVALLE"},"200721","18030000","2021-11-08T13:22:10",15,15,0]
[3,"5",2021,{"$f":"IFERROR(VLOOKUP(Tabla_SERIEBM_01_6[[#This Row],[IdEstablecimiento]],[1]Establecimientos!A$1:E$175,5,FALSE),0)","v":"04301-OVALLE"},"200721","18040100","2021-11-08T13:22:10",15,null,15]
[3,"5",2021,{"$f":"IFERROR(VLOOKUP(Tabla_SERIEBM_01_6[[#This Row],[IdEstablecimiento]],[1]Establecimientos!A$1:E$175,5,FALSE),0)","v":"04301-OVALLE"},"200721","18050100","2021-11-08T13:22:10",59,59,0]
[3,"5",2021,{"$f":"IFERROR(VLOOKUP(Tabla_SERIEBM_01_6[[#This Row],[IdEstablecimiento]],[1]Establecimientos!A$1:E$175,5,FALSE),0)","v":"04301-OVALLE"},"200721","18050200","2021-11-08T13:22:10",314,314,0]
[3,"5",2021,{"$f":"IFERROR(VLOOKUP(Tabla_SERIEBM_01_6[[#This Row],[IdEstablecimiento]],[1]Establecimientos!A$1:E$175,5,FALSE),0)","v":"04105-PAIHUANO"},"200737","81602221","2021-11-08T13:22:38",4,4,null,null,4]
[3,"5",2021,{"$f":"IFERROR(VLOOKUP(Tabla_SERIEBM_01_6[[#This Row],[IdEstablecimiento]],[1]Establecimientos!A$1:E$175,5,FALSE),0)","v":"04105-PAIHUANO"},"200737","80106002","2021-11-08T13:22:38",10,10,null,null,10]
[3,"5",2021,{"$f":"IFERROR(VLOOKUP(Tabla_SERIEBM_01_6[[#This Row],[IdEstablecimiento]],[1]Establecimientos!A$1:E$175,5,FALSE),0)","v":"04105-PAIHUANO"},"200737","80106014","2021-11-08T13:22:38",30,30,null,null,30]
[3,"5",2021,{"$f":"IFERROR(VLOOKUP(Tabla_SERIEBM_01_6[[#This Row],[IdEstablecimiento]],[1]Establecimientos!A$1:E$175,5,FALSE),0)","v":"04105-PAIHUANO"},"200737","18030000","2021-11-08T13:22:38",4,4,0]
[3,"5",2021,{"$f":"IFERROR(VLOOKUP(Tabla_SERIEBM_01_6[[#This Row],[IdEstablecimiento]],[1]Establecimientos!A$1:E$175,5,FALSE),0)","v":"04105-PAIHUANO"},"200737","18040100","2021-11-08T13:22:38",4,1,3]
[3,"5",2021,{"$f":"IFERROR(VLOOKUP(Tabla_SERIEBM_01_6[[#This Row],[IdEstablecimiento]],[1]Establecimientos!A$1:E$175,5,FALSE),0)","v":"04105-PAIHUANO"},"200737","18050100","2021-11-08T13:22:38",10,10,0]
[3,"5",2021,{"$f":"IFERROR(VLOOKUP(Tabla_SERIEBM_01_6[[#This Row],[IdEstablecimiento]],[1]Establecimientos!A$1:E$175,5,FALSE),0)","v":"04301-OVALLE"},"200741","81701001","2021-11-08T13:23:10",6,6,null,null,6]
[3,"5",2021,{"$f":"IFERROR(VLOOKUP(Tabla_SERIEBM_01_6[[#This Row],[IdEstablecimiento]],[1]Establecimientos!A$1:E$175,5,FALSE),0)","v":"04301-OVALLE"},"200741","81701009","2021-11-08T13:23:10",65,65,null,null,65]
[3,"5",2021,{"$f":"IFERROR(VLOOKUP(Tabla_SERIEBM_01_6[[#This Row],[IdEstablecimiento]],[1]Establecimientos!A$1:E$175,5,FALSE),0)","v":"04301-OVALLE"},"200741","80106002","2021-11-08T13:23:10",20,20,null,null,20]
[3,"5",2021,{"$f":"IFERROR(VLOOKUP(Tabla_SERIEBM_01_6[[#This Row],[IdEstablecimiento]],[1]Establecimientos!A$1:E$175,5,FALSE),0)","v":"04301-OVALLE"},"200741","80106017","2021-11-08T13:23:10",6,6,null,null,6]
[3,"5",2021,{"$f":"IFERROR(VLOOKUP(Tabla_SERIEBM_01_6[[#This Row],[IdEstablecimiento]],[1]Establecimientos!A$1:E$175,5,FALSE),0)","v":"04301-OVALLE"},"200741","80106014","2021-11-08T13:23:10",51,51,null,null,51]
[3,"5",2021,{"$f":"IFERROR(VLOOKUP(Tabla_SERIEBM_01_6[[#This Row],[IdEstablecimiento]],[1]Establecimientos!A$1:E$175,5,FALSE),0)","v":"04301-OVALLE"},"200741","80106015","2021-11-08T13:23:10",10,10,null,null,10]
[3,"5",2021,{"$f":"IFERROR(VLOOKUP(Tabla_SERIEBM_01_6[[#This Row],[IdEstablecimiento]],[1]Establecimientos!A$1:E$175,5,FALSE),0)","v":"04301-OVALLE"},"200741","80106022","2021-11-08T13:23:10",1,1,null,null,1]
[3,"5",2021,{"$f":"IFERROR(VLOOKUP(Tabla_SERIEBM_01_6[[#This Row],[IdEstablecimiento]],[1]Establecimientos!A$1:E$175,5,FALSE),0)","v":"04301-OVALLE"},"200741","80500011","2021-11-08T13:23:10",10,10,null,null,10]
[3,"5",2021,{"$f":"IFERROR(VLOOKUP(Tabla_SERIEBM_01_6[[#This Row],[IdEstablecimiento]],[1]Establecimientos!A$1:E$175,5,FALSE),0)","v":"04301-OVALLE"},"200741","18020500","2021-11-08T13:23:10",71,71,0]
[3,"5",2021,{"$f":"IFERROR(VLOOKUP(Tabla_SERIEBM_01_6[[#This Row],[IdEstablecimiento]],[1]Establecimientos!A$1:E$175,5,FALSE),0)","v":"04301-OVALLE"},"200741","18050100","2021-11-08T13:23:10",20,20,0]
[3,"5",2021,{"$f":"IFERROR(VLOOKUP(Tabla_SERIEBM_01_6[[#This Row],[IdEstablecimiento]],[1]Establecimientos!A$1:E$175,5,FALSE),0)","v":"04301-OVALLE"},"200742","81701001","2021-11-08T13:23:33",12,12,null,null,2]
[3,"5",2021,{"$f":"IFERROR(VLOOKUP(Tabla_SERIEBM_01_6[[#This Row],[IdEstablecimiento]],[1]Establecimientos!A$1:E$175,5,FALSE),0)","v":"04301-OVALLE"},"200742","80106002","2021-11-08T13:23:33",12,12,null,null,12]
[3,"5",2021,{"$f":"IFERROR(VLOOKUP(Tabla_SERIEBM_01_6[[#This Row],[IdEstablecimiento]],[1]Establecimientos!A$1:E$175,5,FALSE),0)","v":"04301-OVALLE"},"200742","80106017","2021-11-08T13:23:33",4,4,null,null,4]
[3,"5",2021,{"$f":"IFERROR(VLOOKUP(Tabla_SERIEBM_01_6[[#This Row],[IdEstablecimiento]],[1]Establecimientos!A$1:E$175,5,FALSE),0)","v":"04301-OVALLE"},"200742","80106013","2021-11-08T13:23:33",4,4,null,null,4]
[3,"5",2021,{"$f":"IFERROR(VLOOKUP(Tabla_SERIEBM_01_6[[#This Row],[IdEstablecimiento]],[1]Establecimientos!A$1:E$175,5,FALSE),0)","v":"04301-OVALLE"},"200742","80106014","2021-11-08T13:23:33",70,70,null,null,70]
[3,"5",2021,{"$f":"IFERROR(VLOOKUP(Tabla_SERIEBM_01_6[[#This Row],[IdEstablecimiento]],[1]Establecimientos!A$1:E$175,5,FALSE),0)","v":"04301-OVALLE"},"200742","80106015","2021-11-08T13:23:33",15,15,null,null,15]
[3,"5",2021,{"$f":"IFERROR(VLOOKUP(Tabla_SERIEBM_01_6[[#This Row],[IdEstablecimiento]],[1]Establecimientos!A$1:E$175,5,FALSE),0)","v":"04301-OVALLE"},"200742","80106020","2021-11-08T13:23:33",9,9,null,null,9]
[3,"5",2021,{"$f":"IFERROR(VLOOKUP(Tabla_SERIEBM_01_6[[#This Row],[IdEstablecimiento]],[1]Establecimientos!A$1:E$175,5,FALSE),0)","v":"04301-OVALLE"},"200742","80500011","2021-11-08T13:23:33",72,72,null,null,72]
[3,"5",2021,{"$f":"IFERROR(VLOOKUP(Tabla_SERIEBM_01_6[[#This Row],[IdEstablecimiento]],[1]Establecimientos!A$1:E$175,5,FALSE),0)","v":"04301-OVALLE"},"200742","18020500","2021-11-08T13:23:33",12,12,0]
[3,"5",2021,{"$f":"IFERROR(VLOOKUP(Tabla_SERIEBM_01_6[[#This Row],[IdEstablecimiento]],[1]Establecimientos!A$1:E$175,5,FALSE),0)","v":"04301-OVALLE"},"200742","18050100","2021-11-08T13:23:33",12,12,0]
[3,"5",2021,{"$f":"IFERROR(VLOOKUP(Tabla_SERIEBM_01_6[[#This Row],[IdEstablecimiento]],[1]Establecimientos!A$1:E$175,5,FALSE),0)","v":"04301-OVALLE"},"200742","18400700","2021-11-08T13:23:33",207]
[3,"5",2021,{"$f":"IFERROR(VLOOKUP(Tabla_SERIEBM_01_6[[#This Row],[IdEstablecimiento]],[1]Establecimientos!A$1:E$175,5,FALSE),0)","v":"04102-COQUIMBO"},"200848","81301025","2021-11-08T13:26:30",1,1,0,1,0]
[3,"5",2021,{"$f":"IFERROR(VLOOKUP(Tabla_SERIEBM_01_6[[#This Row],[IdEstablecimiento]],[1]Establecimientos!A$1:E$175,5,FALSE),0)","v":"04102-COQUIMBO"},"200848","81701001","2021-11-08T13:26:30",46,46,0,0,46]
[3,"5",2021,{"$f":"IFERROR(VLOOKUP(Tabla_SERIEBM_01_6[[#This Row],[IdEstablecimiento]],[1]Establecimientos!A$1:E$175,5,FALSE),0)","v":"04102-COQUIMBO"},"200848","81701009","2021-11-08T13:26:30",13,13,0,0,13]
[3,"5",2021,{"$f":"IFERROR(VLOOKUP(Tabla_SERIEBM_01_6[[#This Row],[IdEstablecimiento]],[1]Establecimientos!A$1:E$175,5,FALSE),0)","v":"04102-COQUIMBO"},"200848","81707030","2021-11-08T13:26:30",4,4,0,4,0]
[3,"5",2021,{"$f":"IFERROR(VLOOKUP(Tabla_SERIEBM_01_6[[#This Row],[IdEstablecimiento]],[1]Establecimientos!A$1:E$175,5,FALSE),0)","v":"04102-COQUIMBO"},"200848","80106002","2021-11-08T13:26:30",52,52,0,0,52]
[3,"5",2021,{"$f":"IFERROR(VLOOKUP(Tabla_SERIEBM_01_6[[#This Row],[IdEstablecimiento]],[1]Establecimientos!A$1:E$175,5,FALSE),0)","v":"04102-COQUIMBO"},"200848","80106017","2021-11-08T13:26:30",11,11,0,0,11]
[3,"5",2021,{"$f":"IFERROR(VLOOKUP(Tabla_SERIEBM_01_6[[#This Row],[IdEstablecimiento]],[1]Establecimientos!A$1:E$175,5,FALSE),0)","v":"04102-COQUIMBO"},"200848","80106008","2021-11-08T13:26:30",1,1,0,1,0]
[3,"5",2021,{"$f":"IFERROR(VLOOKUP(Tabla_SERIEBM_01_6[[#This Row],[IdEstablecimiento]],[1]Establecimientos!A$1:E$175,5,FALSE),0)","v":"04102-COQUIMBO"},"200848","80106010","2021-11-08T13:26:30",6,6,0,4,2]
[3,"5",2021,{"$f":"IFERROR(VLOOKUP(Tabla_SERIEBM_01_6[[#This Row],[IdEstablecimiento]],[1]Establecimientos!A$1:E$175,5,FALSE),0)","v":"04102-COQUIMBO"},"200848","80106013","2021-11-08T13:26:30",12,12,0,12,0]
[3,"5",2021,{"$f":"IFERROR(VLOOKUP(Tabla_SERIEBM_01_6[[#This Row],[IdEstablecimiento]],[1]Establecimientos!A$1:E$175,5,FALSE),0)","v":"04102-COQUIMBO"},"200848","80106014","2021-11-08T13:26:30",900,900,0,0,900]
[3,"5",2021,{"$f":"IFERROR(VLOOKUP(Tabla_SERIEBM_01_6[[#This Row],[IdEstablecimiento]],[1]Establecimientos!A$1:E$175,5,FALSE),0)","v":"04102-COQUIMBO"},"200848","80106015","2021-11-08T13:26:30",141,141,0,132,9]
[3,"5",2021,{"$f":"IFERROR(VLOOKUP(Tabla_SERIEBM_01_6[[#This Row],[IdEstablecimiento]],[1]Establecimientos!A$1:E$175,5,FALSE),0)","v":"04102-COQUIMBO"},"200848","80106020","2021-11-08T13:26:30",4,4,0,4,0]
[3,"5",2021,{"$f":"IFERROR(VLOOKUP(Tabla_SERIEBM_01_6[[#This Row],[IdEstablecimiento]],[1]Establecimientos!A$1:E$175,5,FALSE),0)","v":"04102-COQUIMBO"},"200848","80106022","2021-11-08T13:26:30",2,2,0,2,0]
[3,"5",2021,{"$f":"IFERROR(VLOOKUP(Tabla_SERIEBM_01_6[[#This Row],[IdEstablecimiento]],[1]Establecimientos!A$1:E$175,5,FALSE),0)","v":"04102-COQUIMBO"},"200848","80500011","2021-11-08T13:26:30",181,181,0,0,181]
[3,"5",2021,{"$f":"IFERROR(VLOOKUP(Tabla_SERIEBM_01_6[[#This Row],[IdEstablecimiento]],[1]Establecimientos!A$1:E$175,5,FALSE),0)","v":"04102-COQUIMBO"},"200848","18020200","2021-11-08T13:26:30",1,1,0]
[3,"5",2021,{"$f":"IFERROR(VLOOKUP(Tabla_SERIEBM_01_6[[#This Row],[IdEstablecimiento]],[1]Establecimientos!A$1:E$175,5,FALSE),0)","v":"04102-COQUIMBO"},"200848","18020300","2021-11-08T13:26:30",4,4,0]
[3,"5",2021,{"$f":"IFERROR(VLOOKUP(Tabla_SERIEBM_01_6[[#This Row],[IdEstablecimiento]],[1]Establecimientos!A$1:E$175,5,FALSE),0)","v":"04102-COQUIMBO"},"200848","18020500","2021-11-08T13:26:30",59,59,0]
[3,"5",2021,{"$f":"IFERROR(VLOOKUP(Tabla_SERIEBM_01_6[[#This Row],[IdEstablecimiento]],[1]Establecimientos!A$1:E$175,5,FALSE),0)","v":"04102-COQUIMBO"},"200848","18050100","2021-11-08T13:26:30",52,52,0]
[9,"5",2021,{"$f":"IFERROR(VLOOKUP(Tabla_SERIEBM_01_6[[#This Row],[IdEstablecimiento]],[1]Establecimientos!A$1:E$175,5,FALSE),0)","v":"04102-COQUIMBO"},"200499","80401010","2021-10-15T13:38:33",0,null,null,72]
[9,"5",2021,{"$f":"IFERROR(VLOOKUP(Tabla_SERIEBM_01_6[[#This Row],[IdEstablecimiento]],[1]Establecimientos!A$1:E$175,5,FALSE),0)","v":"04102-COQUIMBO"},"200499","80401151","2021-10-15T13:38:33",0,null,null,8]
[9,"5",2021,{"$f":"IFERROR(VLOOKUP(Tabla_SERIEBM_01_6[[#This Row],[IdEstablecimiento]],[1]Establecimientos!A$1:E$175,5,FALSE),0)","v":"04102-COQUIMBO"},"200499","80404002","2021-10-15T13:38:33",1,null,1]
[9,"5",2021,{"$f":"IFERROR(VLOOKUP(Tabla_SERIEBM_01_6[[#This Row],[IdEstablecimiento]],[1]Establecimientos!A$1:E$175,5,FALSE),0)","v":"04102-COQUIMBO"},"200499","80404003","2021-10-15T13:38:33",0,null,null,27]
[9,"5",2021,{"$f":"IFERROR(VLOOKUP(Tabla_SERIEBM_01_6[[#This Row],[IdEstablecimiento]],[1]Establecimientos!A$1:E$175,5,FALSE),0)","v":"04102-COQUIMBO"},"200499","80404005","2021-10-15T13:38:33",5,null,5]
[9,"5",2021,{"$f":"IFERROR(VLOOKUP(Tabla_SERIEBM_01_6[[#This Row],[IdEstablecimiento]],[1]Establecimientos!A$1:E$175,5,FALSE),0)","v":"04102-COQUIMBO"},"200499","80404012","2021-10-15T13:38:33",0,null,null,20]
[9,"5",2021,{"$f":"IFERROR(VLOOKUP(Tabla_SERIEBM_01_6[[#This Row],[IdEstablecimiento]],[1]Establecimientos!A$1:E$175,5,FALSE),0)","v":"04102-COQUIMBO"},"200499","81701001","2021-10-15T13:38:33",149,14,135,null,149,149]
[5,"5",2021,{"$f":"IFERROR(VLOOKUP(Tabla_SERIEBM_01_6[[#This Row],[IdEstablecimiento]],[1]Establecimientos!A$1:E$175,5,FALSE),0)","v":"04101-LA SERENA"},"105302","80106023","2021-06-11T14:53:45",59,null,59,null,59]
[5,"5",2021,{"$f":"IFERROR(VLOOKUP(Tabla_SERIEBM_01_6[[#This Row],[IdEstablecimiento]],[1]Establecimientos!A$1:E$175,5,FALSE),0)","v":"04101-LA SERENA"},"105302","80307011","2021-06-11T14:53:45",428,null,428]
[5,"5",2021,{"$f":"IFERROR(VLOOKUP(Tabla_SERIEBM_01_6[[#This Row],[IdEstablecimiento]],[1]Establecimientos!A$1:E$175,5,FALSE),0)","v":"04101-LA SERENA"},"105302","80307012","2021-06-11T14:53:45",6,null,6]
[5,"5",2021,{"$f":"IFERROR(VLOOKUP(Tabla_SERIEBM_01_6[[#This Row],[IdEstablecimiento]],[1]Establecimientos!A$1:E$175,5,FALSE),0)","v":"04101-LA SERENA"},"105302","80500008","2021-06-11T14:53:45",7,null,7,null,7]
[5,"5",2021,{"$f":"IFERROR(VLOOKUP(Tabla_SERIEBM_01_6[[#This Row],[IdEstablecimiento]],[1]Establecimientos!A$1:E$175,5,FALSE),0)","v":"04101-LA SERENA"},"105302","80500009","2021-06-11T14:53:45",9,null,9,null,9]
[5,"5",2021,{"$f":"IFERROR(VLOOKUP(Tabla_SERIEBM_01_6[[#This Row],[IdEstablecimiento]],[1]Establecimientos!A$1:E$175,5,FALSE),0)","v":"04101-LA SERENA"},"105302","80500011","2021-06-11T14:53:45",31,null,31,null,31]
[5,"5",2021,{"$f":"IFERROR(VLOOKUP(Tabla_SERIEBM_01_6[[#This Row],[IdEstablecimiento]],[1]Establecimientos!A$1:E$175,5,FALSE),0)","v":"04101-LA SERENA"},"105302","18700270","2021-06-11T14:53:45",10,null,10]
[2,"5",2021,{"$f":"IFERROR(VLOOKUP(Tabla_SERIEBM_01_6[[#This Row],[IdEstablecimiento]],[1]Establecimientos!A$1:E$175,5,FALSE),0)","v":"04202-CANELA"},"105484","80106015","2021-11-09T14:52:07",16,null,16,null,16]
[2,"5",2021,{"$f":"IFERROR(VLOOKUP(Tabla_SERIEBM_01_6[[#This Row],[IdEstablecimiento]],[1]Establecimientos!A$1:E$175,5,FALSE),0)","v":"04202-CANELA"},"105484","80500011","2021-11-09T14:52:07",11,null,11,null,11]
[2,"5",2021,{"$f":"IFERROR(VLOOKUP(Tabla_SERIEBM_01_6[[#This Row],[IdEstablecimiento]],[1]Establecimientos!A$1:E$175,5,FALSE),0)","v":"04202-CANELA"},"105484","18020500","2021-11-09T14:52:07",12,0,12]
[2,"5",2021,{"$f":"IFERROR(VLOOKUP(Tabla_SERIEBM_01_6[[#This Row],[IdEstablecimiento]],[1]Establecimientos!A$1:E$175,5,FALSE),0)","v":"04202-CANELA"},"105484","18050100","2021-11-09T14:52:07",17,0,17]
[2,"5",2021,{"$f":"IFERROR(VLOOKUP(Tabla_SERIEBM_01_6[[#This Row],[IdEstablecimiento]],[1]Establecimientos!A$1:E$175,5,FALSE),0)","v":"04201-ILLAPEL"},"105485","80302047","2021-11-09T14:53:24",0,null,null,12]
[3,"5",2021,{"$f":"IFERROR(VLOOKUP(Tabla_SERIEBM_01_6[[#This Row],[IdEstablecimiento]],[1]Establecimientos!A$1:E$175,5,FALSE),0)","v":"04102-COQUIMBO"},"200499","80308004","2021-11-08T13:18:03",0,null,null,7]
[3,"5",2021,{"$f":"IFERROR(VLOOKUP(Tabla_SERIEBM_01_6[[#This Row],[IdEstablecimiento]],[1]Establecimientos!A$1:E$175,5,FALSE),0)","v":"04102-COQUIMBO"},"200499","80308005","2021-11-08T13:18:03",0,null,null,4]
[3,"5",2021,{"$f":"IFERROR(VLOOKUP(Tabla_SERIEBM_01_6[[#This Row],[IdEstablecimiento]],[1]Establecimientos!A$1:E$175,5,FALSE),0)","v":"04102-COQUIMBO"},"200499","80309013","2021-11-08T13:18:03",0,null,null,101]
[3,"5",2021,{"$f":"IFERROR(VLOOKUP(Tabla_SERIEBM_01_6[[#This Row],[IdEstablecimiento]],[1]Establecimientos!A$1:E$175,5,FALSE),0)","v":"04102-COQUIMBO"},"200499","80309022","2021-11-08T13:18:03",0,null,null,192]
[3,"5",2021,{"$f":"IFERROR(VLOOKUP(Tabla_SERIEBM_01_6[[#This Row],[IdEstablecimiento]],[1]Establecimientos!A$1:E$175,5,FALSE),0)","v":"04102-COQUIMBO"},"200499","80309024","2021-11-08T13:18:03",0,null,null,2]
[3,"5",2021,{"$f":"IFERROR(VLOOKUP(Tabla_SERIEBM_01_6[[#This Row],[IdEstablecimiento]],[1]Establecimientos!A$1:E$175,5,FALSE),0)","v":"04102-COQUIMBO"},"200499","80309028","2021-11-08T13:18:03",0,null,null,5]
[3,"5",2021,{"$f":"IFERROR(VLOOKUP(Tabla_SERIEBM_01_6[[#This Row],[IdEstablecimiento]],[1]Establecimientos!A$1:E$175,5,FALSE),0)","v":"04102-COQUIMBO"},"200499","80401070","2021-11-08T13:18:03",0,null,null,11]
[3,"5",2021,{"$f":"IFERROR(VLOOKUP(Tabla_SERIEBM_01_6[[#This Row],[IdEstablecimiento]],[1]Establecimientos!A$1:E$175,5,FALSE),0)","v":"04102-COQUIMBO"},"200499","80401010","2021-11-08T13:18:03",0,null,null,41]
[3,"5",2021,{"$f":"IFERROR(VLOOKUP(Tabla_SERIEBM_01_6[[#This Row],[IdEstablecimiento]],[1]Establecimientos!A$1:E$175,5,FALSE),0)","v":"04102-COQUIMBO"},"200499","80404002","2021-11-08T13:18:03",0,null,null,4]
[3,"5",2021,{"$f":"IFERROR(VLOOKUP(Tabla_SERIEBM_01_6[[#This Row],[IdEstablecimiento]],[1]Establecimientos!A$1:E$175,5,FALSE),0)","v":"04102-COQUIMBO"},"200499","80404003","2021-11-08T13:18:03",0,null,null,13]
[3,"5",2021,{"$f":"IFERROR(VLOOKUP(Tabla_SERIEBM_01_6[[#This Row],[IdEstablecimiento]],[1]Establecimientos!A$1:E$175,5,FALSE),0)","v":"04102-COQUIMBO"},"200499","80404012","2021-11-08T13:18:03",0,null,null,31]
[3,"5",2021,{"$f":"IFERROR(VLOOKUP(Tabla_SERIEBM_01_6[[#This Row],[IdEstablecimiento]],[1]Establecimientos!A$1:E$175,5,FALSE),0)","v":"04102-COQUIMBO"},"200499","81701001","2021-11-08T13:18:03",146,11,135,null,146]
[3,"5",2021,{"$f":"IFERROR(VLOOKUP(Tabla_SERIEBM_01_6[[#This Row],[IdEstablecimiento]],[1]Establecimientos!A$1:E$175,5,FALSE),0)","v":"04102-COQUIMBO"},"200499","81701009","2021-11-08T13:18:03",39,7,32,null,39]
[3,"5",2021,{"$f":"IFERROR(VLOOKUP(Tabla_SERIEBM_01_6[[#This Row],[IdEstablecimiento]],[1]Establecimientos!A$1:E$175,5,FALSE),0)","v":"04102-COQUIMBO"},"200499","81707004","2021-11-08T13:18:03",18,null,18,null,18]
[3,"5",2021,{"$f":"IFERROR(VLOOKUP(Tabla_SERIEBM_01_6[[#This Row],[IdEstablecimiento]],[1]Establecimientos!A$1:E$175,5,FALSE),0)","v":"04102-COQUIMBO"},"200499","81602201","2021-11-08T13:18:03",3,null,3,3]
[3,"5",2021,{"$f":"IFERROR(VLOOKUP(Tabla_SERIEBM_01_6[[#This Row],[IdEstablecimiento]],[1]Establecimientos!A$1:E$175,5,FALSE),0)","v":"04201-ILLAPEL"},"105443","80302076","2021-11-08T12:15:06",0,null,null,1]
[3,"5",2021,{"$f":"IFERROR(VLOOKUP(Tabla_SERIEBM_01_6[[#This Row],[IdEstablecimiento]],[1]Establecimientos!A$1:E$175,5,FALSE),0)","v":"04201-ILLAPEL"},"105443","80303024","2021-11-08T12:15:06",0,null,null,7]
[3,"5",2021,{"$f":"IFERROR(VLOOKUP(Tabla_SERIEBM_01_6[[#This Row],[IdEstablecimiento]],[1]Establecimientos!A$1:E$175,5,FALSE),0)","v":"04201-ILLAPEL"},"105443","80301041","2021-11-08T12:15:06",0,null,null,4]
[3,"5",2021,{"$f":"IFERROR(VLOOKUP(Tabla_SERIEBM_01_6[[#This Row],[IdEstablecimiento]],[1]Establecimientos!A$1:E$175,5,FALSE),0)","v":"04201-ILLAPEL"},"105443","80301045","2021-11-08T12:15:06",0,null,null,17]
[3,"5",2021,{"$f":"IFERROR(VLOOKUP(Tabla_SERIEBM_01_6[[#This Row],[IdEstablecimiento]],[1]Establecimientos!A$1:E$175,5,FALSE),0)","v":"04201-ILLAPEL"},"105443","80302005","2021-11-08T12:15:06",0,null,null,17]
[3,"5",2021,{"$f":"IFERROR(VLOOKUP(Tabla_SERIEBM_01_6[[#This Row],[IdEstablecimiento]],[1]Establecimientos!A$1:E$175,5,FALSE),0)","v":"04201-ILLAPEL"},"105443","80302034","2021-11-08T12:15:06",0,null,null,17]
[3,"5",2021,{"$f":"IFERROR(VLOOKUP(Tabla_SERIEBM_01_6[[#This Row],[IdEstablecimiento]],[1]Establecimientos!A$1:E$175,5,FALSE),0)","v":"04201-ILLAPEL"},"105443","80305070","2021-11-08T12:15:06",0,null,null,1]
[3,"5",2021,{"$f":"IFERROR(VLOOKUP(Tabla_SERIEBM_01_6[[#This Row],[IdEstablecimiento]],[1]Establecimientos!A$1:E$175,5,FALSE),0)","v":"04201-ILLAPEL"},"105443","80306061","2021-11-08T12:15:06",0,null,null,1]
[3,"5",2021,{"$f":"IFERROR(VLOOKUP(Tabla_SERIEBM_01_6[[#This Row],[IdEstablecimiento]],[1]Establecimientos!A$1:E$175,5,FALSE),0)","v":"04201-ILLAPEL"},"105443","80309010","2021-11-08T12:15:06",0,null,null,17]
[3,"5",2021,{"$f":"IFERROR(VLOOKUP(Tabla_SERIEBM_01_6[[#This Row],[IdEstablecimiento]],[1]Establecimientos!A$1:E$175,5,FALSE),0)","v":"04201-ILLAPEL"},"105443","80309013","2021-11-08T12:15:06",0,null,null,12]
[3,"5",2021,{"$f":"IFERROR(VLOOKUP(Tabla_SERIEBM_01_6[[#This Row],[IdEstablecimiento]],[1]Establecimientos!A$1:E$175,5,FALSE),0)","v":"04204-SALAMANCA"},"105458","18020500","2021-11-08T12:21:26",9,0,9]
[3,"5",2021,{"$f":"IFERROR(VLOOKUP(Tabla_SERIEBM_01_6[[#This Row],[IdEstablecimiento]],[1]Establecimientos!A$1:E$175,5,FALSE),0)","v":"04204-SALAMANCA"},"105458","18030000","2021-11-08T12:21:26",3,0,3]
[3,"5",2021,{"$f":"IFERROR(VLOOKUP(Tabla_SERIEBM_01_6[[#This Row],[IdEstablecimiento]],[1]Establecimientos!A$1:E$175,5,FALSE),0)","v":"04204-SALAMANCA"},"105458","18040200","2021-11-08T12:21:26",3,null,3]
[3,"5",2021,{"$f":"IFERROR(VLOOKUP(Tabla_SERIEBM_01_6[[#This Row],[IdEstablecimiento]],[1]Establecimientos!A$1:E$175,5,FALSE),0)","v":"04204-SALAMANCA"},"105458","18090000","2021-11-08T12:21:26",8,0,8]
[3,"5",2021,{"$f":"IFERROR(VLOOKUP(Tabla_SERIEBM_01_6[[#This Row],[IdEstablecimiento]],[1]Establecimientos!A$1:E$175,5,FALSE),0)","v":"04204-SALAMANCA"},"105458","18050100","2021-11-08T12:21:26",105,0,105]
[3,"5",2021,{"$f":"IFERROR(VLOOKUP(Tabla_SERIEBM_01_6[[#This Row],[IdEstablecimiento]],[1]Establecimientos!A$1:E$175,5,FALSE),0)","v":"04204-SALAMANCA"},"105458","18400900","2021-11-08T12:21:26",20,5,15]
[3,"5",2021,{"$f":"IFERROR(VLOOKUP(Tabla_SERIEBM_01_6[[#This Row],[IdEstablecimiento]],[1]Establecimientos!A$1:E$175,5,FALSE),0)","v":"04204-SALAMANCA"},"105458","18700100","2021-11-08T12:21:26",429,7,390,32]
[3,"5",2021,{"$f":"IFERROR(VLOOKUP(Tabla_SERIEBM_01_6[[#This Row],[IdEstablecimiento]],[1]Establecimientos!A$1:E$175,5,FALSE),0)","v":"04302-COMBARBALÁ"},"105459","80106002","2021-11-08T12:21:53",10,null,10,null,10]
[3,"5",2021,{"$f":"IFERROR(VLOOKUP(Tabla_SERIEBM_01_6[[#This Row],[IdEstablecimiento]],[1]Establecimientos!A$1:E$175,5,FALSE),0)","v":"04302-COMBARBALÁ"},"105459","80106006","2021-11-08T12:21:53",1,null,1,null,1]
[3,"5",2021,{"$f":"IFERROR(VLOOKUP(Tabla_SERIEBM_01_6[[#This Row],[IdEstablecimiento]],[1]Establecimientos!A$1:E$175,5,FALSE),0)","v":"04302-COMBARBALÁ"},"105459","80106017","2021-11-08T12:21:53",7,null,7,null,7]
[3,"5",2021,{"$f":"IFERROR(VLOOKUP(Tabla_SERIEBM_01_6[[#This Row],[IdEstablecimiento]],[1]Establecimientos!A$1:E$175,5,FALSE),0)","v":"04302-COMBARBALÁ"},"105459","80106007","2021-11-08T12:21:53",1,null,1,null,1]
[3,"5",2021,{"$f":"IFERROR(VLOOKUP(Tabla_SERIEBM_01_6[[#This Row],[IdEstablecimiento]],[1]Establecimientos!A$1:E$175,5,FALSE),0)","v":"04302-COMBARBALÁ"},"105459","80106008","2021-11-08T12:21:53",1,null,1,null,1]
[3,"5",2021,{"$f":"IFERROR(VLOOKUP(Tabla_SERIEBM_01_6[[#This Row],[IdEstablecimiento]],[1]Establecimientos!A$1:E$175,5,FALSE),0)","v":"04302-COMBARBALÁ"},"105459","80106014","2021-11-08T12:21:53",12,null,12,null,12]
[3,"5",2021,{"$f":"IFERROR(VLOOKUP(Tabla_SERIEBM_01_6[[#This Row],[IdEstablecimiento]],[1]Establecimientos!A$1:E$175,5,FALSE),0)","v":"04302-COMBARBALÁ"},"105459","18050100","2021-11-08T12:21:53",10,0,10]
[3,"5",2021,{"$f":"IFERROR(VLOOKUP(Tabla_SERIEBM_01_6[[#This Row],[IdEstablecimiento]],[1]Establecimientos!A$1:E$175,5,FALSE),0)","v":"04302-COMBARBALÁ"},"105459","18050300","2021-11-08T12:21:53",1,0,1]
[3,"5",2021,{"$f":"IFERROR(VLOOKUP(Tabla_SERIEBM_01_6[[#This Row],[IdEstablecimiento]],[1]Establecimientos!A$1:E$175,5,FALSE),0)","v":"04302-COMBARBALÁ"},"105459","18070300","2021-11-08T12:21:53",1,1]
[3,"5",2021,{"$f":"IFERROR(VLOOKUP(Tabla_SERIEBM_01_6[[#This Row],[IdEstablecimiento]],[1]Establecimientos!A$1:E$175,5,FALSE),0)","v":"04302-COMBARBALÁ"},"105460","80301041","2021-11-08T12:22:41",0,null,null,45]
[3,"5",2021,{"$f":"IFERROR(VLOOKUP(Tabla_SERIEBM_01_6[[#This Row],[IdEstablecimiento]],[1]Establecimientos!A$1:E$175,5,FALSE),0)","v":"04302-COMBARBALÁ"},"105460","80106002","2021-11-08T12:22:41",25,null,25,null,25]
[3,"5",2021,{"$f":"IFERROR(VLOOKUP(Tabla_SERIEBM_01_6[[#This Row],[IdEstablecimiento]],[1]Establecimientos!A$1:E$175,5,FALSE),0)","v":"04302-COMBARBALÁ"},"105460","80106007","2021-11-08T12:22:41",1,null,1,null,1]
[3,"5",2021,{"$f":"IFERROR(VLOOKUP(Tabla_SERIEBM_01_6[[#This Row],[IdEstablecimiento]],[1]Establecimientos!A$1:E$175,5,FALSE),0)","v":"04302-COMBARBALÁ"},"105460","80106013","2021-11-08T12:22:41",6,null,6,null,6]
[3,"5",2021,{"$f":"IFERROR(VLOOKUP(Tabla_SERIEBM_01_6[[#This Row],[IdEstablecimiento]],[1]Establecimientos!A$1:E$175,5,FALSE),0)","v":"04302-COMBARBALÁ"},"105460","80106014","2021-11-08T12:22:41",73,null,73,null,73]
[3,"5",2021,{"$f":"IFERROR(VLOOKUP(Tabla_SERIEBM_01_6[[#This Row],[IdEstablecimiento]],[1]Establecimientos!A$1:E$175,5,FALSE),0)","v":"04302-COMBARBALÁ"},"105460","80106015","2021-11-08T12:22:41",17,null,17,null,17]
[3,"5",2021,{"$f":"IFERROR(VLOOKUP(Tabla_SERIEBM_01_6[[#This Row],[IdEstablecimiento]],[1]Establecimientos!A$1:E$175,5,FALSE),0)","v":"04302-COMBARBALÁ"},"105460","80106020","2021-11-08T12:22:41",1,null,1,null,1]
[3,"5",2021,{"$f":"IFERROR(VLOOKUP(Tabla_SERIEBM_01_6[[#This Row],[IdEstablecimiento]],[1]Establecimientos!A$1:E$175,5,FALSE),0)","v":"04302-COMBARBALÁ"},"105460","80106022","2021-11-08T12:22:41",1,null,1,null,1]
[3,"5",2021,{"$f":"IFERROR(VLOOKUP(Tabla_SERIEBM_01_6[[#This Row],[IdEstablecimiento]],[1]Establecimientos!A$1:E$175,5,FALSE),0)","v":"04302-COMBARBALÁ"},"105460","80307011","2021-11-08T12:22:41",45,null,45]
[3,"5",2021,{"$f":"IFERROR(VLOOKUP(Tabla_SERIEBM_01_6[[#This Row],[IdEstablecimiento]],[1]Establecimientos!A$1:E$175,5,FALSE),0)","v":"04302-COMBARBALÁ"},"105460","18050100","2021-11-08T12:22:41",25,0,25]
[3,"5",2021,{"$f":"IFERROR(VLOOKUP(Tabla_SERIEBM_01_6[[#This Row],[IdEstablecimiento]],[1]Establecimientos!A$1:E$175,5,FALSE),0)","v":"04302-COMBARBALÁ"},"105460","18400900","2021-11-08T12:22:41",4,null,4]
[3,"5",2021,{"$f":"IFERROR(VLOOKUP(Tabla_SERIEBM_01_6[[#This Row],[IdEstablecimiento]],[1]Establecimientos!A$1:E$175,5,FALSE),0)","v":"04302-COMBARBALÁ"},"105460","18700110","2021-11-08T12:22:41",17,null,17,null,null,7,10]
[3,"5",2021,{"$f":"IFERROR(VLOOKUP(Tabla_SERIEBM_01_6[[#This Row],[IdEstablecimiento]],[1]Establecimientos!A$1:E$175,5,FALSE),0)","v":"04302-COMBARBALÁ"},"105461","80301041","2021-11-08T12:23:40",0,null,null,7]
[3,"5",2021,{"$f":"IFERROR(VLOOKUP(Tabla_SERIEBM_01_6[[#This Row],[IdEstablecimiento]],[1]Establecimientos!A$1:E$175,5,FALSE),0)","v":"04302-COMBARBALÁ"},"105461","80106002","2021-11-08T12:23:40",8,null,8,null,8]
[3,"5",2021,{"$f":"IFERROR(VLOOKUP(Tabla_SERIEBM_01_6[[#This Row],[IdEstablecimiento]],[1]Establecimientos!A$1:E$175,5,FALSE),0)","v":"04302-COMBARBALÁ"},"105461","80106014","2021-11-08T12:23:40",2,null,2,null,2]
[3,"5",2021,{"$f":"IFERROR(VLOOKUP(Tabla_SERIEBM_01_6[[#This Row],[IdEstablecimiento]],[1]Establecimientos!A$1:E$175,5,FALSE),0)","v":"04302-COMBARBALÁ"},"105461","80307011","2021-11-08T12:23:40",7,null,7]
[3,"5",2021,{"$f":"IFERROR(VLOOKUP(Tabla_SERIEBM_01_6[[#This Row],[IdEstablecimiento]],[1]Establecimientos!A$1:E$175,5,FALSE),0)","v":"04302-COMBARBALÁ"},"105490","18070300","2021-11-08T12:40:24",3,1,2]
[3,"5",2021,{"$f":"IFERROR(VLOOKUP(Tabla_SERIEBM_01_6[[#This Row],[IdEstablecimiento]],[1]Establecimientos!A$1:E$175,5,FALSE),0)","v":"04204-SALAMANCA"},"105491","81701001","2021-11-08T12:40:47",9,null,9]
[3,"5",2021,{"$f":"IFERROR(VLOOKUP(Tabla_SERIEBM_01_6[[#This Row],[IdEstablecimiento]],[1]Establecimientos!A$1:E$175,5,FALSE),0)","v":"04204-SALAMANCA"},"105491","81602222","2021-11-08T12:40:47",2,null,2]
[3,"5",2021,{"$f":"IFERROR(VLOOKUP(Tabla_SERIEBM_01_6[[#This Row],[IdEstablecimiento]],[1]Establecimientos!A$1:E$175,5,FALSE),0)","v":"04204-SALAMANCA"},"105491","80106002","2021-11-08T12:40:47",60,null,60]
[3,"5",2021,{"$f":"IFERROR(VLOOKUP(Tabla_SERIEBM_01_6[[#This Row],[IdEstablecimiento]],[1]Establecimientos!A$1:E$175,5,FALSE),0)","v":"04204-SALAMANCA"},"105491","80106007","2021-11-08T12:40:47",1,null,1]
[3,"5",2021,{"$f":"IFERROR(VLOOKUP(Tabla_SERIEBM_01_6[[#This Row],[IdEstablecimiento]],[1]Establecimientos!A$1:E$175,5,FALSE),0)","v":"04204-SALAMANCA"},"105491","80106010","2021-11-08T12:40:47",3,null,3]
[3,"5",2021,{"$f":"IFERROR(VLOOKUP(Tabla_SERIEBM_01_6[[#This Row],[IdEstablecimiento]],[1]Establecimientos!A$1:E$175,5,FALSE),0)","v":"04204-SALAMANCA"},"105491","80106015","2021-11-08T12:40:47",6,null,6]
[3,"5",2021,{"$f":"IFERROR(VLOOKUP(Tabla_SERIEBM_01_6[[#This Row],[IdEstablecimiento]],[1]Establecimientos!A$1:E$175,5,FALSE),0)","v":"04204-SALAMANCA"},"105491","80106023","2021-11-08T12:40:47",11,null,11]
[3,"5",2021,{"$f":"IFERROR(VLOOKUP(Tabla_SERIEBM_01_6[[#This Row],[IdEstablecimiento]],[1]Establecimientos!A$1:E$175,5,FALSE),0)","v":"04204-SALAMANCA"},"105491","80500011","2021-11-08T12:40:47",85,null,85]
[3,"5",2021,{"$f":"IFERROR(VLOOKUP(Tabla_SERIEBM_01_6[[#This Row],[IdEstablecimiento]],[1]Establecimientos!A$1:E$175,5,FALSE),0)","v":"04204-SALAMANCA"},"105491","18020500","2021-11-08T12:40:47",9,0,9]
[3,"5",2021,{"$f":"IFERROR(VLOOKUP(Tabla_SERIEBM_01_6[[#This Row],[IdEstablecimiento]],[1]Establecimientos!A$1:E$175,5,FALSE),0)","v":"04204-SALAMANCA"},"105491","18030000","2021-11-08T12:40:47",2,0,2]
[3,"5",2021,{"$f":"IFERROR(VLOOKUP(Tabla_SERIEBM_01_6[[#This Row],[IdEstablecimiento]],[1]Establecimientos!A$1:E$175,5,FALSE),0)","v":"04204-SALAMANCA"},"105491","18040200","2021-11-08T12:40:47",2,null,2]
[3,"5",2021,{"$f":"IFERROR(VLOOKUP(Tabla_SERIEBM_01_6[[#This Row],[IdEstablecimiento]],[1]Establecimientos!A$1:E$175,5,FALSE),0)","v":"04204-SALAMANCA"},"105491","18090000","2021-11-08T12:40:47",11,0,11]
[3,"5",2021,{"$f":"IFERROR(VLOOKUP(Tabla_SERIEBM_01_6[[#This Row],[IdEstablecimiento]],[1]Establecimientos!A$1:E$175,5,FALSE),0)","v":"04204-SALAMANCA"},"105491","18050100","2021-11-08T12:40:47",60,0,60]
[3,"5",2021,{"$f":"IFERROR(VLOOKUP(Tabla_SERIEBM_01_6[[#This Row],[IdEstablecimiento]],[1]Establecimientos!A$1:E$175,5,FALSE),0)","v":"04204-SALAMANCA"},"105491","18400900","2021-11-08T12:40:47",9,3,6]
[3,"5",2021,{"$f":"IFERROR(VLOOKUP(Tabla_SERIEBM_01_6[[#This Row],[IdEstablecimiento]],[1]Establecimientos!A$1:E$175,5,FALSE),0)","v":"04204-SALAMANCA"},"105491","18700100","2021-11-08T12:40:47",78,2,66,10]
[3,"5",2021,{"$f":"IFERROR(VLOOKUP(Tabla_SERIEBM_01_6[[#This Row],[IdEstablecimiento]],[1]Establecimientos!A$1:E$175,5,FALSE),0)","v":"04204-SALAMANCA"},"105492","81701001","2021-11-08T12:41:11",5,null,5]
[3,"5",2021,{"$f":"IFERROR(VLOOKUP(Tabla_SERIEBM_01_6[[#This Row],[IdEstablecimiento]],[1]Establecimientos!A$1:E$175,5,FALSE),0)","v":"04204-SALAMANCA"},"105492","81602231","2021-11-08T12:41:11",1,null,1]
[3,"5",2021,{"$f":"IFERROR(VLOOKUP(Tabla_SERIEBM_01_6[[#This Row],[IdEstablecimiento]],[1]Establecimientos!A$1:E$175,5,FALSE),0)","v":"04204-SALAMANCA"},"105492","80106002","2021-11-08T12:41:11",5,null,5]
[3,"5",2021,{"$f":"IFERROR(VLOOKUP(Tabla_SERIEBM_01_6[[#This Row],[IdEstablecimiento]],[1]Establecimientos!A$1:E$175,5,FALSE),0)","v":"04204-SALAMANCA"},"105492","80106007","2021-11-08T12:41:11",1,null,1]
[3,"5",2021,{"$f":"IFERROR(VLOOKUP(Tabla_SERIEBM_01_6[[#This Row],[IdEstablecimiento]],[1]Establecimientos!A$1:E$175,5,FALSE),0)","v":"04204-SALAMANCA"},"105492","80106010","2021-11-08T12:41:11",1,null,1]
[3,"5",2021,{"$f":"IFERROR(VLOOKUP(Tabla_SERIEBM_01_6[[#This Row],[IdEstablecimiento]],[1]Establecimientos!A$1:E$175,5,FALSE),0)","v":"04204-SALAMANCA"},"105492","80500011","2021-11-08T12:41:11",5,null,5]
[3,"5",2021,{"$f":"IFERROR(VLOOKUP(Tabla_SERIEBM_01_6[[#This Row],[IdEstablecimiento]],[1]Establecimientos!A$1:E$175,5,FALSE),0)","v":"04204-SALAMANCA"},"105492","18020500","2021-11-08T12:41:11",5,0,5]
[3,"5",2021,{"$f":"IFERROR(VLOOKUP(Tabla_SERIEBM_01_6[[#This Row],[IdEstablecimiento]],[1]Establecimientos!A$1:E$175,5,FALSE),0)","v":"04204-SALAMANCA"},"105492","18030000","2021-11-08T12:41:11",1,0,1]
[3,"5",2021,{"$f":"IFERROR(VLOOKUP(Tabla_SERIEBM_01_6[[#This Row],[IdEstablecimiento]],[1]Establecimientos!A$1:E$175,5,FALSE),0)","v":"04204-SALAMANCA"},"105492","18040200","2021-11-08T12:41:11",1,null,1]
[3,"5",2021,{"$f":"IFERROR(VLOOKUP(Tabla_SERIEBM_01_6[[#This Row],[IdEstablecimiento]],[1]Establecimientos!A$1:E$175,5,FALSE),0)","v":"04302-COMBARBALÁ"},"105461","18050100","2021-11-08T12:23:40",8,0,8]
[3,"5",2021,{"$f":"IFERROR(VLOOKUP(Tabla_SERIEBM_01_6[[#This Row],[IdEstablecimiento]],[1]Establecimientos!A$1:E$175,5,FALSE),0)","v":"04302-COMBARBALÁ"},"105461","18070300","2021-11-08T12:23:40",1,{"$nulls":4},1]
[3,"5",2021,{"$f":"IFERROR(VLOOKUP(Tabla_SERIEBM_01_6[[#This Row],[IdEstablecimiento]],[1]Establecimientos!A$1:E$175,5,FALSE),0)","v":"04302-COMBARBALÁ"},"105461","18400900","2021-11-08T12:23:40",1,null,1]
[3,"5",2021,{"$f":"IFERROR(VLOOKUP(Tabla_SERIEBM_01_6[[#This Row],[IdEstablecimiento]],[1]Establecimientos!A$1:E$175,5,FALSE),0)","v":"04302-COMBARBALÁ"},"105462","80106002","2021-11-08T12:24:23",15,null,15,null,15]
[3,"5",2021,{"$f":"IFERROR(VLOOKUP(Tabla_SERIEBM_01_6[[#This Row],[IdEstablecimiento]],[1]Establecimientos!A$1:E$175,5,FALSE),0)","v":"04302-COMBARBALÁ"},"105462","80106017","2021-11-08T12:24:23",2,null,2,null,2]
[3,"5",2021,{"$f":"IFERROR(VLOOKUP(Tabla_SERIEBM_01_6[[#This Row],[IdEstablecimiento]],[1]Establecimientos!A$1:E$175,5,FALSE),0)","v":"04302-COMBARBALÁ"},"105462","80106013","2021-11-08T12:24:23",1,null,1,null,1]
[3,"5",2021,{"$f":"IFERROR(VLOOKUP(Tabla_SERIEBM_01_6[[#This Row],[IdEstablecimiento]],[1]Establecimientos!A$1:E$175,5,FALSE),0)","v":"04302-COMBARBALÁ"},"105462","80106014","2021-11-08T12:24:23",13,null,13,null,13]
[3,"5",2021,{"$f":"IFERROR(VLOOKUP(Tabla_SERIEBM_01_6[[#This Row],[IdEstablecimiento]],[1]Establecimientos!A$1:E$175,5,FALSE),0)","v":"04302-COMBARBALÁ"},"105462","80500011","2021-11-08T12:24:23",2,null,2,null,2]
[3,"5",2021,{"$f":"IFERROR(VLOOKUP(Tabla_SERIEBM_01_6[[#This Row],[IdEstablecimiento]],[1]Establecimientos!A$1:E$175,5,FALSE),0)","v":"04302-COMBARBALÁ"},"105462","18050100","2021-11-08T12:24:23",15,0,15]
[3,"5",2021,{"$f":"IFERROR(VLOOKUP(Tabla_SERIEBM_01_6[[#This Row],[IdEstablecimiento]],[1]Establecimientos!A$1:E$175,5,FALSE),0)","v":"04302-COMBARBALÁ"},"105462","18070300","2021-11-08T12:24:23",2,{"$nulls":4},2]
[3,"5",2021,{"$f":"IFERROR(VLOOKUP(Tabla_SERIEBM_01_6[[#This Row],[IdEstablecimiento]],[1]Establecimientos!A$1:E$175,5,FALSE),0)","v":"04302-COMBARBALÁ"},"105463","80301041","2021-11-08T12:24:49",0,null,null,42]
[3,"5",2021,{"$f":"IFERROR(VLOOKUP(Tabla_SERIEBM_01_6[[#This Row],[IdEstablecimiento]],[1]Establecimientos!A$1:E$175,5,FALSE),0)","v":"04302-COMBARBALÁ"},"105463","80106002","2021-11-08T12:24:49",41,null,41,null,41]
[3,"5",2021,{"$f":"IFERROR(VLOOKUP(Tabla_SERIEBM_01_6[[#This Row],[IdEstablecimiento]],[1]Establecimientos!A$1:E$175,5,FALSE),0)","v":"04302-COMBARBALÁ"},"105463","80106017","2021-11-08T12:24:49",1,null,1,null,1]
[3,"5",2021,{"$f":"IFERROR(VLOOKUP(Tabla_SERIEBM_01_6[[#This Row],[IdEstablecimiento]],[1]Establecimientos!A$1:E$175,5,FALSE),0)","v":"04302-COMBARBALÁ"},"105463","80106014","2021-11-08T12:24:49",45,null,45,null,45]
[3,"5",2021,{"$f":"IFERROR(VLOOKUP(Tabla_SERIEBM_01_6[[#This Row],[IdEstablecimiento]],[1]Establecimientos!A$1:E$175,5,FALSE),0)","v":"04302-COMBARBALÁ"},"105463","80106015","2021-11-08T12:24:49",1,null,1,null,1]
[3,"5",2021,{"$f":"IFERROR(VLOOKUP(Tabla_SERIEBM_01_6[[#This Row],[IdEstablecimiento]],[1]Establecimientos!A$1:E$175,5,FALSE),0)","v":"04302-COMBARBALÁ"},"105463","80106023","2021-11-08T12:24:49",12,null,12,null,12]
[3,"5",2021,{"$f":"IFERROR(VLOOKUP(Tabla_SERIEBM_01_6[[#This Row],[IdEstablecimiento]],[1]Establecimientos!A$1:E$175,5,FALSE),0)","v":"04302-COMBARBALÁ"},"105463","80307011","2021-11-08T12:24:49",42,null,42]
[3,"5",2021,{"$f":"IFERROR(VLOOKUP(Tabla_SERIEBM_01_6[[#This Row],[IdEstablecimiento]],[1]Establecimientos!A$1:E$175,5,FALSE),0)","v":"04302-COMBARBALÁ"},"105463","80500011","2021-11-08T12:24:49",15,null,15,null,15]
[3,"5",2021,{"$f":"IFERROR(VLOOKUP(Tabla_SERIEBM_01_6[[#This Row],[IdEstablecimiento]],[1]Establecimientos!A$1:E$175,5,FALSE),0)","v":"04302-COMBARBALÁ"},"105463","80500014","2021-11-08T12:24:49",1,null,1,null,1,1]
[3,"5",2021,{"$f":"IFERROR(VLOOKUP(Tabla_SERIEBM_01_6[[#This Row],[IdEstablecimiento]],[1]Establecimientos!A$1:E$175,5,FALSE),0)","v":"04302-COMBARBALÁ"},"105463","18090000","2021-11-08T12:24:49",12,0,12]
[3,"5",2021,{"$f":"IFERROR(VLOOKUP(Tabla_SERIEBM_01_6[[#This Row],[IdEstablecimiento]],[1]Establecimientos!A$1:E$175,5,FALSE),0)","v":"04302-COMBARBALÁ"},"105463","18050100","2021-11-08T12:24:49",41,0,41]
[3,"5",2021,{"$f":"IFERROR(VLOOKUP(Tabla_SERIEBM_01_6[[#This Row],[IdEstablecimiento]],[1]Establecimientos!A$1:E$175,5,FALSE),0)","v":"04302-COMBARBALÁ"},"105463","18400900","2021-11-08T12:24:49",1,1]
[3,"5",2021,{"$f":"IFERROR(VLOOKUP(Tabla_SERIEBM_01_6[[#This Row],[IdEstablecimiento]],[1]Establecimientos!A$1:E$175,5,FALSE),0)","v":"04302-COMBARBALÁ"},"105464","80106002","2021-11-08T12:25:14",18,null,18,null,18]
[3,"5",2021,{"$f":"IFERROR(VLOOKUP(Tabla_SERIEBM_01_6[[#This Row],[IdEstablecimiento]],[1]Establecimientos!A$1:E$175,5,FALSE),0)","v":"04302-COMBARBALÁ"},"105464","80106010","2021-11-08T12:25:14",1,null,1,null,1]
[3,"5",2021,{"$f":"IFERROR(VLOOKUP(Tabla_SERIEBM_01_6[[#This Row],[IdEstablecimiento]],[1]Establecimientos!A$1:E$175,5,FALSE),0)","v":"04204-SALAMANCA"},"105492","18050100","2021-11-08T12:41:11",5,0,5]
[3,"5",2021,{"$f":"IFERROR(VLOOKUP(Tabla_SERIEBM_01_6[[#This Row],[IdEstablecimiento]],[1]Establecimientos!A$1:E$175,5,FALSE),0)","v":"04204-SALAMANCA"},"105492","18400900","2021-11-08T12:41:11",4,null,4]
[3,"5",2021,{"$f":"IFERROR(VLOOKUP(Tabla_SERIEBM_01_6[[#This Row],[IdEstablecimiento]],[1]Establecimientos!A$1:E$175,5,FALSE),0)","v":"04204-SALAMANCA"},"105492","18700100","2021-11-08T12:41:11",62,3,53,6]
[3,"5",2021,{"$f":"IFERROR(VLOOKUP(Tabla_SERIEBM_01_6[[#This Row],[IdEstablecimiento]],[1]Establecimientos!A$1:E$175,5,FALSE),0)","v":"04202-CANELA"},"105493","81701009","2021-11-08T12:41:34",3,null,3,null,3]
[3,"5",2021,{"$f":"IFERROR(VLOOKUP(Tabla_SERIEBM_01_6[[#This Row],[IdEstablecimiento]],[1]Establecimientos!A$1:E$175,5,FALSE),0)","v":"04202-CANELA"},"105493","80106013","2021-11-08T12:41:34",3,null,3,null,3]
[3,"5",2021,{"$f":"IFERROR(VLOOKUP(Tabla_SERIEBM_01_6[[#This Row],[IdEstablecimiento]],[1]Establecimientos!A$1:E$175,5,FALSE),0)","v":"04202-CANELA"},"105493","18020500","2021-11-08T12:41:34",3,0,3]
[3,"5",2021,{"$f":"IFERROR(VLOOKUP(Tabla_SERIEBM_01_6[[#This Row],[IdEstablecimiento]],[1]Establecimientos!A$1:E$175,5,FALSE),0)","v":"04201-ILLAPEL"},"105496","80302047","2021-11-08T12:41:58",0,null,null,14]
[3,"5",2021,{"$f":"IFERROR(VLOOKUP(Tabla_SERIEBM_01_6[[#This Row],[IdEstablecimiento]],[1]Establecimientos!A$1:E$175,5,FALSE),0)","v":"04201-ILLAPEL"},"105496","80302057","2021-11-08T12:41:58",0,null,null,14]
[3,"5",2021,{"$f":"IFERROR(VLOOKUP(Tabla_SERIEBM_01_6[[#This Row],[IdEstablecimiento]],[1]Establecimientos!A$1:E$175,5,FALSE),0)","v":"04201-ILLAPEL"},"105496","80303024","2021-11-08T12:41:58",0,null,null,5]
[3,"5",2021,{"$f":"IFERROR(VLOOKUP(Tabla_SERIEBM_01_6[[#This Row],[IdEstablecimiento]],[1]Establecimientos!A$1:E$175,5,FALSE),0)","v":"04201-ILLAPEL"},"105496","80301036","2021-11-08T12:41:58",0,null,null,4]
[3,"5",2021,{"$f":"IFERROR(VLOOKUP(Tabla_SERIEBM_01_6[[#This Row],[IdEstablecimiento]],[1]Establecimientos!A$1:E$175,5,FALSE),0)","v":"04201-ILLAPEL"},"105496","80301045","2021-11-08T12:41:58",0,null,null,10]
[3,"5",2021,{"$f":"IFERROR(VLOOKUP(Tabla_SERIEBM_01_6[[#This Row],[IdEstablecimiento]],[1]Establecimientos!A$1:E$175,5,FALSE),0)","v":"04201-ILLAPEL"},"105496","80302005","2021-11-08T12:41:58",0,null,null,14]
[3,"5",2021,{"$f":"IFERROR(VLOOKUP(Tabla_SERIEBM_01_6[[#This Row],[IdEstablecimiento]],[1]Establecimientos!A$1:E$175,5,FALSE),0)","v":"04201-ILLAPEL"},"105496","80302032","2021-11-08T12:41:58",0,null,null,14]
[3,"5",2021,{"$f":"IFERROR(VLOOKUP(Tabla_SERIEBM_01_6[[#This Row],[IdEstablecimiento]],[1]Establecimientos!A$1:E$175,5,FALSE),0)","v":"04201-ILLAPEL"},"105496","80309010","2021-11-08T12:41:58",0,null,null,14]
[3,"5",2021,{"$f":"IFERROR(VLOOKUP(Tabla_SERIEBM_01_6[[#This Row],[IdEstablecimiento]],[1]Establecimientos!A$1:E$175,5,FALSE),0)","v":"04201-ILLAPEL"},"105496","80309022","2021-11-08T12:41:58",0,null,null,15]
[3,"5",2021,{"$f":"IFERROR(VLOOKUP(Tabla_SERIEBM_01_6[[#This Row],[IdEstablecimiento]],[1]Establecimientos!A$1:E$175,5,FALSE),0)","v":"04201-ILLAPEL"},"105496","81601115","2021-11-08T12:41:58",4,null,4,null,4]
[3,"5",2021,{"$f":"IFERROR(VLOOKUP(Tabla_SERIEBM_01_6[[#This Row],[IdEstablecimiento]],[1]Establecimientos!A$1:E$175,5,FALSE),0)","v":"04201-ILLAPEL"},"105496","81602231","2021-11-08T12:41:58",1,null,1,null,1]
[3,"5",2021,{"$f":"IFERROR(VLOOKUP(Tabla_SERIEBM_01_6[[#This Row],[IdEstablecimiento]],[1]Establecimientos!A$1:E$175,5,FALSE),0)","v":"04201-ILLAPEL"},"105496","80106002","2021-11-08T12:41:58",2,null,2,null,2]
[3,"5",2021,{"$f":"IFERROR(VLOOKUP(Tabla_SERIEBM_01_6[[#This Row],[IdEstablecimiento]],[1]Establecimientos!A$1:E$175,5,FALSE),0)","v":"04201-ILLAPEL"},"105496","80106005","2021-11-08T12:41:58",3,null,3,null,3]
[3,"5",2021,{"$f":"IFERROR(VLOOKUP(Tabla_SERIEBM_01_6[[#This Row],[IdEstablecimiento]],[1]Establecimientos!A$1:E$175,5,FALSE),0)","v":"04201-ILLAPEL"},"105496","80106017","2021-11-08T12:41:58",13,null,13,null,13]
[3,"5",2021,{"$f":"IFERROR(VLOOKUP(Tabla_SERIEBM_01_6[[#This Row],[IdEstablecimiento]],[1]Establecimientos!A$1:E$175,5,FALSE),0)","v":"04201-ILLAPEL"},"105496","80106007","2021-11-08T12:41:58",1,null,1,null,1]
[3,"5",2021,{"$f":"IFERROR(VLOOKUP(Tabla_SERIEBM_01_6[[#This Row],[IdEstablecimiento]],[1]Establecimientos!A$1:E$175,5,FALSE),0)","v":"04201-ILLAPEL"},"105496","80106010","2021-11-08T12:41:58",1,null,1,null,1]
[3,"5",2021,{"$f":"IFERROR(VLOOKUP(Tabla_SERIEBM_01_6[[#This Row],[IdEstablecimiento]],[1]Establecimientos!A$1:E$175,5,FALSE),0)","v":"04201-ILLAPEL"},"105496","80106013","2021-11-08T12:41:58",4,null,4,null,4]
[3,"5",2021,{"$f":"IFERROR(VLOOKUP(Tabla_SERIEBM_01_6[[#This Row],[IdEstablecimiento]],[1]Establecimientos!A$1:E$175,5,FALSE),0)","v":"04201-ILLAPEL"},"105496","80106014","2021-11-08T12:41:58",132,null,132,null,132]
[3,"5",2021,{"$f":"IFERROR(VLOOKUP(Tabla_SERIEBM_01_6[[#This Row],[IdEstablecimiento]],[1]Establecimientos!A$1:E$175,5,FALSE),0)","v":"04302-COMBARBALÁ"},"105464","80106014","2021-11-08T12:25:14",56,null,56,null,56]
[3,"5",2021,{"$f":"IFERROR(VLOOKUP(Tabla_SERIEBM_01_6[[#This Row],[IdEstablecimiento]],[1]Establecimientos!A$1:E$175,5,FALSE),0)","v":"04302-COMBARBALÁ"},"105464","80106015","2021-11-08T12:25:14",1,null,1,null,1]
[3,"5",2021,{"$f":"IFERROR(VLOOKUP(Tabla_SERIEBM_01_6[[#This Row],[IdEstablecimiento]],[1]Establecimientos!A$1:E$175,5,FALSE),0)","v":"04302-COMBARBALÁ"},"105464","80500001","2021-11-08T12:25:14",1,null,1,null,1]
[3,"5",2021,{"$f":"IFERROR(VLOOKUP(Tabla_SERIEBM_01_6[[#This Row],[IdEstablecimiento]],[1]Establecimientos!A$1:E$175,5,FALSE),0)","v":"04302-COMBARBALÁ"},"105464","80500008","2021-11-08T12:25:14",1,null,1,null,0]
[3,"5",2021,{"$f":"IFERROR(VLOOKUP(Tabla_SERIEBM_01_6[[#This Row],[IdEstablecimiento]],[1]Establecimientos!A$1:E$175,5,FALSE),0)","v":"04302-COMBARBALÁ"},"105464","80500011","2021-11-08T12:25:14",12,null,12,null,12]
[3,"5",2021,{"$f":"IFERROR(VLOOKUP(Tabla_SERIEBM_01_6[[#This Row],[IdEstablecimiento]],[1]Establecimientos!A$1:E$175,5,FALSE),0)","v":"04302-COMBARBALÁ"},"105464","18050100","2021-11-08T12:25:14",18,0,18]
[3,"5",2021,{"$f":"IFERROR(VLOOKUP(Tabla_SERIEBM_01_6[[#This Row],[IdEstablecimiento]],[1]Establecimientos!A$1:E$175,5,FALSE),0)","v":"04302-COMBARBALÁ"},"105464","18070300","2021-11-08T12:25:14",4,null,null,2,null,2]
[3,"5",2021,{"$f":"IFERROR(VLOOKUP(Tabla_SERIEBM_01_6[[#This Row],[IdEstablecimiento]],[1]Establecimientos!A$1:E$175,5,FALSE),0)","v":"04302-COMBARBALÁ"},"105465","80106002","2021-11-08T12:25:38",1,null,1,null,1]
[3,"5",2021,{"$f":"IFERROR(VLOOKUP(Tabla_SERIEBM_01_6[[#This Row],[IdEstablecimiento]],[1]Establecimientos!A$1:E$175,5,FALSE),0)","v":"04302-COMBARBALÁ"},"105465","80106014","2021-11-08T12:25:38",13,null,13,null,13]
[3,"5",2021,{"$f":"IFERROR(VLOOKUP(Tabla_SERIEBM_01_6[[#This Row],[IdEstablecimiento]],[1]Establecimientos!A$1:E$175,5,FALSE),0)","v":"04302-COMBARBALÁ"},"105465","80106023","2021-11-08T12:25:38",7,null,7,null,7]
[3,"5",2021,{"$f":"IFERROR(VLOOKUP(Tabla_SERIEBM_01_6[[#This Row],[IdEstablecimiento]],[1]Establecimientos!A$1:E$175,5,FALSE),0)","v":"04302-COMBARBALÁ"},"105465","80500011","2021-11-08T12:25:38",8,null,8,null,8]
[3,"5",2021,{"$f":"IFERROR(VLOOKUP(Tabla_SERIEBM_01_6[[#This Row],[IdEstablecimiento]],[1]Establecimientos!A$1:E$175,5,FALSE),0)","v":"04302-COMBARBALÁ"},"105465","80500014","2021-11-08T12:25:38",1,null,1,null,1,1]
[3,"5",2021,{"$f":"IFERROR(VLOOKUP(Tabla_SERIEBM_01_6[[#This Row],[IdEstablecimiento]],[1]Establecimientos!A$1:E$175,5,FALSE),0)","v":"04302-COMBARBALÁ"},"105465","18090000","2021-11-08T12:25:38",7,0,7]
[3,"5",2021,{"$f":"IFERROR(VLOOKUP(Tabla_SERIEBM_01_6[[#This Row],[IdEstablecimiento]],[1]Establecimientos!A$1:E$175,5,FALSE),0)","v":"04302-COMBARBALÁ"},"105465","18050100","2021-11-08T12:25:38",1,0,1]
[3,"5",2021,{"$f":"IFERROR(VLOOKUP(Tabla_SERIEBM_01_6[[#This Row],[IdEstablecimiento]],[1]Establecimientos!A$1:E$175,5,FALSE),0)","v":"04106-VICUÑA"},"105467","80302047","2021-11-08T12:26:45",0,null,null,28]
[3,"5",2021,{"$f":"IFERROR(VLOOKUP(Tabla_SERIEBM_01_6[[#This Row],[IdEstablecimiento]],[1]Establecimientos!A$1:E$175,5,FALSE),0)","v":"04106-VICUÑA"},"105467","80302057","2021-11-08T12:26:45",0,null,null,13]
[3,"5",2021,{"$f":"IFERROR(VLOOKUP(Tabla_SERIEBM_01_6[[#This Row],[IdEstablecimiento]],[1]Establecimientos!A$1:E$175,5,FALSE),0)","v":"04106-VICUÑA"},"105467","80302076","2021-11-08T12:26:45",0,null,null,16]
[3,"5",2021,{"$f":"IFERROR(VLOOKUP(Tabla_SERIEBM_01_6[[#This Row],[IdEstablecimiento]],[1]Establecimientos!A$1:E$175,5,FALSE),0)","v":"04106-VICUÑA"},"105467","80303024","2021-11-08T12:26:45",0,null,null,8]
[3,"5",2021,{"$f":"IFERROR(VLOOKUP(Tabla_SERIEBM_01_6[[#This Row],[IdEstablecimiento]],[1]Establecimientos!A$1:E$175,5,FALSE),0)","v":"04106-VICUÑA"},"105467","80303026","2021-11-08T12:26:45",0,null,null,6]
[3,"5",2021,{"$f":"IFERROR(VLOOKUP(Tabla_SERIEBM_01_6[[#This Row],[IdEstablecimiento]],[1]Establecimientos!A$1:E$175,5,FALSE),0)","v":"04106-VICUÑA"},"105467","80301041","2021-11-08T12:26:45",0,null,null,3]
[3,"5",2021,{"$f":"IFERROR(VLOOKUP(Tabla_SERIEBM_01_6[[#This Row],[IdEstablecimiento]],[1]Establecimientos!A$1:E$175,5,FALSE),0)","v":"04106-VICUÑA"},"105467","80301045","2021-11-08T12:26:45",0,null,null,27]
[3,"5",2021,{"$f":"IFERROR(VLOOKUP(Tabla_SERIEBM_01_6[[#This Row],[IdEstablecimiento]],[1]Establecimientos!A$1:E$175,5,FALSE),0)","v":"04106-VICUÑA"},"105467","80301085","2021-11-08T12:26:45",0,null,null,2]
[3,"5",2021,{"$f":"IFERROR(VLOOKUP(Tabla_SERIEBM_01_6[[#This Row],[IdEstablecimiento]],[1]Establecimientos!A$1:E$175,5,FALSE),0)","v":"04106-VICUÑA"},"105467","80301086","2021-11-08T12:26:45",0,null,null,1]
[3,"5",2021,{"$f":"IFERROR(VLOOKUP(Tabla_SERIEBM_01_6[[#This Row],[IdEstablecimiento]],[1]Establecimientos!A$1:E$175,5,FALSE),0)","v":"04106-VICUÑA"},"105467","80302005","2021-11-08T12:26:45",0,null,null,4]
[3,"5",2021,{"$f":"IFERROR(VLOOKUP(Tabla_SERIEBM_01_6[[#This Row],[IdEstablecimiento]],[1]Establecimientos!A$1:E$175,5,FALSE),0)","v":"04201-ILLAPEL"},"105496","80106015","2021-11-08T12:41:58",1,null,1,null,1]
[3,"5",2021,{"$f":"IFERROR(VLOOKUP(Tabla_SERIEBM_01_6[[#This Row],[IdEstablecimiento]],[1]Establecimientos!A$1:E$175,5,FALSE),0)","v":"04201-ILLAPEL"},"105496","80106023","2021-11-08T12:41:58",1,null,1,null,1]
[3,"5",2021,{"$f":"IFERROR(VLOOKUP(Tabla_SERIEBM_01_6[[#This Row],[IdEstablecimiento]],[1]Establecimientos!A$1:E$175,5,FALSE),0)","v":"04201-ILLAPEL"},"105496","80307011","2021-11-08T12:41:58",0,null,null,15]
[3,"5",2021,{"$f":"IFERROR(VLOOKUP(Tabla_SERIEBM_01_6[[#This Row],[IdEstablecimiento]],[1]Establecimientos!A$1:E$175,5,FALSE),0)","v":"04201-ILLAPEL"},"105496","80500011","2021-11-08T12:41:58",2,null,2,null,2]
[3,"5",2021,{"$f":"IFERROR(VLOOKUP(Tabla_SERIEBM_01_6[[#This Row],[IdEstablecimiento]],[1]Establecimientos!A$1:E$175,5,FALSE),0)","v":"04201-ILLAPEL"},"105496","18020400","2021-11-08T12:41:58",4,0,4]
[3,"5",2021,{"$f":"IFERROR(VLOOKUP(Tabla_SERIEBM_01_6[[#This Row],[IdEstablecimiento]],[1]Establecimientos!A$1:E$175,5,FALSE),0)","v":"04201-ILLAPEL"},"105496","18030000","2021-11-08T12:41:58",1,0,1]
[3,"5",2021,{"$f":"IFERROR(VLOOKUP(Tabla_SERIEBM_01_6[[#This Row],[IdEstablecimiento]],[1]Establecimientos!A$1:E$175,5,FALSE),0)","v":"04201-ILLAPEL"},"105496","18040200","2021-11-08T12:41:58",1,null,1]
[3,"5",2021,{"$f":"IFERROR(VLOOKUP(Tabla_SERIEBM_01_6[[#This Row],[IdEstablecimiento]],[1]Establecimientos!A$1:E$175,5,FALSE),0)","v":"04201-ILLAPEL"},"105496","18090000","2021-11-08T12:41:58",1,0,1]
[3,"5",2021,{"$f":"IFERROR(VLOOKUP(Tabla_SERIEBM_01_6[[#This Row],[IdEstablecimiento]],[1]Establecimientos!A$1:E$175,5,FALSE),0)","v":"04201-ILLAPEL"},"105496","18050100","2021-11-08T12:41:58",2,0,2]
[3,"5",2021,{"$f":"IFERROR(VLOOKUP(Tabla_SERIEBM_01_6[[#This Row],[IdEstablecimiento]],[1]Establecimientos!A$1:E$175,5,FALSE),0)","v":"04201-ILLAPEL"},"105496","18050200","2021-11-08T12:41:58",3,0,3]
[3,"5",2021,{"$f":"IFERROR(VLOOKUP(Tabla_SERIEBM_01_6[[#This Row],[IdEstablecimiento]],[1]Establecimientos!A$1:E$175,5,FALSE),0)","v":"04201-ILLAPEL"},"105496","18700100","2021-11-08T12:41:58",5,0,4,1]
[3,"5",2021,{"$f":"IFERROR(VLOOKUP(Tabla_SERIEBM_01_6[[#This Row],[IdEstablecimiento]],[1]Establecimientos!A$1:E$175,5,FALSE),0)","v":"04202-CANELA"},"105497","81701009","2021-11-08T12:42:21",6,null,6,null,6]
[3,"5",2021,{"$f":"IFERROR(VLOOKUP(Tabla_SERIEBM_01_6[[#This Row],[IdEstablecimiento]],[1]Establecimientos!A$1:E$175,5,FALSE),0)","v":"04202-CANELA"},"105497","80106002","2021-11-08T12:42:21",4,null,4,null,4]
[3,"5",2021,{"$f":"IFERROR(VLOOKUP(Tabla_SERIEBM_01_6[[#This Row],[IdEstablecimiento]],[1]Establecimientos!A$1:E$175,5,FALSE),0)","v":"04202-CANELA"},"105497","80106005","2021-11-08T12:42:21",3,null,3,null,3]
[9,"5",2021,{"$f":"IFERROR(VLOOKUP(Tabla_SERIEBM_01_6[[#This Row],[IdEstablecimiento]],[1]Establecimientos!A$1:E$175,5,FALSE),0)","v":"04101-LA SERENA"},"105402","81701001","2021-10-15T12:47:45",5,null,5,null,5]
[9,"5",2021,{"$f":"IFERROR(VLOOKUP(Tabla_SERIEBM_01_6[[#This Row],[IdEstablecimiento]],[1]Establecimientos!A$1:E$175,5,FALSE),0)","v":"04101-LA SERENA"},"105402","82001015","2021-10-15T12:47:45",2,null,2,null,2]
[9,"5",2021,{"$f":"IFERROR(VLOOKUP(Tabla_SERIEBM_01_6[[#This Row],[IdEstablecimiento]],[1]Establecimientos!A$1:E$175,5,FALSE),0)","v":"04102-COQUIMBO"},"105405","80301086","2021-10-15T12:48:42",0,null,null,2]
[9,"5",2021,{"$f":"IFERROR(VLOOKUP(Tabla_SERIEBM_01_6[[#This Row],[IdEstablecimiento]],[1]Establecimientos!A$1:E$175,5,FALSE),0)","v":"04102-COQUIMBO"},"105405","80302005","2021-10-15T12:48:42",0,null,null,50]
[3,"5",2021,{"$f":"IFERROR(VLOOKUP(Tabla_SERIEBM_01_6[[#This Row],[IdEstablecimiento]],[1]Establecimientos!A$1:E$175,5,FALSE),0)","v":"04102-COQUIMBO"},"105305","80302026","2021-11-08T10:17:13",0,null,null,1]
[3,"5",2021,{"$f":"IFERROR(VLOOKUP(Tabla_SERIEBM_01_6[[#This Row],[IdEstablecimiento]],[1]Establecimientos!A$1:E$175,5,FALSE),0)","v":"04202-CANELA"},"105498","80106015","2021-11-08T12:43:28",1,null,1,null,1]
[3,"5",2021,{"$f":"IFERROR(VLOOKUP(Tabla_SERIEBM_01_6[[#This Row],[IdEstablecimiento]],[1]Establecimientos!A$1:E$175,5,FALSE),0)","v":"04106-VICUÑA"},"105467","80106002","2021-11-08T12:26:45",40,null,40,null,40]
[3,"5",2021,{"$f":"IFERROR(VLOOKUP(Tabla_SERIEBM_01_6[[#This Row],[IdEstablecimiento]],[1]Establecimientos!A$1:E$175,5,FALSE),0)","v":"04102-COQUIMBO"},"200607","80301086","2021-11-08T13:21:12",0,null,null,150]
[3,"5",2021,{"$f":"IFERROR(VLOOKUP(Tabla_SERIEBM_01_6[[#This Row],[IdEstablecimiento]],[1]Establecimientos!A$1:E$175,5,FALSE),0)","v":"04102-COQUIMBO"},"200607","80302032","2021-11-08T13:21:12",0,null,null,158]
[7,"5",2021,{"$f":"IFERROR(VLOOKUP(Tabla_SERIEBM_01_6[[#This Row],[IdEstablecimiento]],[1]Establecimientos!A$1:E$175,5,FALSE),0)","v":"04203-LOS VILOS"},"105511","18400900","2021-11-08T14:49:58",2,2]
[2,"5",2021,{"$f":"IFERROR(VLOOKUP(Tabla_SERIEBM_01_6[[#This Row],[IdEstablecimiento]],[1]Establecimientos!A$1:E$175,5,FALSE),0)","v":"04105-PAIHUANO"},"105306","80302064","2021-11-09T13:39:32",0,null,null,3]
[2,"5",2021,{"$f":"IFERROR(VLOOKUP(Tabla_SERIEBM_01_6[[#This Row],[IdEstablecimiento]],[1]Establecimientos!A$1:E$175,5,FALSE),0)","v":"04105-PAIHUANO"},"105306","80306038","2021-11-09T13:39:32",0,null,null,17]
[2,"5",2021,{"$f":"IFERROR(VLOOKUP(Tabla_SERIEBM_01_6[[#This Row],[IdEstablecimiento]],[1]Establecimientos!A$1:E$175,5,FALSE),0)","v":"04301-OVALLE"},"105315","80307012","2021-11-09T13:43:38",3,null,3]
[2,"5",2021,{"$f":"IFERROR(VLOOKUP(Tabla_SERIEBM_01_6[[#This Row],[IdEstablecimiento]],[1]Establecimientos!A$1:E$175,5,FALSE),0)","v":"04201-ILLAPEL"},"105326","18400500","2021-11-09T13:47:25",2,0,2]
[7,"5",2021,{"$f":"IFERROR(VLOOKUP(Tabla_SERIEBM_01_6[[#This Row],[IdEstablecimiento]],[1]Establecimientos!A$1:E$175,5,FALSE),0)","v":"04201-ILLAPEL"},"105449","80309010","2021-08-17T06:31:29",0,null,null,3]
[11,"5",2021,{"$f":"IFERROR(VLOOKUP(Tabla_SERIEBM_01_6[[#This Row],[IdEstablecimiento]],[1]Establecimientos!A$1:E$175,5,FALSE),0)","v":"04102-COQUIMBO"},"105304","80301067","2021-12-17T07:57:30",0,null,null,2]
[11,"5",2021,{"$f":"IFERROR(VLOOKUP(Tabla_SERIEBM_01_6[[#This Row],[IdEstablecimiento]],[1]Establecimientos!A$1:E$175,5,FALSE),0)","v":"04102-COQUIMBO"},"105323","80302047","2021-12-17T08:08:37",0,null,null,402]
[11,"5",2021,{"$f":"IFERROR(VLOOKUP(Tabla_SERIEBM_01_6[[#This Row],[IdEstablecimiento]],[1]Establecimientos!A$1:E$175,5,FALSE),0)","v":"04305-RIO HURTADO"},"105411","81701009","2021-12-17T08:13:49",2,null,2,null,2]
[11,"5",2021,{"$f":"IFERROR(VLOOKUP(Tabla_SERIEBM_01_6[[#This Row],[IdEstablecimiento]],[1]Establecimientos!A$1:E$175,5,FALSE),0)","v":"04302-COMBARBALÁ"},"105460","80106014","2021-12-17T08:56:42",42,null,42,null,42]
[11,"5",2021,{"$f":"IFERROR(VLOOKUP(Tabla_SERIEBM_01_6[[#This Row],[IdEstablecimiento]],[1]Establecimientos!A$1:E$175,5,FALSE),0)","v":"04106-VICUÑA"},"105509","80302023","2021-12-17T09:21:19",0,null,null,2]
[11,"5",2021,{"$f":"IFERROR(VLOOKUP(Tabla_SERIEBM_01_6[[#This Row],[IdEstablecimiento]],[1]Establecimientos!A$1:E$175,5,FALSE),0)","v":"04301-OVALLE"},"105822","18050100","2021-12-17T09:33:36",30,30,0]
[11,"5",2021,{"$f":"IFERROR(VLOOKUP(Tabla_SERIEBM_01_6[[#This Row],[IdEstablecimiento]],[1]Establecimientos!A$1:E$175,5,FALSE),0)","v":"04102-COQUIMBO"},"200607","80302076","2021-12-17T09:40:15",0,null,null,47]
[11,"5",2021,{"$f":"IFERROR(VLOOKUP(Tabla_SERIEBM_01_6[[#This Row],[IdEstablecimiento]],[1]Establecimientos!A$1:E$175,5,FALSE),0)","v":"04303-MONTE PATRIA"},"105489","18020500","2021-12-17T09:12:18",19,0,19]
[3,"5",2021,{"$f":"IFERROR(VLOOKUP(Tabla_SERIEBM_01_6[[#This Row],[IdEstablecimiento]],[1]Establecimientos!A$1:E$175,5,FALSE),0)","v":"04104-LA HIGUERA"},"105506","80106017","2021-11-08T12:48:09",10,10,null,null,10]
[11,"5",2021,{"$f":"IFERROR(VLOOKUP(Tabla_SERIEBM_01_6[[#This Row],[IdEstablecimiento]],[1]Establecimientos!A$1:E$175,5,FALSE),0)","v":"04204-SALAMANCA"},"105491","18030000","2021-12-17T09:13:57",1,0,1]
[11,"5",2021,{"$f":"IFERROR(VLOOKUP(Tabla_SERIEBM_01_6[[#This Row],[IdEstablecimiento]],[1]Establecimientos!A$1:E$175,5,FALSE),0)","v":"04202-CANELA"},"105493","81701009","2021-12-17T09:14:41",14,14,null,null,14]
[11,"5",2021,{"$f":"IFERROR(VLOOKUP(Tabla_SERIEBM_01_6[[#This Row],[IdEstablecimiento]],[1]Establecimientos!A$1:E$175,5,FALSE),0)","v":"04202-CANELA"},"105493","81602221","2021-12-17T09:14:41",1,1,null,null,1]
[11,"5",2021,{"$f":"IFERROR(VLOOKUP(Tabla_SERIEBM_01_6[[#This Row],[IdEstablecimiento]],[1]Establecimientos!A$1:E$175,5,FALSE),0)","v":"04202-CANELA"},"105493","18030000","2021-12-17T09:14:41",1,1,0]
[3,"5",2021,{"$f":"IFERROR(VLOOKUP(Tabla_SERIEBM_01_6[[#This Row],[IdEstablecimiento]],[1]Establecimientos!A$1:E$175,5,FALSE),0)","v":"04101-LA SERENA"},"105325","80302067","2021-11-08T11:58:46",0,null,null,192]
[3,"5",2021,{"$f":"IFERROR(VLOOKUP(Tabla_SERIEBM_01_6[[#This Row],[IdEstablecimiento]],[1]Establecimientos!A$1:E$175,5,FALSE),0)","v":"04105-PAIHUANO"},"105306","80302015","2021-11-08T10:17:39",0,null,null,16]
[7,"5",2021,{"$f":"IFERROR(VLOOKUP(Tabla_SERIEBM_01_6[[#This Row],[IdEstablecimiento]],[1]Establecimientos!A$1:E$175,5,FALSE),0)","v":"04106-VICUÑA"},"105473","80302047","2021-08-17T06:54:10",0,null,null,36]
[3,"5",2021,{"$f":"IFERROR(VLOOKUP(Tabla_SERIEBM_01_6[[#This Row],[IdEstablecimiento]],[1]Establecimientos!A$1:E$175,5,FALSE),0)","v":"04202-CANELA"},"105450","80106022","2021-11-08T12:18:10",1,null,1,null,1]
[3,"5",2021,{"$f":"IFERROR(VLOOKUP(Tabla_SERIEBM_01_6[[#This Row],[IdEstablecimiento]],[1]Establecimientos!A$1:E$175,5,FALSE),0)","v":"04102-COQUIMBO"},"105804","18040100","2021-11-08T13:06:56",1,null,1]
[3,"5",2021,{"$f":"IFERROR(VLOOKUP(Tabla_SERIEBM_01_6[[#This Row],[IdEstablecimiento]],[1]Establecimientos!A$1:E$175,5,FALSE),0)","v":"04106-VICUÑA"},"105473","80306048","2021-11-08T12:29:08",0,null,null,2]
[3,"5",2021,{"$f":"IFERROR(VLOOKUP(Tabla_SERIEBM_01_6[[#This Row],[IdEstablecimiento]],[1]Establecimientos!A$1:E$175,5,FALSE),0)","v":"04106-VICUÑA"},"105473","80106022","2021-11-08T12:29:08",1,null,1,null,1]
[3,"5",2021,{"$f":"IFERROR(VLOOKUP(Tabla_SERIEBM_01_6[[#This Row],[IdEstablecimiento]],[1]Establecimientos!A$1:E$175,5,FALSE),0)","v":"04305-RIO HURTADO"},"105409","80302023","2021-11-08T12:02:13",0,null,null,8]
[3,"5",2021,{"$f":"IFERROR(VLOOKUP(Tabla_SERIEBM_01_6[[#This Row],[IdEstablecimiento]],[1]Establecimientos!A$1:E$175,5,FALSE),0)","v":"04305-RIO HURTADO"},"105411","18050100","2021-11-08T12:03:03",4,0,4]
[2,"5",2021,{"$f":"IFERROR(VLOOKUP(Tabla_SERIEBM_01_6[[#This Row],[IdEstablecimiento]],[1]Establecimientos!A$1:E$175,5,FALSE),0)","v":"04301-OVALLE"},"105322","80309028","2021-11-09T13:45:51",2,null,2]
[2,"5",2021,{"$f":"IFERROR(VLOOKUP(Tabla_SERIEBM_01_6[[#This Row],[IdEstablecimiento]],[1]Establecimientos!A$1:E$175,5,FALSE),0)","v":"04301-OVALLE"},"105322","18020500","2021-11-09T13:45:51",111,0,111]
[2,"5",2021,{"$f":"IFERROR(VLOOKUP(Tabla_SERIEBM_01_6[[#This Row],[IdEstablecimiento]],[1]Establecimientos!A$1:E$175,5,FALSE),0)","v":"04102-COQUIMBO"},"105323","80302076","2021-11-09T13:46:13",0,null,null,65]
[2,"5",2021,{"$f":"IFERROR(VLOOKUP(Tabla_SERIEBM_01_6[[#This Row],[IdEstablecimiento]],[1]Establecimientos!A$1:E$175,5,FALSE),0)","v":"04102-COQUIMBO"},"105323","80302067","2021-11-09T13:46:13",0,null,null,114]
[2,"5",2021,{"$f":"IFERROR(VLOOKUP(Tabla_SERIEBM_01_6[[#This Row],[IdEstablecimiento]],[1]Establecimientos!A$1:E$175,5,FALSE),0)","v":"04101-LA SERENA"},"105319","80307012","2021-11-09T13:44:59",7,null,7,7]
[2,"5",2021,{"$f":"IFERROR(VLOOKUP(Tabla_SERIEBM_01_6[[#This Row],[IdEstablecimiento]],[1]Establecimientos!A$1:E$175,5,FALSE),0)","v":"04102-COQUIMBO"},"105323","80401151","2021-11-09T13:46:13",24,null,24,24]
[2,"5",2021,{"$f":"IFERROR(VLOOKUP(Tabla_SERIEBM_01_6[[#This Row],[IdEstablecimiento]],[1]Establecimientos!A$1:E$175,5,FALSE),0)","v":"04102-COQUIMBO"},"105323","80106010","2021-11-09T13:46:13",3,null,3]
[9,"5",2021,{"$f":"IFERROR(VLOOKUP(Tabla_SERIEBM_01_6[[#This Row],[IdEstablecimiento]],[1]Establecimientos!A$1:E$175,5,FALSE),0)","v":"04305-RIO HURTADO"},"105411","80302047","2021-10-15T12:50:18",0,null,null,25]
[5,"5",2021,{"$f":"IFERROR(VLOOKUP(Tabla_SERIEBM_01_6[[#This Row],[IdEstablecimiento]],[1]Establecimientos!A$1:E$175,5,FALSE),0)","v":"04101-LA SERENA"},"105402","80301041","2021-06-11T09:58:19",0,null,null,4]
[8,"5",2021,{"$f":"IFERROR(VLOOKUP(Tabla_SERIEBM_01_6[[#This Row],[IdEstablecimiento]],[1]Establecimientos!A$1:E$175,5,FALSE),0)","v":"04301-OVALLE"},"105822","81301025","2021-09-16T13:17:40",4,4]
[11,"5",2021,{"$f":"IFERROR(VLOOKUP(Tabla_SERIEBM_01_6[[#This Row],[IdEstablecimiento]],[1]Establecimientos!A$1:E$175,5,FALSE),0)","v":"04101-LA SERENA"},"105700","80302032","2021-12-17T09:22:37",0,null,null,25]
[11,"5",2021,{"$f":"IFERROR(VLOOKUP(Tabla_SERIEBM_01_6[[#This Row],[IdEstablecimiento]],[1]Establecimientos!A$1:E$175,5,FALSE),0)","v":"04305-RIO HURTADO"},"105413","80307012","2021-12-17T08:14:29",1,null,1]
[11,"5",2021,{"$f":"IFERROR(VLOOKUP(Tabla_SERIEBM_01_6[[#This Row],[IdEstablecimiento]],[1]Establecimientos!A$1:E$175,5,FALSE),0)","v":"04305-RIO HURTADO"},"105414","80500008","2021-12-17T08:14:56",1,null,1,null,1]
[11,"5",2021,{"$f":"IFERROR(VLOOKUP(Tabla_SERIEBM_01_6[[#This Row],[IdEstablecimiento]],[1]Establecimientos!A$1:E$175,5,FALSE),0)","v":"04301-OVALLE"},"105415","18050100","2021-12-17T08:27:19",51,0,51]
[11,"5",2021,{"$f":"IFERROR(VLOOKUP(Tabla_SERIEBM_01_6[[#This Row],[IdEstablecimiento]],[1]Establecimientos!A$1:E$175,5,FALSE),0)","v":"04303-MONTE PATRIA"},"105427","80106005","2021-12-17T08:37:38",4,null,4,null,4]
[11,"5",2021,{"$f":"IFERROR(VLOOKUP(Tabla_SERIEBM_01_6[[#This Row],[IdEstablecimiento]],[1]Establecimientos!A$1:E$175,5,FALSE),0)","v":"04303-MONTE PATRIA"},"105430","80106002","2021-12-17T08:38:15",19,null,19,null,19]
[11,"5",2021,{"$f":"IFERROR(VLOOKUP(Tabla_SERIEBM_01_6[[#This Row],[IdEstablecimiento]],[1]Establecimientos!A$1:E$175,5,FALSE),0)","v":"04303-MONTE PATRIA"},"105431","80106014","2021-12-17T08:38:35",50,null,50,null,50]
[11,"5",2021,{"$f":"IFERROR(VLOOKUP(Tabla_SERIEBM_01_6[[#This Row],[IdEstablecimiento]],[1]Establecimientos!A$1:E$175,5,FALSE),0)","v":"04302-COMBARBALÁ"},"105433","18070300","2021-12-17T08:39:15",5,null,1,null,null,2,2]
[11,"5",2021,{"$f":"IFERROR(VLOOKUP(Tabla_SERIEBM_01_6[[#This Row],[IdEstablecimiento]],[1]Establecimientos!A$1:E$175,5,FALSE),0)","v":"04303-MONTE PATRIA"},"105435","81701001","2021-12-17T08:40:04",25,null,25,null,25]
[11,"5",2021,{"$f":"IFERROR(VLOOKUP(Tabla_SERIEBM_01_6[[#This Row],[IdEstablecimiento]],[1]Establecimientos!A$1:E$175,5,FALSE),0)","v":"04304-PUNITAQUI"},"105440","80106002","2021-12-17T08:41:40",67,null,67,null,67]
[11,"5",2021,{"$f":"IFERROR(VLOOKUP(Tabla_SERIEBM_01_6[[#This Row],[IdEstablecimiento]],[1]Establecimientos!A$1:E$175,5,FALSE),0)","v":"04302-COMBARBALÁ"},"105441","80106023","2021-12-17T08:42:01",7,null,7,null,7]
[11,"5",2021,{"$f":"IFERROR(VLOOKUP(Tabla_SERIEBM_01_6[[#This Row],[IdEstablecimiento]],[1]Establecimientos!A$1:E$175,5,FALSE),0)","v":"04304-PUNITAQUI"},"105442","80106013","2021-12-17T08:46:41",2,null,2,null,2]
[11,"5",2021,{"$f":"IFERROR(VLOOKUP(Tabla_SERIEBM_01_6[[#This Row],[IdEstablecimiento]],[1]Establecimientos!A$1:E$175,5,FALSE),0)","v":"04201-ILLAPEL"},"105443","80106014","2021-12-17T08:47:11",89,null,89,null,89]
[11,"5",2021,{"$f":"IFERROR(VLOOKUP(Tabla_SERIEBM_01_6[[#This Row],[IdEstablecimiento]],[1]Establecimientos!A$1:E$175,5,FALSE),0)","v":"04201-ILLAPEL"},"105444","18090000","2021-12-17T08:47:31",7,0,7]
[3,"5",2021,{"$f":"IFERROR(VLOOKUP(Tabla_SERIEBM_01_6[[#This Row],[IdEstablecimiento]],[1]Establecimientos!A$1:E$175,5,FALSE),0)","v":"04102-COQUIMBO"},"105805","80401043","2021-11-08T13:07:27",2,2]
[3,"5",2021,{"$f":"IFERROR(VLOOKUP(Tabla_SERIEBM_01_6[[#This Row],[IdEstablecimiento]],[1]Establecimientos!A$1:E$175,5,FALSE),0)","v":"04201-ILLAPEL"},"105326","80106022","2021-11-08T11:59:20",3,null,3,null,3]
[3,"5",2021,{"$f":"IFERROR(VLOOKUP(Tabla_SERIEBM_01_6[[#This Row],[IdEstablecimiento]],[1]Establecimientos!A$1:E$175,5,FALSE),0)","v":"04101-LA SERENA"},"105400","80302064","2021-11-08T11:59:47",0,null,null,41]
[11,"5",2021,{"$f":"IFERROR(VLOOKUP(Tabla_SERIEBM_01_6[[#This Row],[IdEstablecimiento]],[1]Establecimientos!A$1:E$175,5,FALSE),0)","v":"04302-COMBARBALÁ"},"105463","80106017","2021-12-17T08:59:05",12,null,12,null,12]
[3,"5",2021,{"$f":"IFERROR(VLOOKUP(Tabla_SERIEBM_01_6[[#This Row],[IdEstablecimiento]],[1]Establecimientos!A$1:E$175,5,FALSE),0)","v":"04102-COQUIMBO"},"105805","80106012","2021-11-08T13:07:27",1,1,null,1,0]
[9,"5",2021,{"$f":"IFERROR(VLOOKUP(Tabla_SERIEBM_01_6[[#This Row],[IdEstablecimiento]],[1]Establecimientos!A$1:E$175,5,FALSE),0)","v":"04102-COQUIMBO"},"200273","80302023","2021-10-15T13:36:18",0,null,null,69]
[4,"5",2021,{"$f":"IFERROR(VLOOKUP(Tabla_SERIEBM_01_6[[#This Row],[IdEstablecimiento]],[1]Establecimientos!A$1:E$175,5,FALSE),0)","v":"04101-LA SERENA"},"105402","80302063","2021-05-13T17:09:42",0,null,null,3]
[3,"5",2021,{"$f":"IFERROR(VLOOKUP(Tabla_SERIEBM_01_6[[#This Row],[IdEstablecimiento]],[1]Establecimientos!A$1:E$175,5,FALSE),0)","v":"04101-LA SERENA"},"105801","80106017","2021-11-08T13:03:37",3,3,0,0,3]
[3,"5",2021,{"$f":"IFERROR(VLOOKUP(Tabla_SERIEBM_01_6[[#This Row],[IdEstablecimiento]],[1]Establecimientos!A$1:E$175,5,FALSE),0)","v":"04202-CANELA"},"105451","80500011","2021-11-08T12:18:31",6,null,6,null,6]
[9,"5",2021,{"$f":"IFERROR(VLOOKUP(Tabla_SERIEBM_01_6[[#This Row],[IdEstablecimiento]],[1]Establecimientos!A$1:E$175,5,FALSE),0)","v":"04301-OVALLE"},"105822","80106014","2021-10-15T13:33:09",524,524]
[9,"5",2021,{"$f":"IFERROR(VLOOKUP(Tabla_SERIEBM_01_6[[#This Row],[IdEstablecimiento]],[1]Establecimientos!A$1:E$175,5,FALSE),0)","v":"04201-ILLAPEL"},"105445","80302005","2021-10-15T13:00:38",0,null,null,13]
[3,"5",2021,{"$f":"IFERROR(VLOOKUP(Tabla_SERIEBM_01_6[[#This Row],[IdEstablecimiento]],[1]Establecimientos!A$1:E$175,5,FALSE),0)","v":"04204-SALAMANCA"},"105453","81602222","2021-11-08T12:19:18",5,null,5]
[3,"5",2021,{"$f":"IFERROR(VLOOKUP(Tabla_SERIEBM_01_6[[#This Row],[IdEstablecimiento]],[1]Establecimientos!A$1:E$175,5,FALSE),0)","v":"04101-LA SERENA"},"105401","80301059","2021-11-08T12:00:12",0,null,null,1]
[3,"5",2021,{"$f":"IFERROR(VLOOKUP(Tabla_SERIEBM_01_6[[#This Row],[IdEstablecimiento]],[1]Establecimientos!A$1:E$175,5,FALSE),0)","v":"04101-LA SERENA"},"105401","80309010","2021-11-08T12:00:12",0,null,null,7]
[3,"5",2021,{"$f":"IFERROR(VLOOKUP(Tabla_SERIEBM_01_6[[#This Row],[IdEstablecimiento]],[1]Establecimientos!A$1:E$175,5,FALSE),0)","v":"04204-SALAMANCA"},"105457","18700100","2021-11-08T12:21:01",26,1,22,3]
[2,"5",2021,{"$f":"IFERROR(VLOOKUP(Tabla_SERIEBM_01_6[[#This Row],[IdEstablecimiento]],[1]Establecimientos!A$1:E$175,5,FALSE),0)","v":"04102-COQUIMBO"},"105321","80106020","2021-11-09T13:45:26",7,7,null,null,3]
[3,"5",2021,{"$f":"IFERROR(VLOOKUP(Tabla_SERIEBM_01_6[[#This Row],[IdEstablecimiento]],[1]Establecimientos!A$1:E$175,5,FALSE),0)","v":"04106-VICUÑA"},"105474","80302032","2021-11-08T12:30:39",0,null,null,5]
[3,"5",2021,{"$f":"IFERROR(VLOOKUP(Tabla_SERIEBM_01_6[[#This Row],[IdEstablecimiento]],[1]Establecimientos!A$1:E$175,5,FALSE),0)","v":"04106-VICUÑA"},"105474","18090000","2021-11-08T12:30:39",6,0,6]
[2,"5",2021,{"$f":"IFERROR(VLOOKUP(Tabla_SERIEBM_01_6[[#This Row],[IdEstablecimiento]],[1]Establecimientos!A$1:E$175,5,FALSE),0)","v":"04102-COQUIMBO"},"105321","18020300","2021-11-09T13:45:26",7,7,0]
[3,"5",2021,{"$f":"IFERROR(VLOOKUP(Tabla_SERIEBM_01_6[[#This Row],[IdEstablecimiento]],[1]Establecimientos!A$1:E$175,5,FALSE),0)","v":"04101-LA SERENA"},"105400","80309010","2021-11-08T11:59:47",0,null,null,29]
[3,"5",2021,{"$f":"IFERROR(VLOOKUP(Tabla_SERIEBM_01_6[[#This Row],[IdEstablecimiento]],[1]Establecimientos!A$1:E$175,5,FALSE),0)","v":"04301-OVALLE"},"105322","80303026","2021-11-08T11:57:25",913,null,913]
[3,"5",2021,{"$f":"IFERROR(VLOOKUP(Tabla_SERIEBM_01_6[[#This Row],[IdEstablecimiento]],[1]Establecimientos!A$1:E$175,5,FALSE),0)","v":"04301-OVALLE"},"105322","80306038","2021-11-08T11:57:25",237,null,237]
[3,"5",2021,{"$f":"IFERROR(VLOOKUP(Tabla_SERIEBM_01_6[[#This Row],[IdEstablecimiento]],[1]Establecimientos!A$1:E$175,5,FALSE),0)","v":"04301-OVALLE"},"105322","80309016","2021-11-08T11:57:25",2,null,2]
[11,"5",2021,{"$f":"IFERROR(VLOOKUP(Tabla_SERIEBM_01_6[[#This Row],[IdEstablecimiento]],[1]Establecimientos!A$1:E$175,5,FALSE),0)","v":"04102-COQUIMBO"},"105303","82001015","2021-12-17T07:55:35",5,null,5,null,5]
[11,"5",2021,{"$f":"IFERROR(VLOOKUP(Tabla_SERIEBM_01_6[[#This Row],[IdEstablecimiento]],[1]Establecimientos!A$1:E$175,5,FALSE),0)","v":"04101-LA SERENA"},"105300","80302023","2021-12-17T07:55:06",0,null,null,530]
[3,"5",2021,{"$f":"IFERROR(VLOOKUP(Tabla_SERIEBM_01_6[[#This Row],[IdEstablecimiento]],[1]Establecimientos!A$1:E$175,5,FALSE),0)","v":"04301-OVALLE"},"105322","18010500","2021-11-08T11:57:25",64,0,64]
[11,"5",2021,{"$f":"IFERROR(VLOOKUP(Tabla_SERIEBM_01_6[[#This Row],[IdEstablecimiento]],[1]Establecimientos!A$1:E$175,5,FALSE),0)","v":"04101-LA SERENA"},"105300","80302047","2021-12-17T07:55:06",0,null,null,609]
[11,"5",2021,{"$f":"IFERROR(VLOOKUP(Tabla_SERIEBM_01_6[[#This Row],[IdEstablecimiento]],[1]Establecimientos!A$1:E$175,5,FALSE),0)","v":"04102-COQUIMBO"},"105303","80302013","2021-12-17T07:55:35",0,null,null,65]
[3,"5",2021,{"$f":"IFERROR(VLOOKUP(Tabla_SERIEBM_01_6[[#This Row],[IdEstablecimiento]],[1]Establecimientos!A$1:E$175,5,FALSE),0)","v":"04102-COQUIMBO"},"105323","80308005","2021-11-08T11:57:54",0,null,null,2]
[3,"5",2021,{"$f":"IFERROR(VLOOKUP(Tabla_SERIEBM_01_6[[#This Row],[IdEstablecimiento]],[1]Establecimientos!A$1:E$175,5,FALSE),0)","v":"04102-COQUIMBO"},"105323","81602207","2021-11-08T11:57:54",1,null,1,1]
[3,"5",2021,{"$f":"IFERROR(VLOOKUP(Tabla_SERIEBM_01_6[[#This Row],[IdEstablecimiento]],[1]Establecimientos!A$1:E$175,5,FALSE),0)","v":"04101-LA SERENA"},"105325","18020500","2021-11-08T11:58:46",33,0,33]
[3,"5",2021,{"$f":"IFERROR(VLOOKUP(Tabla_SERIEBM_01_6[[#This Row],[IdEstablecimiento]],[1]Establecimientos!A$1:E$175,5,FALSE),0)","v":"04101-LA SERENA"},"105325","80106022","2021-11-08T11:58:46",12,null,12,null,12]
[3,"5",2021,{"$f":"IFERROR(VLOOKUP(Tabla_SERIEBM_01_6[[#This Row],[IdEstablecimiento]],[1]Establecimientos!A$1:E$175,5,FALSE),0)","v":"04201-ILLAPEL"},"105326","80302005","2021-11-08T11:59:20",0,null,null,113]
[3,"5",2021,{"$f":"IFERROR(VLOOKUP(Tabla_SERIEBM_01_6[[#This Row],[IdEstablecimiento]],[1]Establecimientos!A$1:E$175,5,FALSE),0)","v":"04201-ILLAPEL"},"105326","81901019","2021-11-08T11:59:20",3,null,3,null,3]
[3,"5",2021,{"$f":"IFERROR(VLOOKUP(Tabla_SERIEBM_01_6[[#This Row],[IdEstablecimiento]],[1]Establecimientos!A$1:E$175,5,FALSE),0)","v":"04301-OVALLE"},"105419","80106015","2021-11-08T12:08:07",1,null,1,null,1]
[3,"5",2021,{"$f":"IFERROR(VLOOKUP(Tabla_SERIEBM_01_6[[#This Row],[IdEstablecimiento]],[1]Establecimientos!A$1:E$175,5,FALSE),0)","v":"04101-LA SERENA"},"105819","80401046","2021-11-08T13:09:01",10,10]
[11,"5",2021,{"$f":"IFERROR(VLOOKUP(Tabla_SERIEBM_01_6[[#This Row],[IdEstablecimiento]],[1]Establecimientos!A$1:E$175,5,FALSE),0)","v":"04302-COMBARBALÁ"},"105463","80106015","2021-12-17T08:59:05",2,null,2,null,2]
[11,"5",2021,{"$f":"IFERROR(VLOOKUP(Tabla_SERIEBM_01_6[[#This Row],[IdEstablecimiento]],[1]Establecimientos!A$1:E$175,5,FALSE),0)","v":"04101-LA SERENA"},"105701","80306001","2021-12-17T09:23:06",0,null,null,1]
[11,"5",2021,{"$f":"IFERROR(VLOOKUP(Tabla_SERIEBM_01_6[[#This Row],[IdEstablecimiento]],[1]Establecimientos!A$1:E$175,5,FALSE),0)","v":"04302-COMBARBALÁ"},"105465","80500011","2021-12-17T08:59:58",6,null,6,null,6]
[10,"5",2021,{"$f":"IFERROR(VLOOKUP(Tabla_SERIEBM_01_6[[#This Row],[IdEstablecimiento]],[1]Establecimientos!A$1:E$175,5,FALSE),0)","v":"04106-VICUÑA"},"105467","80302067","2022-01-11T11:03:08",0,null,null,1]
[11,"5",2021,{"$f":"IFERROR(VLOOKUP(Tabla_SERIEBM_01_6[[#This Row],[IdEstablecimiento]],[1]Establecimientos!A$1:E$175,5,FALSE),0)","v":"04106-VICUÑA"},"105472","80307011","2022-01-11T11:04:23",0,null,null,28]
[11,"5",2021,{"$f":"IFERROR(VLOOKUP(Tabla_SERIEBM_01_6[[#This Row],[IdEstablecimiento]],[1]Establecimientos!A$1:E$175,5,FALSE),0)","v":"04106-VICUÑA"},"105468","80302057","2021-12-17T09:02:28",0,null,null,8]
[11,"5",2021,{"$f":"IFERROR(VLOOKUP(Tabla_SERIEBM_01_6[[#This Row],[IdEstablecimiento]],[1]Establecimientos!A$1:E$175,5,FALSE),0)","v":"04102-COQUIMBO"},"105305","80302060","2021-12-17T07:58:44",0,null,null,34]
[11,"5",2021,{"$f":"IFERROR(VLOOKUP(Tabla_SERIEBM_01_6[[#This Row],[IdEstablecimiento]],[1]Establecimientos!A$1:E$175,5,FALSE),0)","v":"04106-VICUÑA"},"105468","18020500","2021-12-17T09:02:28",33,0,33]
[11,"5",2021,{"$f":"IFERROR(VLOOKUP(Tabla_SERIEBM_01_6[[#This Row],[IdEstablecimiento]],[1]Establecimientos!A$1:E$175,5,FALSE),0)","v":"04106-VICUÑA"},"105469","80301041","2021-12-17T09:02:50",0,null,null,6]
[11,"5",2021,{"$f":"IFERROR(VLOOKUP(Tabla_SERIEBM_01_6[[#This Row],[IdEstablecimiento]],[1]Establecimientos!A$1:E$175,5,FALSE),0)","v":"04106-VICUÑA"},"105469","81701009","2021-12-17T09:02:50",11,null,11,null,11]
[11,"5",2021,{"$f":"IFERROR(VLOOKUP(Tabla_SERIEBM_01_6[[#This Row],[IdEstablecimiento]],[1]Establecimientos!A$1:E$175,5,FALSE),0)","v":"04102-COQUIMBO"},"105304","80308044","2021-12-17T07:57:30",0,null,null,1]
[11,"5",2021,{"$f":"IFERROR(VLOOKUP(Tabla_SERIEBM_01_6[[#This Row],[IdEstablecimiento]],[1]Establecimientos!A$1:E$175,5,FALSE),0)","v":"04102-COQUIMBO"},"105323","81602205","2021-12-17T08:08:37",1,null,1,null,null,1]
[11,"5",2021,{"$f":"IFERROR(VLOOKUP(Tabla_SERIEBM_01_6[[#This Row],[IdEstablecimiento]],[1]Establecimientos!A$1:E$175,5,FALSE),0)","v":"04101-LA SERENA"},"105319","80500011","2021-12-17T08:07:37",89,null,89,null,89]
[11,"5",2021,{"$f":"IFERROR(VLOOKUP(Tabla_SERIEBM_01_6[[#This Row],[IdEstablecimiento]],[1]Establecimientos!A$1:E$175,5,FALSE),0)","v":"04102-COQUIMBO"},"105323","80301086","2021-12-17T08:08:37",0,null,null,1]
[11,"5",2021,{"$f":"IFERROR(VLOOKUP(Tabla_SERIEBM_01_6[[#This Row],[IdEstablecimiento]],[1]Establecimientos!A$1:E$175,5,FALSE),0)","v":"04102-COQUIMBO"},"105323","80306052","2021-12-17T08:08:37",0,null,null,3]
[11,"5",2021,{"$f":"IFERROR(VLOOKUP(Tabla_SERIEBM_01_6[[#This Row],[IdEstablecimiento]],[1]Establecimientos!A$1:E$175,5,FALSE),0)","v":"04102-COQUIMBO"},"105321","80309028","2021-12-17T08:07:57",0,null,null,1]
[11,"5",2021,{"$f":"IFERROR(VLOOKUP(Tabla_SERIEBM_01_6[[#This Row],[IdEstablecimiento]],[1]Establecimientos!A$1:E$175,5,FALSE),0)","v":"04303-MONTE PATRIA"},"105318","80106023","2021-12-17T08:07:10",81,null,81,null,81,81]
[11,"5",2021,{"$f":"IFERROR(VLOOKUP(Tabla_SERIEBM_01_6[[#This Row],[IdEstablecimiento]],[1]Establecimientos!A$1:E$175,5,FALSE),0)","v":"04301-OVALLE"},"105324","80500008","2021-12-17T08:08:53",2,null,2,null,2]
[11,"5",2021,{"$f":"IFERROR(VLOOKUP(Tabla_SERIEBM_01_6[[#This Row],[IdEstablecimiento]],[1]Establecimientos!A$1:E$175,5,FALSE),0)","v":"04301-OVALLE"},"105324","18090200","2021-12-17T08:08:53",16]
[11,"5",2021,{"$f":"IFERROR(VLOOKUP(Tabla_SERIEBM_01_6[[#This Row],[IdEstablecimiento]],[1]Establecimientos!A$1:E$175,5,FALSE),0)","v":"04101-LA SERENA"},"105325","80302013","2021-12-17T08:09:19",0,null,null,26]
[11,"5",2021,{"$f":"IFERROR(VLOOKUP(Tabla_SERIEBM_01_6[[#This Row],[IdEstablecimiento]],[1]Establecimientos!A$1:E$175,5,FALSE),0)","v":"04101-LA SERENA"},"105325","80307012","2021-12-17T08:09:19",50,null,50,50]
[11,"5",2021,{"$f":"IFERROR(VLOOKUP(Tabla_SERIEBM_01_6[[#This Row],[IdEstablecimiento]],[1]Establecimientos!A$1:E$175,5,FALSE),0)","v":"04201-ILLAPEL"},"105326","80302005","2021-12-17T08:10:48",0,null,null,112]
[11,"5",2021,{"$f":"IFERROR(VLOOKUP(Tabla_SERIEBM_01_6[[#This Row],[IdEstablecimiento]],[1]Establecimientos!A$1:E$175,5,FALSE),0)","v":"04201-ILLAPEL"},"105326","18020900","2021-12-17T08:10:48",3,0,3]
[11,"5",2021,{"$f":"IFERROR(VLOOKUP(Tabla_SERIEBM_01_6[[#This Row],[IdEstablecimiento]],[1]Establecimientos!A$1:E$175,5,FALSE),0)","v":"04101-LA SERENA"},"105400","80500009","2021-12-17T08:11:05",2,null,2,null,2]
[11,"5",2021,{"$f":"IFERROR(VLOOKUP(Tabla_SERIEBM_01_6[[#This Row],[IdEstablecimiento]],[1]Establecimientos!A$1:E$175,5,FALSE),0)","v":"04101-LA SERENA"},"105400","80500011","2021-12-17T08:11:05",2,null,2,null,2]
[11,"5",2021,{"$f":"IFERROR(VLOOKUP(Tabla_SERIEBM_01_6[[#This Row],[IdEstablecimiento]],[1]Establecimientos!A$1:E$175,5,FALSE),0)","v":"04101-LA SERENA"},"105401","18400900","2021-12-17T08:11:21",2,null,2]
[11,"5",2021,{"$f":"IFERROR(VLOOKUP(Tabla_SERIEBM_01_6[[#This Row],[IdEstablecimiento]],[1]Establecimientos!A$1:E$175,5,FALSE),0)","v":"04101-LA SERENA"},"105402","80302067","2021-12-17T08:11:40",0,null,null,32]
[11,"5",2021,{"$f":"IFERROR(VLOOKUP(Tabla_SERIEBM_01_6[[#This Row],[IdEstablecimiento]],[1]Establecimientos!A$1:E$175,5,FALSE),0)","v":"04106-VICUÑA"},"105470","80302057","2021-12-17T09:03:14",0,null,null,11]
[11,"5",2021,{"$f":"IFERROR(VLOOKUP(Tabla_SERIEBM_01_6[[#This Row],[IdEstablecimiento]],[1]Establecimientos!A$1:E$175,5,FALSE),0)","v":"04106-VICUÑA"},"105470","80500011","2021-12-17T09:03:14",8,null,8,null,8]
[11,"5",2021,{"$f":"IFERROR(VLOOKUP(Tabla_SERIEBM_01_6[[#This Row],[IdEstablecimiento]],[1]Establecimientos!A$1:E$175,5,FALSE),0)","v":"04106-VICUÑA"},"105471","80302023","2021-12-17T09:03:35",0,null,null,27]
[11,"5",2021,{"$f":"IFERROR(VLOOKUP(Tabla_SERIEBM_01_6[[#This Row],[IdEstablecimiento]],[1]Establecimientos!A$1:E$175,5,FALSE),0)","v":"04201-ILLAPEL"},"105447","80302034","2021-12-17T10:34:21",0,null,null,12]
[11,"5",2021,{"$f":"IFERROR(VLOOKUP(Tabla_SERIEBM_01_6[[#This Row],[IdEstablecimiento]],[1]Establecimientos!A$1:E$175,5,FALSE),0)","v":"04201-ILLAPEL"},"105448","80306042","2021-12-17T10:34:44",0,null,null,3]
[3,"5",2021,{"$f":"IFERROR(VLOOKUP(Tabla_SERIEBM_01_6[[#This Row],[IdEstablecimiento]],[1]Establecimientos!A$1:E$175,5,FALSE),0)","v":"04106-VICUÑA"},"105509","80500011","2021-11-08T12:50:39",16,null,16,null,16]
[2,"5",2021,{"$f":"IFERROR(VLOOKUP(Tabla_SERIEBM_01_6[[#This Row],[IdEstablecimiento]],[1]Establecimientos!A$1:E$175,5,FALSE),0)","v":"04303-MONTE PATRIA"},"105307","18010200","2021-11-09T13:39:57",4313,0,4313]
[1,"5",2021,{"$f":"IFERROR(VLOOKUP(Tabla_SERIEBM_01_6[[#This Row],[IdEstablecimiento]],[1]Establecimientos!A$1:E$175,5,FALSE),0)","v":"04201-ILLAPEL"},"105447","80301041","2021-02-18T04:04:10",0,null,null,17]
[11,"5",2021,{"$f":"IFERROR(VLOOKUP(Tabla_SERIEBM_01_6[[#This Row],[IdEstablecimiento]],[1]Establecimientos!A$1:E$175,5,FALSE),0)","v":"04102-COQUIMBO"},"105823","81602222","2021-12-17T09:34:05",30,30,null,null,30]
[11,"5",2021,{"$f":"IFERROR(VLOOKUP(Tabla_SERIEBM_01_6[[#This Row],[IdEstablecimiento]],[1]Establecimientos!A$1:E$175,5,FALSE),0)","v":"04101-LA SERENA"},"105825","18030000","2021-12-17T09:34:28",15,15,0]
[7,"5",2021,{"$f":"IFERROR(VLOOKUP(Tabla_SERIEBM_01_6[[#This Row],[IdEstablecimiento]],[1]Establecimientos!A$1:E$175,5,FALSE),0)","v":"04106-VICUÑA"},"105474","80302076","2021-08-17T06:55:08",0,null,null,2]
[11,"5",2021,{"$f":"IFERROR(VLOOKUP(Tabla_SERIEBM_01_6[[#This Row],[IdEstablecimiento]],[1]Establecimientos!A$1:E$175,5,FALSE),0)","v":"04102-COQUIMBO"},"200607","80301059","2021-12-17T09:40:15",0,null,null,7]
[11,"5",2021,{"$f":"IFERROR(VLOOKUP(Tabla_SERIEBM_01_6[[#This Row],[IdEstablecimiento]],[1]Establecimientos!A$1:E$175,5,FALSE),0)","v":"04102-COQUIMBO"},"200607","80309024","2021-12-17T09:40:15",0,null,null,4]
[9,"5",2021,{"$f":"IFERROR(VLOOKUP(Tabla_SERIEBM_01_6[[#This Row],[IdEstablecimiento]],[1]Establecimientos!A$1:E$175,5,FALSE),0)","v":"04304-PUNITAQUI"},"105308","80309022","2021-10-15T12:35:21",0,null,null,157]
[1,"5",2021,{"$f":"IFERROR(VLOOKUP(Tabla_SERIEBM_01_6[[#This Row],[IdEstablecimiento]],[1]Establecimientos!A$1:E$175,5,FALSE),0)","v":"04204-SALAMANCA"},"105455","80106002","2021-02-18T04:07:33",30,null,30]
[3,"5",2021,{"$f":"IFERROR(VLOOKUP(Tabla_SERIEBM_01_6[[#This Row],[IdEstablecimiento]],[1]Establecimientos!A$1:E$175,5,FALSE),0)","v":"04105-PAIHUANO"},"105306","80302060","2021-11-08T10:17:39",0,null,null,10]
[11,"5",2021,{"$f":"IFERROR(VLOOKUP(Tabla_SERIEBM_01_6[[#This Row],[IdEstablecimiento]],[1]Establecimientos!A$1:E$175,5,FALSE),0)","v":"04101-LA SERENA"},"105826","80401043","2021-12-17T09:34:53",14,14]
[11,"5",2021,{"$f":"IFERROR(VLOOKUP(Tabla_SERIEBM_01_6[[#This Row],[IdEstablecimiento]],[1]Establecimientos!A$1:E$175,5,FALSE),0)","v":"04101-LA SERENA"},"105826","80106020","2021-12-17T09:34:53",20,20,null,null,20]
[11,"5",2021,{"$f":"IFERROR(VLOOKUP(Tabla_SERIEBM_01_6[[#This Row],[IdEstablecimiento]],[1]Establecimientos!A$1:E$175,5,FALSE),0)","v":"04101-LA SERENA"},"105702","80302005","2021-12-17T09:23:27",0,null,null,2]
[11,"5",2021,{"$f":"IFERROR(VLOOKUP(Tabla_SERIEBM_01_6[[#This Row],[IdEstablecimiento]],[1]Establecimientos!A$1:E$175,5,FALSE),0)","v":"04101-LA SERENA"},"105702","80106022","2021-12-17T09:23:27",3,null,3,null,null,3]
[11,"5",2021,{"$f":"IFERROR(VLOOKUP(Tabla_SERIEBM_01_6[[#This Row],[IdEstablecimiento]],[1]Establecimientos!A$1:E$175,5,FALSE),0)","v":"04301-OVALLE"},"105722","80500011","2021-12-17T09:25:14",41,null,41,null,41]
[11,"5",2021,{"$f":"IFERROR(VLOOKUP(Tabla_SERIEBM_01_6[[#This Row],[IdEstablecimiento]],[1]Establecimientos!A$1:E$175,5,FALSE),0)","v":"04101-LA SERENA"},"105802","18400700","2021-12-17T09:28:52",3025]
[11,"5",2021,{"$f":"IFERROR(VLOOKUP(Tabla_SERIEBM_01_6[[#This Row],[IdEstablecimiento]],[1]Establecimientos!A$1:E$175,5,FALSE),0)","v":"04102-COQUIMBO"},"105805","80401032","2021-12-17T09:30:32",29,29]
[11,"5",2021,{"$f":"IFERROR(VLOOKUP(Tabla_SERIEBM_01_6[[#This Row],[IdEstablecimiento]],[1]Establecimientos!A$1:E$175,5,FALSE),0)","v":"04102-COQUIMBO"},"105805","80401060","2021-12-17T09:30:32",163,163]
[11,"5",2021,{"$f":"IFERROR(VLOOKUP(Tabla_SERIEBM_01_6[[#This Row],[IdEstablecimiento]],[1]Establecimientos!A$1:E$175,5,FALSE),0)","v":"04101-LA SERENA"},"105801","18400700","2021-12-17T09:28:27",1077]
[11,"5",2021,{"$f":"IFERROR(VLOOKUP(Tabla_SERIEBM_01_6[[#This Row],[IdEstablecimiento]],[1]Establecimientos!A$1:E$175,5,FALSE),0)","v":"04101-LA SERENA"},"105826","18011001","2021-12-17T09:34:53",629,629,0]
[11,"5",2021,{"$f":"IFERROR(VLOOKUP(Tabla_SERIEBM_01_6[[#This Row],[IdEstablecimiento]],[1]Establecimientos!A$1:E$175,5,FALSE),0)","v":"04102-COQUIMBO"},"200273","80302057","2021-12-17T09:36:33",0,null,null,15]
[11,"5",2021,{"$f":"IFERROR(VLOOKUP(Tabla_SERIEBM_01_6[[#This Row],[IdEstablecimiento]],[1]Establecimientos!A$1:E$175,5,FALSE),0)","v":"04102-COQUIMBO"},"200273","80306042","2021-12-17T09:36:33",0,null,null,15]
[11,"5",2021,{"$f":"IFERROR(VLOOKUP(Tabla_SERIEBM_01_6[[#This Row],[IdEstablecimiento]],[1]Establecimientos!A$1:E$175,5,FALSE),0)","v":"04301-OVALLE"},"200367","80106023","2021-12-17T09:38:08",14,null,14,null,12]
[11,"5",2021,{"$f":"IFERROR(VLOOKUP(Tabla_SERIEBM_01_6[[#This Row],[IdEstablecimiento]],[1]Establecimientos!A$1:E$175,5,FALSE),0)","v":"04101-LA SERENA"},"200402","80302075","2021-12-17T09:38:30",0,null,null,1]
[11,"5",2021,{"$f":"IFERROR(VLOOKUP(Tabla_SERIEBM_01_6[[#This Row],[IdEstablecimiento]],[1]Establecimientos!A$1:E$175,5,FALSE),0)","v":"04101-LA SERENA"},"200402","80106002","2021-12-17T09:38:30",45,null,45,null,45]
[11,"5",2021,{"$f":"IFERROR(VLOOKUP(Tabla_SERIEBM_01_6[[#This Row],[IdEstablecimiento]],[1]Establecimientos!A$1:E$175,5,FALSE),0)","v":"04305-RIO HURTADO"},"105409","80302034","2021-12-17T08:13:10",0,null,null,17]
[11,"5",2021,{"$f":"IFERROR(VLOOKUP(Tabla_SERIEBM_01_6[[#This Row],[IdEstablecimiento]],[1]Establecimientos!A$1:E$175,5,FALSE),0)","v":"04305-RIO HURTADO"},"105410","80302034","2021-12-17T08:13:29",0,null,null,12]
[11,"5",2021,{"$f":"IFERROR(VLOOKUP(Tabla_SERIEBM_01_6[[#This Row],[IdEstablecimiento]],[1]Establecimientos!A$1:E$175,5,FALSE),0)","v":"04202-CANELA"},"105450","18050200","2021-12-17T08:51:56",23,23,0]
[11,"5",2021,{"$f":"IFERROR(VLOOKUP(Tabla_SERIEBM_01_6[[#This Row],[IdEstablecimiento]],[1]Establecimientos!A$1:E$175,5,FALSE),0)","v":"04204-SALAMANCA"},"105452","81701001","2021-12-17T08:52:43",8,null,8]
[11,"5",2021,{"$f":"IFERROR(VLOOKUP(Tabla_SERIEBM_01_6[[#This Row],[IdEstablecimiento]],[1]Establecimientos!A$1:E$175,5,FALSE),0)","v":"04204-SALAMANCA"},"105452","80106010","2021-12-17T08:52:43",1,null,1]
[11,"5",2021,{"$f":"IFERROR(VLOOKUP(Tabla_SERIEBM_01_6[[#This Row],[IdEstablecimiento]],[1]Establecimientos!A$1:E$175,5,FALSE),0)","v":"04204-SALAMANCA"},"105456","18700100","2021-12-17T08:54:16",16,null,16]
[11,"5",2021,{"$f":"IFERROR(VLOOKUP(Tabla_SERIEBM_01_6[[#This Row],[IdEstablecimiento]],[1]Establecimientos!A$1:E$175,5,FALSE),0)","v":"04102-COQUIMBO"},"105304","80106023","2021-12-17T07:57:30",41,null,41,null,41]
[11,"5",2021,{"$f":"IFERROR(VLOOKUP(Tabla_SERIEBM_01_6[[#This Row],[IdEstablecimiento]],[1]Establecimientos!A$1:E$175,5,FALSE),0)","v":"04106-VICUÑA"},"105473","80309022","2021-12-17T09:04:57",0,null,null,10]
[11,"5",2021,{"$f":"IFERROR(VLOOKUP(Tabla_SERIEBM_01_6[[#This Row],[IdEstablecimiento]],[1]Establecimientos!A$1:E$175,5,FALSE),0)","v":"04106-VICUÑA"},"105474","80306011","2021-12-17T09:05:17",0,null,null,1]
[11,"5",2021,{"$f":"IFERROR(VLOOKUP(Tabla_SERIEBM_01_6[[#This Row],[IdEstablecimiento]],[1]Establecimientos!A$1:E$175,5,FALSE),0)","v":"04105-PAIHUANO"},"105476","18050100","2021-12-17T09:06:01",5,0,5]
[11,"5",2021,{"$f":"IFERROR(VLOOKUP(Tabla_SERIEBM_01_6[[#This Row],[IdEstablecimiento]],[1]Establecimientos!A$1:E$175,5,FALSE),0)","v":"04106-VICUÑA"},"200538","80309022","2021-12-17T09:39:31",0,null,null,8]
[11,"5",2021,{"$f":"IFERROR(VLOOKUP(Tabla_SERIEBM_01_6[[#This Row],[IdEstablecimiento]],[1]Establecimientos!A$1:E$175,5,FALSE),0)","v":"04201-ILLAPEL"},"105448","80106014","2021-12-17T10:34:44",53,null,53,null,53]
[11,"5",2021,{"$f":"IFERROR(VLOOKUP(Tabla_SERIEBM_01_6[[#This Row],[IdEstablecimiento]],[1]Establecimientos!A$1:E$175,5,FALSE),0)","v":"04201-ILLAPEL"},"105449","18700100","2021-12-17T10:35:04",6,1,1,4]
[11,"5",2021,{"$f":"IFERROR(VLOOKUP(Tabla_SERIEBM_01_6[[#This Row],[IdEstablecimiento]],[1]Establecimientos!A$1:E$175,5,FALSE),0)","v":"04201-ILLAPEL"},"200366","80305030","2021-12-17T10:35:43",0,null,null,1]
[11,"5",2021,{"$f":"IFERROR(VLOOKUP(Tabla_SERIEBM_01_6[[#This Row],[IdEstablecimiento]],[1]Establecimientos!A$1:E$175,5,FALSE),0)","v":"04102-COQUIMBO"},"105305","80301036","2021-12-17T07:58:44",0,null,null,32]
[11,"5",2021,{"$f":"IFERROR(VLOOKUP(Tabla_SERIEBM_01_6[[#This Row],[IdEstablecimiento]],[1]Establecimientos!A$1:E$175,5,FALSE),0)","v":"04102-COQUIMBO"},"105305","80308005","2021-12-17T07:58:44",0,null,null,2]
[11,"5",2021,{"$f":"IFERROR(VLOOKUP(Tabla_SERIEBM_01_6[[#This Row],[IdEstablecimiento]],[1]Establecimientos!A$1:E$175,5,FALSE),0)","v":"04102-COQUIMBO"},"105305","80301086","2021-12-17T07:58:44",0,null,null,13]
[11,"5",2021,{"$f":"IFERROR(VLOOKUP(Tabla_SERIEBM_01_6[[#This Row],[IdEstablecimiento]],[1]Establecimientos!A$1:E$175,5,FALSE),0)","v":"04102-COQUIMBO"},"105305","80302026","2021-12-17T07:58:44",0,null,null,2]
[11,"5",2021,{"$f":"IFERROR(VLOOKUP(Tabla_SERIEBM_01_6[[#This Row],[IdEstablecimiento]],[1]Establecimientos!A$1:E$175,5,FALSE),0)","v":"04102-COQUIMBO"},"105305","18050300","2021-12-17T07:58:44",11,0,11]
[11,"5",2021,{"$f":"IFERROR(VLOOKUP(Tabla_SERIEBM_01_6[[#This Row],[IdEstablecimiento]],[1]Establecimientos!A$1:E$175,5,FALSE),0)","v":"04105-PAIHUANO"},"105306","80302076","2021-12-17T07:59:19",0,null,null,196]
[11,"5",2021,{"$f":"IFERROR(VLOOKUP(Tabla_SERIEBM_01_6[[#This Row],[IdEstablecimiento]],[1]Establecimientos!A$1:E$175,5,FALSE),0)","v":"04105-PAIHUANO"},"105306","80308004","2021-12-17T07:59:19",0,null,null,5]
[11,"5",2021,{"$f":"IFERROR(VLOOKUP(Tabla_SERIEBM_01_6[[#This Row],[IdEstablecimiento]],[1]Establecimientos!A$1:E$175,5,FALSE),0)","v":"04101-LA SERENA"},"105319","80309013","2021-12-17T08:07:37",0,null,null,4]
[11,"5",2021,{"$f":"IFERROR(VLOOKUP(Tabla_SERIEBM_01_6[[#This Row],[IdEstablecimiento]],[1]Establecimientos!A$1:E$175,5,FALSE),0)","v":"04101-LA SERENA"},"105319","80106002","2021-12-17T08:07:37",117,null,117,null,117]
[2,"5",2021,{"$f":"IFERROR(VLOOKUP(Tabla_SERIEBM_01_6[[#This Row],[IdEstablecimiento]],[1]Establecimientos!A$1:E$175,5,FALSE),0)","v":"04101-LA SERENA"},"105499","80106014","2021-11-09T14:58:43",27,null,27,null,27]
[3,"5",2021,{"$f":"IFERROR(VLOOKUP(Tabla_SERIEBM_01_6[[#This Row],[IdEstablecimiento]],[1]Establecimientos!A$1:E$175,5,FALSE),0)","v":"04202-CANELA"},"105482","81602221","2021-11-08T12:34:30",1,null,1,null,1]
[11,"5",2021,{"$f":"IFERROR(VLOOKUP(Tabla_SERIEBM_01_6[[#This Row],[IdEstablecimiento]],[1]Establecimientos!A$1:E$175,5,FALSE),0)","v":"04201-ILLAPEL"},"200366","80106014","2021-12-17T10:35:43",181,null,181]
[11,"5",2021,{"$f":"IFERROR(VLOOKUP(Tabla_SERIEBM_01_6[[#This Row],[IdEstablecimiento]],[1]Establecimientos!A$1:E$175,5,FALSE),0)","v":"04101-LA SERENA"},"105301","80302064","2021-12-17T11:10:31",0,null,null,255]
[3,"5",2021,{"$f":"IFERROR(VLOOKUP(Tabla_SERIEBM_01_6[[#This Row],[IdEstablecimiento]],[1]Establecimientos!A$1:E$175,5,FALSE),0)","v":"04102-COQUIMBO"},"105405","80302032","2021-11-08T12:01:24",0,null,null,35]
[3,"5",2021,{"$f":"IFERROR(VLOOKUP(Tabla_SERIEBM_01_6[[#This Row],[IdEstablecimiento]],[1]Establecimientos!A$1:E$175,5,FALSE),0)","v":"04102-COQUIMBO"},"105405","80106014","2021-11-08T12:01:24",206,null,206,null,4]
[3,"5",2021,{"$f":"IFERROR(VLOOKUP(Tabla_SERIEBM_01_6[[#This Row],[IdEstablecimiento]],[1]Establecimientos!A$1:E$175,5,FALSE),0)","v":"04106-VICUÑA"},"105471","18400900","2021-11-08T12:28:24",12,5,7]
[2,"5",2021,{"$f":"IFERROR(VLOOKUP(Tabla_SERIEBM_01_6[[#This Row],[IdEstablecimiento]],[1]Establecimientos!A$1:E$175,5,FALSE),0)","v":"04102-COQUIMBO"},"200499","80106022","2021-11-09T15:18:59",8,null,8,null,8]
[2,"5",2021,{"$f":"IFERROR(VLOOKUP(Tabla_SERIEBM_01_6[[#This Row],[IdEstablecimiento]],[1]Establecimientos!A$1:E$175,5,FALSE),0)","v":"04102-COQUIMBO"},"200499","18050100","2021-11-09T15:18:59",106,33,73]
[2,"5",2021,{"$f":"IFERROR(VLOOKUP(Tabla_SERIEBM_01_6[[#This Row],[IdEstablecimiento]],[1]Establecimientos!A$1:E$175,5,FALSE),0)","v":"04106-VICUÑA"},"200538","80306042","2021-11-09T15:19:25",0,null,null,16]
[2,"5",2021,{"$f":"IFERROR(VLOOKUP(Tabla_SERIEBM_01_6[[#This Row],[IdEstablecimiento]],[1]Establecimientos!A$1:E$175,5,FALSE),0)","v":"04301-OVALLE"},"200569","18020500","2021-11-09T15:19:49",72,0,72]
[2,"5",2021,{"$f":"IFERROR(VLOOKUP(Tabla_SERIEBM_01_6[[#This Row],[IdEstablecimiento]],[1]Establecimientos!A$1:E$175,5,FALSE),0)","v":"04303-MONTE PATRIA"},"200720","80401046","2021-11-09T15:20:42",3,3]
[11,"5",2021,{"$f":"IFERROR(VLOOKUP(Tabla_SERIEBM_01_6[[#This Row],[IdEstablecimiento]],[1]Establecimientos!A$1:E$175,5,FALSE),0)","v":"04101-LA SERENA"},"105313","80309010","2021-12-17T08:02:24",0,null,null,452]
[2,"5",2021,{"$f":"IFERROR(VLOOKUP(Tabla_SERIEBM_01_6[[#This Row],[IdEstablecimiento]],[1]Establecimientos!A$1:E$175,5,FALSE),0)","v":"04102-COQUIMBO"},"200499","80301085","2021-11-09T15:18:59",0,null,null,5]
[11,"5",2021,{"$f":"IFERROR(VLOOKUP(Tabla_SERIEBM_01_6[[#This Row],[IdEstablecimiento]],[1]Establecimientos!A$1:E$175,5,FALSE),0)","v":"04201-ILLAPEL"},"105496","80302023","2021-12-17T09:15:55",0,null,null,4]
[11,"5",2021,{"$f":"IFERROR(VLOOKUP(Tabla_SERIEBM_01_6[[#This Row],[IdEstablecimiento]],[1]Establecimientos!A$1:E$175,5,FALSE),0)","v":"04201-ILLAPEL"},"105496","80106010","2021-12-17T09:15:55",1,null,1,null,1]
[2,"5",2021,{"$f":"IFERROR(VLOOKUP(Tabla_SERIEBM_01_6[[#This Row],[IdEstablecimiento]],[1]Establecimientos!A$1:E$175,5,FALSE),0)","v":"04204-SALAMANCA"},"105452","18020500","2021-11-09T14:14:19",4,0,4]
[11,"5",2021,{"$f":"IFERROR(VLOOKUP(Tabla_SERIEBM_01_6[[#This Row],[IdEstablecimiento]],[1]Establecimientos!A$1:E$175,5,FALSE),0)","v":"04102-COQUIMBO"},"200494","80303024","2021-12-17T09:38:50",0,null,null,230]
[2,"5",2021,{"$f":"IFERROR(VLOOKUP(Tabla_SERIEBM_01_6[[#This Row],[IdEstablecimiento]],[1]Establecimientos!A$1:E$175,5,FALSE),0)","v":"04204-SALAMANCA"},"105453","18050100","2021-11-09T14:14:43",53,0,53]
[2,"5",2021,{"$f":"IFERROR(VLOOKUP(Tabla_SERIEBM_01_6[[#This Row],[IdEstablecimiento]],[1]Establecimientos!A$1:E$175,5,FALSE),0)","v":"04204-SALAMANCA"},"105457","80106023","2021-11-09T14:28:28",7,null,7]
[4,"5",2021,{"$f":"IFERROR(VLOOKUP(Tabla_SERIEBM_01_6[[#This Row],[IdEstablecimiento]],[1]Establecimientos!A$1:E$175,5,FALSE),0)","v":"04201-ILLAPEL"},"105485","80309010","2021-05-14T10:14:23",0,null,null,14]
[1,"5",2021,{"$f":"IFERROR(VLOOKUP(Tabla_SERIEBM_01_6[[#This Row],[IdEstablecimiento]],[1]Establecimientos!A$1:E$175,5,FALSE),0)","v":"04102-COQUIMBO"},"105323","80309024","2021-02-18T03:29:29",0,null,null,1]
[3,"5",2021,{"$f":"IFERROR(VLOOKUP(Tabla_SERIEBM_01_6[[#This Row],[IdEstablecimiento]],[1]Establecimientos!A$1:E$175,5,FALSE),0)","v":"04101-LA SERENA"},"200402","80106017","2021-11-08T13:17:09",11,null,11,null,11]
[2,"5",2021,{"$f":"IFERROR(VLOOKUP(Tabla_SERIEBM_01_6[[#This Row],[IdEstablecimiento]],[1]Establecimientos!A$1:E$175,5,FALSE),0)","v":"04202-CANELA"},"105497","18020500","2021-11-09T14:58:00",3,0,3]
[2,"5",2021,{"$f":"IFERROR(VLOOKUP(Tabla_SERIEBM_01_6[[#This Row],[IdEstablecimiento]],[1]Establecimientos!A$1:E$175,5,FALSE),0)","v":"04202-CANELA"},"105483","80106002","2021-11-09T14:51:45",12,null,12,null,12]
[9,"5",2021,{"$f":"IFERROR(VLOOKUP(Tabla_SERIEBM_01_6[[#This Row],[IdEstablecimiento]],[1]Establecimientos!A$1:E$175,5,FALSE),0)","v":"04201-ILLAPEL"},"105504","18700100","2021-10-15T13:23:57",6,0,6,0]
[4,"5",2021,{"$f":"IFERROR(VLOOKUP(Tabla_SERIEBM_01_6[[#This Row],[IdEstablecimiento]],[1]Establecimientos!A$1:E$175,5,FALSE),0)","v":"04106-VICUÑA"},"105509","80106015","2021-05-14T10:30:53",1,null,1,null,1]
[1,"5",2021,{"$f":"IFERROR(VLOOKUP(Tabla_SERIEBM_01_6[[#This Row],[IdEstablecimiento]],[1]Establecimientos!A$1:E$175,5,FALSE),0)","v":"04301-OVALLE"},"200258","80106022","2021-02-18T05:57:46",2,null,2,null,2]
[7,"5",2021,{"$f":"IFERROR(VLOOKUP(Tabla_SERIEBM_01_6[[#This Row],[IdEstablecimiento]],[1]Establecimientos!A$1:E$175,5,FALSE),0)","v":"04101-LA SERENA"},"105499","80106015","2021-08-17T09:07:59",3,null,3,null,3]
[3,"5",2021,{"$f":"IFERROR(VLOOKUP(Tabla_SERIEBM_01_6[[#This Row],[IdEstablecimiento]],[1]Establecimientos!A$1:E$175,5,FALSE),0)","v":"04101-LA SERENA"},"200402","80303024","2021-11-08T13:17:09",0,null,null,24]
[3,"5",2021,{"$f":"IFERROR(VLOOKUP(Tabla_SERIEBM_01_6[[#This Row],[IdEstablecimiento]],[1]Establecimientos!A$1:E$175,5,FALSE),0)","v":"04102-COQUIMBO"},"200494","80303026","2021-11-08T13:17:38",0,null,null,42]
[3,"5",2021,{"$f":"IFERROR(VLOOKUP(Tabla_SERIEBM_01_6[[#This Row],[IdEstablecimiento]],[1]Establecimientos!A$1:E$175,5,FALSE),0)","v":"04102-COQUIMBO"},"200494","18020300","2021-11-08T13:17:38",1,0,1]
[3,"5",2021,{"$f":"IFERROR(VLOOKUP(Tabla_SERIEBM_01_6[[#This Row],[IdEstablecimiento]],[1]Establecimientos!A$1:E$175,5,FALSE),0)","v":"04102-COQUIMBO"},"200494","18700100","2021-11-08T13:17:38",790,20,696,74,790]
[11,"5",2021,{"$f":"IFERROR(VLOOKUP(Tabla_SERIEBM_01_6[[#This Row],[IdEstablecimiento]],[1]Establecimientos!A$1:E$175,5,FALSE),0)","v":"04303-MONTE PATRIA"},"105307","80302023","2021-12-17T07:59:39",774,null,774]
[11,"5",2021,{"$f":"IFERROR(VLOOKUP(Tabla_SERIEBM_01_6[[#This Row],[IdEstablecimiento]],[1]Establecimientos!A$1:E$175,5,FALSE),0)","v":"04303-MONTE PATRIA"},"105307","80309013","2021-12-17T07:59:39",495,null,495]
[11,"5",2021,{"$f":"IFERROR(VLOOKUP(Tabla_SERIEBM_01_6[[#This Row],[IdEstablecimiento]],[1]Establecimientos!A$1:E$175,5,FALSE),0)","v":"04303-MONTE PATRIA"},"105307","80500009","2021-12-17T07:59:39",1,null,1,null,1]
[11,"5",2021,{"$f":"IFERROR(VLOOKUP(Tabla_SERIEBM_01_6[[#This Row],[IdEstablecimiento]],[1]Establecimientos!A$1:E$175,5,FALSE),0)","v":"04303-MONTE PATRIA"},"105307","18050100","2021-12-17T07:59:39",153,0,153]
[11,"5",2021,{"$f":"IFERROR(VLOOKUP(Tabla_SERIEBM_01_6[[#This Row],[IdEstablecimiento]],[1]Establecimientos!A$1:E$175,5,FALSE),0)","v":"04304-PUNITAQUI"},"105308","80106002","2021-12-17T08:00:02",87,null,87,null,87]
[11,"5",2021,{"$f":"IFERROR(VLOOKUP(Tabla_SERIEBM_01_6[[#This Row],[IdEstablecimiento]],[1]Establecimientos!A$1:E$175,5,FALSE),0)","v":"04101-LA SERENA"},"105300","82001015","2021-12-17T07:55:06",6,null,6,null,6]
[11,"5",2021,{"$f":"IFERROR(VLOOKUP(Tabla_SERIEBM_01_6[[#This Row],[IdEstablecimiento]],[1]Establecimientos!A$1:E$175,5,FALSE),0)","v":"04303-MONTE PATRIA"},"105312","18040200","2021-12-17T08:01:35",9,2,7]
[11,"5",2021,{"$f":"IFERROR(VLOOKUP(Tabla_SERIEBM_01_6[[#This Row],[IdEstablecimiento]],[1]Establecimientos!A$1:E$175,5,FALSE),0)","v":"04101-LA SERENA"},"105313","80301038","2021-12-17T08:02:24",0,null,null,149]
[11,"5",2021,{"$f":"IFERROR(VLOOKUP(Tabla_SERIEBM_01_6[[#This Row],[IdEstablecimiento]],[1]Establecimientos!A$1:E$175,5,FALSE),0)","v":"04305-RIO HURTADO"},"105409","80303026","2021-12-17T08:13:10",0,null,null,1]
[11,"5",2021,{"$f":"IFERROR(VLOOKUP(Tabla_SERIEBM_01_6[[#This Row],[IdEstablecimiento]],[1]Establecimientos!A$1:E$175,5,FALSE),0)","v":"04106-VICUÑA"},"105473","80301045","2021-12-17T09:04:57",0,null,null,33]
[1,"5",2021,{"$f":"IFERROR(VLOOKUP(Tabla_SERIEBM_01_6[[#This Row],[IdEstablecimiento]],[1]Establecimientos!A$1:E$175,5,FALSE),0)","v":"04101-LA SERENA"},"105301","80106023","2021-05-14T11:59:40",63,null,63,null,63]
[9,"5",2021,{"$f":"IFERROR(VLOOKUP(Tabla_SERIEBM_01_6[[#This Row],[IdEstablecimiento]],[1]Establecimientos!A$1:E$175,5,FALSE),0)","v":"04201-ILLAPEL"},"105445","80106015","2021-10-15T13:00:38",6,null,6,null,6]
[5,"5",2021,{"$f":"IFERROR(VLOOKUP(Tabla_SERIEBM_01_6[[#This Row],[IdEstablecimiento]],[1]Establecimientos!A$1:E$175,5,FALSE),0)","v":"04102-COQUIMBO"},"200494","81602221","2021-06-11T14:29:44",1,null,1,1]
[3,"5",2021,{"$f":"IFERROR(VLOOKUP(Tabla_SERIEBM_01_6[[#This Row],[IdEstablecimiento]],[1]Establecimientos!A$1:E$175,5,FALSE),0)","v":"04304-PUNITAQUI"},"105440","81701001","2021-11-08T12:13:53",8,null,8,null,8]
[4,"5",2021,{"$f":"IFERROR(VLOOKUP(Tabla_SERIEBM_01_6[[#This Row],[IdEstablecimiento]],[1]Establecimientos!A$1:E$175,5,FALSE),0)","v":"04301-OVALLE"},"105315","18020500","2021-05-13T16:59:10",92,0,92]
[9,"5",2021,{"$f":"IFERROR(VLOOKUP(Tabla_SERIEBM_01_6[[#This Row],[IdEstablecimiento]],[1]Establecimientos!A$1:E$175,5,FALSE),0)","v":"04102-COQUIMBO"},"200607","81602232","2021-10-15T13:39:59",3,null,3,3,null,3]
[4,"5",2021,{"$f":"IFERROR(VLOOKUP(Tabla_SERIEBM_01_6[[#This Row],[IdEstablecimiento]],[1]Establecimientos!A$1:E$175,5,FALSE),0)","v":"04203-LOS VILOS"},"105481","80305005","2021-10-18T08:00:46",0,null,null,1]
[5,"5",2021,{"$f":"IFERROR(VLOOKUP(Tabla_SERIEBM_01_6[[#This Row],[IdEstablecimiento]],[1]Establecimientos!A$1:E$175,5,FALSE),0)","v":"04304-PUNITAQUI"},"105440","81701009","2021-06-11T11:36:50",18,null,18,null,18]
[9,"5",2021,{"$f":"IFERROR(VLOOKUP(Tabla_SERIEBM_01_6[[#This Row],[IdEstablecimiento]],[1]Establecimientos!A$1:E$175,5,FALSE),0)","v":"04303-MONTE PATRIA"},"200720","80106017","2021-10-15T13:40:24",9,9,null,null,9]
[9,"5",2021,{"$f":"IFERROR(VLOOKUP(Tabla_SERIEBM_01_6[[#This Row],[IdEstablecimiento]],[1]Establecimientos!A$1:E$175,5,FALSE),0)","v":"04102-COQUIMBO"},"200607","80500008","2021-10-15T13:39:59",16,0,16,0,16]
[5,"5",2021,{"$f":"IFERROR(VLOOKUP(Tabla_SERIEBM_01_6[[#This Row],[IdEstablecimiento]],[1]Establecimientos!A$1:E$175,5,FALSE),0)","v":"04204-SALAMANCA"},"105455","80500011","2021-06-11T11:49:07",20,null,20]
[2,"5",2021,{"$f":"IFERROR(VLOOKUP(Tabla_SERIEBM_01_6[[#This Row],[IdEstablecimiento]],[1]Establecimientos!A$1:E$175,5,FALSE),0)","v":"04204-SALAMANCA"},"105456","18050100","2021-11-09T14:28:03",31,0,31]
[4,"5",2021,{"$f":"IFERROR(VLOOKUP(Tabla_SERIEBM_01_6[[#This Row],[IdEstablecimiento]],[1]Establecimientos!A$1:E$175,5,FALSE),0)","v":"04101-LA SERENA"},"105301","18020500","2021-05-13T16:39:53",23,0,23]
[3,"5",2021,{"$f":"IFERROR(VLOOKUP(Tabla_SERIEBM_01_6[[#This Row],[IdEstablecimiento]],[1]Establecimientos!A$1:E$175,5,FALSE),0)","v":"04303-MONTE PATRIA"},"105307","18020400","2021-11-08T10:18:04",6,0,6]
[4,"5",2021,{"$f":"IFERROR(VLOOKUP(Tabla_SERIEBM_01_6[[#This Row],[IdEstablecimiento]],[1]Establecimientos!A$1:E$175,5,FALSE),0)","v":"04102-COQUIMBO"},"105321","80302064","2021-05-13T17:01:01",0,null,null,165]
[4,"5",2021,{"$f":"IFERROR(VLOOKUP(Tabla_SERIEBM_01_6[[#This Row],[IdEstablecimiento]],[1]Establecimientos!A$1:E$175,5,FALSE),0)","v":"04201-ILLAPEL"},"105496","80106017","2021-05-14T10:20:45",9,null,9,null,9]
[4,"5",2021,{"$f":"IFERROR(VLOOKUP(Tabla_SERIEBM_01_6[[#This Row],[IdEstablecimiento]],[1]Establecimientos!A$1:E$175,5,FALSE),0)","v":"04202-CANELA"},"105498","18050100","2021-05-14T10:21:40",1,0,1]
[9,"5",2021,{"$f":"IFERROR(VLOOKUP(Tabla_SERIEBM_01_6[[#This Row],[IdEstablecimiento]],[1]Establecimientos!A$1:E$175,5,FALSE),0)","v":"04201-ILLAPEL"},"105448","18020500","2021-10-15T13:02:03",24,0,24]
[8,"5",2021,{"$f":"IFERROR(VLOOKUP(Tabla_SERIEBM_01_6[[#This Row],[IdEstablecimiento]],[1]Establecimientos!A$1:E$175,5,FALSE),0)","v":"04102-COQUIMBO"},"200607","80106014","2021-09-16T13:31:26",338,0,338,0,338]
[8,"5",2021,{"$f":"IFERROR(VLOOKUP(Tabla_SERIEBM_01_6[[#This Row],[IdEstablecimiento]],[1]Establecimientos!A$1:E$175,5,FALSE),0)","v":"04102-COQUIMBO"},"105404","18050100","2021-09-16T11:06:04",8,0,8]
[1,"5",2021,{"$f":"IFERROR(VLOOKUP(Tabla_SERIEBM_01_6[[#This Row],[IdEstablecimiento]],[1]Establecimientos!A$1:E$175,5,FALSE),0)","v":"04102-COQUIMBO"},"105803","80106022","2021-02-18T05:52:09",2,2,null,null,2]
[5,"5",2021,{"$f":"IFERROR(VLOOKUP(Tabla_SERIEBM_01_6[[#This Row],[IdEstablecimiento]],[1]Establecimientos!A$1:E$175,5,FALSE),0)","v":"04101-LA SERENA"},"200105","80106007","2021-06-11T14:26:04",1,1,null,1]
[9,"5",2021,{"$f":"IFERROR(VLOOKUP(Tabla_SERIEBM_01_6[[#This Row],[IdEstablecimiento]],[1]Establecimientos!A$1:E$175,5,FALSE),0)","v":"04101-LA SERENA"},"105319","80404006","2021-10-15T12:42:30",1,null,1]
[3,"5",2021,{"$f":"IFERROR(VLOOKUP(Tabla_SERIEBM_01_6[[#This Row],[IdEstablecimiento]],[1]Establecimientos!A$1:E$175,5,FALSE),0)","v":"04102-COQUIMBO"},"200494","80302040","2021-11-08T13:17:38",0,null,null,20]
[3,"5",2021,{"$f":"IFERROR(VLOOKUP(Tabla_SERIEBM_01_6[[#This Row],[IdEstablecimiento]],[1]Establecimientos!A$1:E$175,5,FALSE),0)","v":"04102-COQUIMBO"},"200499","80302063","2021-11-08T13:18:03",0,null,null,6]
[6,"5",2021,{"$f":"IFERROR(VLOOKUP(Tabla_SERIEBM_01_6[[#This Row],[IdEstablecimiento]],[1]Establecimientos!A$1:E$175,5,FALSE),0)","v":"04201-ILLAPEL"},"105487","80309013","2021-07-19T14:40:17",0,null,null,8]
[7,"5",2021,{"$f":"IFERROR(VLOOKUP(Tabla_SERIEBM_01_6[[#This Row],[IdEstablecimiento]],[1]Establecimientos!A$1:E$175,5,FALSE),0)","v":"04102-COQUIMBO"},"200494","80106015","2021-08-17T09:51:12",1,null,1,null,1]
[7,"5",2021,{"$f":"IFERROR(VLOOKUP(Tabla_SERIEBM_01_6[[#This Row],[IdEstablecimiento]],[1]Establecimientos!A$1:E$175,5,FALSE),0)","v":"04102-COQUIMBO"},"200494","80307012","2021-08-17T09:51:12",19,null,19]
[4,"5",2021,{"$f":"IFERROR(VLOOKUP(Tabla_SERIEBM_01_6[[#This Row],[IdEstablecimiento]],[1]Establecimientos!A$1:E$175,5,FALSE),0)","v":"04102-COQUIMBO"},"105804","80106013","2021-05-14T10:41:18",1,1,null,1]
[9,"5",2021,{"$f":"IFERROR(VLOOKUP(Tabla_SERIEBM_01_6[[#This Row],[IdEstablecimiento]],[1]Establecimientos!A$1:E$175,5,FALSE),0)","v":"04301-OVALLE"},"105817","81602222","2021-10-15T13:32:15",1,1]
[6,"5",2021,{"$f":"IFERROR(VLOOKUP(Tabla_SERIEBM_01_6[[#This Row],[IdEstablecimiento]],[1]Establecimientos!A$1:E$175,5,FALSE),0)","v":"04202-CANELA"},"105309","80302024","2021-07-19T12:03:10",0,null,null,1]
[4,"5",2021,{"$f":"IFERROR(VLOOKUP(Tabla_SERIEBM_01_6[[#This Row],[IdEstablecimiento]],[1]Establecimientos!A$1:E$175,5,FALSE),0)","v":"04106-VICUÑA"},"105471","80302047","2021-05-14T10:05:26",0,null,null,24]
[6,"5",2021,{"$f":"IFERROR(VLOOKUP(Tabla_SERIEBM_01_6[[#This Row],[IdEstablecimiento]],[1]Establecimientos!A$1:E$175,5,FALSE),0)","v":"04102-COQUIMBO"},"200499","80306061","2021-07-19T15:13:44",0,null,null,4]
[9,"5",2021,{"$f":"IFERROR(VLOOKUP(Tabla_SERIEBM_01_6[[#This Row],[IdEstablecimiento]],[1]Establecimientos!A$1:E$175,5,FALSE),0)","v":"04101-LA SERENA"},"105313","80106014","2021-10-15T12:37:25",127,null,127,null,127]
[1,"5",2021,{"$f":"IFERROR(VLOOKUP(Tabla_SERIEBM_01_6[[#This Row],[IdEstablecimiento]],[1]Establecimientos!A$1:E$175,5,FALSE),0)","v":"04201-ILLAPEL"},"105485","80301045","2021-02-18T05:23:07",0,null,null,13]
[5,"5",2021,{"$f":"IFERROR(VLOOKUP(Tabla_SERIEBM_01_6[[#This Row],[IdEstablecimiento]],[1]Establecimientos!A$1:E$175,5,FALSE),0)","v":"04303-MONTE PATRIA"},"105431","81602221","2021-06-11T11:30:08",1,null,1,null,1]
[8,"5",2021,{"$f":"IFERROR(VLOOKUP(Tabla_SERIEBM_01_6[[#This Row],[IdEstablecimiento]],[1]Establecimientos!A$1:E$175,5,FALSE),0)","v":"04203-LOS VILOS"},"105481","80302047","2021-10-19T08:44:06",0,null,null,12]
[4,"5",2021,{"$f":"IFERROR(VLOOKUP(Tabla_SERIEBM_01_6[[#This Row],[IdEstablecimiento]],[1]Establecimientos!A$1:E$175,5,FALSE),0)","v":"04301-OVALLE"},"105415","80106014","2021-05-13T17:15:27",41,null,41,null,41]
[4,"5",2021,{"$f":"IFERROR(VLOOKUP(Tabla_SERIEBM_01_6[[#This Row],[IdEstablecimiento]],[1]Establecimientos!A$1:E$175,5,FALSE),0)","v":"04301-OVALLE"},"105415","80106015","2021-05-13T17:15:27",1,null,1,null,1]
[5,"5",2021,{"$f":"IFERROR(VLOOKUP(Tabla_SERIEBM_01_6[[#This Row],[IdEstablecimiento]],[1]Establecimientos!A$1:E$175,5,FALSE),0)","v":"04201-ILLAPEL"},"200366","80106017","2021-06-11T14:27:58",85,null,85]
[7,"5",2021,{"$f":"IFERROR(VLOOKUP(Tabla_SERIEBM_01_6[[#This Row],[IdEstablecimiento]],[1]Establecimientos!A$1:E$175,5,FALSE),0)","v":"04106-VICUÑA"},"105471","80302023","2021-08-17T06:50:48",0,null,null,20]
[7,"5",2021,{"$f":"IFERROR(VLOOKUP(Tabla_SERIEBM_01_6[[#This Row],[IdEstablecimiento]],[1]Establecimientos!A$1:E$175,5,FALSE),0)","v":"04101-LA SERENA"},"105702","80302032","2021-08-17T09:20:41",0,null,null,48]
[4,"5",2021,{"$f":"IFERROR(VLOOKUP(Tabla_SERIEBM_01_6[[#This Row],[IdEstablecimiento]],[1]Establecimientos!A$1:E$175,5,FALSE),0)","v":"04201-ILLAPEL"},"105447","80106002","2021-05-13T17:31:56",5,null,5,null,5]
[7,"5",2021,{"$f":"IFERROR(VLOOKUP(Tabla_SERIEBM_01_6[[#This Row],[IdEstablecimiento]],[1]Establecimientos!A$1:E$175,5,FALSE),0)","v":"04106-VICUÑA"},"105473","80106007","2021-08-17T06:54:10",1,null,1,null,1]
[7,"5",2021,{"$f":"IFERROR(VLOOKUP(Tabla_SERIEBM_01_6[[#This Row],[IdEstablecimiento]],[1]Establecimientos!A$1:E$175,5,FALSE),0)","v":"04106-VICUÑA"},"105474","80302057","2021-08-17T06:55:08",0,null,null,2]
[1,"5",2021,{"$f":"IFERROR(VLOOKUP(Tabla_SERIEBM_01_6[[#This Row],[IdEstablecimiento]],[1]Establecimientos!A$1:E$175,5,FALSE),0)","v":"04101-LA SERENA"},"105402","80301045","2021-02-18T03:32:36",0,null,null,6]
[7,"5",2021,{"$f":"IFERROR(VLOOKUP(Tabla_SERIEBM_01_6[[#This Row],[IdEstablecimiento]],[1]Establecimientos!A$1:E$175,5,FALSE),0)","v":"04105-PAIHUANO"},"105476","80307011","2021-08-17T06:59:20",28,null,28]
[9,"5",2021,{"$f":"IFERROR(VLOOKUP(Tabla_SERIEBM_01_6[[#This Row],[IdEstablecimiento]],[1]Establecimientos!A$1:E$175,5,FALSE),0)","v":"04301-OVALLE"},"105317","80106023","2021-10-15T12:40:44",24,null,24,null,24]
[9,"5",2021,{"$f":"IFERROR(VLOOKUP(Tabla_SERIEBM_01_6[[#This Row],[IdEstablecimiento]],[1]Establecimientos!A$1:E$175,5,FALSE),0)","v":"04202-CANELA"},"105809","81701009","2021-10-15T13:31:52",1,1,null,null,1]
[9,"5",2021,{"$f":"IFERROR(VLOOKUP(Tabla_SERIEBM_01_6[[#This Row],[IdEstablecimiento]],[1]Establecimientos!A$1:E$175,5,FALSE),0)","v":"04102-COQUIMBO"},"105805","80401059","2021-10-15T13:31:30",86,86]
[9,"5",2021,{"$f":"IFERROR(VLOOKUP(Tabla_SERIEBM_01_6[[#This Row],[IdEstablecimiento]],[1]Establecimientos!A$1:E$175,5,FALSE),0)","v":"04102-COQUIMBO"},"105805","81602222","2021-10-15T13:31:30",1,1,null,1]
[7,"5",2021,{"$f":"IFERROR(VLOOKUP(Tabla_SERIEBM_01_6[[#This Row],[IdEstablecimiento]],[1]Establecimientos!A$1:E$175,5,FALSE),0)","v":"04102-COQUIMBO"},"105404","80301038","2021-08-17T05:45:20",0,null,null,5]
[7,"5",2021,{"$f":"IFERROR(VLOOKUP(Tabla_SERIEBM_01_6[[#This Row],[IdEstablecimiento]],[1]Establecimientos!A$1:E$175,5,FALSE),0)","v":"04102-COQUIMBO"},"105404","80302023","2021-08-17T05:45:20",0,null,null,13]
[5,"5",2021,{"$f":"IFERROR(VLOOKUP(Tabla_SERIEBM_01_6[[#This Row],[IdEstablecimiento]],[1]Establecimientos!A$1:E$175,5,FALSE),0)","v":"04106-VICUÑA"},"105468","80106023","2021-06-11T11:59:14",7,null,7,null,7]
[5,"5",2021,{"$f":"IFERROR(VLOOKUP(Tabla_SERIEBM_01_6[[#This Row],[IdEstablecimiento]],[1]Establecimientos!A$1:E$175,5,FALSE),0)","v":"04101-LA SERENA"},"200402","80302067","2021-06-11T14:29:10",0,null,null,42]
[5,"5",2021,{"$f":"IFERROR(VLOOKUP(Tabla_SERIEBM_01_6[[#This Row],[IdEstablecimiento]],[1]Establecimientos!A$1:E$175,5,FALSE),0)","v":"04102-COQUIMBO"},"105303","80106002","2021-06-11T09:41:14",370,null,370,null,370]
[6,"5",2021,{"$f":"IFERROR(VLOOKUP(Tabla_SERIEBM_01_6[[#This Row],[IdEstablecimiento]],[1]Establecimientos!A$1:E$175,5,FALSE),0)","v":"04305-RIO HURTADO"},"105411","80301034","2021-07-19T12:26:31",0,null,null,1]
[9,"5",2021,{"$f":"IFERROR(VLOOKUP(Tabla_SERIEBM_01_6[[#This Row],[IdEstablecimiento]],[1]Establecimientos!A$1:E$175,5,FALSE),0)","v":"04106-VICUÑA"},"105509","80302032","2021-10-15T13:26:04",0,null,null,6]
[8,"5",2021,{"$f":"IFERROR(VLOOKUP(Tabla_SERIEBM_01_6[[#This Row],[IdEstablecimiento]],[1]Establecimientos!A$1:E$175,5,FALSE),0)","v":"04201-ILLAPEL"},"105487","81701001","2021-09-16T11:55:03",2,null,2,null,2]
[5,"5",2021,{"$f":"IFERROR(VLOOKUP(Tabla_SERIEBM_01_6[[#This Row],[IdEstablecimiento]],[1]Establecimientos!A$1:E$175,5,FALSE),0)","v":"04106-VICUÑA"},"105468","18020500","2021-06-11T11:59:14",8,0,8]
[5,"5",2021,{"$f":"IFERROR(VLOOKUP(Tabla_SERIEBM_01_6[[#This Row],[IdEstablecimiento]],[1]Establecimientos!A$1:E$175,5,FALSE),0)","v":"04105-PAIHUANO"},"105306","80306061","2021-06-11T09:45:47",0,null,null,5]
[3,"5",2021,{"$f":"IFERROR(VLOOKUP(Tabla_SERIEBM_01_6[[#This Row],[IdEstablecimiento]],[1]Establecimientos!A$1:E$175,5,FALSE),0)","v":"04102-COQUIMBO"},"105323","80303027","2021-11-08T11:57:54",0,null,null,10]
[7,"5",2021,{"$f":"IFERROR(VLOOKUP(Tabla_SERIEBM_01_6[[#This Row],[IdEstablecimiento]],[1]Establecimientos!A$1:E$175,5,FALSE),0)","v":"04201-ILLAPEL"},"105444","80302057","2021-08-17T06:26:34",0,null,null,18]
[7,"5",2021,{"$f":"IFERROR(VLOOKUP(Tabla_SERIEBM_01_6[[#This Row],[IdEstablecimiento]],[1]Establecimientos!A$1:E$175,5,FALSE),0)","v":"04201-ILLAPEL"},"105445","80302047","2021-08-17T06:27:05",0,null,null,13]
[5,"5",2021,{"$f":"IFERROR(VLOOKUP(Tabla_SERIEBM_01_6[[#This Row],[IdEstablecimiento]],[1]Establecimientos!A$1:E$175,5,FALSE),0)","v":"04101-LA SERENA"},"105325","82001015","2021-06-11T09:56:30",9,null,9,null,9]
[1,"5",2021,{"$f":"IFERROR(VLOOKUP(Tabla_SERIEBM_01_6[[#This Row],[IdEstablecimiento]],[1]Establecimientos!A$1:E$175,5,FALSE),0)","v":"04305-RIO HURTADO"},"105409","18400900","2021-02-18T03:34:35",1,null,1]
[6,"5",2021,{"$f":"IFERROR(VLOOKUP(Tabla_SERIEBM_01_6[[#This Row],[IdEstablecimiento]],[1]Establecimientos!A$1:E$175,5,FALSE),0)","v":"04101-LA SERENA"},"105313","80106023","2021-07-19T12:05:08",102,null,102,null,102]
[4,"5",2021,{"$f":"IFERROR(VLOOKUP(Tabla_SERIEBM_01_6[[#This Row],[IdEstablecimiento]],[1]Establecimientos!A$1:E$175,5,FALSE),0)","v":"04202-CANELA"},"105482","18050200","2021-05-14T10:12:10",18,0,18]
[4,"5",2021,{"$f":"IFERROR(VLOOKUP(Tabla_SERIEBM_01_6[[#This Row],[IdEstablecimiento]],[1]Establecimientos!A$1:E$175,5,FALSE),0)","v":"04203-LOS VILOS"},"105480","80306048","2021-10-18T08:00:13",0,null,null,2]
[8,"5",2021,{"$f":"IFERROR(VLOOKUP(Tabla_SERIEBM_01_6[[#This Row],[IdEstablecimiento]],[1]Establecimientos!A$1:E$175,5,FALSE),0)","v":"04204-SALAMANCA"},"105456","80106002","2021-09-16T11:33:57",24,null,24]
[1,"5",2021,{"$f":"IFERROR(VLOOKUP(Tabla_SERIEBM_01_6[[#This Row],[IdEstablecimiento]],[1]Establecimientos!A$1:E$175,5,FALSE),0)","v":"04101-LA SERENA"},"105319","80301041","2021-02-18T03:28:04",0,null,null,95]
[7,"5",2021,{"$f":"IFERROR(VLOOKUP(Tabla_SERIEBM_01_6[[#This Row],[IdEstablecimiento]],[1]Establecimientos!A$1:E$175,5,FALSE),0)","v":"04301-OVALLE"},"200258","18050100","2021-08-18T09:21:45",56,0,56]
[9,"5",2021,{"$f":"IFERROR(VLOOKUP(Tabla_SERIEBM_01_6[[#This Row],[IdEstablecimiento]],[1]Establecimientos!A$1:E$175,5,FALSE),0)","v":"04102-COQUIMBO"},"105803","80106008","2021-10-15T13:30:13",1,1,null,1]
[9,"5",2021,{"$f":"IFERROR(VLOOKUP(Tabla_SERIEBM_01_6[[#This Row],[IdEstablecimiento]],[1]Establecimientos!A$1:E$175,5,FALSE),0)","v":"04202-CANELA"},"105309","80308004","2021-10-15T12:35:47",0,null,null,1]
[9,"5",2021,{"$f":"IFERROR(VLOOKUP(Tabla_SERIEBM_01_6[[#This Row],[IdEstablecimiento]],[1]Establecimientos!A$1:E$175,5,FALSE),0)","v":"04204-SALAMANCA"},"105452","80106010","2021-10-15T13:03:40",1,null,1]
[7,"5",2021,{"$f":"IFERROR(VLOOKUP(Tabla_SERIEBM_01_6[[#This Row],[IdEstablecimiento]],[1]Establecimientos!A$1:E$175,5,FALSE),0)","v":"04105-PAIHUANO"},"105477","80106011","2021-08-17T07:04:15",2,null,2,null,2]
[9,"5",2021,{"$f":"IFERROR(VLOOKUP(Tabla_SERIEBM_01_6[[#This Row],[IdEstablecimiento]],[1]Establecimientos!A$1:E$175,5,FALSE),0)","v":"04106-VICUÑA"},"105470","80309024","2021-10-15T13:10:38",0,null,null,8]
[9,"5",2021,{"$f":"IFERROR(VLOOKUP(Tabla_SERIEBM_01_6[[#This Row],[IdEstablecimiento]],[1]Establecimientos!A$1:E$175,5,FALSE),0)","v":"04204-SALAMANCA"},"105452","80106023","2021-10-15T13:03:40",6,null,6]
[1,"5",2021,{"$f":"IFERROR(VLOOKUP(Tabla_SERIEBM_01_6[[#This Row],[IdEstablecimiento]],[1]Establecimientos!A$1:E$175,5,FALSE),0)","v":"04101-LA SERENA"},"105801","80500011","2021-02-18T05:50:29",26,26,null,null,26]
[9,"5",2021,{"$f":"IFERROR(VLOOKUP(Tabla_SERIEBM_01_6[[#This Row],[IdEstablecimiento]],[1]Establecimientos!A$1:E$175,5,FALSE),0)","v":"04302-COMBARBALÁ"},"105463","18400900","2021-10-15T13:08:00",3,null,3]
[9,"5",2021,{"$f":"IFERROR(VLOOKUP(Tabla_SERIEBM_01_6[[#This Row],[IdEstablecimiento]],[1]Establecimientos!A$1:E$175,5,FALSE),0)","v":"04101-LA SERENA"},"105802","81602221","2021-10-15T13:29:51",6,6,null,6]
[7,"5",2021,{"$f":"IFERROR(VLOOKUP(Tabla_SERIEBM_01_6[[#This Row],[IdEstablecimiento]],[1]Establecimientos!A$1:E$175,5,FALSE),0)","v":"04105-PAIHUANO"},"105477","80500011","2021-08-17T07:04:15",32,null,32,null,32]
[9,"5",2021,{"$f":"IFERROR(VLOOKUP(Tabla_SERIEBM_01_6[[#This Row],[IdEstablecimiento]],[1]Establecimientos!A$1:E$175,5,FALSE),0)","v":"04106-VICUÑA"},"105467","80106008","2021-10-15T13:09:29",1,null,1,null,1]
[9,"5",2021,{"$f":"IFERROR(VLOOKUP(Tabla_SERIEBM_01_6[[#This Row],[IdEstablecimiento]],[1]Establecimientos!A$1:E$175,5,FALSE),0)","v":"04106-VICUÑA"},"105468","80309024","2021-10-15T13:09:52",0,null,null,6]
[5,"5",2021,{"$f":"IFERROR(VLOOKUP(Tabla_SERIEBM_01_6[[#This Row],[IdEstablecimiento]],[1]Establecimientos!A$1:E$175,5,FALSE),0)","v":"04101-LA SERENA"},"105825","81602241","2021-06-11T14:24:02",1,1,null,1]
[5,"5",2021,{"$f":"IFERROR(VLOOKUP(Tabla_SERIEBM_01_6[[#This Row],[IdEstablecimiento]],[1]Establecimientos!A$1:E$175,5,FALSE),0)","v":"04301-OVALLE"},"200258","18050100","2021-06-11T14:26:43",51,0,51]
[5,"5",2021,{"$f":"IFERROR(VLOOKUP(Tabla_SERIEBM_01_6[[#This Row],[IdEstablecimiento]],[1]Establecimientos!A$1:E$175,5,FALSE),0)","v":"04102-COQUIMBO"},"200499","18020500","2021-06-11T14:30:22",247,14,233]
[5,"5",2021,{"$f":"IFERROR(VLOOKUP(Tabla_SERIEBM_01_6[[#This Row],[IdEstablecimiento]],[1]Establecimientos!A$1:E$175,5,FALSE),0)","v":"04102-COQUIMBO"},"200848","81701001","2021-06-11T14:40:26",39,39,null,0,39]
[1,"5",2021,{"$f":"IFERROR(VLOOKUP(Tabla_SERIEBM_01_6[[#This Row],[IdEstablecimiento]],[1]Establecimientos!A$1:E$175,5,FALSE),0)","v":"04303-MONTE PATRIA"},"105307","18010100","2021-02-18T03:21:17",1868,0,1868]
[6,"5",2021,{"$f":"IFERROR(VLOOKUP(Tabla_SERIEBM_01_6[[#This Row],[IdEstablecimiento]],[1]Establecimientos!A$1:E$175,5,FALSE),0)","v":"04102-COQUIMBO"},"105823","80106017","2021-07-19T15:07:32",3,3,null,null,3]
[9,"5",2021,{"$f":"IFERROR(VLOOKUP(Tabla_SERIEBM_01_6[[#This Row],[IdEstablecimiento]],[1]Establecimientos!A$1:E$175,5,FALSE),0)","v":"04106-VICUÑA"},"105469","80301059","2021-10-15T13:10:14",0,null,null,1]
[9,"5",2021,{"$f":"IFERROR(VLOOKUP(Tabla_SERIEBM_01_6[[#This Row],[IdEstablecimiento]],[1]Establecimientos!A$1:E$175,5,FALSE),0)","v":"04106-VICUÑA"},"105469","80106017","2021-10-15T13:10:14",21,null,21,null,21]
[7,"5",2021,{"$f":"IFERROR(VLOOKUP(Tabla_SERIEBM_01_6[[#This Row],[IdEstablecimiento]],[1]Establecimientos!A$1:E$175,5,FALSE),0)","v":"04305-RIO HURTADO"},"105310","81602222","2021-08-17T04:57:59",2,null,2,null,2]
[6,"5",2021,{"$f":"IFERROR(VLOOKUP(Tabla_SERIEBM_01_6[[#This Row],[IdEstablecimiento]],[1]Establecimientos!A$1:E$175,5,FALSE),0)","v":"04201-ILLAPEL"},"105448","80301045","2021-07-19T14:08:05",0,null,null,7]
[9,"5",2021,{"$f":"IFERROR(VLOOKUP(Tabla_SERIEBM_01_6[[#This Row],[IdEstablecimiento]],[1]Establecimientos!A$1:E$175,5,FALSE),0)","v":"04106-VICUÑA"},"105467","81701001","2021-10-15T13:09:29",9,null,9,null,9]
[7,"5",2021,{"$f":"IFERROR(VLOOKUP(Tabla_SERIEBM_01_6[[#This Row],[IdEstablecimiento]],[1]Establecimientos!A$1:E$175,5,FALSE),0)","v":"04305-RIO HURTADO"},"105310","18030000","2021-08-17T04:57:59",2,0,2]
[11,"5",2021,{"$f":"IFERROR(VLOOKUP(Tabla_SERIEBM_01_6[[#This Row],[IdEstablecimiento]],[1]Establecimientos!A$1:E$175,5,FALSE),0)","v":"04304-PUNITAQUI"},"105308","18050100","2021-12-17T08:00:02",87,0,87]
[11,"5",2021,{"$f":"IFERROR(VLOOKUP(Tabla_SERIEBM_01_6[[#This Row],[IdEstablecimiento]],[1]Establecimientos!A$1:E$175,5,FALSE),0)","v":"04202-CANELA"},"105309","80301015","2021-12-17T08:00:38",0,null,null,6]
[5,"5",2021,{"$f":"IFERROR(VLOOKUP(Tabla_SERIEBM_01_6[[#This Row],[IdEstablecimiento]],[1]Establecimientos!A$1:E$175,5,FALSE),0)","v":"04101-LA SERENA"},"105400","80302064","2021-06-11T09:57:25",0,null,null,3]
[9,"5",2021,{"$f":"IFERROR(VLOOKUP(Tabla_SERIEBM_01_6[[#This Row],[IdEstablecimiento]],[1]Establecimientos!A$1:E$175,5,FALSE),0)","v":"04301-OVALLE"},"105322","80306011","2021-10-15T12:43:24",541,null,541]
[9,"5",2021,{"$f":"IFERROR(VLOOKUP(Tabla_SERIEBM_01_6[[#This Row],[IdEstablecimiento]],[1]Establecimientos!A$1:E$175,5,FALSE),0)","v":"04102-COQUIMBO"},"105321","18050100","2021-10-15T12:42:58",166,53,113]
[4,"5",2021,{"$f":"IFERROR(VLOOKUP(Tabla_SERIEBM_01_6[[#This Row],[IdEstablecimiento]],[1]Establecimientos!A$1:E$175,5,FALSE),0)","v":"04203-LOS VILOS"},"105511","80106015","2021-10-18T08:01:18",2,null,2,null,2]
[1,"5",2021,{"$f":"IFERROR(VLOOKUP(Tabla_SERIEBM_01_6[[#This Row],[IdEstablecimiento]],[1]Establecimientos!A$1:E$175,5,FALSE),0)","v":"04102-COQUIMBO"},"200273","80305019","2021-02-18T05:58:38",0,null,null,1]
[9,"5",2021,{"$f":"IFERROR(VLOOKUP(Tabla_SERIEBM_01_6[[#This Row],[IdEstablecimiento]],[1]Establecimientos!A$1:E$175,5,FALSE),0)","v":"04201-ILLAPEL"},"105326","80309023","2021-10-15T12:46:31",0,null,null,133]
[1,"5",2021,{"$f":"IFERROR(VLOOKUP(Tabla_SERIEBM_01_6[[#This Row],[IdEstablecimiento]],[1]Establecimientos!A$1:E$175,5,FALSE),0)","v":"04303-MONTE PATRIA"},"200720","18040100","2021-02-18T06:04:39",24,10,14]
[3,"5",2021,{"$f":"IFERROR(VLOOKUP(Tabla_SERIEBM_01_6[[#This Row],[IdEstablecimiento]],[1]Establecimientos!A$1:E$175,5,FALSE),0)","v":"04102-COQUIMBO"},"105304","18400700","2021-11-08T10:16:49",2340]
[6,"5",2021,{"$f":"IFERROR(VLOOKUP(Tabla_SERIEBM_01_6[[#This Row],[IdEstablecimiento]],[1]Establecimientos!A$1:E$175,5,FALSE),0)","v":"04203-LOS VILOS"},"105479","80306011","2021-07-19T14:35:10",0,null,null,1]
[11,"5",2021,{"$f":"IFERROR(VLOOKUP(Tabla_SERIEBM_01_6[[#This Row],[IdEstablecimiento]],[1]Establecimientos!A$1:E$175,5,FALSE),0)","v":"04202-CANELA"},"105309","80404006","2021-12-17T08:00:38",10,null,10]
[11,"5",2021,{"$f":"IFERROR(VLOOKUP(Tabla_SERIEBM_01_6[[#This Row],[IdEstablecimiento]],[1]Establecimientos!A$1:E$175,5,FALSE),0)","v":"04202-CANELA"},"105309","81701009","2021-12-17T08:00:38",25,null,25,null,25]
[11,"5",2021,{"$f":"IFERROR(VLOOKUP(Tabla_SERIEBM_01_6[[#This Row],[IdEstablecimiento]],[1]Establecimientos!A$1:E$175,5,FALSE),0)","v":"04305-RIO HURTADO"},"105310","80500008","2021-12-17T08:00:57",2,null,2,null,2]
[11,"5",2021,{"$f":"IFERROR(VLOOKUP(Tabla_SERIEBM_01_6[[#This Row],[IdEstablecimiento]],[1]Establecimientos!A$1:E$175,5,FALSE),0)","v":"04202-CANELA"},"105309","80307012","2021-12-17T08:00:38",0,null,null,10]
[10,"5",2021,{"$f":"IFERROR(VLOOKUP(Tabla_SERIEBM_01_6[[#This Row],[IdEstablecimiento]],[1]Establecimientos!A$1:E$175,5,FALSE),0)","v":"04101-LA SERENA"},"105313","80302075","2021-11-15T07:55:47",0,null,null,1]
[10,"5",2021,{"$f":"IFERROR(VLOOKUP(Tabla_SERIEBM_01_6[[#This Row],[IdEstablecimiento]],[1]Establecimientos!A$1:E$175,5,FALSE),0)","v":"04101-LA SERENA"},"105325","80106002","2021-11-15T08:12:46",167,null,167,null,167]
[10,"5",2021,{"$f":"IFERROR(VLOOKUP(Tabla_SERIEBM_01_6[[#This Row],[IdEstablecimiento]],[1]Establecimientos!A$1:E$175,5,FALSE),0)","v":"04301-OVALLE"},"105723","18020500","2021-11-15T12:12:35",56,0,56]
[10,"5",2021,{"$f":"IFERROR(VLOOKUP(Tabla_SERIEBM_01_6[[#This Row],[IdEstablecimiento]],[1]Establecimientos!A$1:E$175,5,FALSE),0)","v":"04101-LA SERENA"},"105801","81601110","2021-11-15T12:13:13",1,1,null,1]
[10,"5",2021,{"$f":"IFERROR(VLOOKUP(Tabla_SERIEBM_01_6[[#This Row],[IdEstablecimiento]],[1]Establecimientos!A$1:E$175,5,FALSE),0)","v":"04101-LA SERENA"},"105302","80309022","2021-11-15T07:25:55",0,null,null,439]
[2,"5",2021,{"$f":"IFERROR(VLOOKUP(Tabla_SERIEBM_01_6[[#This Row],[IdEstablecimiento]],[1]Establecimientos!A$1:E$175,5,FALSE),0)","v":"04106-VICUÑA"},"105473","80106014","2021-11-09T14:46:37",133,null,133,null,133]
[10,"5",2021,{"$f":"IFERROR(VLOOKUP(Tabla_SERIEBM_01_6[[#This Row],[IdEstablecimiento]],[1]Establecimientos!A$1:E$175,5,FALSE),0)","v":"04101-LA SERENA"},"105802","80106013","2021-11-15T12:13:51",9,9,null,null,9]
[2,"5",2021,{"$f":"IFERROR(VLOOKUP(Tabla_SERIEBM_01_6[[#This Row],[IdEstablecimiento]],[1]Establecimientos!A$1:E$175,5,FALSE),0)","v":"04201-ILLAPEL"},"200366","80306007","2021-11-09T15:17:19",0,null,null,1]
[10,"5",2021,{"$f":"IFERROR(VLOOKUP(Tabla_SERIEBM_01_6[[#This Row],[IdEstablecimiento]],[1]Establecimientos!A$1:E$175,5,FALSE),0)","v":"04102-COQUIMBO"},"200494","80301085","2021-11-15T12:28:28",0,null,null,14]
[10,"5",2021,{"$f":"IFERROR(VLOOKUP(Tabla_SERIEBM_01_6[[#This Row],[IdEstablecimiento]],[1]Establecimientos!A$1:E$175,5,FALSE),0)","v":"04102-COQUIMBO"},"200494","80305019","2021-11-15T12:28:28",0,null,null,6]
[10,"5",2021,{"$f":"IFERROR(VLOOKUP(Tabla_SERIEBM_01_6[[#This Row],[IdEstablecimiento]],[1]Establecimientos!A$1:E$175,5,FALSE),0)","v":"04102-COQUIMBO"},"200607","80302013","2021-11-15T12:30:30",0,null,null,11]
[10,"5",2021,{"$f":"IFERROR(VLOOKUP(Tabla_SERIEBM_01_6[[#This Row],[IdEstablecimiento]],[1]Establecimientos!A$1:E$175,5,FALSE),0)","v":"04303-MONTE PATRIA"},"200720","80500014","2021-11-15T12:31:03",22,null,22,null,null,22]
[10,"5",2021,{"$f":"IFERROR(VLOOKUP(Tabla_SERIEBM_01_6[[#This Row],[IdEstablecimiento]],[1]Establecimientos!A$1:E$175,5,FALSE),0)","v":"04301-OVALLE"},"200721","80106017","2021-11-15T12:31:34",2,2,null,null,2]
[10,"5",2021,{"$f":"IFERROR(VLOOKUP(Tabla_SERIEBM_01_6[[#This Row],[IdEstablecimiento]],[1]Establecimientos!A$1:E$175,5,FALSE),0)","v":"04104-LA HIGUERA"},"200740","80500011","2021-11-15T12:44:55",275,275,null,null,275]
[10,"5",2021,{"$f":"IFERROR(VLOOKUP(Tabla_SERIEBM_01_6[[#This Row],[IdEstablecimiento]],[1]Establecimientos!A$1:E$175,5,FALSE),0)","v":"04301-OVALLE"},"200721","80106013","2021-11-15T12:31:34",11,11,null,11]
[10,"5",2021,{"$f":"IFERROR(VLOOKUP(Tabla_SERIEBM_01_6[[#This Row],[IdEstablecimiento]],[1]Establecimientos!A$1:E$175,5,FALSE),0)","v":"04106-VICUÑA"},"200538","80302057","2021-11-15T12:29:29",0,null,null,40]
[10,"5",2021,{"$f":"IFERROR(VLOOKUP(Tabla_SERIEBM_01_6[[#This Row],[IdEstablecimiento]],[1]Establecimientos!A$1:E$175,5,FALSE),0)","v":"04102-COQUIMBO"},"200494","80106015","2021-11-15T12:28:28",9,null,9,null,9]
[10,"5",2021,{"$f":"IFERROR(VLOOKUP(Tabla_SERIEBM_01_6[[#This Row],[IdEstablecimiento]],[1]Establecimientos!A$1:E$175,5,FALSE),0)","v":"04102-COQUIMBO"},"200494","18090000","2021-11-15T12:28:28",56,0,56]
[10,"5",2021,{"$f":"IFERROR(VLOOKUP(Tabla_SERIEBM_01_6[[#This Row],[IdEstablecimiento]],[1]Establecimientos!A$1:E$175,5,FALSE),0)","v":"04102-COQUIMBO"},"200499","80301041","2021-11-15T12:28:56",0,null,null,100]
[10,"5",2021,{"$f":"IFERROR(VLOOKUP(Tabla_SERIEBM_01_6[[#This Row],[IdEstablecimiento]],[1]Establecimientos!A$1:E$175,5,FALSE),0)","v":"04102-COQUIMBO"},"200499","18020300","2021-11-15T12:28:56",3,3,0]
[10,"5",2021,{"$f":"IFERROR(VLOOKUP(Tabla_SERIEBM_01_6[[#This Row],[IdEstablecimiento]],[1]Establecimientos!A$1:E$175,5,FALSE),0)","v":"04106-VICUÑA"},"200538","80106002","2021-11-15T12:29:29",62,null,62,null,62]
[11,"5",2021,{"$f":"IFERROR(VLOOKUP(Tabla_SERIEBM_01_6[[#This Row],[IdEstablecimiento]],[1]Establecimientos!A$1:E$175,5,FALSE),0)","v":"04201-ILLAPEL"},"105326","80306059","2021-12-17T08:10:48",0,null,null,1]
[10,"5",2021,{"$f":"IFERROR(VLOOKUP(Tabla_SERIEBM_01_6[[#This Row],[IdEstablecimiento]],[1]Establecimientos!A$1:E$175,5,FALSE),0)","v":"04102-COQUIMBO"},"200607","80309024","2021-11-15T12:30:30",0,null,null,3]
[10,"5",2021,{"$f":"IFERROR(VLOOKUP(Tabla_SERIEBM_01_6[[#This Row],[IdEstablecimiento]],[1]Establecimientos!A$1:E$175,5,FALSE),0)","v":"04102-COQUIMBO"},"200607","81602205","2021-11-15T12:30:30",1,null,1,1]
[10,"5",2021,{"$f":"IFERROR(VLOOKUP(Tabla_SERIEBM_01_6[[#This Row],[IdEstablecimiento]],[1]Establecimientos!A$1:E$175,5,FALSE),0)","v":"04102-COQUIMBO"},"200607","80500011","2021-11-15T12:30:30",49,null,49,null,49]
[10,"5",2021,{"$f":"IFERROR(VLOOKUP(Tabla_SERIEBM_01_6[[#This Row],[IdEstablecimiento]],[1]Establecimientos!A$1:E$175,5,FALSE),0)","v":"04102-COQUIMBO"},"200848","80106012","2021-11-15T12:37:27",15,15,null,null,15]
[10,"5",2021,{"$f":"IFERROR(VLOOKUP(Tabla_SERIEBM_01_6[[#This Row],[IdEstablecimiento]],[1]Establecimientos!A$1:E$175,5,FALSE),0)","v":"04104-LA HIGUERA"},"200740","81701009","2021-11-15T12:44:55",90,90,null,null,90]
[10,"5",2021,{"$f":"IFERROR(VLOOKUP(Tabla_SERIEBM_01_6[[#This Row],[IdEstablecimiento]],[1]Establecimientos!A$1:E$175,5,FALSE),0)","v":"04301-OVALLE"},"200741","80106007","2021-11-15T12:34:28",2,2,null,null,2]
[11,"5",2021,{"$f":"IFERROR(VLOOKUP(Tabla_SERIEBM_01_6[[#This Row],[IdEstablecimiento]],[1]Establecimientos!A$1:E$175,5,FALSE),0)","v":"04303-MONTE PATRIA"},"105307","80306059","2021-12-17T07:59:39",22,null,22]
[1,"5",2021,{"$f":"IFERROR(VLOOKUP(Tabla_SERIEBM_01_6[[#This Row],[IdEstablecimiento]],[1]Establecimientos!A$1:E$175,5,FALSE),0)","v":"04201-ILLAPEL"},"105485","18050100","2021-02-18T05:23:07",23,0,23]
[10,"5",2021,{"$f":"IFERROR(VLOOKUP(Tabla_SERIEBM_01_6[[#This Row],[IdEstablecimiento]],[1]Establecimientos!A$1:E$175,5,FALSE),0)","v":"04102-COQUIMBO"},"200848","81602222","2021-11-15T12:37:27",13,13,null,null,13]
[8,"5",2021,{"$f":"IFERROR(VLOOKUP(Tabla_SERIEBM_01_6[[#This Row],[IdEstablecimiento]],[1]Establecimientos!A$1:E$175,5,FALSE),0)","v":"04305-RIO HURTADO"},"105413","80500011","2021-09-16T11:09:15",8,null,8,null,8]
[10,"5",2021,{"$f":"IFERROR(VLOOKUP(Tabla_SERIEBM_01_6[[#This Row],[IdEstablecimiento]],[1]Establecimientos!A$1:E$175,5,FALSE),0)","v":"04301-OVALLE"},"200721","18010900","2021-11-15T12:31:34",30,30,0]
[10,"5",2021,{"$f":"IFERROR(VLOOKUP(Tabla_SERIEBM_01_6[[#This Row],[IdEstablecimiento]],[1]Establecimientos!A$1:E$175,5,FALSE),0)","v":"04101-LA SERENA"},"105819","80401060","2021-11-15T13:00:08",71,71]
[10,"5",2021,{"$f":"IFERROR(VLOOKUP(Tabla_SERIEBM_01_6[[#This Row],[IdEstablecimiento]],[1]Establecimientos!A$1:E$175,5,FALSE),0)","v":"04101-LA SERENA"},"105819","18020800","2021-11-15T13:00:08",92,92,0]
[9,"5",2021,{"$f":"IFERROR(VLOOKUP(Tabla_SERIEBM_01_6[[#This Row],[IdEstablecimiento]],[1]Establecimientos!A$1:E$175,5,FALSE),0)","v":"04203-LOS VILOS"},"105478","18400900","2021-10-15T13:13:53",10,null,10]
[10,"5",2021,{"$f":"IFERROR(VLOOKUP(Tabla_SERIEBM_01_6[[#This Row],[IdEstablecimiento]],[1]Establecimientos!A$1:E$175,5,FALSE),0)","v":"04301-OVALLE"},"200742","80106013","2021-11-15T12:36:59",2,2,null,null,2]
[9,"5",2021,{"$f":"IFERROR(VLOOKUP(Tabla_SERIEBM_01_6[[#This Row],[IdEstablecimiento]],[1]Establecimientos!A$1:E$175,5,FALSE),0)","v":"04203-LOS VILOS"},"105479","80302076","2021-10-15T13:14:17",0,null,null,11]
[10,"5",2021,{"$f":"IFERROR(VLOOKUP(Tabla_SERIEBM_01_6[[#This Row],[IdEstablecimiento]],[1]Establecimientos!A$1:E$175,5,FALSE),0)","v":"04101-LA SERENA"},"105819","82106006","2021-11-15T13:00:08",11,11,null,null,11]
[9,"5",2021,{"$f":"IFERROR(VLOOKUP(Tabla_SERIEBM_01_6[[#This Row],[IdEstablecimiento]],[1]Establecimientos!A$1:E$175,5,FALSE),0)","v":"04101-LA SERENA"},"105302","81701001","2021-10-15T12:32:32",52,null,52,null,52]
[9,"5",2021,{"$f":"IFERROR(VLOOKUP(Tabla_SERIEBM_01_6[[#This Row],[IdEstablecimiento]],[1]Establecimientos!A$1:E$175,5,FALSE),0)","v":"04102-COQUIMBO"},"105823","18050100","2021-11-15T12:49:48",46,46,0]
[10,"5",2021,{"$f":"IFERROR(VLOOKUP(Tabla_SERIEBM_01_6[[#This Row],[IdEstablecimiento]],[1]Establecimientos!A$1:E$175,5,FALSE),0)","v":"04102-COQUIMBO"},"105404","80302068","2021-11-15T08:16:52",0,null,null,4]
[3,"5",2021,{"$f":"IFERROR(VLOOKUP(Tabla_SERIEBM_01_6[[#This Row],[IdEstablecimiento]],[1]Establecimientos!A$1:E$175,5,FALSE),0)","v":"04303-MONTE PATRIA"},"105311","82001015","2021-11-08T10:26:30",3,null,3,null,3]
[9,"5",2021,{"$f":"IFERROR(VLOOKUP(Tabla_SERIEBM_01_6[[#This Row],[IdEstablecimiento]],[1]Establecimientos!A$1:E$175,5,FALSE),0)","v":"04203-LOS VILOS"},"105478","81701001","2021-10-15T13:13:53",25,null,25,null,25]
[9,"5",2021,{"$f":"IFERROR(VLOOKUP(Tabla_SERIEBM_01_6[[#This Row],[IdEstablecimiento]],[1]Establecimientos!A$1:E$175,5,FALSE),0)","v":"04102-COQUIMBO"},"200273","18050100","2021-10-15T13:36:18",6,0,6]
[9,"5",2021,{"$f":"IFERROR(VLOOKUP(Tabla_SERIEBM_01_6[[#This Row],[IdEstablecimiento]],[1]Establecimientos!A$1:E$175,5,FALSE),0)","v":"04301-OVALLE"},"200367","18050100","2021-10-15T13:37:12",44,0,44]
[7,"5",2021,{"$f":"IFERROR(VLOOKUP(Tabla_SERIEBM_01_6[[#This Row],[IdEstablecimiento]],[1]Establecimientos!A$1:E$175,5,FALSE),0)","v":"04102-COQUIMBO"},"105823","80106022","2021-11-12T14:39:11",3,3,null,null,3]
[3,"5",2021,{"$f":"IFERROR(VLOOKUP(Tabla_SERIEBM_01_6[[#This Row],[IdEstablecimiento]],[1]Establecimientos!A$1:E$175,5,FALSE),0)","v":"04303-MONTE PATRIA"},"105312","80106017","2021-11-08T10:27:57",23,null,23,null,23]
[5,"5",2021,{"$f":"IFERROR(VLOOKUP(Tabla_SERIEBM_01_6[[#This Row],[IdEstablecimiento]],[1]Establecimientos!A$1:E$175,5,FALSE),0)","v":0},"200928","18040100","2021-06-11T14:41:06",18,4,14]
[3,"5",2021,{"$f":"IFERROR(VLOOKUP(Tabla_SERIEBM_01_6[[#This Row],[IdEstablecimiento]],[1]Establecimientos!A$1:E$175,5,FALSE),0)","v":"04101-LA SERENA"},"105313","80303026","2021-11-08T10:27:28",0,null,null,33]
[3,"5",2021,{"$f":"IFERROR(VLOOKUP(Tabla_SERIEBM_01_6[[#This Row],[IdEstablecimiento]],[1]Establecimientos!A$1:E$175,5,FALSE),0)","v":"04101-LA SERENA"},"105313","80404002","2021-11-08T10:27:28",69,null,69]
[3,"5",2021,{"$f":"IFERROR(VLOOKUP(Tabla_SERIEBM_01_6[[#This Row],[IdEstablecimiento]],[1]Establecimientos!A$1:E$175,5,FALSE),0)","v":"04101-LA SERENA"},"105313","18020500","2021-11-08T10:27:28",35,0,35]
[3,"5",2021,{"$f":"IFERROR(VLOOKUP(Tabla_SERIEBM_01_6[[#This Row],[IdEstablecimiento]],[1]Establecimientos!A$1:E$175,5,FALSE),0)","v":"04301-OVALLE"},"105315","18400900","2021-11-08T10:28:48",37,7,30]
[10,"5",2021,{"$f":"IFERROR(VLOOKUP(Tabla_SERIEBM_01_6[[#This Row],[IdEstablecimiento]],[1]Establecimientos!A$1:E$175,5,FALSE),0)","v":"04102-COQUIMBO"},"200607","80301085","2021-11-15T12:30:30",0,null,null,9]
[3,"5",2021,{"$f":"IFERROR(VLOOKUP(Tabla_SERIEBM_01_6[[#This Row],[IdEstablecimiento]],[1]Establecimientos!A$1:E$175,5,FALSE),0)","v":"04303-MONTE PATRIA"},"105318","80307011","2021-11-08T10:33:13",274,null,274]
[3,"5",2021,{"$f":"IFERROR(VLOOKUP(Tabla_SERIEBM_01_6[[#This Row],[IdEstablecimiento]],[1]Establecimientos!A$1:E$175,5,FALSE),0)","v":"04303-MONTE PATRIA"},"105318","18400900","2021-11-08T10:33:13",14,4,10]
[3,"5",2021,{"$f":"IFERROR(VLOOKUP(Tabla_SERIEBM_01_6[[#This Row],[IdEstablecimiento]],[1]Establecimientos!A$1:E$175,5,FALSE),0)","v":"04102-COQUIMBO"},"105321","80302034","2021-11-08T11:54:57",7,null,null,7]
[10,"5",2021,{"$f":"IFERROR(VLOOKUP(Tabla_SERIEBM_01_6[[#This Row],[IdEstablecimiento]],[1]Establecimientos!A$1:E$175,5,FALSE),0)","v":"04301-OVALLE"},"105822","81701009","2021-11-15T12:20:29",4,4]
[4,"5",2021,{"$f":"IFERROR(VLOOKUP(Tabla_SERIEBM_01_6[[#This Row],[IdEstablecimiento]],[1]Establecimientos!A$1:E$175,5,FALSE),0)","v":"04101-LA SERENA"},"105402","80306011","2021-05-13T17:09:42",0,null,null,1]
[4,"5",2021,{"$f":"IFERROR(VLOOKUP(Tabla_SERIEBM_01_6[[#This Row],[IdEstablecimiento]],[1]Establecimientos!A$1:E$175,5,FALSE),0)","v":"04102-COQUIMBO"},"105404","80106007","2021-05-13T17:11:53",1,null,1,null,1]
[3,"5",2021,{"$f":"IFERROR(VLOOKUP(Tabla_SERIEBM_01_6[[#This Row],[IdEstablecimiento]],[1]Establecimientos!A$1:E$175,5,FALSE),0)","v":"04301-OVALLE"},"105322","80302048","2021-11-08T11:57:25",284,null,284]
[5,"5",2021,{"$f":"IFERROR(VLOOKUP(Tabla_SERIEBM_01_6[[#This Row],[IdEstablecimiento]],[1]Establecimientos!A$1:E$175,5,FALSE),0)","v":"04204-SALAMANCA"},"105491","18050100","2021-06-11T12:21:13",68,0,68]
[3,"5",2021,{"$f":"IFERROR(VLOOKUP(Tabla_SERIEBM_01_6[[#This Row],[IdEstablecimiento]],[1]Establecimientos!A$1:E$175,5,FALSE),0)","v":"04101-LA SERENA"},"105400","80302013","2021-11-08T11:59:47",0,null,null,33]
[1,"5",2021,{"$f":"IFERROR(VLOOKUP(Tabla_SERIEBM_01_6[[#This Row],[IdEstablecimiento]],[1]Establecimientos!A$1:E$175,5,FALSE),0)","v":"04204-SALAMANCA"},"105501","80500011","2021-02-18T05:30:36",17,null,17]
[6,"5",2021,{"$f":"IFERROR(VLOOKUP(Tabla_SERIEBM_01_6[[#This Row],[IdEstablecimiento]],[1]Establecimientos!A$1:E$175,5,FALSE),0)","v":"04301-OVALLE"},"200721","18010900","2021-07-19T15:19:11",66,66,0]
[10,"5",2021,{"$f":"IFERROR(VLOOKUP(Tabla_SERIEBM_01_6[[#This Row],[IdEstablecimiento]],[1]Establecimientos!A$1:E$175,5,FALSE),0)","v":"04301-OVALLE"},"200569","80106014","2021-11-15T12:29:59",105,null,105,null,105]
[10,"5",2021,{"$f":"IFERROR(VLOOKUP(Tabla_SERIEBM_01_6[[#This Row],[IdEstablecimiento]],[1]Establecimientos!A$1:E$175,5,FALSE),0)","v":"04101-LA SERENA"},"105700","80500011","2021-11-15T12:09:50",6,null,6]
[4,"5",2021,{"$f":"IFERROR(VLOOKUP(Tabla_SERIEBM_01_6[[#This Row],[IdEstablecimiento]],[1]Establecimientos!A$1:E$175,5,FALSE),0)","v":"04303-MONTE PATRIA"},"105431","18030000","2021-05-13T17:21:09",1,0,1]
[5,"5",2021,{"$f":"IFERROR(VLOOKUP(Tabla_SERIEBM_01_6[[#This Row],[IdEstablecimiento]],[1]Establecimientos!A$1:E$175,5,FALSE),0)","v":"04303-MONTE PATRIA"},"105489","81701009","2021-06-11T12:20:20",23,null,23,null,23]
[5,"5",2021,{"$f":"IFERROR(VLOOKUP(Tabla_SERIEBM_01_6[[#This Row],[IdEstablecimiento]],[1]Establecimientos!A$1:E$175,5,FALSE),0)","v":"04302-COMBARBALÁ"},"105490","80106014","2021-06-11T12:20:46",5,null,5,null,5]
[5,"5",2021,{"$f":"IFERROR(VLOOKUP(Tabla_SERIEBM_01_6[[#This Row],[IdEstablecimiento]],[1]Establecimientos!A$1:E$175,5,FALSE),0)","v":"04106-VICUÑA"},"105467","80106010","2021-06-11T11:58:42",1,null,1,null,1]
[5,"5",2021,{"$f":"IFERROR(VLOOKUP(Tabla_SERIEBM_01_6[[#This Row],[IdEstablecimiento]],[1]Establecimientos!A$1:E$175,5,FALSE),0)","v":"04106-VICUÑA"},"105467","18050100","2021-06-11T11:58:42",21,0,21]
[5,"5",2021,{"$f":"IFERROR(VLOOKUP(Tabla_SERIEBM_01_6[[#This Row],[IdEstablecimiento]],[1]Establecimientos!A$1:E$175,5,FALSE),0)","v":"04201-ILLAPEL"},"105326","81901019","2021-06-11T09:56:56",2,null,2,null,2]
[8,"5",2021,{"$f":"IFERROR(VLOOKUP(Tabla_SERIEBM_01_6[[#This Row],[IdEstablecimiento]],[1]Establecimientos!A$1:E$175,5,FALSE),0)","v":"04201-ILLAPEL"},"105326","80306061","2021-09-16T11:04:19",0,null,null,21]
[8,"5",2021,{"$f":"IFERROR(VLOOKUP(Tabla_SERIEBM_01_6[[#This Row],[IdEstablecimiento]],[1]Establecimientos!A$1:E$175,5,FALSE),0)","v":"04104-LA HIGUERA"},"105314","80302060","2021-09-16T10:55:15",0,null,null,231]
[6,"5",2021,{"$f":"IFERROR(VLOOKUP(Tabla_SERIEBM_01_6[[#This Row],[IdEstablecimiento]],[1]Establecimientos!A$1:E$175,5,FALSE),0)","v":"04202-CANELA"},"105450","80106005","2021-07-19T14:10:04",23,23,null,null,23]
[3,"5",2021,{"$f":"IFERROR(VLOOKUP(Tabla_SERIEBM_01_6[[#This Row],[IdEstablecimiento]],[1]Establecimientos!A$1:E$175,5,FALSE),0)","v":"04102-COQUIMBO"},"105405","80301041","2021-11-08T12:01:24",0,null,null,24]
[7,"5",2021,{"$f":"IFERROR(VLOOKUP(Tabla_SERIEBM_01_6[[#This Row],[IdEstablecimiento]],[1]Establecimientos!A$1:E$175,5,FALSE),0)","v":"04105-PAIHUANO"},"105306","80309028","2021-08-17T04:54:09",0,null,null,1]
[10,"5",2021,{"$f":"IFERROR(VLOOKUP(Tabla_SERIEBM_01_6[[#This Row],[IdEstablecimiento]],[1]Establecimientos!A$1:E$175,5,FALSE),0)","v":"04101-LA SERENA"},"105300","82001015","2021-11-15T07:23:13",5,0,5,null,5]
[10,"5",2021,{"$f":"IFERROR(VLOOKUP(Tabla_SERIEBM_01_6[[#This Row],[IdEstablecimiento]],[1]Establecimientos!A$1:E$175,5,FALSE),0)","v":"04101-LA SERENA"},"105300","18020500","2021-11-15T07:23:13",120,0,120]
[8,"5",2021,{"$f":"IFERROR(VLOOKUP(Tabla_SERIEBM_01_6[[#This Row],[IdEstablecimiento]],[1]Establecimientos!A$1:E$175,5,FALSE),0)","v":"04101-LA SERENA"},"105700","80302067","2021-09-16T13:09:33",0,null,null,49]
[5,"5",2021,{"$f":"IFERROR(VLOOKUP(Tabla_SERIEBM_01_6[[#This Row],[IdEstablecimiento]],[1]Establecimientos!A$1:E$175,5,FALSE),0)","v":"04204-SALAMANCA"},"105458","18040200","2021-06-11T11:51:16",2,null,2]
[10,"5",2021,{"$f":"IFERROR(VLOOKUP(Tabla_SERIEBM_01_6[[#This Row],[IdEstablecimiento]],[1]Establecimientos!A$1:E$175,5,FALSE),0)","v":"04102-COQUIMBO"},"105405","80106013","2021-11-15T08:17:35",3,null,3,null,2]
[10,"5",2021,{"$f":"IFERROR(VLOOKUP(Tabla_SERIEBM_01_6[[#This Row],[IdEstablecimiento]],[1]Establecimientos!A$1:E$175,5,FALSE),0)","v":"04301-OVALLE"},"200569","81602202","2021-11-15T12:29:59",119,null,119,119]
[8,"5",2021,{"$f":"IFERROR(VLOOKUP(Tabla_SERIEBM_01_6[[#This Row],[IdEstablecimiento]],[1]Establecimientos!A$1:E$175,5,FALSE),0)","v":"04101-LA SERENA"},"200402","80302032","2021-09-16T13:25:27",0,null,null,57]
[1,"5",2021,{"$f":"IFERROR(VLOOKUP(Tabla_SERIEBM_01_6[[#This Row],[IdEstablecimiento]],[1]Establecimientos!A$1:E$175,5,FALSE),0)","v":"04305-RIO HURTADO"},"105410","82001015","2021-02-18T03:34:59",1,null,1,null,1]
[7,"5",2021,{"$f":"IFERROR(VLOOKUP(Tabla_SERIEBM_01_6[[#This Row],[IdEstablecimiento]],[1]Establecimientos!A$1:E$175,5,FALSE),0)","v":"04303-MONTE PATRIA"},"105430","80106002","2021-08-17T06:04:42",3,null,3,null,3]
[9,"5",2021,{"$f":"IFERROR(VLOOKUP(Tabla_SERIEBM_01_6[[#This Row],[IdEstablecimiento]],[1]Establecimientos!A$1:E$175,5,FALSE),0)","v":"04201-ILLAPEL"},"200366","18020500","2021-10-15T13:36:45",102,0,102]
[3,"5",2021,{"$f":"IFERROR(VLOOKUP(Tabla_SERIEBM_01_6[[#This Row],[IdEstablecimiento]],[1]Establecimientos!A$1:E$175,5,FALSE),0)","v":"04201-ILLAPEL"},"105443","18700100","2021-11-08T12:15:06",28,2,24,2]
[9,"5",2021,{"$f":"IFERROR(VLOOKUP(Tabla_SERIEBM_01_6[[#This Row],[IdEstablecimiento]],[1]Establecimientos!A$1:E$175,5,FALSE),0)","v":"04101-LA SERENA"},"105301","80106023","2021-10-15T12:32:09",111,null,111,null,111]
[5,"5",2021,{"$f":"IFERROR(VLOOKUP(Tabla_SERIEBM_01_6[[#This Row],[IdEstablecimiento]],[1]Establecimientos!A$1:E$175,5,FALSE),0)","v":"04301-OVALLE"},"105417","18090000","2021-06-11T10:03:28",11,0,11]
[8,"5",2021,{"$f":"IFERROR(VLOOKUP(Tabla_SERIEBM_01_6[[#This Row],[IdEstablecimiento]],[1]Establecimientos!A$1:E$175,5,FALSE),0)","v":"04106-VICUÑA"},"200538","80306011","2021-09-16T13:28:19",0,null,null,18]
[4,"5",2021,{"$f":"IFERROR(VLOOKUP(Tabla_SERIEBM_01_6[[#This Row],[IdEstablecimiento]],[1]Establecimientos!A$1:E$175,5,FALSE),0)","v":"04101-LA SERENA"},"105300","80302047","2021-05-13T16:38:54",0,null,null,404]
[1,"5",2021,{"$f":"IFERROR(VLOOKUP(Tabla_SERIEBM_01_6[[#This Row],[IdEstablecimiento]],[1]Establecimientos!A$1:E$175,5,FALSE),0)","v":"04204-SALAMANCA"},"105456","80106023","2021-02-18T04:07:57",11,null,11]
[8,"5",2021,{"$f":"IFERROR(VLOOKUP(Tabla_SERIEBM_01_6[[#This Row],[IdEstablecimiento]],[1]Establecimientos!A$1:E$175,5,FALSE),0)","v":"04305-RIO HURTADO"},"105503","80106015","2021-09-16T13:02:27",2,null,2,null,2]
[7,"5",2021,{"$f":"IFERROR(VLOOKUP(Tabla_SERIEBM_01_6[[#This Row],[IdEstablecimiento]],[1]Establecimientos!A$1:E$175,5,FALSE),0)","v":"04301-OVALLE"},"200742","80106015","2021-08-17T10:00:24",19,19,null,null,19]
[9,"5",2021,{"$f":"IFERROR(VLOOKUP(Tabla_SERIEBM_01_6[[#This Row],[IdEstablecimiento]],[1]Establecimientos!A$1:E$175,5,FALSE),0)","v":"04101-LA SERENA"},"105819","81301030","2021-10-21T14:34:10",1,1,null,1]
[5,"5",2021,{"$f":"IFERROR(VLOOKUP(Tabla_SERIEBM_01_6[[#This Row],[IdEstablecimiento]],[1]Establecimientos!A$1:E$175,5,FALSE),0)","v":"04101-LA SERENA"},"105300","80306011","2021-06-11T09:39:21",0,null,null,40]
[6,"5",2021,{"$f":"IFERROR(VLOOKUP(Tabla_SERIEBM_01_6[[#This Row],[IdEstablecimiento]],[1]Establecimientos!A$1:E$175,5,FALSE),0)","v":"04102-COQUIMBO"},"200607","80302067","2021-07-19T15:15:19",0,null,null,181]
[6,"5",2021,{"$f":"IFERROR(VLOOKUP(Tabla_SERIEBM_01_6[[#This Row],[IdEstablecimiento]],[1]Establecimientos!A$1:E$175,5,FALSE),0)","v":"04102-COQUIMBO"},"200607","80302024","2021-07-19T15:15:19",0,null,null,2]
[8,"5",2021,{"$f":"IFERROR(VLOOKUP(Tabla_SERIEBM_01_6[[#This Row],[IdEstablecimiento]],[1]Establecimientos!A$1:E$175,5,FALSE),0)","v":"04304-PUNITAQUI"},"105440","80106002","2021-09-16T11:22:58",58,null,58,null,58]
[1,"5",2021,{"$f":"IFERROR(VLOOKUP(Tabla_SERIEBM_01_6[[#This Row],[IdEstablecimiento]],[1]Establecimientos!A$1:E$175,5,FALSE),0)","v":"04102-COQUIMBO"},"105323","80302047","2021-02-18T03:29:29",0,null,null,298]
[9,"5",2021,{"$f":"IFERROR(VLOOKUP(Tabla_SERIEBM_01_6[[#This Row],[IdEstablecimiento]],[1]Establecimientos!A$1:E$175,5,FALSE),0)","v":"04201-ILLAPEL"},"200366","80302012","2021-10-15T13:36:45",0,null,null,2]
[5,"5",2021,{"$f":"IFERROR(VLOOKUP(Tabla_SERIEBM_01_6[[#This Row],[IdEstablecimiento]],[1]Establecimientos!A$1:E$175,5,FALSE),0)","v":0},"200928","80106010","2021-06-11T14:41:06",1,1,null,null,1]
[8,"5",2021,{"$f":"IFERROR(VLOOKUP(Tabla_SERIEBM_01_6[[#This Row],[IdEstablecimiento]],[1]Establecimientos!A$1:E$175,5,FALSE),0)","v":"04302-COMBARBALÁ"},"105441","80302023","2021-09-16T11:23:28",60,null,60,60]
[8,"5",2021,{"$f":"IFERROR(VLOOKUP(Tabla_SERIEBM_01_6[[#This Row],[IdEstablecimiento]],[1]Establecimientos!A$1:E$175,5,FALSE),0)","v":"04106-VICUÑA"},"105474","80305070","2021-09-16T11:43:18",0,null,null,1]
[1,"5",2021,{"$f":"IFERROR(VLOOKUP(Tabla_SERIEBM_01_6[[#This Row],[IdEstablecimiento]],[1]Establecimientos!A$1:E$175,5,FALSE),0)","v":"04102-COQUIMBO"},"200499","80302060","2021-02-18T06:02:07",0,null,null,10]
[5,"5",2021,{"$f":"IFERROR(VLOOKUP(Tabla_SERIEBM_01_6[[#This Row],[IdEstablecimiento]],[1]Establecimientos!A$1:E$175,5,FALSE),0)","v":"04101-LA SERENA"},"200402","80106002","2021-06-11T14:29:10",19,null,19,null,19]
[7,"5",2021,{"$f":"IFERROR(VLOOKUP(Tabla_SERIEBM_01_6[[#This Row],[IdEstablecimiento]],[1]Establecimientos!A$1:E$175,5,FALSE),0)","v":"04303-MONTE PATRIA"},"105307","80301034","2021-08-17T04:54:59",11,null,11]
[8,"5",2021,{"$f":"IFERROR(VLOOKUP(Tabla_SERIEBM_01_6[[#This Row],[IdEstablecimiento]],[1]Establecimientos!A$1:E$175,5,FALSE),0)","v":"04106-VICUÑA"},"200538","80307011","2021-09-16T13:28:19",0,null,null,212]
[1,"5",2021,{"$f":"IFERROR(VLOOKUP(Tabla_SERIEBM_01_6[[#This Row],[IdEstablecimiento]],[1]Establecimientos!A$1:E$175,5,FALSE),0)","v":"04303-MONTE PATRIA"},"105436","18050100","2021-02-18T03:50:06",6,0,6]
[10,"5",2021,{"$f":"IFERROR(VLOOKUP(Tabla_SERIEBM_01_6[[#This Row],[IdEstablecimiento]],[1]Establecimientos!A$1:E$175,5,FALSE),0)","v":"04301-OVALLE"},"105507","18050100","2021-11-15T12:06:32",34,0,34]
[10,"5",2021,{"$f":"IFERROR(VLOOKUP(Tabla_SERIEBM_01_6[[#This Row],[IdEstablecimiento]],[1]Establecimientos!A$1:E$175,5,FALSE),0)","v":"04102-COQUIMBO"},"105804","80106017","2021-11-15T12:16:00",9,9,null,9]
[10,"5",2021,{"$f":"IFERROR(VLOOKUP(Tabla_SERIEBM_01_6[[#This Row],[IdEstablecimiento]],[1]Establecimientos!A$1:E$175,5,FALSE),0)","v":"04102-COQUIMBO"},"200273","80404012","2021-11-15T12:26:15",0,null,null,3]
[10,"5",2021,{"$f":"IFERROR(VLOOKUP(Tabla_SERIEBM_01_6[[#This Row],[IdEstablecimiento]],[1]Establecimientos!A$1:E$175,5,FALSE),0)","v":"04102-COQUIMBO"},"105405","80302060","2021-11-15T08:17:35",0,null,null,4]
[4,"5",2021,{"$f":"IFERROR(VLOOKUP(Tabla_SERIEBM_01_6[[#This Row],[IdEstablecimiento]],[1]Establecimientos!A$1:E$175,5,FALSE),0)","v":"04102-COQUIMBO"},"105321","81701001","2021-05-13T17:01:01",123,57,66,null,3,76]
[11,"5",2021,{"$f":"IFERROR(VLOOKUP(Tabla_SERIEBM_01_6[[#This Row],[IdEstablecimiento]],[1]Establecimientos!A$1:E$175,5,FALSE),0)","v":"04101-LA SERENA"},"105313","80106023","2021-12-17T08:02:24",87,null,87,null,87]
[11,"5",2021,{"$f":"IFERROR(VLOOKUP(Tabla_SERIEBM_01_6[[#This Row],[IdEstablecimiento]],[1]Establecimientos!A$1:E$175,5,FALSE),0)","v":"04301-OVALLE"},"105315","80500008","2021-12-17T08:03:01",11,null,11,null,11]
[11,"5",2021,{"$f":"IFERROR(VLOOKUP(Tabla_SERIEBM_01_6[[#This Row],[IdEstablecimiento]],[1]Establecimientos!A$1:E$175,5,FALSE),0)","v":"04301-OVALLE"},"105315","80500011","2021-12-17T08:03:01",28,null,28,null,28]
[1,"5",2021,{"$f":"IFERROR(VLOOKUP(Tabla_SERIEBM_01_6[[#This Row],[IdEstablecimiento]],[1]Establecimientos!A$1:E$175,5,FALSE),0)","v":"04303-MONTE PATRIA"},"105430","80106015","2021-02-18T03:47:26",4,null,4,null,4]
[8,"5",2021,{"$f":"IFERROR(VLOOKUP(Tabla_SERIEBM_01_6[[#This Row],[IdEstablecimiento]],[1]Establecimientos!A$1:E$175,5,FALSE),0)","v":"04202-CANELA"},"105309","81602231","2021-09-16T10:51:18",1,null,1,1]
[8,"5",2021,{"$f":"IFERROR(VLOOKUP(Tabla_SERIEBM_01_6[[#This Row],[IdEstablecimiento]],[1]Establecimientos!A$1:E$175,5,FALSE),0)","v":"04202-CANELA"},"105309","80500014","2021-09-16T10:51:18",0,{"$nulls":4},7]
[8,"5",2021,{"$f":"IFERROR(VLOOKUP(Tabla_SERIEBM_01_6[[#This Row],[IdEstablecimiento]],[1]Establecimientos!A$1:E$175,5,FALSE),0)","v":"04101-LA SERENA"},"105302","80306011","2021-09-16T10:47:18",0,null,null,32]
[4,"5",2021,{"$f":"IFERROR(VLOOKUP(Tabla_SERIEBM_01_6[[#This Row],[IdEstablecimiento]],[1]Establecimientos!A$1:E$175,5,FALSE),0)","v":"04102-COQUIMBO"},"105305","80500009","2021-05-13T16:48:09",11,null,11,null,11]
[6,"5",2021,{"$f":"IFERROR(VLOOKUP(Tabla_SERIEBM_01_6[[#This Row],[IdEstablecimiento]],[1]Establecimientos!A$1:E$175,5,FALSE),0)","v":"04304-PUNITAQUI"},"105308","82001015","2021-07-19T12:02:32",2,null,2,null,2]
[9,"5",2021,{"$f":"IFERROR(VLOOKUP(Tabla_SERIEBM_01_6[[#This Row],[IdEstablecimiento]],[1]Establecimientos!A$1:E$175,5,FALSE),0)","v":"04301-OVALLE"},"200258","81701001","2021-10-15T13:35:49",9,null,9,null,9]
[7,"5",2021,{"$f":"IFERROR(VLOOKUP(Tabla_SERIEBM_01_6[[#This Row],[IdEstablecimiento]],[1]Establecimientos!A$1:E$175,5,FALSE),0)","v":"04201-ILLAPEL"},"105504","80106008","2021-08-17T09:13:16",1,null,1,null,1]
[7,"5",2021,{"$f":"IFERROR(VLOOKUP(Tabla_SERIEBM_01_6[[#This Row],[IdEstablecimiento]],[1]Establecimientos!A$1:E$175,5,FALSE),0)","v":"04102-COQUIMBO"},"105305","80106006","2021-11-12T14:37:39",21,null,21,null,21]
[1,"5",2021,{"$f":"IFERROR(VLOOKUP(Tabla_SERIEBM_01_6[[#This Row],[IdEstablecimiento]],[1]Establecimientos!A$1:E$175,5,FALSE),0)","v":"04202-CANELA"},"105483","18050100","2021-02-18T05:21:17",6,0,6]
[1,"5",2021,{"$f":"IFERROR(VLOOKUP(Tabla_SERIEBM_01_6[[#This Row],[IdEstablecimiento]],[1]Establecimientos!A$1:E$175,5,FALSE),0)","v":"04303-MONTE PATRIA"},"105307","80303025","2021-02-18T03:21:17",185,null,185]
[7,"5",2021,{"$f":"IFERROR(VLOOKUP(Tabla_SERIEBM_01_6[[#This Row],[IdEstablecimiento]],[1]Establecimientos!A$1:E$175,5,FALSE),0)","v":"04104-LA HIGUERA"},"105506","18400900","2021-08-17T09:15:04",3,null,3]
[6,"5",2021,{"$f":"IFERROR(VLOOKUP(Tabla_SERIEBM_01_6[[#This Row],[IdEstablecimiento]],[1]Establecimientos!A$1:E$175,5,FALSE),0)","v":"04102-COQUIMBO"},"105304","80302040","2021-07-19T11:59:39",0,null,null,44]
[6,"5",2021,{"$f":"IFERROR(VLOOKUP(Tabla_SERIEBM_01_6[[#This Row],[IdEstablecimiento]],[1]Establecimientos!A$1:E$175,5,FALSE),0)","v":"04303-MONTE PATRIA"},"105425","18050100","2021-08-17T10:15:16",13,0,13]
[8,"5",2021,{"$f":"IFERROR(VLOOKUP(Tabla_SERIEBM_01_6[[#This Row],[IdEstablecimiento]],[1]Establecimientos!A$1:E$175,5,FALSE),0)","v":"04301-OVALLE"},"200258","81701009","2021-09-16T13:20:04",44,null,44,null,44]
[8,"5",2021,{"$f":"IFERROR(VLOOKUP(Tabla_SERIEBM_01_6[[#This Row],[IdEstablecimiento]],[1]Establecimientos!A$1:E$175,5,FALSE),0)","v":"04303-MONTE PATRIA"},"105311","80106002","2021-09-16T10:53:09",124,null,124,null,124]
[8,"5",2021,{"$f":"IFERROR(VLOOKUP(Tabla_SERIEBM_01_6[[#This Row],[IdEstablecimiento]],[1]Establecimientos!A$1:E$175,5,FALSE),0)","v":"04303-MONTE PATRIA"},"105312","80106013","2021-09-16T10:54:26",6,null,6,null,6]
[5,"5",2021,{"$f":"IFERROR(VLOOKUP(Tabla_SERIEBM_01_6[[#This Row],[IdEstablecimiento]],[1]Establecimientos!A$1:E$175,5,FALSE),0)","v":"04102-COQUIMBO"},"200494","80301041","2021-06-11T14:29:44",0,null,null,70]
[10,"5",2021,{"$f":"IFERROR(VLOOKUP(Tabla_SERIEBM_01_6[[#This Row],[IdEstablecimiento]],[1]Establecimientos!A$1:E$175,5,FALSE),0)","v":"04102-COQUIMBO"},"105407","80106014","2021-11-15T08:18:21",10,null,10,null,10]
[2,"5",2021,{"$f":"IFERROR(VLOOKUP(Tabla_SERIEBM_01_6[[#This Row],[IdEstablecimiento]],[1]Establecimientos!A$1:E$175,5,FALSE),0)","v":"04102-COQUIMBO"},"200607","80305019","2021-11-09T15:20:17",0,null,null,3]
[1,"5",2021,{"$f":"IFERROR(VLOOKUP(Tabla_SERIEBM_01_6[[#This Row],[IdEstablecimiento]],[1]Establecimientos!A$1:E$175,5,FALSE),0)","v":"04101-LA SERENA"},"105302","80302012","2021-02-18T03:19:03",0,null,null,36]
[8,"5",2021,{"$f":"IFERROR(VLOOKUP(Tabla_SERIEBM_01_6[[#This Row],[IdEstablecimiento]],[1]Establecimientos!A$1:E$175,5,FALSE),0)","v":"04102-COQUIMBO"},"105305","80500011","2021-11-15T12:47:09",77,null,77,null,77]
[8,"5",2021,{"$f":"IFERROR(VLOOKUP(Tabla_SERIEBM_01_6[[#This Row],[IdEstablecimiento]],[1]Establecimientos!A$1:E$175,5,FALSE),0)","v":"04305-RIO HURTADO"},"105409","80500011","2021-09-16T11:07:33",3,null,3,null,3]
[1,"5",2021,{"$f":"IFERROR(VLOOKUP(Tabla_SERIEBM_01_6[[#This Row],[IdEstablecimiento]],[1]Establecimientos!A$1:E$175,5,FALSE),0)","v":"04106-VICUÑA"},"105467","80301011","2021-02-18T04:16:22",0,null,null,1]
[7,"5",2021,{"$f":"IFERROR(VLOOKUP(Tabla_SERIEBM_01_6[[#This Row],[IdEstablecimiento]],[1]Establecimientos!A$1:E$175,5,FALSE),0)","v":"04303-MONTE PATRIA"},"105312","80106023","2021-08-17T04:59:33",13,null,13,null,13,13]
[8,"5",2021,{"$f":"IFERROR(VLOOKUP(Tabla_SERIEBM_01_6[[#This Row],[IdEstablecimiento]],[1]Establecimientos!A$1:E$175,5,FALSE),0)","v":"04105-PAIHUANO"},"105476","18400700","2021-09-16T11:44:28",62]
[5,"5",2021,{"$f":"IFERROR(VLOOKUP(Tabla_SERIEBM_01_6[[#This Row],[IdEstablecimiento]],[1]Establecimientos!A$1:E$175,5,FALSE),0)","v":"04203-LOS VILOS"},"105480","80309022","2021-10-19T08:43:04",0,null,null,46]
[11,"5",2021,{"$f":"IFERROR(VLOOKUP(Tabla_SERIEBM_01_6[[#This Row],[IdEstablecimiento]],[1]Establecimientos!A$1:E$175,5,FALSE),0)","v":"04202-CANELA"},"105309","18030000","2021-12-17T08:00:38",1,0,1]
[4,"5",2021,{"$f":"IFERROR(VLOOKUP(Tabla_SERIEBM_01_6[[#This Row],[IdEstablecimiento]],[1]Establecimientos!A$1:E$175,5,FALSE),0)","v":"04102-COQUIMBO"},"200848","80500011","2021-05-14T11:22:39",170,170,0,0,170]
[4,"5",2021,{"$f":"IFERROR(VLOOKUP(Tabla_SERIEBM_01_6[[#This Row],[IdEstablecimiento]],[1]Establecimientos!A$1:E$175,5,FALSE),0)","v":"04102-COQUIMBO"},"105405","80302032","2021-05-13T17:12:33",0,null,null,51]
[7,"5",2021,{"$f":"IFERROR(VLOOKUP(Tabla_SERIEBM_01_6[[#This Row],[IdEstablecimiento]],[1]Establecimientos!A$1:E$175,5,FALSE),0)","v":"04303-MONTE PATRIA"},"105312","80500011","2021-08-17T04:59:33",68,null,68,null,68]
[8,"5",2021,{"$f":"IFERROR(VLOOKUP(Tabla_SERIEBM_01_6[[#This Row],[IdEstablecimiento]],[1]Establecimientos!A$1:E$175,5,FALSE),0)","v":"04101-LA SERENA"},"105802","18040100","2021-09-16T13:13:52",6,1,5]
[4,"5",2021,{"$f":"IFERROR(VLOOKUP(Tabla_SERIEBM_01_6[[#This Row],[IdEstablecimiento]],[1]Establecimientos!A$1:E$175,5,FALSE),0)","v":"04101-LA SERENA"},"105300","80302068","2021-05-13T16:38:54",0,null,null,367]
[1,"5",2021,{"$f":"IFERROR(VLOOKUP(Tabla_SERIEBM_01_6[[#This Row],[IdEstablecimiento]],[1]Establecimientos!A$1:E$175,5,FALSE),0)","v":"04102-COQUIMBO"},"105823","81801023","2021-02-18T05:55:56",1,1,null,null,1]
[8,"5",2021,{"$f":"IFERROR(VLOOKUP(Tabla_SERIEBM_01_6[[#This Row],[IdEstablecimiento]],[1]Establecimientos!A$1:E$175,5,FALSE),0)","v":"04102-COQUIMBO"},"105323","80301036","2021-11-15T12:47:33",0,null,null,93]
[6,"5",2021,{"$f":"IFERROR(VLOOKUP(Tabla_SERIEBM_01_6[[#This Row],[IdEstablecimiento]],[1]Establecimientos!A$1:E$175,5,FALSE),0)","v":"04106-VICUÑA"},"105473","80302076","2021-07-19T14:30:15",0,null,null,6]
[8,"5",2021,{"$f":"IFERROR(VLOOKUP(Tabla_SERIEBM_01_6[[#This Row],[IdEstablecimiento]],[1]Establecimientos!A$1:E$175,5,FALSE),0)","v":"04106-VICUÑA"},"105471","80302032","2021-09-16T11:41:29",0,null,null,17]
[8,"5",2021,{"$f":"IFERROR(VLOOKUP(Tabla_SERIEBM_01_6[[#This Row],[IdEstablecimiento]],[1]Establecimientos!A$1:E$175,5,FALSE),0)","v":"04102-COQUIMBO"},"200499","80306059","2021-09-16T13:27:00",0,null,null,2]
[8,"5",2021,{"$f":"IFERROR(VLOOKUP(Tabla_SERIEBM_01_6[[#This Row],[IdEstablecimiento]],[1]Establecimientos!A$1:E$175,5,FALSE),0)","v":"04201-ILLAPEL"},"105485","80106015","2021-09-16T11:54:10",2,null,2,null,2]
[4,"5",2021,{"$f":"IFERROR(VLOOKUP(Tabla_SERIEBM_01_6[[#This Row],[IdEstablecimiento]],[1]Establecimientos!A$1:E$175,5,FALSE),0)","v":"04102-COQUIMBO"},"105321","18400700","2021-05-13T17:01:01",275]
[6,"5",2021,{"$f":"IFERROR(VLOOKUP(Tabla_SERIEBM_01_6[[#This Row],[IdEstablecimiento]],[1]Establecimientos!A$1:E$175,5,FALSE),0)","v":"04303-MONTE PATRIA"},"105307","80303028","2021-08-17T10:12:33",41,null,41]
[6,"5",2021,{"$f":"IFERROR(VLOOKUP(Tabla_SERIEBM_01_6[[#This Row],[IdEstablecimiento]],[1]Establecimientos!A$1:E$175,5,FALSE),0)","v":"04303-MONTE PATRIA"},"105307","80302067","2021-08-17T10:12:33",54,null,54]
[5,"5",2021,{"$f":"IFERROR(VLOOKUP(Tabla_SERIEBM_01_6[[#This Row],[IdEstablecimiento]],[1]Establecimientos!A$1:E$175,5,FALSE),0)","v":"04101-LA SERENA"},"105700","80309013","2021-06-11T14:07:52",0,null,null,33]
[9,"5",2021,{"$f":"IFERROR(VLOOKUP(Tabla_SERIEBM_01_6[[#This Row],[IdEstablecimiento]],[1]Establecimientos!A$1:E$175,5,FALSE),0)","v":"04101-LA SERENA"},"105401","80302068","2021-10-15T12:47:22",0,null,null,16]
[10,"5",2021,{"$f":"IFERROR(VLOOKUP(Tabla_SERIEBM_01_6[[#This Row],[IdEstablecimiento]],[1]Establecimientos!A$1:E$175,5,FALSE),0)","v":"04102-COQUIMBO"},"105405","80306011","2021-11-15T08:17:35",0,null,null,10]
[7,"5",2021,{"$f":"IFERROR(VLOOKUP(Tabla_SERIEBM_01_6[[#This Row],[IdEstablecimiento]],[1]Establecimientos!A$1:E$175,5,FALSE),0)","v":"04302-COMBARBALÁ"},"105462","80106013","2021-08-17T06:41:39",3,null,3,null,3]
[7,"5",2021,{"$f":"IFERROR(VLOOKUP(Tabla_SERIEBM_01_6[[#This Row],[IdEstablecimiento]],[1]Establecimientos!A$1:E$175,5,FALSE),0)","v":"04302-COMBARBALÁ"},"105463","80106002","2021-08-17T06:42:44",45,null,45,null,45]
[7,"5",2021,{"$f":"IFERROR(VLOOKUP(Tabla_SERIEBM_01_6[[#This Row],[IdEstablecimiento]],[1]Establecimientos!A$1:E$175,5,FALSE),0)","v":"04101-LA SERENA"},"105313","80301038","2021-08-17T05:00:26",0,null,null,85]
[9,"5",2021,{"$f":"IFERROR(VLOOKUP(Tabla_SERIEBM_01_6[[#This Row],[IdEstablecimiento]],[1]Establecimientos!A$1:E$175,5,FALSE),0)","v":"04101-LA SERENA"},"105402","80500008","2021-10-15T12:47:45",1,null,1,null,1]
[10,"5",2021,{"$f":"IFERROR(VLOOKUP(Tabla_SERIEBM_01_6[[#This Row],[IdEstablecimiento]],[1]Establecimientos!A$1:E$175,5,FALSE),0)","v":"04305-RIO HURTADO"},"105409","80309013","2021-11-15T08:18:46",0,null,null,3]
[10,"5",2021,{"$f":"IFERROR(VLOOKUP(Tabla_SERIEBM_01_6[[#This Row],[IdEstablecimiento]],[1]Establecimientos!A$1:E$175,5,FALSE),0)","v":"04305-RIO HURTADO"},"105409","81701001","2021-11-15T08:18:46",7,null,7,null,7]
[8,"5",2021,{"$f":"IFERROR(VLOOKUP(Tabla_SERIEBM_01_6[[#This Row],[IdEstablecimiento]],[1]Establecimientos!A$1:E$175,5,FALSE),0)","v":"04104-LA HIGUERA"},"200740","80500011","2021-09-16T13:34:00",372,372,null,null,372]
[1,"5",2021,{"$f":"IFERROR(VLOOKUP(Tabla_SERIEBM_01_6[[#This Row],[IdEstablecimiento]],[1]Establecimientos!A$1:E$175,5,FALSE),0)","v":"04201-ILLAPEL"},"105496","80302005","2021-02-18T05:27:54",0,null,null,15]
[6,"5",2021,{"$f":"IFERROR(VLOOKUP(Tabla_SERIEBM_01_6[[#This Row],[IdEstablecimiento]],[1]Establecimientos!A$1:E$175,5,FALSE),0)","v":"04102-COQUIMBO"},"105305","18020600","2021-08-17T10:11:59",1,0,1]
[7,"5",2021,{"$f":"IFERROR(VLOOKUP(Tabla_SERIEBM_01_6[[#This Row],[IdEstablecimiento]],[1]Establecimientos!A$1:E$175,5,FALSE),0)","v":"04102-COQUIMBO"},"105323","80302047","2021-11-12T14:38:04",0,null,null,329]
[7,"5",2021,{"$f":"IFERROR(VLOOKUP(Tabla_SERIEBM_01_6[[#This Row],[IdEstablecimiento]],[1]Establecimientos!A$1:E$175,5,FALSE),0)","v":"04302-COMBARBALÁ"},"105465","18090000","2021-08-17T06:44:06",6,0,6]
[9,"5",2021,{"$f":"IFERROR(VLOOKUP(Tabla_SERIEBM_01_6[[#This Row],[IdEstablecimiento]],[1]Establecimientos!A$1:E$175,5,FALSE),0)","v":"04102-COQUIMBO"},"105405","80303024","2021-10-15T12:48:42",0,null,null,44]
[9,"5",2021,{"$f":"IFERROR(VLOOKUP(Tabla_SERIEBM_01_6[[#This Row],[IdEstablecimiento]],[1]Establecimientos!A$1:E$175,5,FALSE),0)","v":"04203-LOS VILOS"},"105480","80301015","2021-10-15T13:14:42",0,null,null,1]
[10,"5",2021,{"$f":"IFERROR(VLOOKUP(Tabla_SERIEBM_01_6[[#This Row],[IdEstablecimiento]],[1]Establecimientos!A$1:E$175,5,FALSE),0)","v":"04101-LA SERENA"},"105300","80302076","2021-11-15T07:23:13",0,null,null,5]
[9,"5",2021,{"$f":"IFERROR(VLOOKUP(Tabla_SERIEBM_01_6[[#This Row],[IdEstablecimiento]],[1]Establecimientos!A$1:E$175,5,FALSE),0)","v":"04203-LOS VILOS"},"105480","80302023","2021-10-15T13:14:42",0,null,null,58]
[1,"5",2021,{"$f":"IFERROR(VLOOKUP(Tabla_SERIEBM_01_6[[#This Row],[IdEstablecimiento]],[1]Establecimientos!A$1:E$175,5,FALSE),0)","v":"04303-MONTE PATRIA"},"105435","18030000","2021-02-18T03:49:34",1,0,1]
[1,"5",2021,{"$f":"IFERROR(VLOOKUP(Tabla_SERIEBM_01_6[[#This Row],[IdEstablecimiento]],[1]Establecimientos!A$1:E$175,5,FALSE),0)","v":"04303-MONTE PATRIA"},"105436","81701009","2021-02-18T03:50:06",14,null,14,null,14]
[5,"5",2021,{"$f":"IFERROR(VLOOKUP(Tabla_SERIEBM_01_6[[#This Row],[IdEstablecimiento]],[1]Establecimientos!A$1:E$175,5,FALSE),0)","v":"04203-LOS VILOS"},"105480","80106002","2021-10-19T08:43:04",97,null,97,null,97]
[1,"5",2021,{"$f":"IFERROR(VLOOKUP(Tabla_SERIEBM_01_6[[#This Row],[IdEstablecimiento]],[1]Establecimientos!A$1:E$175,5,FALSE),0)","v":"04201-ILLAPEL"},"105487","80106020","2021-02-18T05:24:11",1,null,1,null,1]
[5,"5",2021,{"$f":"IFERROR(VLOOKUP(Tabla_SERIEBM_01_6[[#This Row],[IdEstablecimiento]],[1]Establecimientos!A$1:E$175,5,FALSE),0)","v":"04202-CANELA"},"105483","80106002","2021-06-11T12:07:13",8,null,8,null,8]
[7,"5",2021,{"$f":"IFERROR(VLOOKUP(Tabla_SERIEBM_01_6[[#This Row],[IdEstablecimiento]],[1]Establecimientos!A$1:E$175,5,FALSE),0)","v":"04105-PAIHUANO"},"105306","80302032","2021-08-17T04:54:09",0,null,null,95]
[7,"5",2021,{"$f":"IFERROR(VLOOKUP(Tabla_SERIEBM_01_6[[#This Row],[IdEstablecimiento]],[1]Establecimientos!A$1:E$175,5,FALSE),0)","v":"04101-LA SERENA"},"105313","80303024","2021-08-17T05:00:26",0,null,null,285]
[7,"5",2021,{"$f":"IFERROR(VLOOKUP(Tabla_SERIEBM_01_6[[#This Row],[IdEstablecimiento]],[1]Establecimientos!A$1:E$175,5,FALSE),0)","v":"04303-MONTE PATRIA"},"105307","80302064","2021-08-17T04:54:59",3,null,3]
[1,"5",2021,{"$f":"IFERROR(VLOOKUP(Tabla_SERIEBM_01_6[[#This Row],[IdEstablecimiento]],[1]Establecimientos!A$1:E$175,5,FALSE),0)","v":"04106-VICUÑA"},"105470","81701009","2021-02-18T04:35:16",41,null,41,null,41]
[1,"5",2021,{"$f":"IFERROR(VLOOKUP(Tabla_SERIEBM_01_6[[#This Row],[IdEstablecimiento]],[1]Establecimientos!A$1:E$175,5,FALSE),0)","v":"04106-VICUÑA"},"105470","80307011","2021-02-18T04:35:16",0,null,null,13]
[9,"5",2021,{"$f":"IFERROR(VLOOKUP(Tabla_SERIEBM_01_6[[#This Row],[IdEstablecimiento]],[1]Establecimientos!A$1:E$175,5,FALSE),0)","v":"04203-LOS VILOS"},"105481","80309013","2021-10-15T13:15:07",0,null,null,2]
[7,"5",2021,{"$f":"IFERROR(VLOOKUP(Tabla_SERIEBM_01_6[[#This Row],[IdEstablecimiento]],[1]Establecimientos!A$1:E$175,5,FALSE),0)","v":"04101-LA SERENA"},"105313","18700300","2021-08-17T05:00:26",15,null,15]
[5,"5",2021,{"$f":"IFERROR(VLOOKUP(Tabla_SERIEBM_01_6[[#This Row],[IdEstablecimiento]],[1]Establecimientos!A$1:E$175,5,FALSE),0)","v":"04303-MONTE PATRIA"},"105311","18050300","2021-06-11T09:49:04",4,0,4]
[8,"5",2021,{"$f":"IFERROR(VLOOKUP(Tabla_SERIEBM_01_6[[#This Row],[IdEstablecimiento]],[1]Establecimientos!A$1:E$175,5,FALSE),0)","v":"04305-RIO HURTADO"},"105410","80106020","2021-09-16T11:08:02",3,null,3,null,3]
[11,"5",2021,{"$f":"IFERROR(VLOOKUP(Tabla_SERIEBM_01_6[[#This Row],[IdEstablecimiento]],[1]Establecimientos!A$1:E$175,5,FALSE),0)","v":"04303-MONTE PATRIA"},"105318","81701001","2021-12-17T08:07:10",79,9,70,null,79]
[5,"5",2021,{"$f":"IFERROR(VLOOKUP(Tabla_SERIEBM_01_6[[#This Row],[IdEstablecimiento]],[1]Establecimientos!A$1:E$175,5,FALSE),0)","v":"04201-ILLAPEL"},"105487","80302076","2021-06-11T12:18:43",0,null,null,2]
[6,"5",2021,{"$f":"IFERROR(VLOOKUP(Tabla_SERIEBM_01_6[[#This Row],[IdEstablecimiento]],[1]Establecimientos!A$1:E$175,5,FALSE),0)","v":"04301-OVALLE"},"105324","18020900","2021-07-19T12:09:30",1,0,1]
[1,"5",2021,{"$f":"IFERROR(VLOOKUP(Tabla_SERIEBM_01_6[[#This Row],[IdEstablecimiento]],[1]Establecimientos!A$1:E$175,5,FALSE),0)","v":"04106-VICUÑA"},"105472","80302047","2021-02-18T04:39:12",0,null,null,13]
[6,"5",2021,{"$f":"IFERROR(VLOOKUP(Tabla_SERIEBM_01_6[[#This Row],[IdEstablecimiento]],[1]Establecimientos!A$1:E$175,5,FALSE),0)","v":"04302-COMBARBALÁ"},"105463","80106007","2021-07-19T14:16:54",2,null,2,null,2]
[7,"5",2021,{"$f":"IFERROR(VLOOKUP(Tabla_SERIEBM_01_6[[#This Row],[IdEstablecimiento]],[1]Establecimientos!A$1:E$175,5,FALSE),0)","v":"04102-COQUIMBO"},"105321","18020500","2021-08-17T05:07:07",117,70,47]
[7,"5",2021,{"$f":"IFERROR(VLOOKUP(Tabla_SERIEBM_01_6[[#This Row],[IdEstablecimiento]],[1]Establecimientos!A$1:E$175,5,FALSE),0)","v":"04101-LA SERENA"},"105300","80306001","2021-08-17T04:50:17",0,null,null,4]
[6,"5",2021,{"$f":"IFERROR(VLOOKUP(Tabla_SERIEBM_01_6[[#This Row],[IdEstablecimiento]],[1]Establecimientos!A$1:E$175,5,FALSE),0)","v":"04301-OVALLE"},"200569","81701001","2021-07-19T15:14:49",7,null,7,null,7]
[8,"5",2021,{"$f":"IFERROR(VLOOKUP(Tabla_SERIEBM_01_6[[#This Row],[IdEstablecimiento]],[1]Establecimientos!A$1:E$175,5,FALSE),0)","v":"04101-LA SERENA"},"105325","80306061","2021-10-18T08:58:32",0,null,null,26]
[6,"5",2021,{"$f":"IFERROR(VLOOKUP(Tabla_SERIEBM_01_6[[#This Row],[IdEstablecimiento]],[1]Establecimientos!A$1:E$175,5,FALSE),0)","v":"04101-LA SERENA"},"105319","80306011","2021-07-19T12:07:32",0,null,null,51]
[7,"5",2021,{"$f":"IFERROR(VLOOKUP(Tabla_SERIEBM_01_6[[#This Row],[IdEstablecimiento]],[1]Establecimientos!A$1:E$175,5,FALSE),0)","v":"04101-LA SERENA"},"105302","80106022","2021-08-17T04:51:52",5,null,5,null,5]
[1,"5",2021,{"$f":"IFERROR(VLOOKUP(Tabla_SERIEBM_01_6[[#This Row],[IdEstablecimiento]],[1]Establecimientos!A$1:E$175,5,FALSE),0)","v":0},"200928","80106002","2021-02-18T06:07:55",17,17,null,null,17]
[9,"5",2021,{"$f":"IFERROR(VLOOKUP(Tabla_SERIEBM_01_6[[#This Row],[IdEstablecimiento]],[1]Establecimientos!A$1:E$175,5,FALSE),0)","v":"04202-CANELA"},"105450","80106022","2021-10-15T13:02:52",1,1,null,null,1]
[8,"5",2021,{"$f":"IFERROR(VLOOKUP(Tabla_SERIEBM_01_6[[#This Row],[IdEstablecimiento]],[1]Establecimientos!A$1:E$175,5,FALSE),0)","v":"04101-LA SERENA"},"105301","80302032","2021-09-16T10:46:54",0,null,null,603]
[10,"5",2021,{"$f":"IFERROR(VLOOKUP(Tabla_SERIEBM_01_6[[#This Row],[IdEstablecimiento]],[1]Establecimientos!A$1:E$175,5,FALSE),0)","v":"04101-LA SERENA"},"105300","80306048","2021-11-15T07:23:13",0,null,null,3]
[4,"5",2021,{"$f":"IFERROR(VLOOKUP(Tabla_SERIEBM_01_6[[#This Row],[IdEstablecimiento]],[1]Establecimientos!A$1:E$175,5,FALSE),0)","v":"04301-OVALLE"},"200721","81602221","2021-05-14T11:18:15",9,9,null,null,9]
[5,"5",2021,{"$f":"IFERROR(VLOOKUP(Tabla_SERIEBM_01_6[[#This Row],[IdEstablecimiento]],[1]Establecimientos!A$1:E$175,5,FALSE),0)","v":"04101-LA SERENA"},"105700","80302067","2021-06-11T14:07:52",0,null,null,55]
[8,"5",2021,{"$f":"IFERROR(VLOOKUP(Tabla_SERIEBM_01_6[[#This Row],[IdEstablecimiento]],[1]Establecimientos!A$1:E$175,5,FALSE),0)","v":"04101-LA SERENA"},"105313","80301087","2021-09-16T10:54:51",0,null,null,5]
[1,"5",2021,{"$f":"IFERROR(VLOOKUP(Tabla_SERIEBM_01_6[[#This Row],[IdEstablecimiento]],[1]Establecimientos!A$1:E$175,5,FALSE),0)","v":"04101-LA SERENA"},"105313","80301045","2021-02-18T03:24:35",0,null,null,175]
[7,"5",2021,{"$f":"IFERROR(VLOOKUP(Tabla_SERIEBM_01_6[[#This Row],[IdEstablecimiento]],[1]Establecimientos!A$1:E$175,5,FALSE),0)","v":"04102-COQUIMBO"},"105321","80307012","2021-08-17T05:07:07",10,null,10]
[6,"5",2021,{"$f":"IFERROR(VLOOKUP(Tabla_SERIEBM_01_6[[#This Row],[IdEstablecimiento]],[1]Establecimientos!A$1:E$175,5,FALSE),0)","v":"04203-LOS VILOS"},"105481","80301041","2021-10-18T08:02:34",0,null,null,1]
[7,"5",2021,{"$f":"IFERROR(VLOOKUP(Tabla_SERIEBM_01_6[[#This Row],[IdEstablecimiento]],[1]Establecimientos!A$1:E$175,5,FALSE),0)","v":"04101-LA SERENA"},"105319","80306011","2021-08-17T05:05:40",0,null,null,47]
[1,"5",2021,{"$f":"IFERROR(VLOOKUP(Tabla_SERIEBM_01_6[[#This Row],[IdEstablecimiento]],[1]Establecimientos!A$1:E$175,5,FALSE),0)","v":"04106-VICUÑA"},"105468","80106014","2021-02-18T04:16:53",30,null,30,null,30]
[5,"5",2021,{"$f":"IFERROR(VLOOKUP(Tabla_SERIEBM_01_6[[#This Row],[IdEstablecimiento]],[1]Establecimientos!A$1:E$175,5,FALSE),0)","v":"04102-COQUIMBO"},"105304","80309023","2021-06-11T09:44:50",0,null,null,1]
[4,"5",2021,{"$f":"IFERROR(VLOOKUP(Tabla_SERIEBM_01_6[[#This Row],[IdEstablecimiento]],[1]Establecimientos!A$1:E$175,5,FALSE),0)","v":"04203-LOS VILOS"},"105511","80303024","2021-10-18T08:01:18",0,null,null,36]
[4,"5",2021,{"$f":"IFERROR(VLOOKUP(Tabla_SERIEBM_01_6[[#This Row],[IdEstablecimiento]],[1]Establecimientos!A$1:E$175,5,FALSE),0)","v":"04203-LOS VILOS"},"105511","80303028","2021-10-18T08:01:18",0,null,null,2]
[7,"5",2021,{"$f":"IFERROR(VLOOKUP(Tabla_SERIEBM_01_6[[#This Row],[IdEstablecimiento]],[1]Establecimientos!A$1:E$175,5,FALSE),0)","v":"04106-VICUÑA"},"105469","80309013","2021-08-17T06:49:21",0,null,null,12]
[8,"5",2021,{"$f":"IFERROR(VLOOKUP(Tabla_SERIEBM_01_6[[#This Row],[IdEstablecimiento]],[1]Establecimientos!A$1:E$175,5,FALSE),0)","v":"04302-COMBARBALÁ"},"105460","80106014","2021-09-16T11:36:05",45,null,45,null,45]
[11,"5",2021,{"$f":"IFERROR(VLOOKUP(Tabla_SERIEBM_01_6[[#This Row],[IdEstablecimiento]],[1]Establecimientos!A$1:E$175,5,FALSE),0)","v":"04101-LA SERENA"},"105319","80302048","2021-12-17T08:07:37",0,null,null,58]
[7,"5",2021,{"$f":"IFERROR(VLOOKUP(Tabla_SERIEBM_01_6[[#This Row],[IdEstablecimiento]],[1]Establecimientos!A$1:E$175,5,FALSE),0)","v":"04301-OVALLE"},"105322","80302048","2021-08-17T05:08:02",315,null,315]
[6,"5",2021,{"$f":"IFERROR(VLOOKUP(Tabla_SERIEBM_01_6[[#This Row],[IdEstablecimiento]],[1]Establecimientos!A$1:E$175,5,FALSE),0)","v":"04201-ILLAPEL"},"105443","80302047","2021-07-19T14:05:26",0,null,null,37]
[4,"5",2021,{"$f":"IFERROR(VLOOKUP(Tabla_SERIEBM_01_6[[#This Row],[IdEstablecimiento]],[1]Establecimientos!A$1:E$175,5,FALSE),0)","v":"04106-VICUÑA"},"105471","80106023","2021-05-14T10:05:26",28,null,28,null,28]
[6,"5",2021,{"$f":"IFERROR(VLOOKUP(Tabla_SERIEBM_01_6[[#This Row],[IdEstablecimiento]],[1]Establecimientos!A$1:E$175,5,FALSE),0)","v":"04302-COMBARBALÁ"},"105434","18050100","2021-07-19T13:58:52",10,0,10]
[6,"5",2021,{"$f":"IFERROR(VLOOKUP(Tabla_SERIEBM_01_6[[#This Row],[IdEstablecimiento]],[1]Establecimientos!A$1:E$175,5,FALSE),0)","v":"04201-ILLAPEL"},"105485","80306042","2021-07-19T14:38:16",0,null,null,3]
[4,"5",2021,{"$f":"IFERROR(VLOOKUP(Tabla_SERIEBM_01_6[[#This Row],[IdEstablecimiento]],[1]Establecimientos!A$1:E$175,5,FALSE),0)","v":"04106-VICUÑA"},"105509","80302032","2021-05-14T10:30:53",0,null,null,2]
[10,"5",2021,{"$f":"IFERROR(VLOOKUP(Tabla_SERIEBM_01_6[[#This Row],[IdEstablecimiento]],[1]Establecimientos!A$1:E$175,5,FALSE),0)","v":"04301-OVALLE"},"105416","80106014","2021-11-15T08:33:46",30,null,30]
[8,"5",2021,{"$f":"IFERROR(VLOOKUP(Tabla_SERIEBM_01_6[[#This Row],[IdEstablecimiento]],[1]Establecimientos!A$1:E$175,5,FALSE),0)","v":"04203-LOS VILOS"},"105478","80301086","2021-10-19T08:45:05",0,null,null,1]
[8,"5",2021,{"$f":"IFERROR(VLOOKUP(Tabla_SERIEBM_01_6[[#This Row],[IdEstablecimiento]],[1]Establecimientos!A$1:E$175,5,FALSE),0)","v":"04101-LA SERENA"},"105313","80301014","2021-09-16T10:54:51",0,null,null,3]
[8,"5",2021,{"$f":"IFERROR(VLOOKUP(Tabla_SERIEBM_01_6[[#This Row],[IdEstablecimiento]],[1]Establecimientos!A$1:E$175,5,FALSE),0)","v":"04101-LA SERENA"},"105319","18700250","2021-09-16T10:57:04",10,null,10]
[8,"5",2021,{"$f":"IFERROR(VLOOKUP(Tabla_SERIEBM_01_6[[#This Row],[IdEstablecimiento]],[1]Establecimientos!A$1:E$175,5,FALSE),0)","v":"04101-LA SERENA"},"105319","18700270","2021-09-16T10:57:04",14,null,14]
[6,"5",2021,{"$f":"IFERROR(VLOOKUP(Tabla_SERIEBM_01_6[[#This Row],[IdEstablecimiento]],[1]Establecimientos!A$1:E$175,5,FALSE),0)","v":"04102-COQUIMBO"},"105304","80303027","2021-07-19T11:59:39",0,null,null,1]
[9,"5",2021,{"$f":"IFERROR(VLOOKUP(Tabla_SERIEBM_01_6[[#This Row],[IdEstablecimiento]],[1]Establecimientos!A$1:E$175,5,FALSE),0)","v":"04106-VICUÑA"},"105472","80302076","2021-10-15T13:11:29",0,null,null,37]
[5,"5",2021,{"$f":"IFERROR(VLOOKUP(Tabla_SERIEBM_01_6[[#This Row],[IdEstablecimiento]],[1]Establecimientos!A$1:E$175,5,FALSE),0)","v":"04105-PAIHUANO"},"105475","80106015","2021-06-11T12:03:21",5,null,5,null,5]
[8,"5",2021,{"$f":"IFERROR(VLOOKUP(Tabla_SERIEBM_01_6[[#This Row],[IdEstablecimiento]],[1]Establecimientos!A$1:E$175,5,FALSE),0)","v":"04202-CANELA"},"105482","80106023","2021-09-16T11:52:37",5,5,null,null,5]
[8,"5",2021,{"$f":"IFERROR(VLOOKUP(Tabla_SERIEBM_01_6[[#This Row],[IdEstablecimiento]],[1]Establecimientos!A$1:E$175,5,FALSE),0)","v":"04203-LOS VILOS"},"105480","80303015","2021-10-19T08:44:36",0,null,null,3]
[5,"5",2021,{"$f":"IFERROR(VLOOKUP(Tabla_SERIEBM_01_6[[#This Row],[IdEstablecimiento]],[1]Establecimientos!A$1:E$175,5,FALSE),0)","v":"04101-LA SERENA"},"105319","80307012","2021-06-11T09:51:55",8,null,8,8]
[4,"5",2021,{"$f":"IFERROR(VLOOKUP(Tabla_SERIEBM_01_6[[#This Row],[IdEstablecimiento]],[1]Establecimientos!A$1:E$175,5,FALSE),0)","v":"04101-LA SERENA"},"105702","80302032","2021-05-14T10:34:10",0,null,null,55]
[1,"5",2021,{"$f":"IFERROR(VLOOKUP(Tabla_SERIEBM_01_6[[#This Row],[IdEstablecimiento]],[1]Establecimientos!A$1:E$175,5,FALSE),0)","v":"04303-MONTE PATRIA"},"105428","18700100","2021-02-18T03:46:55",18,3,15,0,0]
[4,"5",2021,{"$f":"IFERROR(VLOOKUP(Tabla_SERIEBM_01_6[[#This Row],[IdEstablecimiento]],[1]Establecimientos!A$1:E$175,5,FALSE),0)","v":"04303-MONTE PATRIA"},"200720","18090200","2021-05-14T11:17:36",134,0]
[1,"5",2021,{"$f":"IFERROR(VLOOKUP(Tabla_SERIEBM_01_6[[#This Row],[IdEstablecimiento]],[1]Establecimientos!A$1:E$175,5,FALSE),0)","v":"04202-CANELA"},"105309","80302005","2021-02-18T03:22:03",0,null,null,156]
[5,"5",2021,{"$f":"IFERROR(VLOOKUP(Tabla_SERIEBM_01_6[[#This Row],[IdEstablecimiento]],[1]Establecimientos!A$1:E$175,5,FALSE),0)","v":"04303-MONTE PATRIA"},"105307","18090100","2021-06-11T09:46:14",1012,0,1012]
[1,"5",2021,{"$f":"IFERROR(VLOOKUP(Tabla_SERIEBM_01_6[[#This Row],[IdEstablecimiento]],[1]Establecimientos!A$1:E$175,5,FALSE),0)","v":"04102-COQUIMBO"},"105304","80309013","2021-05-14T12:00:09",0,null,null,101]
[7,"5",2021,{"$f":"IFERROR(VLOOKUP(Tabla_SERIEBM_01_6[[#This Row],[IdEstablecimiento]],[1]Establecimientos!A$1:E$175,5,FALSE),0)","v":"04102-COQUIMBO"},"105305","80302032","2021-11-12T14:37:39",0,null,null,282]
[9,"5",2021,{"$f":"IFERROR(VLOOKUP(Tabla_SERIEBM_01_6[[#This Row],[IdEstablecimiento]],[1]Establecimientos!A$1:E$175,5,FALSE),0)","v":"04106-VICUÑA"},"105473","80302076","2021-10-15T13:11:51",0,null,null,17]
[9,"5",2021,{"$f":"IFERROR(VLOOKUP(Tabla_SERIEBM_01_6[[#This Row],[IdEstablecimiento]],[1]Establecimientos!A$1:E$175,5,FALSE),0)","v":"04202-CANELA"},"105309","80301034","2021-10-15T12:35:47",0,null,null,6]
[1,"5",2021,{"$f":"IFERROR(VLOOKUP(Tabla_SERIEBM_01_6[[#This Row],[IdEstablecimiento]],[1]Establecimientos!A$1:E$175,5,FALSE),0)","v":"04201-ILLAPEL"},"105449","80106014","2021-02-18T04:04:58",10,null,10,null,10]
[5,"5",2021,{"$f":"IFERROR(VLOOKUP(Tabla_SERIEBM_01_6[[#This Row],[IdEstablecimiento]],[1]Establecimientos!A$1:E$175,5,FALSE),0)","v":"04301-OVALLE"},"105822","80106011","2021-06-11T14:23:03",1,1]
[5,"5",2021,{"$f":"IFERROR(VLOOKUP(Tabla_SERIEBM_01_6[[#This Row],[IdEstablecimiento]],[1]Establecimientos!A$1:E$175,5,FALSE),0)","v":"04102-COQUIMBO"},"200494","80303026","2021-06-11T14:29:44",0,null,null,66]
[7,"5",2021,{"$f":"IFERROR(VLOOKUP(Tabla_SERIEBM_01_6[[#This Row],[IdEstablecimiento]],[1]Establecimientos!A$1:E$175,5,FALSE),0)","v":"04101-LA SERENA"},"200402","80301045","2021-08-17T09:49:33",0,null,null,17]
[8,"5",2021,{"$f":"IFERROR(VLOOKUP(Tabla_SERIEBM_01_6[[#This Row],[IdEstablecimiento]],[1]Establecimientos!A$1:E$175,5,FALSE),0)","v":"04201-ILLAPEL"},"200366","80306001","2021-09-16T13:23:39",0,null,null,1]
[4,"5",2021,{"$f":"IFERROR(VLOOKUP(Tabla_SERIEBM_01_6[[#This Row],[IdEstablecimiento]],[1]Establecimientos!A$1:E$175,5,FALSE),0)","v":"04201-ILLAPEL"},"200366","80308004","2021-05-14T11:10:35",0,null,null,4]
[7,"5",2021,{"$f":"IFERROR(VLOOKUP(Tabla_SERIEBM_01_6[[#This Row],[IdEstablecimiento]],[1]Establecimientos!A$1:E$175,5,FALSE),0)","v":"04201-ILLAPEL"},"105326","80303024","2021-08-17T11:31:43",0,null,null,108]
[7,"5",2021,{"$f":"IFERROR(VLOOKUP(Tabla_SERIEBM_01_6[[#This Row],[IdEstablecimiento]],[1]Establecimientos!A$1:E$175,5,FALSE),0)","v":"04303-MONTE PATRIA"},"105307","80307012","2021-08-17T04:54:59",4,null,4]
[5,"5",2021,{"$f":"IFERROR(VLOOKUP(Tabla_SERIEBM_01_6[[#This Row],[IdEstablecimiento]],[1]Establecimientos!A$1:E$175,5,FALSE),0)","v":"04101-LA SERENA"},"105801","18400700","2021-06-11T14:10:34",580]
[5,"5",2021,{"$f":"IFERROR(VLOOKUP(Tabla_SERIEBM_01_6[[#This Row],[IdEstablecimiento]],[1]Establecimientos!A$1:E$175,5,FALSE),0)","v":"04202-CANELA"},"105309","18400900","2021-06-11T09:48:04",21,1,20]
[8,"5",2021,{"$f":"IFERROR(VLOOKUP(Tabla_SERIEBM_01_6[[#This Row],[IdEstablecimiento]],[1]Establecimientos!A$1:E$175,5,FALSE),0)","v":"04105-PAIHUANO"},"105306","80301045","2021-09-16T10:49:19",0,null,null,217]
[11,"5",2021,{"$f":"IFERROR(VLOOKUP(Tabla_SERIEBM_01_6[[#This Row],[IdEstablecimiento]],[1]Establecimientos!A$1:E$175,5,FALSE),0)","v":"04102-COQUIMBO"},"105321","80302076","2021-12-17T08:07:57",0,null,null,4]
[7,"5",2021,{"$f":"IFERROR(VLOOKUP(Tabla_SERIEBM_01_6[[#This Row],[IdEstablecimiento]],[1]Establecimientos!A$1:E$175,5,FALSE),0)","v":"04106-VICUÑA"},"105472","80302034","2021-08-17T06:52:27",0,null,null,43]
[6,"5",2021,{"$f":"IFERROR(VLOOKUP(Tabla_SERIEBM_01_6[[#This Row],[IdEstablecimiento]],[1]Establecimientos!A$1:E$175,5,FALSE),0)","v":"04301-OVALLE"},"105723","80106022","2021-07-19T14:54:31",2,null,2,null,2]
[5,"5",2021,{"$f":"IFERROR(VLOOKUP(Tabla_SERIEBM_01_6[[#This Row],[IdEstablecimiento]],[1]Establecimientos!A$1:E$175,5,FALSE),0)","v":"04101-LA SERENA"},"105319","18400900","2021-06-11T09:51:55",4,2,2]
[11,"5",2021,{"$f":"IFERROR(VLOOKUP(Tabla_SERIEBM_01_6[[#This Row],[IdEstablecimiento]],[1]Establecimientos!A$1:E$175,5,FALSE),0)","v":"04102-COQUIMBO"},"105321","80301041","2021-12-17T08:07:57",0,null,null,51]
[8,"5",2021,{"$f":"IFERROR(VLOOKUP(Tabla_SERIEBM_01_6[[#This Row],[IdEstablecimiento]],[1]Establecimientos!A$1:E$175,5,FALSE),0)","v":"04106-VICUÑA"},"105470","80303026","2021-09-16T11:40:56",0,null,null,4]
[4,"5",2021,{"$f":"IFERROR(VLOOKUP(Tabla_SERIEBM_01_6[[#This Row],[IdEstablecimiento]],[1]Establecimientos!A$1:E$175,5,FALSE),0)","v":"04102-COQUIMBO"},"105321","80308004","2021-05-13T17:01:01",0,null,null,1]
[8,"5",2021,{"$f":"IFERROR(VLOOKUP(Tabla_SERIEBM_01_6[[#This Row],[IdEstablecimiento]],[1]Establecimientos!A$1:E$175,5,FALSE),0)","v":"04106-VICUÑA"},"105470","80302032","2021-09-16T11:40:56",0,null,null,4]
[7,"5",2021,{"$f":"IFERROR(VLOOKUP(Tabla_SERIEBM_01_6[[#This Row],[IdEstablecimiento]],[1]Establecimientos!A$1:E$175,5,FALSE),0)","v":"04101-LA SERENA"},"105319","18700100","2021-08-17T05:05:40",97,null,96,1]
[11,"5",2021,{"$f":"IFERROR(VLOOKUP(Tabla_SERIEBM_01_6[[#This Row],[IdEstablecimiento]],[1]Establecimientos!A$1:E$175,5,FALSE),0)","v":"04101-LA SERENA"},"105319","80301036","2021-12-17T08:07:37",0,null,null,237]
[9,"5",2021,{"$f":"IFERROR(VLOOKUP(Tabla_SERIEBM_01_6[[#This Row],[IdEstablecimiento]],[1]Establecimientos!A$1:E$175,5,FALSE),0)","v":"04105-PAIHUANO"},"105306","18700100","2021-10-15T12:34:18",455,9,416,30]
[7,"5",2021,{"$f":"IFERROR(VLOOKUP(Tabla_SERIEBM_01_6[[#This Row],[IdEstablecimiento]],[1]Establecimientos!A$1:E$175,5,FALSE),0)","v":"04303-MONTE PATRIA"},"200720","80307012","2021-08-17T09:55:25",6,6]
[1,"5",2021,{"$f":"IFERROR(VLOOKUP(Tabla_SERIEBM_01_6[[#This Row],[IdEstablecimiento]],[1]Establecimientos!A$1:E$175,5,FALSE),0)","v":"04202-CANELA"},"105450","80106014","2021-02-18T04:05:27",95,null,95,null,95]
[7,"5",2021,{"$f":"IFERROR(VLOOKUP(Tabla_SERIEBM_01_6[[#This Row],[IdEstablecimiento]],[1]Establecimientos!A$1:E$175,5,FALSE),0)","v":"04101-LA SERENA"},"105801","18040100","2021-08-17T09:22:25",2,0,2]
[11,"5",2021,{"$f":"IFERROR(VLOOKUP(Tabla_SERIEBM_01_6[[#This Row],[IdEstablecimiento]],[1]Establecimientos!A$1:E$175,5,FALSE),0)","v":"04106-VICUÑA"},"105473","80500011","2021-12-17T09:04:57",4,null,4,null,4]
[9,"5",2021,{"$f":"IFERROR(VLOOKUP(Tabla_SERIEBM_01_6[[#This Row],[IdEstablecimiento]],[1]Establecimientos!A$1:E$175,5,FALSE),0)","v":"04202-CANELA"},"105309","80106005","2021-10-15T12:35:47",58,null,58,null,58]
[9,"5",2021,{"$f":"IFERROR(VLOOKUP(Tabla_SERIEBM_01_6[[#This Row],[IdEstablecimiento]],[1]Establecimientos!A$1:E$175,5,FALSE),0)","v":"04301-OVALLE"},"105315","81701009","2021-10-15T12:38:13",86,null,86,null,86]
[9,"5",2021,{"$f":"IFERROR(VLOOKUP(Tabla_SERIEBM_01_6[[#This Row],[IdEstablecimiento]],[1]Establecimientos!A$1:E$175,5,FALSE),0)","v":"04304-PUNITAQUI"},"105440","80106023","2021-10-15T12:58:35",3,null,3,null,3]
[4,"5",2021,{"$f":"IFERROR(VLOOKUP(Tabla_SERIEBM_01_6[[#This Row],[IdEstablecimiento]],[1]Establecimientos!A$1:E$175,5,FALSE),0)","v":"04102-COQUIMBO"},"105304","80309028","2021-05-13T16:47:41",0,null,null,5]
[8,"5",2021,{"$f":"IFERROR(VLOOKUP(Tabla_SERIEBM_01_6[[#This Row],[IdEstablecimiento]],[1]Establecimientos!A$1:E$175,5,FALSE),0)","v":"04301-OVALLE"},"105322","80306011","2021-09-16T11:02:29",575,null,575]
[7,"5",2021,{"$f":"IFERROR(VLOOKUP(Tabla_SERIEBM_01_6[[#This Row],[IdEstablecimiento]],[1]Establecimientos!A$1:E$175,5,FALSE),0)","v":"04202-CANELA"},"105309","80106006","2021-08-17T04:56:46",4,null,4,null,4]
[9,"5",2021,{"$f":"IFERROR(VLOOKUP(Tabla_SERIEBM_01_6[[#This Row],[IdEstablecimiento]],[1]Establecimientos!A$1:E$175,5,FALSE),0)","v":"04101-LA SERENA"},"105313","80301036","2021-10-15T12:37:25",0,null,null,96]
[7,"5",2021,{"$f":"IFERROR(VLOOKUP(Tabla_SERIEBM_01_6[[#This Row],[IdEstablecimiento]],[1]Establecimientos!A$1:E$175,5,FALSE),0)","v":"04303-MONTE PATRIA"},"105311","80106002","2021-08-17T04:58:46",99,null,99,null,99]
[5,"5",2021,{"$f":"IFERROR(VLOOKUP(Tabla_SERIEBM_01_6[[#This Row],[IdEstablecimiento]],[1]Establecimientos!A$1:E$175,5,FALSE),0)","v":"04304-PUNITAQUI"},"105308","80306002","2021-06-11T09:47:18",0,null,null,2]
[7,"5",2021,{"$f":"IFERROR(VLOOKUP(Tabla_SERIEBM_01_6[[#This Row],[IdEstablecimiento]],[1]Establecimientos!A$1:E$175,5,FALSE),0)","v":"04102-COQUIMBO"},"200494","18020500","2021-08-17T09:51:12",53,0,53]
[7,"5",2021,{"$f":"IFERROR(VLOOKUP(Tabla_SERIEBM_01_6[[#This Row],[IdEstablecimiento]],[1]Establecimientos!A$1:E$175,5,FALSE),0)","v":"04102-COQUIMBO"},"200499","80302057","2021-08-17T09:51:51",0,null,null,139]
[7,"5",2021,{"$f":"IFERROR(VLOOKUP(Tabla_SERIEBM_01_6[[#This Row],[IdEstablecimiento]],[1]Establecimientos!A$1:E$175,5,FALSE),0)","v":"04102-COQUIMBO"},"200499","80302060","2021-08-17T09:51:51",0,null,null,2]
[4,"5",2021,{"$f":"IFERROR(VLOOKUP(Tabla_SERIEBM_01_6[[#This Row],[IdEstablecimiento]],[1]Establecimientos!A$1:E$175,5,FALSE),0)","v":"04101-LA SERENA"},"105802","81602222","2021-05-14T10:40:13",7,7]
[5,"5",2021,{"$f":"IFERROR(VLOOKUP(Tabla_SERIEBM_01_6[[#This Row],[IdEstablecimiento]],[1]Establecimientos!A$1:E$175,5,FALSE),0)","v":"04301-OVALLE"},"105322","80106005","2021-06-11T09:55:00",8,null,8,null,8]
[5,"5",2021,{"$f":"IFERROR(VLOOKUP(Tabla_SERIEBM_01_6[[#This Row],[IdEstablecimiento]],[1]Establecimientos!A$1:E$175,5,FALSE),0)","v":"04301-OVALLE"},"105322","80106014","2021-06-11T09:55:00",249,null,249,null,249]
[9,"5",2021,{"$f":"IFERROR(VLOOKUP(Tabla_SERIEBM_01_6[[#This Row],[IdEstablecimiento]],[1]Establecimientos!A$1:E$175,5,FALSE),0)","v":"04102-COQUIMBO"},"105323","81801023","2021-11-15T12:49:15",1,null,1,null,1]
[9,"5",2021,{"$f":"IFERROR(VLOOKUP(Tabla_SERIEBM_01_6[[#This Row],[IdEstablecimiento]],[1]Establecimientos!A$1:E$175,5,FALSE),0)","v":"04102-COQUIMBO"},"105805","80401048","2021-10-15T13:31:30",2,2]
[6,"5",2021,{"$f":"IFERROR(VLOOKUP(Tabla_SERIEBM_01_6[[#This Row],[IdEstablecimiento]],[1]Establecimientos!A$1:E$175,5,FALSE),0)","v":"04102-COQUIMBO"},"200499","80106014","2021-07-19T15:13:44",375,229,146,null,375]
[9,"5",2021,{"$f":"IFERROR(VLOOKUP(Tabla_SERIEBM_01_6[[#This Row],[IdEstablecimiento]],[1]Establecimientos!A$1:E$175,5,FALSE),0)","v":"04101-LA SERENA"},"105325","80302048","2021-10-15T12:44:38",0,null,null,60]
[8,"5",2021,{"$f":"IFERROR(VLOOKUP(Tabla_SERIEBM_01_6[[#This Row],[IdEstablecimiento]],[1]Establecimientos!A$1:E$175,5,FALSE),0)","v":"04302-COMBARBALÁ"},"105490","80500001","2021-09-16T11:56:37",5,null,5,null,5]
[8,"5",2021,{"$f":"IFERROR(VLOOKUP(Tabla_SERIEBM_01_6[[#This Row],[IdEstablecimiento]],[1]Establecimientos!A$1:E$175,5,FALSE),0)","v":"04204-SALAMANCA"},"105491","80106002","2021-09-16T11:57:11",79,null,79]
[7,"5",2021,{"$f":"IFERROR(VLOOKUP(Tabla_SERIEBM_01_6[[#This Row],[IdEstablecimiento]],[1]Establecimientos!A$1:E$175,5,FALSE),0)","v":"04204-SALAMANCA"},"105452","80301038","2021-08-17T06:34:48",0,null,null,994]
[11,"5",2021,{"$f":"IFERROR(VLOOKUP(Tabla_SERIEBM_01_6[[#This Row],[IdEstablecimiento]],[1]Establecimientos!A$1:E$175,5,FALSE),0)","v":"04201-ILLAPEL"},"105496","80307012","2021-12-17T09:15:55",0,null,null,1]
[11,"5",2021,{"$f":"IFERROR(VLOOKUP(Tabla_SERIEBM_01_6[[#This Row],[IdEstablecimiento]],[1]Establecimientos!A$1:E$175,5,FALSE),0)","v":"04101-LA SERENA"},"105499","80302023","2021-12-17T09:17:42",0,null,null,24]
[11,"5",2021,{"$f":"IFERROR(VLOOKUP(Tabla_SERIEBM_01_6[[#This Row],[IdEstablecimiento]],[1]Establecimientos!A$1:E$175,5,FALSE),0)","v":"04204-SALAMANCA"},"105501","80106002","2021-12-17T09:19:10",49,null,49]
[11,"5",2021,{"$f":"IFERROR(VLOOKUP(Tabla_SERIEBM_01_6[[#This Row],[IdEstablecimiento]],[1]Establecimientos!A$1:E$175,5,FALSE),0)","v":"04305-RIO HURTADO"},"105503","80302076","2021-12-17T09:19:35",0,null,null,1]
[11,"5",2021,{"$f":"IFERROR(VLOOKUP(Tabla_SERIEBM_01_6[[#This Row],[IdEstablecimiento]],[1]Establecimientos!A$1:E$175,5,FALSE),0)","v":"04102-COQUIMBO"},"105805","18020700","2021-12-17T09:30:32",35,35,0]
[11,"5",2021,{"$f":"IFERROR(VLOOKUP(Tabla_SERIEBM_01_6[[#This Row],[IdEstablecimiento]],[1]Establecimientos!A$1:E$175,5,FALSE),0)","v":"04202-CANELA"},"105809","18050300","2021-12-17T09:30:56",1,1,0]
[11,"5",2021,{"$f":"IFERROR(VLOOKUP(Tabla_SERIEBM_01_6[[#This Row],[IdEstablecimiento]],[1]Establecimientos!A$1:E$175,5,FALSE),0)","v":"04101-LA SERENA"},"105819","80401048","2021-12-17T09:33:08",1,1]
[11,"5",2021,{"$f":"IFERROR(VLOOKUP(Tabla_SERIEBM_01_6[[#This Row],[IdEstablecimiento]],[1]Establecimientos!A$1:E$175,5,FALSE),0)","v":"04101-LA SERENA"},"105819","80106012","2021-12-17T09:33:08",1,1,null,1]
[11,"5",2021,{"$f":"IFERROR(VLOOKUP(Tabla_SERIEBM_01_6[[#This Row],[IdEstablecimiento]],[1]Establecimientos!A$1:E$175,5,FALSE),0)","v":"04101-LA SERENA"},"105819","18020700","2021-12-17T09:33:08",46,46,0]
[11,"5",2021,{"$f":"IFERROR(VLOOKUP(Tabla_SERIEBM_01_6[[#This Row],[IdEstablecimiento]],[1]Establecimientos!A$1:E$175,5,FALSE),0)","v":"04102-COQUIMBO"},"200499","80306042","2021-12-17T09:39:08",0,null,null,70]
[11,"5",2021,{"$f":"IFERROR(VLOOKUP(Tabla_SERIEBM_01_6[[#This Row],[IdEstablecimiento]],[1]Establecimientos!A$1:E$175,5,FALSE),0)","v":"04102-COQUIMBO"},"200499","81701009","2021-12-17T09:39:08",84,null,84,null,84]
[11,"5",2021,{"$f":"IFERROR(VLOOKUP(Tabla_SERIEBM_01_6[[#This Row],[IdEstablecimiento]],[1]Establecimientos!A$1:E$175,5,FALSE),0)","v":"04102-COQUIMBO"},"200499","80307011","2021-12-17T09:39:08",320,null,320]
[11,"5",2021,{"$f":"IFERROR(VLOOKUP(Tabla_SERIEBM_01_6[[#This Row],[IdEstablecimiento]],[1]Establecimientos!A$1:E$175,5,FALSE),0)","v":"04106-VICUÑA"},"200538","80301036","2021-12-17T09:39:31",0,null,null,18]
[2,"5",2021,{"$f":"IFERROR(VLOOKUP(Tabla_SERIEBM_01_6[[#This Row],[IdEstablecimiento]],[1]Establecimientos!A$1:E$175,5,FALSE),0)","v":"04204-SALAMANCA"},"105501","18700100","2021-11-09T14:59:31",26,null,26]
[7,"5",2021,{"$f":"IFERROR(VLOOKUP(Tabla_SERIEBM_01_6[[#This Row],[IdEstablecimiento]],[1]Establecimientos!A$1:E$175,5,FALSE),0)","v":"04102-COQUIMBO"},"105323","81602231","2021-11-12T14:38:04",2,null,2,null,null,2]
[3,"5",2021,{"$f":"IFERROR(VLOOKUP(Tabla_SERIEBM_01_6[[#This Row],[IdEstablecimiento]],[1]Establecimientos!A$1:E$175,5,FALSE),0)","v":"04203-LOS VILOS"},"105480","80106002","2021-11-08T12:33:45",16,null,16,null,16]
[3,"5",2021,{"$f":"IFERROR(VLOOKUP(Tabla_SERIEBM_01_6[[#This Row],[IdEstablecimiento]],[1]Establecimientos!A$1:E$175,5,FALSE),0)","v":"04102-COQUIMBO"},"200848","18090200","2021-11-08T13:26:30",24,0]
[3,"5",2021,{"$f":"IFERROR(VLOOKUP(Tabla_SERIEBM_01_6[[#This Row],[IdEstablecimiento]],[1]Establecimientos!A$1:E$175,5,FALSE),0)","v":0},"200928","80106008","2021-11-08T13:27:16",2,2,null,null,2]
[3,"5",2021,{"$f":"IFERROR(VLOOKUP(Tabla_SERIEBM_01_6[[#This Row],[IdEstablecimiento]],[1]Establecimientos!A$1:E$175,5,FALSE),0)","v":"04105-PAIHUANO"},"105477","80106013","2021-11-08T12:31:51",1,null,1,null,1]
[3,"5",2021,{"$f":"IFERROR(VLOOKUP(Tabla_SERIEBM_01_6[[#This Row],[IdEstablecimiento]],[1]Establecimientos!A$1:E$175,5,FALSE),0)","v":"04202-CANELA"},"105484","81701009","2021-11-08T12:35:15",29,null,29,null,29]
[3,"5",2021,{"$f":"IFERROR(VLOOKUP(Tabla_SERIEBM_01_6[[#This Row],[IdEstablecimiento]],[1]Establecimientos!A$1:E$175,5,FALSE),0)","v":"04201-ILLAPEL"},"105486","80309010","2021-11-08T12:38:25",0,null,null,18]
[6,"5",2021,{"$f":"IFERROR(VLOOKUP(Tabla_SERIEBM_01_6[[#This Row],[IdEstablecimiento]],[1]Establecimientos!A$1:E$175,5,FALSE),0)","v":"04203-LOS VILOS"},"105480","80302005","2021-11-08T14:19:19",0,null,null,4]
[3,"5",2021,{"$f":"IFERROR(VLOOKUP(Tabla_SERIEBM_01_6[[#This Row],[IdEstablecimiento]],[1]Establecimientos!A$1:E$175,5,FALSE),0)","v":"04106-VICUÑA"},"105468","80302032","2021-11-08T12:27:08",0,null,null,2]
[3,"5",2021,{"$f":"IFERROR(VLOOKUP(Tabla_SERIEBM_01_6[[#This Row],[IdEstablecimiento]],[1]Establecimientos!A$1:E$175,5,FALSE),0)","v":"04101-LA SERENA"},"105700","80309013","2021-11-08T12:53:53",0,null,null,22]
[3,"5",2021,{"$f":"IFERROR(VLOOKUP(Tabla_SERIEBM_01_6[[#This Row],[IdEstablecimiento]],[1]Establecimientos!A$1:E$175,5,FALSE),0)","v":"04106-VICUÑA"},"105469","80302023","2021-11-08T12:27:33",0,null,null,13]
[3,"5",2021,{"$f":"IFERROR(VLOOKUP(Tabla_SERIEBM_01_6[[#This Row],[IdEstablecimiento]],[1]Establecimientos!A$1:E$175,5,FALSE),0)","v":"04303-MONTE PATRIA"},"105425","80106014","2021-11-08T12:08:52",21,null,21,null,21]
[3,"5",2021,{"$f":"IFERROR(VLOOKUP(Tabla_SERIEBM_01_6[[#This Row],[IdEstablecimiento]],[1]Establecimientos!A$1:E$175,5,FALSE),0)","v":"04303-MONTE PATRIA"},"105428","80307012","2021-11-08T12:09:57",1,null,1]
[3,"5",2021,{"$f":"IFERROR(VLOOKUP(Tabla_SERIEBM_01_6[[#This Row],[IdEstablecimiento]],[1]Establecimientos!A$1:E$175,5,FALSE),0)","v":"04303-MONTE PATRIA"},"105430","80106020","2021-11-08T12:10:22",1,null,1,null,1]
[3,"5",2021,{"$f":"IFERROR(VLOOKUP(Tabla_SERIEBM_01_6[[#This Row],[IdEstablecimiento]],[1]Establecimientos!A$1:E$175,5,FALSE),0)","v":"04303-MONTE PATRIA"},"105431","18040200","2021-11-08T12:10:46",2,null,2]
[9,"5",2021,{"$f":"IFERROR(VLOOKUP(Tabla_SERIEBM_01_6[[#This Row],[IdEstablecimiento]],[1]Establecimientos!A$1:E$175,5,FALSE),0)","v":"04304-PUNITAQUI"},"105440","18040200","2021-10-15T12:58:35",11,null,11]
[4,"5",2021,{"$f":"IFERROR(VLOOKUP(Tabla_SERIEBM_01_6[[#This Row],[IdEstablecimiento]],[1]Establecimientos!A$1:E$175,5,FALSE),0)","v":"04204-SALAMANCA"},"105491","81602222","2021-05-14T10:19:26",1,null,1]
[2,"5",2021,{"$f":"IFERROR(VLOOKUP(Tabla_SERIEBM_01_6[[#This Row],[IdEstablecimiento]],[1]Establecimientos!A$1:E$175,5,FALSE),0)","v":"04303-MONTE PATRIA"},"105312","80106017","2021-11-09T13:42:17",3,null,3,null,3]
[3,"5",2021,{"$f":"IFERROR(VLOOKUP(Tabla_SERIEBM_01_6[[#This Row],[IdEstablecimiento]],[1]Establecimientos!A$1:E$175,5,FALSE),0)","v":"04305-RIO HURTADO"},"105410","80106015","2021-11-08T12:02:40",5,null,5,null,5]
[7,"5",2021,{"$f":"IFERROR(VLOOKUP(Tabla_SERIEBM_01_6[[#This Row],[IdEstablecimiento]],[1]Establecimientos!A$1:E$175,5,FALSE),0)","v":"04202-CANELA"},"105309","80302034","2021-08-17T04:56:46",0,null,null,198]
[3,"5",2021,{"$f":"IFERROR(VLOOKUP(Tabla_SERIEBM_01_6[[#This Row],[IdEstablecimiento]],[1]Establecimientos!A$1:E$175,5,FALSE),0)","v":"04303-MONTE PATRIA"},"105435","82001015","2021-11-08T12:12:17",1,null,1,null,1]
[4,"5",2021,{"$f":"IFERROR(VLOOKUP(Tabla_SERIEBM_01_6[[#This Row],[IdEstablecimiento]],[1]Establecimientos!A$1:E$175,5,FALSE),0)","v":"04202-CANELA"},"105484","18050100","2021-05-14T10:13:04",22,0,22]
[1,"5",2021,{"$f":"IFERROR(VLOOKUP(Tabla_SERIEBM_01_6[[#This Row],[IdEstablecimiento]],[1]Establecimientos!A$1:E$175,5,FALSE),0)","v":"04102-COQUIMBO"},"200273","80307011","2021-02-18T05:58:38",0,null,null,96]
[3,"5",2021,{"$f":"IFERROR(VLOOKUP(Tabla_SERIEBM_01_6[[#This Row],[IdEstablecimiento]],[1]Establecimientos!A$1:E$175,5,FALSE),0)","v":"04301-OVALLE"},"105437","80106002","2021-11-08T12:13:04",12,null,12]
[3,"5",2021,{"$f":"IFERROR(VLOOKUP(Tabla_SERIEBM_01_6[[#This Row],[IdEstablecimiento]],[1]Establecimientos!A$1:E$175,5,FALSE),0)","v":"04101-LA SERENA"},"105302","80500009","2021-11-08T14:52:19",12,null,12,null,12]
[1,"5",2021,{"$f":"IFERROR(VLOOKUP(Tabla_SERIEBM_01_6[[#This Row],[IdEstablecimiento]],[1]Establecimientos!A$1:E$175,5,FALSE),0)","v":"04101-LA SERENA"},"105499","80301038","2021-11-09T12:23:17",0,null,null,13]
[1,"5",2021,{"$f":"IFERROR(VLOOKUP(Tabla_SERIEBM_01_6[[#This Row],[IdEstablecimiento]],[1]Establecimientos!A$1:E$175,5,FALSE),0)","v":"04101-LA SERENA"},"105499","80307011","2021-11-09T12:23:17",12,null,12]
[1,"5",2021,{"$f":"IFERROR(VLOOKUP(Tabla_SERIEBM_01_6[[#This Row],[IdEstablecimiento]],[1]Establecimientos!A$1:E$175,5,FALSE),0)","v":"04201-ILLAPEL"},"105504","18050100","2021-02-18T05:31:41",18,0,18]
[3,"5",2021,{"$f":"IFERROR(VLOOKUP(Tabla_SERIEBM_01_6[[#This Row],[IdEstablecimiento]],[1]Establecimientos!A$1:E$175,5,FALSE),0)","v":"04301-OVALLE"},"105317","80106022","2021-11-09T12:55:14",2,null,2,null,2]
[2,"5",2021,{"$f":"IFERROR(VLOOKUP(Tabla_SERIEBM_01_6[[#This Row],[IdEstablecimiento]],[1]Establecimientos!A$1:E$175,5,FALSE),0)","v":"04102-COQUIMBO"},"200848","81701001","2021-11-09T15:23:00",43,43,null,null,43]
[4,"5",2021,{"$f":"IFERROR(VLOOKUP(Tabla_SERIEBM_01_6[[#This Row],[IdEstablecimiento]],[1]Establecimientos!A$1:E$175,5,FALSE),0)","v":"04106-VICUÑA"},"200538","81701001","2021-11-09T12:56:00",8,null,8,null,8]
[3,"5",2021,{"$f":"IFERROR(VLOOKUP(Tabla_SERIEBM_01_6[[#This Row],[IdEstablecimiento]],[1]Establecimientos!A$1:E$175,5,FALSE),0)","v":"04105-PAIHUANO"},"105306","81602240","2021-11-08T10:17:39",1,null,1,null,1]
[3,"5",2021,{"$f":"IFERROR(VLOOKUP(Tabla_SERIEBM_01_6[[#This Row],[IdEstablecimiento]],[1]Establecimientos!A$1:E$175,5,FALSE),0)","v":"04202-CANELA"},"105309","80301015","2021-11-08T10:18:57",0,null,null,4]
[2,"5",2021,{"$f":"IFERROR(VLOOKUP(Tabla_SERIEBM_01_6[[#This Row],[IdEstablecimiento]],[1]Establecimientos!A$1:E$175,5,FALSE),0)","v":"04106-VICUÑA"},"105474","80308012","2021-11-09T14:47:59",0,null,null,1]
[3,"5",2021,{"$f":"IFERROR(VLOOKUP(Tabla_SERIEBM_01_6[[#This Row],[IdEstablecimiento]],[1]Establecimientos!A$1:E$175,5,FALSE),0)","v":"04201-ILLAPEL"},"105448","80307011","2021-11-08T12:17:24",0,null,null,18]
[2,"5",2021,{"$f":"IFERROR(VLOOKUP(Tabla_SERIEBM_01_6[[#This Row],[IdEstablecimiento]],[1]Establecimientos!A$1:E$175,5,FALSE),0)","v":"04105-PAIHUANO"},"105477","80307011","2021-11-09T14:49:17",49,null,49]
[3,"5",2021,{"$f":"IFERROR(VLOOKUP(Tabla_SERIEBM_01_6[[#This Row],[IdEstablecimiento]],[1]Establecimientos!A$1:E$175,5,FALSE),0)","v":"04202-CANELA"},"105309","80302034","2021-11-08T10:18:57",0,null,null,206]
[2,"5",2021,{"$f":"IFERROR(VLOOKUP(Tabla_SERIEBM_01_6[[#This Row],[IdEstablecimiento]],[1]Establecimientos!A$1:E$175,5,FALSE),0)","v":"04105-PAIHUANO"},"105477","18040200","2021-11-09T14:49:17",5,null,5]
[3,"5",2021,{"$f":"IFERROR(VLOOKUP(Tabla_SERIEBM_01_6[[#This Row],[IdEstablecimiento]],[1]Establecimientos!A$1:E$175,5,FALSE),0)","v":"04303-MONTE PATRIA"},"105307","80302047","2021-11-08T10:18:04",983,null,983]
[2,"5",2021,{"$f":"IFERROR(VLOOKUP(Tabla_SERIEBM_01_6[[#This Row],[IdEstablecimiento]],[1]Establecimientos!A$1:E$175,5,FALSE),0)","v":0},"200928","81701001","2021-11-09T15:23:29",48,48,null,null,48]
[2,"5",2021,{"$f":"IFERROR(VLOOKUP(Tabla_SERIEBM_01_6[[#This Row],[IdEstablecimiento]],[1]Establecimientos!A$1:E$175,5,FALSE),0)","v":0},"200928","18030000","2021-11-09T15:23:29",16,16,0]
[3,"5",2021,{"$f":"IFERROR(VLOOKUP(Tabla_SERIEBM_01_6[[#This Row],[IdEstablecimiento]],[1]Establecimientos!A$1:E$175,5,FALSE),0)","v":"04304-PUNITAQUI"},"105508","80106014","2021-11-08T12:49:27",30,null,30,null,30]
[2,"5",2021,{"$f":"IFERROR(VLOOKUP(Tabla_SERIEBM_01_6[[#This Row],[IdEstablecimiento]],[1]Establecimientos!A$1:E$175,5,FALSE),0)","v":"04201-ILLAPEL"},"105487","81701009","2021-11-09T14:54:09",15,null,15,null,15]
[3,"5",2021,{"$f":"IFERROR(VLOOKUP(Tabla_SERIEBM_01_6[[#This Row],[IdEstablecimiento]],[1]Establecimientos!A$1:E$175,5,FALSE),0)","v":"04101-LA SERENA"},"105826","80106015","2021-11-08T13:13:31",16,16,null,null,16]
[3,"5",2021,{"$f":"IFERROR(VLOOKUP(Tabla_SERIEBM_01_6[[#This Row],[IdEstablecimiento]],[1]Establecimientos!A$1:E$175,5,FALSE),0)","v":"04201-ILLAPEL"},"200366","80309010","2021-11-08T13:16:19",0,null,null,320]
[2,"5",2021,{"$f":"IFERROR(VLOOKUP(Tabla_SERIEBM_01_6[[#This Row],[IdEstablecimiento]],[1]Establecimientos!A$1:E$175,5,FALSE),0)","v":"04101-LA SERENA"},"105300","80301038","2021-11-09T13:18:43",0,null,null,116]
[3,"5",2021,{"$f":"IFERROR(VLOOKUP(Tabla_SERIEBM_01_6[[#This Row],[IdEstablecimiento]],[1]Establecimientos!A$1:E$175,5,FALSE),0)","v":"04303-MONTE PATRIA"},"105307","80301072","2021-11-08T10:18:04",5,null,5]
[8,"5",2021,{"$f":"IFERROR(VLOOKUP(Tabla_SERIEBM_01_6[[#This Row],[IdEstablecimiento]],[1]Establecimientos!A$1:E$175,5,FALSE),0)","v":"04101-LA SERENA"},"105401","80106014","2021-09-16T11:05:13",26,null,26,null,26]
[2,"5",2021,{"$f":"IFERROR(VLOOKUP(Tabla_SERIEBM_01_6[[#This Row],[IdEstablecimiento]],[1]Establecimientos!A$1:E$175,5,FALSE),0)","v":"04305-RIO HURTADO"},"105413","18400900","2021-11-09T13:53:43",4,null,4]
[2,"5",2021,{"$f":"IFERROR(VLOOKUP(Tabla_SERIEBM_01_6[[#This Row],[IdEstablecimiento]],[1]Establecimientos!A$1:E$175,5,FALSE),0)","v":"04301-OVALLE"},"105415","80106013","2021-11-09T13:54:33",2,null,2,null,2]
[2,"5",2021,{"$f":"IFERROR(VLOOKUP(Tabla_SERIEBM_01_6[[#This Row],[IdEstablecimiento]],[1]Establecimientos!A$1:E$175,5,FALSE),0)","v":"04301-OVALLE"},"105419","18090000","2021-11-09T14:00:41",5,0,5]
[2,"5",2021,{"$f":"IFERROR(VLOOKUP(Tabla_SERIEBM_01_6[[#This Row],[IdEstablecimiento]],[1]Establecimientos!A$1:E$175,5,FALSE),0)","v":"04102-COQUIMBO"},"200499","80302064","2021-11-09T15:18:59",0,null,null,31]
[2,"5",2021,{"$f":"IFERROR(VLOOKUP(Tabla_SERIEBM_01_6[[#This Row],[IdEstablecimiento]],[1]Establecimientos!A$1:E$175,5,FALSE),0)","v":"04102-COQUIMBO"},"105404","80303024","2021-11-09T13:51:06",0,null,null,2]
[2,"5",2021,{"$f":"IFERROR(VLOOKUP(Tabla_SERIEBM_01_6[[#This Row],[IdEstablecimiento]],[1]Establecimientos!A$1:E$175,5,FALSE),0)","v":"04102-COQUIMBO"},"105405","80301038","2021-11-09T13:51:33",0,null,null,13]
[3,"5",2021,{"$f":"IFERROR(VLOOKUP(Tabla_SERIEBM_01_6[[#This Row],[IdEstablecimiento]],[1]Establecimientos!A$1:E$175,5,FALSE),0)","v":"04102-COQUIMBO"},"200499","80301036","2021-11-08T13:18:03",0,null,null,14]
[3,"5",2021,{"$f":"IFERROR(VLOOKUP(Tabla_SERIEBM_01_6[[#This Row],[IdEstablecimiento]],[1]Establecimientos!A$1:E$175,5,FALSE),0)","v":"04102-COQUIMBO"},"200499","80302040","2021-11-08T13:18:03",0,null,null,3]
[2,"5",2021,{"$f":"IFERROR(VLOOKUP(Tabla_SERIEBM_01_6[[#This Row],[IdEstablecimiento]],[1]Establecimientos!A$1:E$175,5,FALSE),0)","v":"04302-COMBARBALÁ"},"105434","18020900","2021-11-09T14:05:09",1,0,1]
[2,"5",2021,{"$f":"IFERROR(VLOOKUP(Tabla_SERIEBM_01_6[[#This Row],[IdEstablecimiento]],[1]Establecimientos!A$1:E$175,5,FALSE),0)","v":"04303-MONTE PATRIA"},"105436","80106022","2021-11-09T14:07:20",2,null,2,null,2]
[2,"5",2021,{"$f":"IFERROR(VLOOKUP(Tabla_SERIEBM_01_6[[#This Row],[IdEstablecimiento]],[1]Establecimientos!A$1:E$175,5,FALSE),0)","v":"04303-MONTE PATRIA"},"105428","80106015","2021-11-09T14:02:13",2,null,2,null,2]
[3,"5",2021,{"$f":"IFERROR(VLOOKUP(Tabla_SERIEBM_01_6[[#This Row],[IdEstablecimiento]],[1]Establecimientos!A$1:E$175,5,FALSE),0)","v":"04303-MONTE PATRIA"},"105307","80306051","2021-11-08T10:18:04",7,null,7]
[3,"5",2021,{"$f":"IFERROR(VLOOKUP(Tabla_SERIEBM_01_6[[#This Row],[IdEstablecimiento]],[1]Establecimientos!A$1:E$175,5,FALSE),0)","v":"04305-RIO HURTADO"},"105414","18050100","2021-11-08T12:05:30",10,0,10]
[2,"5",2021,{"$f":"IFERROR(VLOOKUP(Tabla_SERIEBM_01_6[[#This Row],[IdEstablecimiento]],[1]Establecimientos!A$1:E$175,5,FALSE),0)","v":"04102-COQUIMBO"},"105804","80106022","2021-11-09T15:06:44",10,10,0,0,10]
[3,"5",2021,{"$f":"IFERROR(VLOOKUP(Tabla_SERIEBM_01_6[[#This Row],[IdEstablecimiento]],[1]Establecimientos!A$1:E$175,5,FALSE),0)","v":"04303-MONTE PATRIA"},"105307","80309013","2021-11-08T10:18:04",554,null,554]
[3,"5",2021,{"$f":"IFERROR(VLOOKUP(Tabla_SERIEBM_01_6[[#This Row],[IdEstablecimiento]],[1]Establecimientos!A$1:E$175,5,FALSE),0)","v":"04102-COQUIMBO"},"105303","80306042","2021-11-08T10:16:26",0,null,null,72]
[9,"5",2021,{"$f":"IFERROR(VLOOKUP(Tabla_SERIEBM_01_6[[#This Row],[IdEstablecimiento]],[1]Establecimientos!A$1:E$175,5,FALSE),0)","v":"04102-COQUIMBO"},"105407","80106014","2021-10-15T12:49:06",19,null,19,null,19]
[2,"5",2021,{"$f":"IFERROR(VLOOKUP(Tabla_SERIEBM_01_6[[#This Row],[IdEstablecimiento]],[1]Establecimientos!A$1:E$175,5,FALSE),0)","v":"04303-MONTE PATRIA"},"105431","81701001","2021-11-09T14:03:52",13,null,13,null,13]
[2,"5",2021,{"$f":"IFERROR(VLOOKUP(Tabla_SERIEBM_01_6[[#This Row],[IdEstablecimiento]],[1]Establecimientos!A$1:E$175,5,FALSE),0)","v":"04204-SALAMANCA"},"105458","18050100","2021-11-09T14:28:54",76,0,76]
[6,"5",2021,{"$f":"IFERROR(VLOOKUP(Tabla_SERIEBM_01_6[[#This Row],[IdEstablecimiento]],[1]Establecimientos!A$1:E$175,5,FALSE),0)","v":"04203-LOS VILOS"},"105480","80309022","2021-11-08T14:19:19",0,null,null,11]
[2,"5",2021,{"$f":"IFERROR(VLOOKUP(Tabla_SERIEBM_01_6[[#This Row],[IdEstablecimiento]],[1]Establecimientos!A$1:E$175,5,FALSE),0)","v":"04204-SALAMANCA"},"105492","18050100","2021-11-09T14:56:38",13,0,13]
[2,"5",2021,{"$f":"IFERROR(VLOOKUP(Tabla_SERIEBM_01_6[[#This Row],[IdEstablecimiento]],[1]Establecimientos!A$1:E$175,5,FALSE),0)","v":"04202-CANELA"},"105498","80106002","2021-11-09T14:58:22",2,null,2,null,2]
[2,"5",2021,{"$f":"IFERROR(VLOOKUP(Tabla_SERIEBM_01_6[[#This Row],[IdEstablecimiento]],[1]Establecimientos!A$1:E$175,5,FALSE),0)","v":"04305-RIO HURTADO"},"105503","80401010","2021-11-09T14:59:55",2,null,2,2]
[10,"5",2021,{"$f":"IFERROR(VLOOKUP(Tabla_SERIEBM_01_6[[#This Row],[IdEstablecimiento]],[1]Establecimientos!A$1:E$175,5,FALSE),0)","v":"04106-VICUÑA"},"105472","80305070","2021-11-15T11:17:24",0,null,null,2]
[10,"5",2021,{"$f":"IFERROR(VLOOKUP(Tabla_SERIEBM_01_6[[#This Row],[IdEstablecimiento]],[1]Establecimientos!A$1:E$175,5,FALSE),0)","v":"04106-VICUÑA"},"105472","80309010","2021-11-15T11:17:24",0,null,null,16]
[2,"5",2021,{"$f":"IFERROR(VLOOKUP(Tabla_SERIEBM_01_6[[#This Row],[IdEstablecimiento]],[1]Establecimientos!A$1:E$175,5,FALSE),0)","v":"04201-ILLAPEL"},"105445","80307011","2021-11-09T14:11:12",0,null,null,12]
[4,"5",2021,{"$f":"IFERROR(VLOOKUP(Tabla_SERIEBM_01_6[[#This Row],[IdEstablecimiento]],[1]Establecimientos!A$1:E$175,5,FALSE),0)","v":"04201-ILLAPEL"},"105487","80106007","2021-05-14T10:15:28",2,null,2,null,2]
[2,"5",2021,{"$f":"IFERROR(VLOOKUP(Tabla_SERIEBM_01_6[[#This Row],[IdEstablecimiento]],[1]Establecimientos!A$1:E$175,5,FALSE),0)","v":"04201-ILLAPEL"},"105446","80303024","2021-11-09T14:11:34",0,null,null,3]
[2,"5",2021,{"$f":"IFERROR(VLOOKUP(Tabla_SERIEBM_01_6[[#This Row],[IdEstablecimiento]],[1]Establecimientos!A$1:E$175,5,FALSE),0)","v":"04201-ILLAPEL"},"105447","18050100","2021-11-09T14:11:56",11,0,11]
[2,"5",2021,{"$f":"IFERROR(VLOOKUP(Tabla_SERIEBM_01_6[[#This Row],[IdEstablecimiento]],[1]Establecimientos!A$1:E$175,5,FALSE),0)","v":"04305-RIO HURTADO"},"105409","80106002","2021-11-09T13:52:23",4,4,null,4]
[6,"5",2021,{"$f":"IFERROR(VLOOKUP(Tabla_SERIEBM_01_6[[#This Row],[IdEstablecimiento]],[1]Establecimientos!A$1:E$175,5,FALSE),0)","v":"04101-LA SERENA"},"105300","18700270","2021-08-17T10:11:34",2,null,2]
[7,"5",2021,{"$f":"IFERROR(VLOOKUP(Tabla_SERIEBM_01_6[[#This Row],[IdEstablecimiento]],[1]Establecimientos!A$1:E$175,5,FALSE),0)","v":"04303-MONTE PATRIA"},"105431","81701009","2021-08-17T06:05:12",26,null,26,null,26]
[1,"5",2021,{"$f":"IFERROR(VLOOKUP(Tabla_SERIEBM_01_6[[#This Row],[IdEstablecimiento]],[1]Establecimientos!A$1:E$175,5,FALSE),0)","v":"04204-SALAMANCA"},"105452","18030000","2021-02-18T04:06:12",4,0,4]
[1,"5",2021,{"$f":"IFERROR(VLOOKUP(Tabla_SERIEBM_01_6[[#This Row],[IdEstablecimiento]],[1]Establecimientos!A$1:E$175,5,FALSE),0)","v":"04102-COQUIMBO"},"200273","80500014","2021-02-18T05:58:38",0,{"$nulls":4},4]
[5,"5",2021,{"$f":"IFERROR(VLOOKUP(Tabla_SERIEBM_01_6[[#This Row],[IdEstablecimiento]],[1]Establecimientos!A$1:E$175,5,FALSE),0)","v":"04101-LA SERENA"},"105819","80401042","2021-06-11T14:22:30",26,26]
[9,"5",2021,{"$f":"IFERROR(VLOOKUP(Tabla_SERIEBM_01_6[[#This Row],[IdEstablecimiento]],[1]Establecimientos!A$1:E$175,5,FALSE),0)","v":"04101-LA SERENA"},"105325","80302068","2021-10-15T12:44:38",0,null,null,286]
[9,"5",2021,{"$f":"IFERROR(VLOOKUP(Tabla_SERIEBM_01_6[[#This Row],[IdEstablecimiento]],[1]Establecimientos!A$1:E$175,5,FALSE),0)","v":"04101-LA SERENA"},"105401","80301041","2021-10-15T12:47:22",0,null,null,4]
[8,"5",2021,{"$f":"IFERROR(VLOOKUP(Tabla_SERIEBM_01_6[[#This Row],[IdEstablecimiento]],[1]Establecimientos!A$1:E$175,5,FALSE),0)","v":"04201-ILLAPEL"},"105447","80106023","2021-09-16T11:26:23",7,null,7,null,7]
[4,"5",2021,{"$f":"IFERROR(VLOOKUP(Tabla_SERIEBM_01_6[[#This Row],[IdEstablecimiento]],[1]Establecimientos!A$1:E$175,5,FALSE),0)","v":"04102-COQUIMBO"},"200494","80303024","2021-05-14T11:12:14",0,null,null,183]
[5,"5",2021,{"$f":"IFERROR(VLOOKUP(Tabla_SERIEBM_01_6[[#This Row],[IdEstablecimiento]],[1]Establecimientos!A$1:E$175,5,FALSE),0)","v":"04301-OVALLE"},"200742","18050100","2021-06-11T14:39:47",10,10,0]
[3,"5",2021,{"$f":"IFERROR(VLOOKUP(Tabla_SERIEBM_01_6[[#This Row],[IdEstablecimiento]],[1]Establecimientos!A$1:E$175,5,FALSE),0)","v":"04101-LA SERENA"},"105319","18030000","2021-11-08T11:06:30",13,0,13]
[3,"5",2021,{"$f":"IFERROR(VLOOKUP(Tabla_SERIEBM_01_6[[#This Row],[IdEstablecimiento]],[1]Establecimientos!A$1:E$175,5,FALSE),0)","v":"04201-ILLAPEL"},"105444","80303024","2021-11-08T12:15:30",0,null,null,1]
[6,"5",2021,{"$f":"IFERROR(VLOOKUP(Tabla_SERIEBM_01_6[[#This Row],[IdEstablecimiento]],[1]Establecimientos!A$1:E$175,5,FALSE),0)","v":"04203-LOS VILOS"},"105480","18020500","2021-11-08T14:19:19",32,0,32]
[8,"5",2021,{"$f":"IFERROR(VLOOKUP(Tabla_SERIEBM_01_6[[#This Row],[IdEstablecimiento]],[1]Establecimientos!A$1:E$175,5,FALSE),0)","v":"04201-ILLAPEL"},"105446","80301041","2021-09-16T11:25:54",0,null,null,6]
[3,"5",2021,{"$f":"IFERROR(VLOOKUP(Tabla_SERIEBM_01_6[[#This Row],[IdEstablecimiento]],[1]Establecimientos!A$1:E$175,5,FALSE),0)","v":"04102-COQUIMBO"},"200607","81602206","2021-11-08T13:21:12",3,null,3,3,null,0]
[10,"5",2021,{"$f":"IFERROR(VLOOKUP(Tabla_SERIEBM_01_6[[#This Row],[IdEstablecimiento]],[1]Establecimientos!A$1:E$175,5,FALSE),0)","v":"04106-VICUÑA"},"105472","80106023","2021-11-15T11:17:24",8,null,8,null,8]
[10,"5",2021,{"$f":"IFERROR(VLOOKUP(Tabla_SERIEBM_01_6[[#This Row],[IdEstablecimiento]],[1]Establecimientos!A$1:E$175,5,FALSE),0)","v":"04105-PAIHUANO"},"105475","80106002","2021-11-15T11:20:05",28,null,28,null,28]
[2,"5",2021,{"$f":"IFERROR(VLOOKUP(Tabla_SERIEBM_01_6[[#This Row],[IdEstablecimiento]],[1]Establecimientos!A$1:E$175,5,FALSE),0)","v":"04201-ILLAPEL"},"105449","80301045","2021-11-09T14:13:03",0,null,null,9]
[6,"5",2021,{"$f":"IFERROR(VLOOKUP(Tabla_SERIEBM_01_6[[#This Row],[IdEstablecimiento]],[1]Establecimientos!A$1:E$175,5,FALSE),0)","v":"04106-VICUÑA"},"105467","18090000","2021-07-19T14:19:17",11,0,11]
[9,"5",2021,{"$f":"IFERROR(VLOOKUP(Tabla_SERIEBM_01_6[[#This Row],[IdEstablecimiento]],[1]Establecimientos!A$1:E$175,5,FALSE),0)","v":"04106-VICUÑA"},"105471","80306051","2021-10-15T13:11:05",0,null,null,2]
[2,"5",2021,{"$f":"IFERROR(VLOOKUP(Tabla_SERIEBM_01_6[[#This Row],[IdEstablecimiento]],[1]Establecimientos!A$1:E$175,5,FALSE),0)","v":"04305-RIO HURTADO"},"105410","80302005","2021-11-09T13:52:53",0,null,null,14]
[7,"5",2021,{"$f":"IFERROR(VLOOKUP(Tabla_SERIEBM_01_6[[#This Row],[IdEstablecimiento]],[1]Establecimientos!A$1:E$175,5,FALSE),0)","v":"04303-MONTE PATRIA"},"105431","18050100","2021-08-17T06:05:12",25,0,25]
[10,"5",2021,{"$f":"IFERROR(VLOOKUP(Tabla_SERIEBM_01_6[[#This Row],[IdEstablecimiento]],[1]Establecimientos!A$1:E$175,5,FALSE),0)","v":"04105-PAIHUANO"},"105477","80106002","2021-11-15T11:21:10",56,null,56,null,56]
[3,"5",2021,{"$f":"IFERROR(VLOOKUP(Tabla_SERIEBM_01_6[[#This Row],[IdEstablecimiento]],[1]Establecimientos!A$1:E$175,5,FALSE),0)","v":"04201-ILLAPEL"},"105487","80106010","2021-11-10T09:31:26",3,null,3,null,3]
[10,"5",2021,{"$f":"IFERROR(VLOOKUP(Tabla_SERIEBM_01_6[[#This Row],[IdEstablecimiento]],[1]Establecimientos!A$1:E$175,5,FALSE),0)","v":"04102-COQUIMBO"},"105303","80301059","2021-11-15T07:27:13",0,null,null,9]
[3,"5",2021,{"$f":"IFERROR(VLOOKUP(Tabla_SERIEBM_01_6[[#This Row],[IdEstablecimiento]],[1]Establecimientos!A$1:E$175,5,FALSE),0)","v":"04101-LA SERENA"},"105819","18040100","2021-11-08T13:09:01",69,5,64]
[2,"5",2021,{"$f":"IFERROR(VLOOKUP(Tabla_SERIEBM_01_6[[#This Row],[IdEstablecimiento]],[1]Establecimientos!A$1:E$175,5,FALSE),0)","v":"04201-ILLAPEL"},"105449","18090000","2021-11-09T14:13:03",6,0,6]
[2,"5",2021,{"$f":"IFERROR(VLOOKUP(Tabla_SERIEBM_01_6[[#This Row],[IdEstablecimiento]],[1]Establecimientos!A$1:E$175,5,FALSE),0)","v":"04102-COQUIMBO"},"105305","18050300","2021-11-09T13:39:03",21,0,21]
[7,"5",2021,{"$f":"IFERROR(VLOOKUP(Tabla_SERIEBM_01_6[[#This Row],[IdEstablecimiento]],[1]Establecimientos!A$1:E$175,5,FALSE),0)","v":"04102-COQUIMBO"},"105303","80301036","2021-08-17T04:52:29",0,null,null,183]
[9,"5",2021,{"$f":"IFERROR(VLOOKUP(Tabla_SERIEBM_01_6[[#This Row],[IdEstablecimiento]],[1]Establecimientos!A$1:E$175,5,FALSE),0)","v":"04201-ILLAPEL"},"105444","80302057","2021-10-15T13:00:14",0,null,null,10]
[2,"5",2021,{"$f":"IFERROR(VLOOKUP(Tabla_SERIEBM_01_6[[#This Row],[IdEstablecimiento]],[1]Establecimientos!A$1:E$175,5,FALSE),0)","v":"04201-ILLAPEL"},"105443","80307011","2021-11-09T14:10:25",0,null,null,18]
[6,"5",2021,{"$f":"IFERROR(VLOOKUP(Tabla_SERIEBM_01_6[[#This Row],[IdEstablecimiento]],[1]Establecimientos!A$1:E$175,5,FALSE),0)","v":"04101-LA SERENA"},"105700","80301038","2021-07-19T14:52:16",0,null,null,14]
[6,"5",2021,{"$f":"IFERROR(VLOOKUP(Tabla_SERIEBM_01_6[[#This Row],[IdEstablecimiento]],[1]Establecimientos!A$1:E$175,5,FALSE),0)","v":"04101-LA SERENA"},"105700","80302067","2021-07-19T14:52:16",0,null,null,48]
[10,"5",2021,{"$f":"IFERROR(VLOOKUP(Tabla_SERIEBM_01_6[[#This Row],[IdEstablecimiento]],[1]Establecimientos!A$1:E$175,5,FALSE),0)","v":"04105-PAIHUANO"},"105306","80302059","2021-11-15T07:29:19",0,null,null,11]
[8,"5",2021,{"$f":"IFERROR(VLOOKUP(Tabla_SERIEBM_01_6[[#This Row],[IdEstablecimiento]],[1]Establecimientos!A$1:E$175,5,FALSE),0)","v":"04102-COQUIMBO"},"105304","18070300","2021-09-20T08:25:29",210,5,0,7,10,79,109]
[8,"5",2021,{"$f":"IFERROR(VLOOKUP(Tabla_SERIEBM_01_6[[#This Row],[IdEstablecimiento]],[1]Establecimientos!A$1:E$175,5,FALSE),0)","v":"04201-ILLAPEL"},"105486","80106015","2021-09-16T11:54:36",3,null,3,null,3]
[10,"5",2021,{"$f":"IFERROR(VLOOKUP(Tabla_SERIEBM_01_6[[#This Row],[IdEstablecimiento]],[1]Establecimientos!A$1:E$175,5,FALSE),0)","v":"04203-LOS VILOS"},"105481","80301045","2021-11-15T11:24:25",0,null,null,6]
[7,"5",2021,{"$f":"IFERROR(VLOOKUP(Tabla_SERIEBM_01_6[[#This Row],[IdEstablecimiento]],[1]Establecimientos!A$1:E$175,5,FALSE),0)","v":"04101-LA SERENA"},"105325","80301034","2021-08-17T05:12:44",0,null,null,11]
[6,"5",2021,{"$f":"IFERROR(VLOOKUP(Tabla_SERIEBM_01_6[[#This Row],[IdEstablecimiento]],[1]Establecimientos!A$1:E$175,5,FALSE),0)","v":"04102-COQUIMBO"},"105805","18010200","2021-07-19T14:57:04",17,17,0]
[8,"5",2021,{"$f":"IFERROR(VLOOKUP(Tabla_SERIEBM_01_6[[#This Row],[IdEstablecimiento]],[1]Establecimientos!A$1:E$175,5,FALSE),0)","v":"04106-VICUÑA"},"105472","80303024","2021-09-16T11:42:04",0,null,null,24]
[5,"5",2021,{"$f":"IFERROR(VLOOKUP(Tabla_SERIEBM_01_6[[#This Row],[IdEstablecimiento]],[1]Establecimientos!A$1:E$175,5,FALSE),0)","v":"04106-VICUÑA"},"105473","80302057","2021-06-11T12:02:01",0,null,null,1]
[7,"5",2021,{"$f":"IFERROR(VLOOKUP(Tabla_SERIEBM_01_6[[#This Row],[IdEstablecimiento]],[1]Establecimientos!A$1:E$175,5,FALSE),0)","v":"04203-LOS VILOS"},"105478","80106014","2021-11-08T14:51:36",28,null,28]
[2,"5",2021,{"$f":"IFERROR(VLOOKUP(Tabla_SERIEBM_01_6[[#This Row],[IdEstablecimiento]],[1]Establecimientos!A$1:E$175,5,FALSE),0)","v":"04105-PAIHUANO"},"105306","80106022","2021-11-09T13:39:32",1,null,1,null,1]
[10,"5",2021,{"$f":"IFERROR(VLOOKUP(Tabla_SERIEBM_01_6[[#This Row],[IdEstablecimiento]],[1]Establecimientos!A$1:E$175,5,FALSE),0)","v":"04203-LOS VILOS"},"105481","80106007","2021-11-15T11:24:25",2,null,2,null,2]
[10,"5",2021,{"$f":"IFERROR(VLOOKUP(Tabla_SERIEBM_01_6[[#This Row],[IdEstablecimiento]],[1]Establecimientos!A$1:E$175,5,FALSE),0)","v":"04202-CANELA"},"105482","18030000","2021-11-15T11:24:57",2,0,2]
[10,"5",2021,{"$f":"IFERROR(VLOOKUP(Tabla_SERIEBM_01_6[[#This Row],[IdEstablecimiento]],[1]Establecimientos!A$1:E$175,5,FALSE),0)","v":"04202-CANELA"},"105484","80106014","2021-11-15T11:28:22",82,null,82,null,82]
[2,"5",2021,{"$f":"IFERROR(VLOOKUP(Tabla_SERIEBM_01_6[[#This Row],[IdEstablecimiento]],[1]Establecimientos!A$1:E$175,5,FALSE),0)","v":"04102-COQUIMBO"},"200607","80309028","2021-11-09T15:20:17",0,null,null,4]
[8,"5",2021,{"$f":"IFERROR(VLOOKUP(Tabla_SERIEBM_01_6[[#This Row],[IdEstablecimiento]],[1]Establecimientos!A$1:E$175,5,FALSE),0)","v":"04201-ILLAPEL"},"105496","18020500","2021-09-16T12:54:29",15,0,15]
[10,"5",2021,{"$f":"IFERROR(VLOOKUP(Tabla_SERIEBM_01_6[[#This Row],[IdEstablecimiento]],[1]Establecimientos!A$1:E$175,5,FALSE),0)","v":"04102-COQUIMBO"},"105321","80302060","2021-11-15T08:10:28",0,null,null,9]
[5,"5",2021,{"$f":"IFERROR(VLOOKUP(Tabla_SERIEBM_01_6[[#This Row],[IdEstablecimiento]],[1]Establecimientos!A$1:E$175,5,FALSE),0)","v":"04101-LA SERENA"},"105319","80302067","2021-06-11T09:51:55",0,null,null,369]
[10,"5",2021,{"$f":"IFERROR(VLOOKUP(Tabla_SERIEBM_01_6[[#This Row],[IdEstablecimiento]],[1]Establecimientos!A$1:E$175,5,FALSE),0)","v":"04201-ILLAPEL"},"105485","80106014","2021-11-15T11:29:38",52,null,52,null,52]
[8,"5",2021,{"$f":"IFERROR(VLOOKUP(Tabla_SERIEBM_01_6[[#This Row],[IdEstablecimiento]],[1]Establecimientos!A$1:E$175,5,FALSE),0)","v":"04201-ILLAPEL"},"105486","18050100","2021-09-16T11:54:36",16,0,16]
[5,"5",2021,{"$f":"IFERROR(VLOOKUP(Tabla_SERIEBM_01_6[[#This Row],[IdEstablecimiento]],[1]Establecimientos!A$1:E$175,5,FALSE),0)","v":"04102-COQUIMBO"},"105304","18050100","2021-06-11T09:44:50",277,0,277]
[4,"5",2021,{"$f":"IFERROR(VLOOKUP(Tabla_SERIEBM_01_6[[#This Row],[IdEstablecimiento]],[1]Establecimientos!A$1:E$175,5,FALSE),0)","v":"04101-LA SERENA"},"105301","80106022","2021-05-13T16:39:53",7,null,7,null,7]
[4,"5",2021,{"$f":"IFERROR(VLOOKUP(Tabla_SERIEBM_01_6[[#This Row],[IdEstablecimiento]],[1]Establecimientos!A$1:E$175,5,FALSE),0)","v":"04106-VICUÑA"},"105469","80306061","2021-05-13T17:42:06",0,null,null,1]
[2,"5",2021,{"$f":"IFERROR(VLOOKUP(Tabla_SERIEBM_01_6[[#This Row],[IdEstablecimiento]],[1]Establecimientos!A$1:E$175,5,FALSE),0)","v":"04101-LA SERENA"},"105300","80302013","2021-11-09T13:18:43",0,null,null,31]
[3,"5",2021,{"$f":"IFERROR(VLOOKUP(Tabla_SERIEBM_01_6[[#This Row],[IdEstablecimiento]],[1]Establecimientos!A$1:E$175,5,FALSE),0)","v":"04102-COQUIMBO"},"200607","80500008","2021-11-08T13:21:12",28,0,28,0,28]
[2,"5",2021,{"$f":"IFERROR(VLOOKUP(Tabla_SERIEBM_01_6[[#This Row],[IdEstablecimiento]],[1]Establecimientos!A$1:E$175,5,FALSE),0)","v":"04201-ILLAPEL"},"105448","80309022","2021-11-09T14:12:39",0,null,null,20]
[8,"5",2021,{"$f":"IFERROR(VLOOKUP(Tabla_SERIEBM_01_6[[#This Row],[IdEstablecimiento]],[1]Establecimientos!A$1:E$175,5,FALSE),0)","v":"04101-LA SERENA"},"105802","81701001","2021-09-16T13:13:52",42,42,null,null,42]
[4,"5",2021,{"$f":"IFERROR(VLOOKUP(Tabla_SERIEBM_01_6[[#This Row],[IdEstablecimiento]],[1]Establecimientos!A$1:E$175,5,FALSE),0)","v":"04105-PAIHUANO"},"105306","80306048","2021-05-13T16:48:36",0,null,null,2]
[9,"5",2021,{"$f":"IFERROR(VLOOKUP(Tabla_SERIEBM_01_6[[#This Row],[IdEstablecimiento]],[1]Establecimientos!A$1:E$175,5,FALSE),0)","v":"04203-LOS VILOS"},"105478","80301059","2021-10-15T13:13:53",0,null,null,1]
[8,"5",2021,{"$f":"IFERROR(VLOOKUP(Tabla_SERIEBM_01_6[[#This Row],[IdEstablecimiento]],[1]Establecimientos!A$1:E$175,5,FALSE),0)","v":"04102-COQUIMBO"},"105405","80106002","2021-09-16T11:06:39",16,null,16,null,2]
[8,"5",2021,{"$f":"IFERROR(VLOOKUP(Tabla_SERIEBM_01_6[[#This Row],[IdEstablecimiento]],[1]Establecimientos!A$1:E$175,5,FALSE),0)","v":"04202-CANELA"},"105309","80302034","2021-09-16T10:51:18",0,null,null,259]
[10,"5",2021,{"$f":"IFERROR(VLOOKUP(Tabla_SERIEBM_01_6[[#This Row],[IdEstablecimiento]],[1]Establecimientos!A$1:E$175,5,FALSE),0)","v":"04201-ILLAPEL"},"105486","80306002","2021-11-15T11:30:04",0,null,null,1]
[6,"5",2021,{"$f":"IFERROR(VLOOKUP(Tabla_SERIEBM_01_6[[#This Row],[IdEstablecimiento]],[1]Establecimientos!A$1:E$175,5,FALSE),0)","v":"04301-OVALLE"},"105315","80106002","2021-07-19T12:06:10",105,null,105,null,105]
[8,"5",2021,{"$f":"IFERROR(VLOOKUP(Tabla_SERIEBM_01_6[[#This Row],[IdEstablecimiento]],[1]Establecimientos!A$1:E$175,5,FALSE),0)","v":"04303-MONTE PATRIA"},"200720","81602221","2021-09-16T13:31:58",12,12,null,12]
[6,"5",2021,{"$f":"IFERROR(VLOOKUP(Tabla_SERIEBM_01_6[[#This Row],[IdEstablecimiento]],[1]Establecimientos!A$1:E$175,5,FALSE),0)","v":"04202-CANELA"},"105451","80106017","2021-07-19T14:10:33",4,4,null,null,4]
[3,"5",2021,{"$f":"IFERROR(VLOOKUP(Tabla_SERIEBM_01_6[[#This Row],[IdEstablecimiento]],[1]Establecimientos!A$1:E$175,5,FALSE),0)","v":"04303-MONTE PATRIA"},"200720","80401051","2021-11-08T13:21:38",11,11]
[3,"5",2021,{"$f":"IFERROR(VLOOKUP(Tabla_SERIEBM_01_6[[#This Row],[IdEstablecimiento]],[1]Establecimientos!A$1:E$175,5,FALSE),0)","v":"04303-MONTE PATRIA"},"200720","80401059","2021-11-08T13:21:38",19,19]
[9,"5",2021,{"$f":"IFERROR(VLOOKUP(Tabla_SERIEBM_01_6[[#This Row],[IdEstablecimiento]],[1]Establecimientos!A$1:E$175,5,FALSE),0)","v":"04101-LA SERENA"},"105499","80302047","2021-10-15T13:22:20",0,null,null,13]
[9,"5",2021,{"$f":"IFERROR(VLOOKUP(Tabla_SERIEBM_01_6[[#This Row],[IdEstablecimiento]],[1]Establecimientos!A$1:E$175,5,FALSE),0)","v":"04101-LA SERENA"},"105499","80302005","2021-10-15T13:22:20",0,null,null,6]
[8,"5",2021,{"$f":"IFERROR(VLOOKUP(Tabla_SERIEBM_01_6[[#This Row],[IdEstablecimiento]],[1]Establecimientos!A$1:E$175,5,FALSE),0)","v":"04101-LA SERENA"},"105702","80301041","2021-09-16T13:10:37",0,null,null,43]
[6,"5",2021,{"$f":"IFERROR(VLOOKUP(Tabla_SERIEBM_01_6[[#This Row],[IdEstablecimiento]],[1]Establecimientos!A$1:E$175,5,FALSE),0)","v":"04201-ILLAPEL"},"200366","80401151","2021-07-19T15:11:14",0,null,null,16]
[9,"5",2021,{"$f":"IFERROR(VLOOKUP(Tabla_SERIEBM_01_6[[#This Row],[IdEstablecimiento]],[1]Establecimientos!A$1:E$175,5,FALSE),0)","v":"04201-ILLAPEL"},"105444","80309022","2021-10-15T13:00:14",0,null,null,13]
[9,"5",2021,{"$f":"IFERROR(VLOOKUP(Tabla_SERIEBM_01_6[[#This Row],[IdEstablecimiento]],[1]Establecimientos!A$1:E$175,5,FALSE),0)","v":"04106-VICUÑA"},"200538","80306007","2021-10-15T13:39:03",0,null,null,4]
[5,"5",2021,{"$f":"IFERROR(VLOOKUP(Tabla_SERIEBM_01_6[[#This Row],[IdEstablecimiento]],[1]Establecimientos!A$1:E$175,5,FALSE),0)","v":"04102-COQUIMBO"},"105304","80302035","2021-06-11T09:44:50",0,null,null,1]
[9,"5",2021,{"$f":"IFERROR(VLOOKUP(Tabla_SERIEBM_01_6[[#This Row],[IdEstablecimiento]],[1]Establecimientos!A$1:E$175,5,FALSE),0)","v":"04102-COQUIMBO"},"200273","80302057","2021-10-15T13:36:18",0,null,null,26]
[4,"5",2021,{"$f":"IFERROR(VLOOKUP(Tabla_SERIEBM_01_6[[#This Row],[IdEstablecimiento]],[1]Establecimientos!A$1:E$175,5,FALSE),0)","v":"04301-OVALLE"},"200258","80106022","2021-05-14T11:09:28",3,null,3,null,3]
[6,"5",2021,{"$f":"IFERROR(VLOOKUP(Tabla_SERIEBM_01_6[[#This Row],[IdEstablecimiento]],[1]Establecimientos!A$1:E$175,5,FALSE),0)","v":"04102-COQUIMBO"},"105303","80301085","2021-07-19T11:59:06",0,null,null,8]
[6,"5",2021,{"$f":"IFERROR(VLOOKUP(Tabla_SERIEBM_01_6[[#This Row],[IdEstablecimiento]],[1]Establecimientos!A$1:E$175,5,FALSE),0)","v":"04304-PUNITAQUI"},"105308","80309013","2021-07-19T12:02:32",0,null,null,137]
[8,"5",2021,{"$f":"IFERROR(VLOOKUP(Tabla_SERIEBM_01_6[[#This Row],[IdEstablecimiento]],[1]Establecimientos!A$1:E$175,5,FALSE),0)","v":"04202-CANELA"},"105309","18020300","2021-09-16T10:51:18",47,0,47]
[9,"5",2021,{"$f":"IFERROR(VLOOKUP(Tabla_SERIEBM_01_6[[#This Row],[IdEstablecimiento]],[1]Establecimientos!A$1:E$175,5,FALSE),0)","v":"04106-VICUÑA"},"200538","18400900","2021-10-15T13:39:03",29,7,22]
[10,"5",2021,{"$f":"IFERROR(VLOOKUP(Tabla_SERIEBM_01_6[[#This Row],[IdEstablecimiento]],[1]Establecimientos!A$1:E$175,5,FALSE),0)","v":"04303-MONTE PATRIA"},"105489","18020500","2021-11-15T11:53:00",12,0,12]
[4,"5",2021,{"$f":"IFERROR(VLOOKUP(Tabla_SERIEBM_01_6[[#This Row],[IdEstablecimiento]],[1]Establecimientos!A$1:E$175,5,FALSE),0)","v":"04303-MONTE PATRIA"},"105312","81602221","2021-05-13T16:51:05",6,null,6,null,6]
[4,"5",2021,{"$f":"IFERROR(VLOOKUP(Tabla_SERIEBM_01_6[[#This Row],[IdEstablecimiento]],[1]Establecimientos!A$1:E$175,5,FALSE),0)","v":0},"200928","18020200","2021-05-17T10:12:50",1,1,0]
[7,"5",2021,{"$f":"IFERROR(VLOOKUP(Tabla_SERIEBM_01_6[[#This Row],[IdEstablecimiento]],[1]Establecimientos!A$1:E$175,5,FALSE),0)","v":"04304-PUNITAQUI"},"105440","18030000","2021-08-17T06:23:24",11,0,11]
[6,"5",2021,{"$f":"IFERROR(VLOOKUP(Tabla_SERIEBM_01_6[[#This Row],[IdEstablecimiento]],[1]Establecimientos!A$1:E$175,5,FALSE),0)","v":"04301-OVALLE"},"105322","18400900","2021-07-19T12:08:32",105,22,83]
[10,"5",2021,{"$f":"IFERROR(VLOOKUP(Tabla_SERIEBM_01_6[[#This Row],[IdEstablecimiento]],[1]Establecimientos!A$1:E$175,5,FALSE),0)","v":"04302-COMBARBALÁ"},"105490","18400900","2021-11-15T11:56:05",3,null,3]
[10,"5",2021,{"$f":"IFERROR(VLOOKUP(Tabla_SERIEBM_01_6[[#This Row],[IdEstablecimiento]],[1]Establecimientos!A$1:E$175,5,FALSE),0)","v":"04204-SALAMANCA"},"105492","80106008","2021-11-15T11:57:18",2,null,2]
[9,"5",2021,{"$f":"IFERROR(VLOOKUP(Tabla_SERIEBM_01_6[[#This Row],[IdEstablecimiento]],[1]Establecimientos!A$1:E$175,5,FALSE),0)","v":"04305-RIO HURTADO"},"105503","80106020","2021-10-15T13:23:35",2,null,2,null,2]
[7,"5",2021,{"$f":"IFERROR(VLOOKUP(Tabla_SERIEBM_01_6[[#This Row],[IdEstablecimiento]],[1]Establecimientos!A$1:E$175,5,FALSE),0)","v":"04303-MONTE PATRIA"},"105435","81701001","2021-08-17T06:19:17",26,null,26,null,26]
[2,"5",2021,{"$f":"IFERROR(VLOOKUP(Tabla_SERIEBM_01_6[[#This Row],[IdEstablecimiento]],[1]Establecimientos!A$1:E$175,5,FALSE),0)","v":"04202-CANELA"},"105809","80106014","2021-11-09T15:07:32",74,74,null,null,74]
[7,"5",2021,{"$f":"IFERROR(VLOOKUP(Tabla_SERIEBM_01_6[[#This Row],[IdEstablecimiento]],[1]Establecimientos!A$1:E$175,5,FALSE),0)","v":"04202-CANELA"},"105498","80106002","2021-08-17T09:06:54",4,4,null,null,4]
[10,"5",2021,{"$f":"IFERROR(VLOOKUP(Tabla_SERIEBM_01_6[[#This Row],[IdEstablecimiento]],[1]Establecimientos!A$1:E$175,5,FALSE),0)","v":"04202-CANELA"},"105493","81701009","2021-11-15T11:57:45",17,null,17]
[10,"5",2021,{"$f":"IFERROR(VLOOKUP(Tabla_SERIEBM_01_6[[#This Row],[IdEstablecimiento]],[1]Establecimientos!A$1:E$175,5,FALSE),0)","v":"04201-ILLAPEL"},"105496","80106015","2021-11-15T11:58:39",2,null,2,null,2]
[6,"5",2021,{"$f":"IFERROR(VLOOKUP(Tabla_SERIEBM_01_6[[#This Row],[IdEstablecimiento]],[1]Establecimientos!A$1:E$175,5,FALSE),0)","v":"04303-MONTE PATRIA"},"105428","80106002","2021-08-17T10:16:06",22,null,22,null,22]
[6,"5",2021,{"$f":"IFERROR(VLOOKUP(Tabla_SERIEBM_01_6[[#This Row],[IdEstablecimiento]],[1]Establecimientos!A$1:E$175,5,FALSE),0)","v":"04201-ILLAPEL"},"105496","80309022","2021-07-19T14:44:06",0,null,null,9]
[2,"5",2021,{"$f":"IFERROR(VLOOKUP(Tabla_SERIEBM_01_6[[#This Row],[IdEstablecimiento]],[1]Establecimientos!A$1:E$175,5,FALSE),0)","v":"04102-COQUIMBO"},"105305","80301038","2021-11-09T13:39:03",0,null,null,47]
[2,"5",2021,{"$f":"IFERROR(VLOOKUP(Tabla_SERIEBM_01_6[[#This Row],[IdEstablecimiento]],[1]Establecimientos!A$1:E$175,5,FALSE),0)","v":"04101-LA SERENA"},"105319","80302068","2021-11-09T13:44:59",0,null,null,356]
[7,"5",2021,{"$f":"IFERROR(VLOOKUP(Tabla_SERIEBM_01_6[[#This Row],[IdEstablecimiento]],[1]Establecimientos!A$1:E$175,5,FALSE),0)","v":"04202-CANELA"},"105484","81602222","2021-08-17T07:16:43",3,null,3,null,3]
[6,"5",2021,{"$f":"IFERROR(VLOOKUP(Tabla_SERIEBM_01_6[[#This Row],[IdEstablecimiento]],[1]Establecimientos!A$1:E$175,5,FALSE),0)","v":"04102-COQUIMBO"},"200607","18400900","2021-07-19T15:15:19",137,43,94]
[2,"5",2021,{"$f":"IFERROR(VLOOKUP(Tabla_SERIEBM_01_6[[#This Row],[IdEstablecimiento]],[1]Establecimientos!A$1:E$175,5,FALSE),0)","v":"04102-COQUIMBO"},"105305","80106023","2021-11-09T13:39:03",59,null,59,null,59]
[6,"5",2021,{"$f":"IFERROR(VLOOKUP(Tabla_SERIEBM_01_6[[#This Row],[IdEstablecimiento]],[1]Establecimientos!A$1:E$175,5,FALSE),0)","v":"04201-ILLAPEL"},"105486","81701001","2021-07-19T14:39:30",2,null,2,null,2]
[2,"5",2021,{"$f":"IFERROR(VLOOKUP(Tabla_SERIEBM_01_6[[#This Row],[IdEstablecimiento]],[1]Establecimientos!A$1:E$175,5,FALSE),0)","v":"04104-LA HIGUERA"},"105314","80106005","2021-11-09T13:43:04",6,6,null,null,6]
[10,"5",2021,{"$f":"IFERROR(VLOOKUP(Tabla_SERIEBM_01_6[[#This Row],[IdEstablecimiento]],[1]Establecimientos!A$1:E$175,5,FALSE),0)","v":"04101-LA SERENA"},"105499","80302057","2021-11-15T12:00:49",0,null,null,6]
[8,"5",2021,{"$f":"IFERROR(VLOOKUP(Tabla_SERIEBM_01_6[[#This Row],[IdEstablecimiento]],[1]Establecimientos!A$1:E$175,5,FALSE),0)","v":"04303-MONTE PATRIA"},"105432","80106013","2021-09-16T11:15:51",5,null,5,null,5]
[2,"5",2021,{"$f":"IFERROR(VLOOKUP(Tabla_SERIEBM_01_6[[#This Row],[IdEstablecimiento]],[1]Establecimientos!A$1:E$175,5,FALSE),0)","v":"04202-CANELA"},"105309","80302076","2021-11-09T13:41:06",0,null,null,34]
[2,"5",2021,{"$f":"IFERROR(VLOOKUP(Tabla_SERIEBM_01_6[[#This Row],[IdEstablecimiento]],[1]Establecimientos!A$1:E$175,5,FALSE),0)","v":"04301-OVALLE"},"105317","80500011","2021-11-09T13:44:11",44,null,44]
[2,"5",2021,{"$f":"IFERROR(VLOOKUP(Tabla_SERIEBM_01_6[[#This Row],[IdEstablecimiento]],[1]Establecimientos!A$1:E$175,5,FALSE),0)","v":"04303-MONTE PATRIA"},"105318","80106002","2021-11-09T13:44:34",95,13,82,null,95]
[10,"5",2021,{"$f":"IFERROR(VLOOKUP(Tabla_SERIEBM_01_6[[#This Row],[IdEstablecimiento]],[1]Establecimientos!A$1:E$175,5,FALSE),0)","v":"04102-COQUIMBO"},"105321","80106015","2021-11-15T08:10:28",145,143,2,null,7]
[8,"5",2021,{"$f":"IFERROR(VLOOKUP(Tabla_SERIEBM_01_6[[#This Row],[IdEstablecimiento]],[1]Establecimientos!A$1:E$175,5,FALSE),0)","v":"04204-SALAMANCA"},"105452","80302076","2021-09-16T11:29:57",0,null,null,47]
[10,"5",2021,{"$f":"IFERROR(VLOOKUP(Tabla_SERIEBM_01_6[[#This Row],[IdEstablecimiento]],[1]Establecimientos!A$1:E$175,5,FALSE),0)","v":"04305-RIO HURTADO"},"105503","80301085","2021-11-15T12:03:04",0,null,null,3]
[10,"5",2021,{"$f":"IFERROR(VLOOKUP(Tabla_SERIEBM_01_6[[#This Row],[IdEstablecimiento]],[1]Establecimientos!A$1:E$175,5,FALSE),0)","v":"04301-OVALLE"},"105322","80302064","2021-11-15T08:10:57",21,null,21]
[3,"5",2021,{"$f":"IFERROR(VLOOKUP(Tabla_SERIEBM_01_6[[#This Row],[IdEstablecimiento]],[1]Establecimientos!A$1:E$175,5,FALSE),0)","v":"04304-PUNITAQUI"},"105308","80303024","2021-11-08T10:18:28",0,null,null,191]
[8,"5",2021,{"$f":"IFERROR(VLOOKUP(Tabla_SERIEBM_01_6[[#This Row],[IdEstablecimiento]],[1]Establecimientos!A$1:E$175,5,FALSE),0)","v":"04302-COMBARBALÁ"},"105433","18400900","2021-09-16T11:16:15",3,null,3]
[8,"5",2021,{"$f":"IFERROR(VLOOKUP(Tabla_SERIEBM_01_6[[#This Row],[IdEstablecimiento]],[1]Establecimientos!A$1:E$175,5,FALSE),0)","v":"04102-COQUIMBO"},"200848","18030000","2021-09-16T13:35:51",25,25,0]
[8,"5",2021,{"$f":"IFERROR(VLOOKUP(Tabla_SERIEBM_01_6[[#This Row],[IdEstablecimiento]],[1]Establecimientos!A$1:E$175,5,FALSE),0)","v":"04106-VICUÑA"},"105472","80302067","2021-09-16T11:42:04",0,null,null,2]
[10,"5",2021,{"$f":"IFERROR(VLOOKUP(Tabla_SERIEBM_01_6[[#This Row],[IdEstablecimiento]],[1]Establecimientos!A$1:E$175,5,FALSE),0)","v":"04305-RIO HURTADO"},"105503","80302034","2021-11-15T12:03:04",0,null,null,19]
[10,"5",2021,{"$f":"IFERROR(VLOOKUP(Tabla_SERIEBM_01_6[[#This Row],[IdEstablecimiento]],[1]Establecimientos!A$1:E$175,5,FALSE),0)","v":"04106-VICUÑA"},"105509","80303024","2021-11-15T12:07:26",0,null,null,7]
[7,"5",2021,{"$f":"IFERROR(VLOOKUP(Tabla_SERIEBM_01_6[[#This Row],[IdEstablecimiento]],[1]Establecimientos!A$1:E$175,5,FALSE),0)","v":"04102-COQUIMBO"},"200499","18020900","2021-08-17T09:51:51",2,0,2]
[8,"5",2021,{"$f":"IFERROR(VLOOKUP(Tabla_SERIEBM_01_6[[#This Row],[IdEstablecimiento]],[1]Establecimientos!A$1:E$175,5,FALSE),0)","v":"04106-VICUÑA"},"105472","80106014","2021-09-16T11:42:04",93,null,93,null,93]
[8,"5",2021,{"$f":"IFERROR(VLOOKUP(Tabla_SERIEBM_01_6[[#This Row],[IdEstablecimiento]],[1]Establecimientos!A$1:E$175,5,FALSE),0)","v":"04106-VICUÑA"},"105472","80500011","2021-09-16T11:42:04",9,null,9,null,9]
[7,"5",2021,{"$f":"IFERROR(VLOOKUP(Tabla_SERIEBM_01_6[[#This Row],[IdEstablecimiento]],[1]Establecimientos!A$1:E$175,5,FALSE),0)","v":"04304-PUNITAQUI"},"105308","18700100","2021-08-17T04:55:54",363,5,341,17,0]
[4,"5",2021,{"$f":"IFERROR(VLOOKUP(Tabla_SERIEBM_01_6[[#This Row],[IdEstablecimiento]],[1]Establecimientos!A$1:E$175,5,FALSE),0)","v":"04102-COQUIMBO"},"200848","18090200","2021-05-14T11:22:39",29]
[5,"5",2021,{"$f":"IFERROR(VLOOKUP(Tabla_SERIEBM_01_6[[#This Row],[IdEstablecimiento]],[1]Establecimientos!A$1:E$175,5,FALSE),0)","v":"04303-MONTE PATRIA"},"200720","80500017","2021-06-11T14:32:43",43,43,null,null,43]
[5,"5",2021,{"$f":"IFERROR(VLOOKUP(Tabla_SERIEBM_01_6[[#This Row],[IdEstablecimiento]],[1]Establecimientos!A$1:E$175,5,FALSE),0)","v":"04303-MONTE PATRIA"},"105312","80307011","2021-06-11T09:49:29",240,null,240]
[10,"5",2021,{"$f":"IFERROR(VLOOKUP(Tabla_SERIEBM_01_6[[#This Row],[IdEstablecimiento]],[1]Establecimientos!A$1:E$175,5,FALSE),0)","v":"04106-VICUÑA"},"105509","80303026","2021-11-15T12:07:26",0,null,null,6]
[10,"5",2021,{"$f":"IFERROR(VLOOKUP(Tabla_SERIEBM_01_6[[#This Row],[IdEstablecimiento]],[1]Establecimientos!A$1:E$175,5,FALSE),0)","v":"04106-VICUÑA"},"105509","80302034","2021-11-15T12:07:26",0,null,null,10]
[3,"5",2021,{"$f":"IFERROR(VLOOKUP(Tabla_SERIEBM_01_6[[#This Row],[IdEstablecimiento]],[1]Establecimientos!A$1:E$175,5,FALSE),0)","v":"04304-PUNITAQUI"},"105308","80106017","2021-11-08T10:18:28",74,null,74,null,74]
[2,"5",2021,{"$f":"IFERROR(VLOOKUP(Tabla_SERIEBM_01_6[[#This Row],[IdEstablecimiento]],[1]Establecimientos!A$1:E$175,5,FALSE),0)","v":"04202-CANELA"},"105309","80302034","2021-11-09T13:41:06",0,null,null,168]
[2,"5",2021,{"$f":"IFERROR(VLOOKUP(Tabla_SERIEBM_01_6[[#This Row],[IdEstablecimiento]],[1]Establecimientos!A$1:E$175,5,FALSE),0)","v":"04202-CANELA"},"105309","80309028","2021-11-09T13:41:06",0,null,null,1]
[8,"5",2021,{"$f":"IFERROR(VLOOKUP(Tabla_SERIEBM_01_6[[#This Row],[IdEstablecimiento]],[1]Establecimientos!A$1:E$175,5,FALSE),0)","v":"04301-OVALLE"},"105507","80106002","2021-09-16T13:07:03",39,null,39]
[8,"5",2021,{"$f":"IFERROR(VLOOKUP(Tabla_SERIEBM_01_6[[#This Row],[IdEstablecimiento]],[1]Establecimientos!A$1:E$175,5,FALSE),0)","v":"04304-PUNITAQUI"},"105508","80106014","2021-09-16T13:07:33",46,null,46,null,46]
[9,"5",2021,{"$f":"IFERROR(VLOOKUP(Tabla_SERIEBM_01_6[[#This Row],[IdEstablecimiento]],[1]Establecimientos!A$1:E$175,5,FALSE),0)","v":"04102-COQUIMBO"},"200607","80404003","2021-10-15T13:39:59",0,null,null,15]
[10,"5",2021,{"$f":"IFERROR(VLOOKUP(Tabla_SERIEBM_01_6[[#This Row],[IdEstablecimiento]],[1]Establecimientos!A$1:E$175,5,FALSE),0)","v":"04106-VICUÑA"},"105509","18030000","2021-11-15T12:07:26",1,0,1]
[10,"5",2021,{"$f":"IFERROR(VLOOKUP(Tabla_SERIEBM_01_6[[#This Row],[IdEstablecimiento]],[1]Establecimientos!A$1:E$175,5,FALSE),0)","v":"04203-LOS VILOS"},"105511","80301059","2021-11-15T12:09:23",0,null,null,3]
[2,"5",2021,{"$f":"IFERROR(VLOOKUP(Tabla_SERIEBM_01_6[[#This Row],[IdEstablecimiento]],[1]Establecimientos!A$1:E$175,5,FALSE),0)","v":"04201-ILLAPEL"},"105326","80302064","2021-11-09T13:47:25",0,null,null,9]
[2,"5",2021,{"$f":"IFERROR(VLOOKUP(Tabla_SERIEBM_01_6[[#This Row],[IdEstablecimiento]],[1]Establecimientos!A$1:E$175,5,FALSE),0)","v":"04202-CANELA"},"105809","18050300","2021-11-09T15:07:32",2,2,0]
[2,"5",2021,{"$f":"IFERROR(VLOOKUP(Tabla_SERIEBM_01_6[[#This Row],[IdEstablecimiento]],[1]Establecimientos!A$1:E$175,5,FALSE),0)","v":"04301-OVALLE"},"105817","18020500","2021-11-09T15:09:02",12,12,0]
[8,"5",2021,{"$f":"IFERROR(VLOOKUP(Tabla_SERIEBM_01_6[[#This Row],[IdEstablecimiento]],[1]Establecimientos!A$1:E$175,5,FALSE),0)","v":"04201-ILLAPEL"},"200366","80303024","2021-09-16T13:23:39",0,null,null,311]
[8,"5",2021,{"$f":"IFERROR(VLOOKUP(Tabla_SERIEBM_01_6[[#This Row],[IdEstablecimiento]],[1]Establecimientos!A$1:E$175,5,FALSE),0)","v":"04201-ILLAPEL"},"200366","80301036","2021-09-16T13:23:39",0,null,null,87]
[1,"5",2021,{"$f":"IFERROR(VLOOKUP(Tabla_SERIEBM_01_6[[#This Row],[IdEstablecimiento]],[1]Establecimientos!A$1:E$175,5,FALSE),0)","v":"04302-COMBARBALÁ"},"105441","18050100","2021-02-18T04:01:27",8,0,8]
[7,"5",2021,{"$f":"IFERROR(VLOOKUP(Tabla_SERIEBM_01_6[[#This Row],[IdEstablecimiento]],[1]Establecimientos!A$1:E$175,5,FALSE),0)","v":"04102-COQUIMBO"},"105805","18700100","2021-11-12T14:38:35",1066,151,852,63]
[2,"5",2021,{"$f":"IFERROR(VLOOKUP(Tabla_SERIEBM_01_6[[#This Row],[IdEstablecimiento]],[1]Establecimientos!A$1:E$175,5,FALSE),0)","v":"04101-LA SERENA"},"105301","80106014","2021-11-09T13:19:07",219,null,219,null,219]
[2,"5",2021,{"$f":"IFERROR(VLOOKUP(Tabla_SERIEBM_01_6[[#This Row],[IdEstablecimiento]],[1]Establecimientos!A$1:E$175,5,FALSE),0)","v":"04305-RIO HURTADO"},"105310","80404012","2021-11-09T13:41:32",4,null,4,4]
[10,"5",2021,{"$f":"IFERROR(VLOOKUP(Tabla_SERIEBM_01_6[[#This Row],[IdEstablecimiento]],[1]Establecimientos!A$1:E$175,5,FALSE),0)","v":"04101-LA SERENA"},"105701","80301045","2021-11-15T12:10:15",0,null,null,34]
[10,"5",2021,{"$f":"IFERROR(VLOOKUP(Tabla_SERIEBM_01_6[[#This Row],[IdEstablecimiento]],[1]Establecimientos!A$1:E$175,5,FALSE),0)","v":"04101-LA SERENA"},"105701","80309022","2021-11-15T12:10:15",0,null,null,51]
[10,"5",2021,{"$f":"IFERROR(VLOOKUP(Tabla_SERIEBM_01_6[[#This Row],[IdEstablecimiento]],[1]Establecimientos!A$1:E$175,5,FALSE),0)","v":"04101-LA SERENA"},"105301","80306011","2021-11-15T07:24:48",0,null,null,20]
[8,"5",2021,{"$f":"IFERROR(VLOOKUP(Tabla_SERIEBM_01_6[[#This Row],[IdEstablecimiento]],[1]Establecimientos!A$1:E$175,5,FALSE),0)","v":"04204-SALAMANCA"},"105501","18040200","2021-09-16T13:01:55",3,null,3]
[8,"5",2021,{"$f":"IFERROR(VLOOKUP(Tabla_SERIEBM_01_6[[#This Row],[IdEstablecimiento]],[1]Establecimientos!A$1:E$175,5,FALSE),0)","v":"04204-SALAMANCA"},"105452","80106002","2021-09-16T11:29:57",29,null,29]
[2,"5",2021,{"$f":"IFERROR(VLOOKUP(Tabla_SERIEBM_01_6[[#This Row],[IdEstablecimiento]],[1]Establecimientos!A$1:E$175,5,FALSE),0)","v":"04101-LA SERENA"},"105401","80301036","2021-11-09T13:49:17",0,null,null,3]
[2,"5",2021,{"$f":"IFERROR(VLOOKUP(Tabla_SERIEBM_01_6[[#This Row],[IdEstablecimiento]],[1]Establecimientos!A$1:E$175,5,FALSE),0)","v":"04201-ILLAPEL"},"105443","81701001","2021-11-09T14:10:25",8,null,8,null,8]
[10,"5",2021,{"$f":"IFERROR(VLOOKUP(Tabla_SERIEBM_01_6[[#This Row],[IdEstablecimiento]],[1]Establecimientos!A$1:E$175,5,FALSE),0)","v":"04101-LA SERENA"},"105701","80106014","2021-11-15T12:10:15",0,{"$nulls":3},37]
[6,"5",2021,{"$f":"IFERROR(VLOOKUP(Tabla_SERIEBM_01_6[[#This Row],[IdEstablecimiento]],[1]Establecimientos!A$1:E$175,5,FALSE),0)","v":"04106-VICUÑA"},"105468","80106017","2021-07-19T14:25:14",1,null,1,null,1]
[7,"5",2021,{"$f":"IFERROR(VLOOKUP(Tabla_SERIEBM_01_6[[#This Row],[IdEstablecimiento]],[1]Establecimientos!A$1:E$175,5,FALSE),0)","v":"04106-VICUÑA"},"105468","80306061","2021-08-17T06:48:05",0,null,null,1]
[7,"5",2021,{"$f":"IFERROR(VLOOKUP(Tabla_SERIEBM_01_6[[#This Row],[IdEstablecimiento]],[1]Establecimientos!A$1:E$175,5,FALSE),0)","v":"04201-ILLAPEL"},"200366","80308004","2021-08-17T09:45:14",0,null,null,1]
[8,"5",2021,{"$f":"IFERROR(VLOOKUP(Tabla_SERIEBM_01_6[[#This Row],[IdEstablecimiento]],[1]Establecimientos!A$1:E$175,5,FALSE),0)","v":"04101-LA SERENA"},"105700","80302040","2021-09-16T13:09:33",0,null,null,1]
[8,"5",2021,{"$f":"IFERROR(VLOOKUP(Tabla_SERIEBM_01_6[[#This Row],[IdEstablecimiento]],[1]Establecimientos!A$1:E$175,5,FALSE),0)","v":"04203-LOS VILOS"},"105480","80305070","2021-10-19T08:44:36",0,null,null,3]
[10,"5",2021,{"$f":"IFERROR(VLOOKUP(Tabla_SERIEBM_01_6[[#This Row],[IdEstablecimiento]],[1]Establecimientos!A$1:E$175,5,FALSE),0)","v":"04102-COQUIMBO"},"105803","80106013","2021-11-15T12:15:37",2,2,null,null,2]
[8,"5",2021,{"$f":"IFERROR(VLOOKUP(Tabla_SERIEBM_01_6[[#This Row],[IdEstablecimiento]],[1]Establecimientos!A$1:E$175,5,FALSE),0)","v":"04204-SALAMANCA"},"105452","80106015","2021-09-16T11:29:57",5,null,5]
[7,"5",2021,{"$f":"IFERROR(VLOOKUP(Tabla_SERIEBM_01_6[[#This Row],[IdEstablecimiento]],[1]Establecimientos!A$1:E$175,5,FALSE),0)","v":"04102-COQUIMBO"},"200494","80306059","2021-08-17T09:51:12",0,null,null,1]
[7,"5",2021,{"$f":"IFERROR(VLOOKUP(Tabla_SERIEBM_01_6[[#This Row],[IdEstablecimiento]],[1]Establecimientos!A$1:E$175,5,FALSE),0)","v":"04102-COQUIMBO"},"105405","80106017","2021-08-17T05:46:33",2,null,2,null,1]
[3,"5",2021,{"$f":"IFERROR(VLOOKUP(Tabla_SERIEBM_01_6[[#This Row],[IdEstablecimiento]],[1]Establecimientos!A$1:E$175,5,FALSE),0)","v":"04301-OVALLE"},"105417","80106008","2021-11-08T12:07:44",1,null,1]
[2,"5",2021,{"$f":"IFERROR(VLOOKUP(Tabla_SERIEBM_01_6[[#This Row],[IdEstablecimiento]],[1]Establecimientos!A$1:E$175,5,FALSE),0)","v":"04101-LA SERENA"},"105302","80302032","2021-11-09T13:19:31",0,null,null,186]
[2,"5",2021,{"$f":"IFERROR(VLOOKUP(Tabla_SERIEBM_01_6[[#This Row],[IdEstablecimiento]],[1]Establecimientos!A$1:E$175,5,FALSE),0)","v":"04303-MONTE PATRIA"},"105311","80106011","2021-11-09T13:41:54",1,null,1,null,1]
[6,"5",2021,{"$f":"IFERROR(VLOOKUP(Tabla_SERIEBM_01_6[[#This Row],[IdEstablecimiento]],[1]Establecimientos!A$1:E$175,5,FALSE),0)","v":"04101-LA SERENA"},"105325","80404002","2021-07-19T12:09:58",28,null,28]
[7,"5",2021,{"$f":"IFERROR(VLOOKUP(Tabla_SERIEBM_01_6[[#This Row],[IdEstablecimiento]],[1]Establecimientos!A$1:E$175,5,FALSE),0)","v":"04102-COQUIMBO"},"105405","18030000","2021-08-17T05:46:33",4,0,4]
[9,"5",2021,{"$f":"IFERROR(VLOOKUP(Tabla_SERIEBM_01_6[[#This Row],[IdEstablecimiento]],[1]Establecimientos!A$1:E$175,5,FALSE),0)","v":"04101-LA SERENA"},"105300","18700250","2021-10-15T12:31:45",2,null,2]
[2,"5",2021,{"$f":"IFERROR(VLOOKUP(Tabla_SERIEBM_01_6[[#This Row],[IdEstablecimiento]],[1]Establecimientos!A$1:E$175,5,FALSE),0)","v":"04101-LA SERENA"},"105302","80306061","2021-11-09T13:19:31",0,null,null,1]
[10,"5",2021,{"$f":"IFERROR(VLOOKUP(Tabla_SERIEBM_01_6[[#This Row],[IdEstablecimiento]],[1]Establecimientos!A$1:E$175,5,FALSE),0)","v":"04102-COQUIMBO"},"105803","18020700","2021-11-15T12:15:37",1,1,0]
[10,"5",2021,{"$f":"IFERROR(VLOOKUP(Tabla_SERIEBM_01_6[[#This Row],[IdEstablecimiento]],[1]Establecimientos!A$1:E$175,5,FALSE),0)","v":"04102-COQUIMBO"},"105805","80401042","2021-11-15T12:16:36",22,22,null,22]
[7,"5",2021,{"$f":"IFERROR(VLOOKUP(Tabla_SERIEBM_01_6[[#This Row],[IdEstablecimiento]],[1]Establecimientos!A$1:E$175,5,FALSE),0)","v":"04303-MONTE PATRIA"},"200720","18040100","2021-08-17T09:55:25",16,6,10]
[6,"5",2021,{"$f":"IFERROR(VLOOKUP(Tabla_SERIEBM_01_6[[#This Row],[IdEstablecimiento]],[1]Establecimientos!A$1:E$175,5,FALSE),0)","v":"04301-OVALLE"},"105822","80106014","2021-07-19T15:07:02",420,420]
[1,"5",2021,{"$f":"IFERROR(VLOOKUP(Tabla_SERIEBM_01_6[[#This Row],[IdEstablecimiento]],[1]Establecimientos!A$1:E$175,5,FALSE),0)","v":"04305-RIO HURTADO"},"105413","80401010","2021-02-18T03:36:05",5,null,5,5]
[3,"5",2021,{"$f":"IFERROR(VLOOKUP(Tabla_SERIEBM_01_6[[#This Row],[IdEstablecimiento]],[1]Establecimientos!A$1:E$175,5,FALSE),0)","v":"04303-MONTE PATRIA"},"105312","18020900","2021-11-08T10:27:57",1,0,1]
[6,"5",2021,{"$f":"IFERROR(VLOOKUP(Tabla_SERIEBM_01_6[[#This Row],[IdEstablecimiento]],[1]Establecimientos!A$1:E$175,5,FALSE),0)","v":"04201-ILLAPEL"},"105448","18030000","2021-07-19T14:08:05",2,0,2]
[7,"5",2021,{"$f":"IFERROR(VLOOKUP(Tabla_SERIEBM_01_6[[#This Row],[IdEstablecimiento]],[1]Establecimientos!A$1:E$175,5,FALSE),0)","v":"04304-PUNITAQUI"},"105308","80306002","2021-08-17T04:55:54",0,null,null,1]
[2,"5",2021,{"$f":"IFERROR(VLOOKUP(Tabla_SERIEBM_01_6[[#This Row],[IdEstablecimiento]],[1]Establecimientos!A$1:E$175,5,FALSE),0)","v":"04305-RIO HURTADO"},"105503","80500009","2021-11-09T14:59:55",1,null,1,null,1]
[2,"5",2021,{"$f":"IFERROR(VLOOKUP(Tabla_SERIEBM_01_6[[#This Row],[IdEstablecimiento]],[1]Establecimientos!A$1:E$175,5,FALSE),0)","v":"04305-RIO HURTADO"},"105503","18400900","2021-11-09T14:59:55",13,null,13]
[2,"5",2021,{"$f":"IFERROR(VLOOKUP(Tabla_SERIEBM_01_6[[#This Row],[IdEstablecimiento]],[1]Establecimientos!A$1:E$175,5,FALSE),0)","v":"04102-COQUIMBO"},"200494","80106002","2021-11-09T15:18:34",147,null,147,null,147]
[8,"5",2021,{"$f":"IFERROR(VLOOKUP(Tabla_SERIEBM_01_6[[#This Row],[IdEstablecimiento]],[1]Establecimientos!A$1:E$175,5,FALSE),0)","v":"04101-LA SERENA"},"105402","81701001","2021-09-16T11:05:38",2,null,2,null,2]
[9,"5",2021,{"$f":"IFERROR(VLOOKUP(Tabla_SERIEBM_01_6[[#This Row],[IdEstablecimiento]],[1]Establecimientos!A$1:E$175,5,FALSE),0)","v":"04304-PUNITAQUI"},"105308","80106002","2021-10-15T12:35:21",75,null,75,null,75]
[10,"5",2021,{"$f":"IFERROR(VLOOKUP(Tabla_SERIEBM_01_6[[#This Row],[IdEstablecimiento]],[1]Establecimientos!A$1:E$175,5,FALSE),0)","v":"04301-OVALLE"},"105722","80500009","2021-11-15T12:12:09",12,null,12,null,12]
[8,"5",2021,{"$f":"IFERROR(VLOOKUP(Tabla_SERIEBM_01_6[[#This Row],[IdEstablecimiento]],[1]Establecimientos!A$1:E$175,5,FALSE),0)","v":"04102-COQUIMBO"},"105303","80303024","2021-09-16T10:47:43",0,null,null,178]
[9,"5",2021,{"$f":"IFERROR(VLOOKUP(Tabla_SERIEBM_01_6[[#This Row],[IdEstablecimiento]],[1]Establecimientos!A$1:E$175,5,FALSE),0)","v":"04102-COQUIMBO"},"105304","80302063","2021-10-15T12:33:19",0,null,null,94]
[2,"5",2021,{"$f":"IFERROR(VLOOKUP(Tabla_SERIEBM_01_6[[#This Row],[IdEstablecimiento]],[1]Establecimientos!A$1:E$175,5,FALSE),0)","v":"04104-LA HIGUERA"},"105505","80106014","2021-11-09T15:00:43",104,104,null,null,104]
[10,"5",2021,{"$f":"IFERROR(VLOOKUP(Tabla_SERIEBM_01_6[[#This Row],[IdEstablecimiento]],[1]Establecimientos!A$1:E$175,5,FALSE),0)","v":"04101-LA SERENA"},"105826","80401051","2021-11-15T12:24:44",32,32]
[10,"5",2021,{"$f":"IFERROR(VLOOKUP(Tabla_SERIEBM_01_6[[#This Row],[IdEstablecimiento]],[1]Establecimientos!A$1:E$175,5,FALSE),0)","v":"04101-LA SERENA"},"105826","81602222","2021-11-15T12:24:44",23,23,null,23,0,0]
[8,"5",2021,{"$f":"IFERROR(VLOOKUP(Tabla_SERIEBM_01_6[[#This Row],[IdEstablecimiento]],[1]Establecimientos!A$1:E$175,5,FALSE),0)","v":"04106-VICUÑA"},"105473","80308005","2021-09-16T11:42:42",0,null,null,1]
[4,"5",2021,{"$f":"IFERROR(VLOOKUP(Tabla_SERIEBM_01_6[[#This Row],[IdEstablecimiento]],[1]Establecimientos!A$1:E$175,5,FALSE),0)","v":"04201-ILLAPEL"},"105504","80106014","2021-05-14T10:25:18",12,null,12,null,12]
[2,"5",2021,{"$f":"IFERROR(VLOOKUP(Tabla_SERIEBM_01_6[[#This Row],[IdEstablecimiento]],[1]Establecimientos!A$1:E$175,5,FALSE),0)","v":"04102-COQUIMBO"},"105303","81602202","2021-11-09T15:32:01",1,null,1,1]
[7,"5",2021,{"$f":"IFERROR(VLOOKUP(Tabla_SERIEBM_01_6[[#This Row],[IdEstablecimiento]],[1]Establecimientos!A$1:E$175,5,FALSE),0)","v":"04202-CANELA"},"105309","80301015","2021-08-17T04:56:46",0,null,null,6]
[10,"5",2021,{"$f":"IFERROR(VLOOKUP(Tabla_SERIEBM_01_6[[#This Row],[IdEstablecimiento]],[1]Establecimientos!A$1:E$175,5,FALSE),0)","v":"04101-LA SERENA"},"105826","80106015","2021-11-15T12:24:44",245,245,null,null,245]
[9,"5",2021,{"$f":"IFERROR(VLOOKUP(Tabla_SERIEBM_01_6[[#This Row],[IdEstablecimiento]],[1]Establecimientos!A$1:E$175,5,FALSE),0)","v":"04102-COQUIMBO"},"105303","18400900","2021-10-15T12:32:55",32,2,30]
[9,"5",2021,{"$f":"IFERROR(VLOOKUP(Tabla_SERIEBM_01_6[[#This Row],[IdEstablecimiento]],[1]Establecimientos!A$1:E$175,5,FALSE),0)","v":"04101-LA SERENA"},"105300","80303024","2021-10-15T12:31:45",0,null,null,303]
[6,"5",2021,{"$f":"IFERROR(VLOOKUP(Tabla_SERIEBM_01_6[[#This Row],[IdEstablecimiento]],[1]Establecimientos!A$1:E$175,5,FALSE),0)","v":"04202-CANELA"},"105483","81701009","2021-07-19T14:37:11",7,7,null,null,7]
[8,"5",2021,{"$f":"IFERROR(VLOOKUP(Tabla_SERIEBM_01_6[[#This Row],[IdEstablecimiento]],[1]Establecimientos!A$1:E$175,5,FALSE),0)","v":"04203-LOS VILOS"},"105479","80309010","2021-10-19T08:45:36",0,null,null,8]
[7,"5",2021,{"$f":"IFERROR(VLOOKUP(Tabla_SERIEBM_01_6[[#This Row],[IdEstablecimiento]],[1]Establecimientos!A$1:E$175,5,FALSE),0)","v":"04101-LA SERENA"},"105302","18050200","2021-08-17T04:51:52",6,0,6]
[9,"5",2021,{"$f":"IFERROR(VLOOKUP(Tabla_SERIEBM_01_6[[#This Row],[IdEstablecimiento]],[1]Establecimientos!A$1:E$175,5,FALSE),0)","v":"04101-LA SERENA"},"105819","80401028","2021-10-21T14:34:10",2,2]
[4,"5",2021,{"$f":"IFERROR(VLOOKUP(Tabla_SERIEBM_01_6[[#This Row],[IdEstablecimiento]],[1]Establecimientos!A$1:E$175,5,FALSE),0)","v":"04102-COQUIMBO"},"200607","18050100","2021-05-14T11:16:57",194,0,194]
[4,"5",2021,{"$f":"IFERROR(VLOOKUP(Tabla_SERIEBM_01_6[[#This Row],[IdEstablecimiento]],[1]Establecimientos!A$1:E$175,5,FALSE),0)","v":"04203-LOS VILOS"},"105478","80302008","2021-05-14T10:10:42",0,null,null,1]
[10,"5",2021,{"$f":"IFERROR(VLOOKUP(Tabla_SERIEBM_01_6[[#This Row],[IdEstablecimiento]],[1]Establecimientos!A$1:E$175,5,FALSE),0)","v":"04101-LA SERENA"},"105301","81602217","2021-11-15T07:24:48",5,0,5,5,0,5]
[10,"5",2021,{"$f":"IFERROR(VLOOKUP(Tabla_SERIEBM_01_6[[#This Row],[IdEstablecimiento]],[1]Establecimientos!A$1:E$175,5,FALSE),0)","v":"04101-LA SERENA"},"105301","18050100","2021-11-15T07:24:48",145,0,145]
[6,"5",2021,{"$f":"IFERROR(VLOOKUP(Tabla_SERIEBM_01_6[[#This Row],[IdEstablecimiento]],[1]Establecimientos!A$1:E$175,5,FALSE),0)","v":"04201-ILLAPEL"},"105326","80106014","2021-07-19T15:31:04",278,null,278,null,278]
[10,"5",2021,{"$f":"IFERROR(VLOOKUP(Tabla_SERIEBM_01_6[[#This Row],[IdEstablecimiento]],[1]Establecimientos!A$1:E$175,5,FALSE),0)","v":"04301-OVALLE"},"200258","81701001","2021-11-15T12:25:49",6,null,6,null,6]
[3,"5",2021,{"$f":"IFERROR(VLOOKUP(Tabla_SERIEBM_01_6[[#This Row],[IdEstablecimiento]],[1]Establecimientos!A$1:E$175,5,FALSE),0)","v":"04201-ILLAPEL"},"105487","80301045","2021-11-10T09:31:26",0,null,null,36]
[2,"5",2021,{"$f":"IFERROR(VLOOKUP(Tabla_SERIEBM_01_6[[#This Row],[IdEstablecimiento]],[1]Establecimientos!A$1:E$175,5,FALSE),0)","v":"04102-COQUIMBO"},"105805","80401031","2021-11-09T15:07:09",14,14]
[10,"5",2021,{"$f":"IFERROR(VLOOKUP(Tabla_SERIEBM_01_6[[#This Row],[IdEstablecimiento]],[1]Establecimientos!A$1:E$175,5,FALSE),0)","v":"04201-ILLAPEL"},"105486","80307011","2021-11-15T11:30:04",0,null,null,11]
[10,"5",2021,{"$f":"IFERROR(VLOOKUP(Tabla_SERIEBM_01_6[[#This Row],[IdEstablecimiento]],[1]Establecimientos!A$1:E$175,5,FALSE),0)","v":"04101-LA SERENA"},"105499","80309013","2021-11-15T12:00:49",0,null,null,3]
[1,"5",2021,{"$f":"IFERROR(VLOOKUP(Tabla_SERIEBM_01_6[[#This Row],[IdEstablecimiento]],[1]Establecimientos!A$1:E$175,5,FALSE),0)","v":"04102-COQUIMBO"},"200607","80302060","2021-05-14T12:05:25",0,null,null,4]
[2,"5",2021,{"$f":"IFERROR(VLOOKUP(Tabla_SERIEBM_01_6[[#This Row],[IdEstablecimiento]],[1]Establecimientos!A$1:E$175,5,FALSE),0)","v":"04102-COQUIMBO"},"200499","80302047","2021-11-09T15:18:59",0,null,null,234]
[2,"5",2021,{"$f":"IFERROR(VLOOKUP(Tabla_SERIEBM_01_6[[#This Row],[IdEstablecimiento]],[1]Establecimientos!A$1:E$175,5,FALSE),0)","v":"04102-COQUIMBO"},"200499","80308004","2021-11-09T15:18:59",0,null,null,3]
[10,"5",2021,{"$f":"IFERROR(VLOOKUP(Tabla_SERIEBM_01_6[[#This Row],[IdEstablecimiento]],[1]Establecimientos!A$1:E$175,5,FALSE),0)","v":"04101-LA SERENA"},"105700","80301036","2021-11-15T12:09:50",0,null,null,14]
[2,"5",2021,{"$f":"IFERROR(VLOOKUP(Tabla_SERIEBM_01_6[[#This Row],[IdEstablecimiento]],[1]Establecimientos!A$1:E$175,5,FALSE),0)","v":"04301-OVALLE"},"105507","18050100","2021-11-09T15:01:33",31,0,31]
[2,"5",2021,{"$f":"IFERROR(VLOOKUP(Tabla_SERIEBM_01_6[[#This Row],[IdEstablecimiento]],[1]Establecimientos!A$1:E$175,5,FALSE),0)","v":"04101-LA SERENA"},"200402","80302040","2021-11-09T15:18:10",0,null,null,1]
[10,"5",2021,{"$f":"IFERROR(VLOOKUP(Tabla_SERIEBM_01_6[[#This Row],[IdEstablecimiento]],[1]Establecimientos!A$1:E$175,5,FALSE),0)","v":"04102-COQUIMBO"},"200273","80302013","2021-11-15T12:26:15",0,null,null,6]
[10,"5",2021,{"$f":"IFERROR(VLOOKUP(Tabla_SERIEBM_01_6[[#This Row],[IdEstablecimiento]],[1]Establecimientos!A$1:E$175,5,FALSE),0)","v":"04102-COQUIMBO"},"200273","80306061","2021-11-15T12:26:15",0,null,null,1]
[5,"5",2021,{"$f":"IFERROR(VLOOKUP(Tabla_SERIEBM_01_6[[#This Row],[IdEstablecimiento]],[1]Establecimientos!A$1:E$175,5,FALSE),0)","v":"04204-SALAMANCA"},"105454","81701001","2021-06-11T11:47:48",4,null,4]
[8,"5",2021,{"$f":"IFERROR(VLOOKUP(Tabla_SERIEBM_01_6[[#This Row],[IdEstablecimiento]],[1]Establecimientos!A$1:E$175,5,FALSE),0)","v":"04102-COQUIMBO"},"105321","80309013","2021-09-16T10:57:33",0,null,null,119]
[2,"5",2021,{"$f":"IFERROR(VLOOKUP(Tabla_SERIEBM_01_6[[#This Row],[IdEstablecimiento]],[1]Establecimientos!A$1:E$175,5,FALSE),0)","v":"04102-COQUIMBO"},"200494","80305019","2021-11-09T15:18:34",0,null,null,6]
[10,"5",2021,{"$f":"IFERROR(VLOOKUP(Tabla_SERIEBM_01_6[[#This Row],[IdEstablecimiento]],[1]Establecimientos!A$1:E$175,5,FALSE),0)","v":"04101-LA SERENA"},"105700","80302067","2021-11-15T12:09:50",0,null,null,48]
[5,"5",2021,{"$f":"IFERROR(VLOOKUP(Tabla_SERIEBM_01_6[[#This Row],[IdEstablecimiento]],[1]Establecimientos!A$1:E$175,5,FALSE),0)","v":"04101-LA SERENA"},"200402","80307011","2021-06-11T14:29:10",0,null,null,52]
[1,"5",2021,{"$f":"IFERROR(VLOOKUP(Tabla_SERIEBM_01_6[[#This Row],[IdEstablecimiento]],[1]Establecimientos!A$1:E$175,5,FALSE),0)","v":"04303-MONTE PATRIA"},"105307","81901019","2021-02-18T03:21:17",5,null,5,null,5]
[10,"5",2021,{"$f":"IFERROR(VLOOKUP(Tabla_SERIEBM_01_6[[#This Row],[IdEstablecimiento]],[1]Establecimientos!A$1:E$175,5,FALSE),0)","v":"04101-LA SERENA"},"105801","18040100","2021-11-15T12:13:13",2,0,2]
[7,"5",2021,{"$f":"IFERROR(VLOOKUP(Tabla_SERIEBM_01_6[[#This Row],[IdEstablecimiento]],[1]Establecimientos!A$1:E$175,5,FALSE),0)","v":"04102-COQUIMBO"},"200273","80307012","2021-08-17T09:42:59",4,null,4]
[7,"5",2021,{"$f":"IFERROR(VLOOKUP(Tabla_SERIEBM_01_6[[#This Row],[IdEstablecimiento]],[1]Establecimientos!A$1:E$175,5,FALSE),0)","v":"04304-PUNITAQUI"},"105308","80106017","2021-08-17T04:55:54",21,null,21,null,21]
[2,"5",2021,{"$f":"IFERROR(VLOOKUP(Tabla_SERIEBM_01_6[[#This Row],[IdEstablecimiento]],[1]Establecimientos!A$1:E$175,5,FALSE),0)","v":"04101-LA SERENA"},"105302","82001015","2021-11-09T13:19:31",3,null,3,null,3]
[9,"5",2021,{"$f":"IFERROR(VLOOKUP(Tabla_SERIEBM_01_6[[#This Row],[IdEstablecimiento]],[1]Establecimientos!A$1:E$175,5,FALSE),0)","v":"04101-LA SERENA"},"200402","80106014","2021-10-15T13:37:40",46,null,46,null,46]
[7,"5",2021,{"$f":"IFERROR(VLOOKUP(Tabla_SERIEBM_01_6[[#This Row],[IdEstablecimiento]],[1]Establecimientos!A$1:E$175,5,FALSE),0)","v":"04101-LA SERENA"},"105819","81901019","2021-08-17T09:38:03",30,30,null,null,30]
[5,"5",2021,{"$f":"IFERROR(VLOOKUP(Tabla_SERIEBM_01_6[[#This Row],[IdEstablecimiento]],[1]Establecimientos!A$1:E$175,5,FALSE),0)","v":"04102-COQUIMBO"},"105321","80302023","2021-06-11T09:52:29",0,null,null,183]
[9,"5",2021,{"$f":"IFERROR(VLOOKUP(Tabla_SERIEBM_01_6[[#This Row],[IdEstablecimiento]],[1]Establecimientos!A$1:E$175,5,FALSE),0)","v":"04102-COQUIMBO"},"200494","80301041","2021-10-15T13:38:07",0,null,null,91]
[8,"5",2021,{"$f":"IFERROR(VLOOKUP(Tabla_SERIEBM_01_6[[#This Row],[IdEstablecimiento]],[1]Establecimientos!A$1:E$175,5,FALSE),0)","v":"04102-COQUIMBO"},"105303","80106002","2021-09-16T10:47:43",533,null,533,null,533]
[8,"5",2021,{"$f":"IFERROR(VLOOKUP(Tabla_SERIEBM_01_6[[#This Row],[IdEstablecimiento]],[1]Establecimientos!A$1:E$175,5,FALSE),0)","v":"04102-COQUIMBO"},"105303","80500011","2021-09-16T10:47:43",124,null,124,null,124]
[6,"5",2021,{"$f":"IFERROR(VLOOKUP(Tabla_SERIEBM_01_6[[#This Row],[IdEstablecimiento]],[1]Establecimientos!A$1:E$175,5,FALSE),0)","v":"04303-MONTE PATRIA"},"105431","81701009","2021-08-17T10:16:58",24,null,24,null,24]
[4,"5",2021,{"$f":"IFERROR(VLOOKUP(Tabla_SERIEBM_01_6[[#This Row],[IdEstablecimiento]],[1]Establecimientos!A$1:E$175,5,FALSE),0)","v":"04106-VICUÑA"},"105474","80303024","2021-05-14T10:06:55",0,null,null,7]
[2,"5",2021,{"$f":"IFERROR(VLOOKUP(Tabla_SERIEBM_01_6[[#This Row],[IdEstablecimiento]],[1]Establecimientos!A$1:E$175,5,FALSE),0)","v":"04102-COQUIMBO"},"200494","80309013","2021-11-09T15:18:34",0,null,null,143]
[10,"5",2021,{"$f":"IFERROR(VLOOKUP(Tabla_SERIEBM_01_6[[#This Row],[IdEstablecimiento]],[1]Establecimientos!A$1:E$175,5,FALSE),0)","v":"04301-OVALLE"},"105324","18050100","2021-11-15T08:12:18",58,0,58]
[10,"5",2021,{"$f":"IFERROR(VLOOKUP(Tabla_SERIEBM_01_6[[#This Row],[IdEstablecimiento]],[1]Establecimientos!A$1:E$175,5,FALSE),0)","v":"04101-LA SERENA"},"105325","80302067","2021-11-15T08:12:46",0,null,null,279]
[2,"5",2021,{"$f":"IFERROR(VLOOKUP(Tabla_SERIEBM_01_6[[#This Row],[IdEstablecimiento]],[1]Establecimientos!A$1:E$175,5,FALSE),0)","v":"04102-COQUIMBO"},"105303","80306051","2021-11-09T15:32:01",0,null,null,2]
[10,"5",2021,{"$f":"IFERROR(VLOOKUP(Tabla_SERIEBM_01_6[[#This Row],[IdEstablecimiento]],[1]Establecimientos!A$1:E$175,5,FALSE),0)","v":"04102-COQUIMBO"},"105303","80306169","2021-11-15T07:27:13",0,null,null,19]
[10,"5",2021,{"$f":"IFERROR(VLOOKUP(Tabla_SERIEBM_01_6[[#This Row],[IdEstablecimiento]],[1]Establecimientos!A$1:E$175,5,FALSE),0)","v":"04102-COQUIMBO"},"105805","18020400","2021-11-15T12:16:36",1,1,0]
[10,"5",2021,{"$f":"IFERROR(VLOOKUP(Tabla_SERIEBM_01_6[[#This Row],[IdEstablecimiento]],[1]Establecimientos!A$1:E$175,5,FALSE),0)","v":"04201-ILLAPEL"},"105326","80301034","2021-11-15T08:13:33",0,null,null,6]
[9,"5",2021,{"$f":"IFERROR(VLOOKUP(Tabla_SERIEBM_01_6[[#This Row],[IdEstablecimiento]],[1]Establecimientos!A$1:E$175,5,FALSE),0)","v":"04201-ILLAPEL"},"105448","80309010","2021-10-15T13:02:03",0,null,null,17]
[10,"5",2021,{"$f":"IFERROR(VLOOKUP(Tabla_SERIEBM_01_6[[#This Row],[IdEstablecimiento]],[1]Establecimientos!A$1:E$175,5,FALSE),0)","v":"04202-CANELA"},"105809","80303027","2021-11-15T12:17:04",0,null,null,2]
[5,"5",2021,{"$f":"IFERROR(VLOOKUP(Tabla_SERIEBM_01_6[[#This Row],[IdEstablecimiento]],[1]Establecimientos!A$1:E$175,5,FALSE),0)","v":"04105-PAIHUANO"},"105476","80106002","2021-06-11T12:04:01",5,null,5,null,5]
[4,"5",2021,{"$f":"IFERROR(VLOOKUP(Tabla_SERIEBM_01_6[[#This Row],[IdEstablecimiento]],[1]Establecimientos!A$1:E$175,5,FALSE),0)","v":"04105-PAIHUANO"},"105476","80106002","2021-05-14T10:07:49",9,null,9,null,9]
[2,"5",2021,{"$f":"IFERROR(VLOOKUP(Tabla_SERIEBM_01_6[[#This Row],[IdEstablecimiento]],[1]Establecimientos!A$1:E$175,5,FALSE),0)","v":"04102-COQUIMBO"},"200499","80106013","2021-11-09T15:18:59",6,3,3,null,6]
[10,"5",2021,{"$f":"IFERROR(VLOOKUP(Tabla_SERIEBM_01_6[[#This Row],[IdEstablecimiento]],[1]Establecimientos!A$1:E$175,5,FALSE),0)","v":"04201-ILLAPEL"},"105326","80106014","2021-11-15T08:13:33",272,null,272,null,272]
[10,"5",2021,{"$f":"IFERROR(VLOOKUP(Tabla_SERIEBM_01_6[[#This Row],[IdEstablecimiento]],[1]Establecimientos!A$1:E$175,5,FALSE),0)","v":"04102-COQUIMBO"},"105304","80302057","2021-11-15T07:27:44",0,null,null,196]
[2,"5",2021,{"$f":"IFERROR(VLOOKUP(Tabla_SERIEBM_01_6[[#This Row],[IdEstablecimiento]],[1]Establecimientos!A$1:E$175,5,FALSE),0)","v":"04101-LA SERENA"},"105325","80302067","2021-11-09T13:46:59",0,null,null,208]
[5,"5",2021,{"$f":"IFERROR(VLOOKUP(Tabla_SERIEBM_01_6[[#This Row],[IdEstablecimiento]],[1]Establecimientos!A$1:E$175,5,FALSE),0)","v":"04303-MONTE PATRIA"},"105307","80500011","2021-06-11T09:46:14",42,null,42,null,42]
[7,"5",2021,{"$f":"IFERROR(VLOOKUP(Tabla_SERIEBM_01_6[[#This Row],[IdEstablecimiento]],[1]Establecimientos!A$1:E$175,5,FALSE),0)","v":"04304-PUNITAQUI"},"105308","80106011","2021-08-17T04:55:54",1,null,1,null,1]
[10,"5",2021,{"$f":"IFERROR(VLOOKUP(Tabla_SERIEBM_01_6[[#This Row],[IdEstablecimiento]],[1]Establecimientos!A$1:E$175,5,FALSE),0)","v":"04202-CANELA"},"105809","80305009","2021-11-15T12:17:04",0,null,null,1]
[10,"5",2021,{"$f":"IFERROR(VLOOKUP(Tabla_SERIEBM_01_6[[#This Row],[IdEstablecimiento]],[1]Establecimientos!A$1:E$175,5,FALSE),0)","v":"04202-CANELA"},"105809","80309010","2021-11-15T12:17:04",0,null,null,86]
[2,"5",2021,{"$f":"IFERROR(VLOOKUP(Tabla_SERIEBM_01_6[[#This Row],[IdEstablecimiento]],[1]Establecimientos!A$1:E$175,5,FALSE),0)","v":"04101-LA SERENA"},"105700","80302023","2021-11-09T15:03:36",0,null,null,28]
[8,"5",2021,{"$f":"IFERROR(VLOOKUP(Tabla_SERIEBM_01_6[[#This Row],[IdEstablecimiento]],[1]Establecimientos!A$1:E$175,5,FALSE),0)","v":"04305-RIO HURTADO"},"105414","80301045","2021-09-16T11:09:44",0,null,null,15]
[7,"5",2021,{"$f":"IFERROR(VLOOKUP(Tabla_SERIEBM_01_6[[#This Row],[IdEstablecimiento]],[1]Establecimientos!A$1:E$175,5,FALSE),0)","v":"04304-PUNITAQUI"},"105308","80106021","2021-08-17T04:55:54",1,null,1,null,1]
[10,"5",2021,{"$f":"IFERROR(VLOOKUP(Tabla_SERIEBM_01_6[[#This Row],[IdEstablecimiento]],[1]Establecimientos!A$1:E$175,5,FALSE),0)","v":"04101-LA SERENA"},"105400","80302068","2021-11-15T08:14:06",0,null,null,73]
[3,"5",2021,{"$f":"IFERROR(VLOOKUP(Tabla_SERIEBM_01_6[[#This Row],[IdEstablecimiento]],[1]Establecimientos!A$1:E$175,5,FALSE),0)","v":"04102-COQUIMBO"},"200273","80309013","2021-11-08T13:15:37",0,null,null,45]
[4,"5",2021,{"$f":"IFERROR(VLOOKUP(Tabla_SERIEBM_01_6[[#This Row],[IdEstablecimiento]],[1]Establecimientos!A$1:E$175,5,FALSE),0)","v":"04101-LA SERENA"},"105401","80106002","2021-05-13T17:09:14",8,null,8,null,8]
[5,"5",2021,{"$f":"IFERROR(VLOOKUP(Tabla_SERIEBM_01_6[[#This Row],[IdEstablecimiento]],[1]Establecimientos!A$1:E$175,5,FALSE),0)","v":"04101-LA SERENA"},"105499","80302032","2021-06-11T13:59:45",0,null,null,3]
[7,"5",2021,{"$f":"IFERROR(VLOOKUP(Tabla_SERIEBM_01_6[[#This Row],[IdEstablecimiento]],[1]Establecimientos!A$1:E$175,5,FALSE),0)","v":"04303-MONTE PATRIA"},"105307","80302023","2021-08-17T04:54:59",559,null,559]
[7,"5",2021,{"$f":"IFERROR(VLOOKUP(Tabla_SERIEBM_01_6[[#This Row],[IdEstablecimiento]],[1]Establecimientos!A$1:E$175,5,FALSE),0)","v":"04106-VICUÑA"},"105469","18020500","2021-08-17T06:49:21",1,0,1]
[1,"5",2021,{"$f":"IFERROR(VLOOKUP(Tabla_SERIEBM_01_6[[#This Row],[IdEstablecimiento]],[1]Establecimientos!A$1:E$175,5,FALSE),0)","v":"04301-OVALLE"},"105322","80301041","2021-02-18T03:29:04",730,null,730]
[6,"5",2021,{"$f":"IFERROR(VLOOKUP(Tabla_SERIEBM_01_6[[#This Row],[IdEstablecimiento]],[1]Establecimientos!A$1:E$175,5,FALSE),0)","v":"04303-MONTE PATRIA"},"105312","18090000","2021-08-17T10:13:27",46,0,46]
[8,"5",2021,{"$f":"IFERROR(VLOOKUP(Tabla_SERIEBM_01_6[[#This Row],[IdEstablecimiento]],[1]Establecimientos!A$1:E$175,5,FALSE),0)","v":"04102-COQUIMBO"},"105304","80306048","2021-09-20T08:25:29",0,null,null,6]
[10,"5",2021,{"$f":"IFERROR(VLOOKUP(Tabla_SERIEBM_01_6[[#This Row],[IdEstablecimiento]],[1]Establecimientos!A$1:E$175,5,FALSE),0)","v":"04102-COQUIMBO"},"105304","80302064","2021-11-15T07:27:44",0,null,null,257]
[8,"5",2021,{"$f":"IFERROR(VLOOKUP(Tabla_SERIEBM_01_6[[#This Row],[IdEstablecimiento]],[1]Establecimientos!A$1:E$175,5,FALSE),0)","v":"04102-COQUIMBO"},"105304","80309022","2021-09-20T08:25:29",0,null,null,528]
[9,"5",2021,{"$f":"IFERROR(VLOOKUP(Tabla_SERIEBM_01_6[[#This Row],[IdEstablecimiento]],[1]Establecimientos!A$1:E$175,5,FALSE),0)","v":"04202-CANELA"},"105484","80106013","2021-10-15T13:16:17",2,2,null,null,2]
[6,"5",2021,{"$f":"IFERROR(VLOOKUP(Tabla_SERIEBM_01_6[[#This Row],[IdEstablecimiento]],[1]Establecimientos!A$1:E$175,5,FALSE),0)","v":"04101-LA SERENA"},"105313","18700240","2021-07-19T12:05:08",9,null,9]
[4,"5",2021,{"$f":"IFERROR(VLOOKUP(Tabla_SERIEBM_01_6[[#This Row],[IdEstablecimiento]],[1]Establecimientos!A$1:E$175,5,FALSE),0)","v":"04104-LA HIGUERA"},"105314","18050100","2021-05-13T16:58:44",15,15,0]
[7,"5",2021,{"$f":"IFERROR(VLOOKUP(Tabla_SERIEBM_01_6[[#This Row],[IdEstablecimiento]],[1]Establecimientos!A$1:E$175,5,FALSE),0)","v":"04202-CANELA"},"105484","18020500","2021-08-17T07:16:43",16,16,0]
[10,"5",2021,{"$f":"IFERROR(VLOOKUP(Tabla_SERIEBM_01_6[[#This Row],[IdEstablecimiento]],[1]Establecimientos!A$1:E$175,5,FALSE),0)","v":"04101-LA SERENA"},"105401","82001015","2021-11-15T08:14:42",2,null,2,null,2]
[5,"5",2021,{"$f":"IFERROR(VLOOKUP(Tabla_SERIEBM_01_6[[#This Row],[IdEstablecimiento]],[1]Establecimientos!A$1:E$175,5,FALSE),0)","v":"04101-LA SERENA"},"105325","80306011","2021-06-11T09:56:30",0,null,null,42]
[6,"5",2021,{"$f":"IFERROR(VLOOKUP(Tabla_SERIEBM_01_6[[#This Row],[IdEstablecimiento]],[1]Establecimientos!A$1:E$175,5,FALSE),0)","v":"04203-LOS VILOS"},"105511","80302034","2021-10-18T08:02:01",0,null,null,9]
[3,"5",2021,{"$f":"IFERROR(VLOOKUP(Tabla_SERIEBM_01_6[[#This Row],[IdEstablecimiento]],[1]Establecimientos!A$1:E$175,5,FALSE),0)","v":"04201-ILLAPEL"},"200366","80303026","2021-11-08T13:16:19",0,null,null,29]
[2,"5",2021,{"$f":"IFERROR(VLOOKUP(Tabla_SERIEBM_01_6[[#This Row],[IdEstablecimiento]],[1]Establecimientos!A$1:E$175,5,FALSE),0)","v":"04201-ILLAPEL"},"105485","80301041","2021-11-09T14:53:24",0,null,null,12]
[10,"5",2021,{"$f":"IFERROR(VLOOKUP(Tabla_SERIEBM_01_6[[#This Row],[IdEstablecimiento]],[1]Establecimientos!A$1:E$175,5,FALSE),0)","v":"04305-RIO HURTADO"},"105409","80106020","2021-11-15T08:18:46",2,null,2,null,2]
[2,"5",2021,{"$f":"IFERROR(VLOOKUP(Tabla_SERIEBM_01_6[[#This Row],[IdEstablecimiento]],[1]Establecimientos!A$1:E$175,5,FALSE),0)","v":"04101-LA SERENA"},"105701","80309022","2021-11-09T15:03:58",0,null,null,22]
[6,"5",2021,{"$f":"IFERROR(VLOOKUP(Tabla_SERIEBM_01_6[[#This Row],[IdEstablecimiento]],[1]Establecimientos!A$1:E$175,5,FALSE),0)","v":"04101-LA SERENA"},"105301","80500008","2021-07-19T11:57:08",8,0,8,0,8,0]
[6,"5",2021,{"$f":"IFERROR(VLOOKUP(Tabla_SERIEBM_01_6[[#This Row],[IdEstablecimiento]],[1]Establecimientos!A$1:E$175,5,FALSE),0)","v":"04101-LA SERENA"},"105319","80306169","2021-07-19T12:07:32",0,null,null,18]
[10,"5",2021,{"$f":"IFERROR(VLOOKUP(Tabla_SERIEBM_01_6[[#This Row],[IdEstablecimiento]],[1]Establecimientos!A$1:E$175,5,FALSE),0)","v":"04102-COQUIMBO"},"105304","80306061","2021-11-15T07:27:44",0,null,null,25]
[9,"5",2021,{"$f":"IFERROR(VLOOKUP(Tabla_SERIEBM_01_6[[#This Row],[IdEstablecimiento]],[1]Establecimientos!A$1:E$175,5,FALSE),0)","v":"04106-VICUÑA"},"105509","81701009","2021-10-15T13:26:04",16,null,16,null,16]
[6,"5",2021,{"$f":"IFERROR(VLOOKUP(Tabla_SERIEBM_01_6[[#This Row],[IdEstablecimiento]],[1]Establecimientos!A$1:E$175,5,FALSE),0)","v":"04102-COQUIMBO"},"200499","18040200","2021-07-19T15:13:44",2,0,2]
[10,"5",2021,{"$f":"IFERROR(VLOOKUP(Tabla_SERIEBM_01_6[[#This Row],[IdEstablecimiento]],[1]Establecimientos!A$1:E$175,5,FALSE),0)","v":"04305-RIO HURTADO"},"105409","18070300","2021-11-15T08:18:46",10,{"$nulls":4},5,5]
[10,"5",2021,{"$f":"IFERROR(VLOOKUP(Tabla_SERIEBM_01_6[[#This Row],[IdEstablecimiento]],[1]Establecimientos!A$1:E$175,5,FALSE),0)","v":"04305-RIO HURTADO"},"105410","80302005","2021-11-15T08:19:37",0,null,null,9]
[7,"5",2021,{"$f":"IFERROR(VLOOKUP(Tabla_SERIEBM_01_6[[#This Row],[IdEstablecimiento]],[1]Establecimientos!A$1:E$175,5,FALSE),0)","v":"04201-ILLAPEL"},"105486","80306002","2021-08-17T07:27:52",0,null,null,1]
[6,"5",2021,{"$f":"IFERROR(VLOOKUP(Tabla_SERIEBM_01_6[[#This Row],[IdEstablecimiento]],[1]Establecimientos!A$1:E$175,5,FALSE),0)","v":"04301-OVALLE"},"105439","80106015","2021-07-19T14:02:53",2,null,2]
[2,"5",2021,{"$f":"IFERROR(VLOOKUP(Tabla_SERIEBM_01_6[[#This Row],[IdEstablecimiento]],[1]Establecimientos!A$1:E$175,5,FALSE),0)","v":"04301-OVALLE"},"105723","81701009","2021-11-09T15:05:12",37,null,37,null,37]
[4,"5",2021,{"$f":"IFERROR(VLOOKUP(Tabla_SERIEBM_01_6[[#This Row],[IdEstablecimiento]],[1]Establecimientos!A$1:E$175,5,FALSE),0)","v":"04102-COQUIMBO"},"200494","80302045","2021-05-14T11:12:14",0,null,null,5]
[10,"5",2021,{"$f":"IFERROR(VLOOKUP(Tabla_SERIEBM_01_6[[#This Row],[IdEstablecimiento]],[1]Establecimientos!A$1:E$175,5,FALSE),0)","v":"04305-RIO HURTADO"},"105410","80500011","2021-11-15T08:19:37",45,null,45,null,45]
[10,"5",2021,{"$f":"IFERROR(VLOOKUP(Tabla_SERIEBM_01_6[[#This Row],[IdEstablecimiento]],[1]Establecimientos!A$1:E$175,5,FALSE),0)","v":"04305-RIO HURTADO"},"105411","80302005","2021-11-15T08:24:08",0,null,null,13]
[2,"5",2021,{"$f":"IFERROR(VLOOKUP(Tabla_SERIEBM_01_6[[#This Row],[IdEstablecimiento]],[1]Establecimientos!A$1:E$175,5,FALSE),0)","v":"04201-ILLAPEL"},"105485","18020500","2021-11-09T14:53:24",29,0,29]
[2,"5",2021,{"$f":"IFERROR(VLOOKUP(Tabla_SERIEBM_01_6[[#This Row],[IdEstablecimiento]],[1]Establecimientos!A$1:E$175,5,FALSE),0)","v":"04101-LA SERENA"},"105801","80106020","2021-11-09T15:05:38",1,1,null,1]
[9,"5",2021,{"$f":"IFERROR(VLOOKUP(Tabla_SERIEBM_01_6[[#This Row],[IdEstablecimiento]],[1]Establecimientos!A$1:E$175,5,FALSE),0)","v":"04201-ILLAPEL"},"200366","80401151","2021-10-15T13:36:45",0,null,null,18]
[1,"5",2021,{"$f":"IFERROR(VLOOKUP(Tabla_SERIEBM_01_6[[#This Row],[IdEstablecimiento]],[1]Establecimientos!A$1:E$175,5,FALSE),0)","v":"04102-COQUIMBO"},"105304","80302013","2021-05-14T12:00:09",0,null,null,52]
[10,"5",2021,{"$f":"IFERROR(VLOOKUP(Tabla_SERIEBM_01_6[[#This Row],[IdEstablecimiento]],[1]Establecimientos!A$1:E$175,5,FALSE),0)","v":"04305-RIO HURTADO"},"105411","81602222","2021-11-15T08:24:08",1,null,1,null,1]
[10,"5",2021,{"$f":"IFERROR(VLOOKUP(Tabla_SERIEBM_01_6[[#This Row],[IdEstablecimiento]],[1]Establecimientos!A$1:E$175,5,FALSE),0)","v":"04305-RIO HURTADO"},"105414","80302057","2021-11-15T08:30:59",0,null,null,3]
[10,"5",2021,{"$f":"IFERROR(VLOOKUP(Tabla_SERIEBM_01_6[[#This Row],[IdEstablecimiento]],[1]Establecimientos!A$1:E$175,5,FALSE),0)","v":"04102-COQUIMBO"},"105304","18400900","2021-11-15T07:27:44",33,6,27]
[4,"5",2021,{"$f":"IFERROR(VLOOKUP(Tabla_SERIEBM_01_6[[#This Row],[IdEstablecimiento]],[1]Establecimientos!A$1:E$175,5,FALSE),0)","v":"04102-COQUIMBO"},"105305","18020900","2021-05-13T16:48:09",8,0,8]
[5,"5",2021,{"$f":"IFERROR(VLOOKUP(Tabla_SERIEBM_01_6[[#This Row],[IdEstablecimiento]],[1]Establecimientos!A$1:E$175,5,FALSE),0)","v":"04101-LA SERENA"},"105319","80301036","2021-06-11T09:51:55",0,null,null,217]
[8,"5",2021,{"$f":"IFERROR(VLOOKUP(Tabla_SERIEBM_01_6[[#This Row],[IdEstablecimiento]],[1]Establecimientos!A$1:E$175,5,FALSE),0)","v":"04101-LA SERENA"},"105401","80303027","2021-09-16T11:05:13",0,null,null,2]
[8,"5",2021,{"$f":"IFERROR(VLOOKUP(Tabla_SERIEBM_01_6[[#This Row],[IdEstablecimiento]],[1]Establecimientos!A$1:E$175,5,FALSE),0)","v":"04204-SALAMANCA"},"105453","18050100","2021-09-16T11:30:30",84,0,84]
[8,"5",2021,{"$f":"IFERROR(VLOOKUP(Tabla_SERIEBM_01_6[[#This Row],[IdEstablecimiento]],[1]Establecimientos!A$1:E$175,5,FALSE),0)","v":"04102-COQUIMBO"},"200607","80302063","2021-09-16T13:31:26",0,null,null,39]
[10,"5",2021,{"$f":"IFERROR(VLOOKUP(Tabla_SERIEBM_01_6[[#This Row],[IdEstablecimiento]],[1]Establecimientos!A$1:E$175,5,FALSE),0)","v":"04102-COQUIMBO"},"105305","80305070","2021-11-15T07:28:46",0,null,null,24]
[6,"5",2021,{"$f":"IFERROR(VLOOKUP(Tabla_SERIEBM_01_6[[#This Row],[IdEstablecimiento]],[1]Establecimientos!A$1:E$175,5,FALSE),0)","v":"04102-COQUIMBO"},"105305","80308005","2021-08-17T10:11:59",0,null,null,3]
[10,"5",2021,{"$f":"IFERROR(VLOOKUP(Tabla_SERIEBM_01_6[[#This Row],[IdEstablecimiento]],[1]Establecimientos!A$1:E$175,5,FALSE),0)","v":"04102-COQUIMBO"},"105305","80404002","2021-11-15T07:28:46",17,null,17]
[5,"5",2021,{"$f":"IFERROR(VLOOKUP(Tabla_SERIEBM_01_6[[#This Row],[IdEstablecimiento]],[1]Establecimientos!A$1:E$175,5,FALSE),0)","v":"04106-VICUÑA"},"105468","80305070","2021-06-11T11:59:14",0,null,null,1]
[2,"5",2021,{"$f":"IFERROR(VLOOKUP(Tabla_SERIEBM_01_6[[#This Row],[IdEstablecimiento]],[1]Establecimientos!A$1:E$175,5,FALSE),0)","v":"04303-MONTE PATRIA"},"200720","18020700","2021-11-09T15:20:42",3,3,0]
[8,"5",2021,{"$f":"IFERROR(VLOOKUP(Tabla_SERIEBM_01_6[[#This Row],[IdEstablecimiento]],[1]Establecimientos!A$1:E$175,5,FALSE),0)","v":"04201-ILLAPEL"},"105486","80309022","2021-09-16T11:54:36",0,null,null,14]
[5,"5",2021,{"$f":"IFERROR(VLOOKUP(Tabla_SERIEBM_01_6[[#This Row],[IdEstablecimiento]],[1]Establecimientos!A$1:E$175,5,FALSE),0)","v":"04301-OVALLE"},"105322","80302068","2021-06-11T09:55:00",21,null,21]
[8,"5",2021,{"$f":"IFERROR(VLOOKUP(Tabla_SERIEBM_01_6[[#This Row],[IdEstablecimiento]],[1]Establecimientos!A$1:E$175,5,FALSE),0)","v":"04201-ILLAPEL"},"105496","80308035","2021-09-16T12:54:29",0,null,null,6]
[10,"5",2021,{"$f":"IFERROR(VLOOKUP(Tabla_SERIEBM_01_6[[#This Row],[IdEstablecimiento]],[1]Establecimientos!A$1:E$175,5,FALSE),0)","v":"04303-MONTE PATRIA"},"105307","80302059","2021-11-15T07:31:14",53,null,53]
[10,"5",2021,{"$f":"IFERROR(VLOOKUP(Tabla_SERIEBM_01_6[[#This Row],[IdEstablecimiento]],[1]Establecimientos!A$1:E$175,5,FALSE),0)","v":"04304-PUNITAQUI"},"105308","18700100","2021-11-15T07:31:50",301,3,259,39]
[10,"5",2021,{"$f":"IFERROR(VLOOKUP(Tabla_SERIEBM_01_6[[#This Row],[IdEstablecimiento]],[1]Establecimientos!A$1:E$175,5,FALSE),0)","v":"04303-MONTE PATRIA"},"105311","18400900","2021-11-15T07:54:59",28,1,27]
[1,"5",2021,{"$f":"IFERROR(VLOOKUP(Tabla_SERIEBM_01_6[[#This Row],[IdEstablecimiento]],[1]Establecimientos!A$1:E$175,5,FALSE),0)","v":"04301-OVALLE"},"105322","80306011","2021-02-18T03:29:04",410,null,410]
[2,"5",2021,{"$f":"IFERROR(VLOOKUP(Tabla_SERIEBM_01_6[[#This Row],[IdEstablecimiento]],[1]Establecimientos!A$1:E$175,5,FALSE),0)","v":"04301-OVALLE"},"200721","81801023","2021-11-09T15:21:06",3,3,null,3]
[10,"5",2021,{"$f":"IFERROR(VLOOKUP(Tabla_SERIEBM_01_6[[#This Row],[IdEstablecimiento]],[1]Establecimientos!A$1:E$175,5,FALSE),0)","v":"04303-MONTE PATRIA"},"105312","81701009","2021-11-15T07:55:23",51,null,51,null,51]
[1,"5",2021,{"$f":"IFERROR(VLOOKUP(Tabla_SERIEBM_01_6[[#This Row],[IdEstablecimiento]],[1]Establecimientos!A$1:E$175,5,FALSE),0)","v":0},"200928","18020500","2021-02-18T06:07:55",13,13,0]
[10,"5",2021,{"$f":"IFERROR(VLOOKUP(Tabla_SERIEBM_01_6[[#This Row],[IdEstablecimiento]],[1]Establecimientos!A$1:E$175,5,FALSE),0)","v":"04305-RIO HURTADO"},"105414","80106020","2021-11-15T08:30:59",1,null,1]
[2,"5",2021,{"$f":"IFERROR(VLOOKUP(Tabla_SERIEBM_01_6[[#This Row],[IdEstablecimiento]],[1]Establecimientos!A$1:E$175,5,FALSE),0)","v":"04201-ILLAPEL"},"105486","80106002","2021-11-09T14:53:47",16,null,16,null,16]
[2,"5",2021,{"$f":"IFERROR(VLOOKUP(Tabla_SERIEBM_01_6[[#This Row],[IdEstablecimiento]],[1]Establecimientos!A$1:E$175,5,FALSE),0)","v":"04201-ILLAPEL"},"105486","18050200","2021-11-09T14:53:47",2,0,2]
[4,"5",2021,{"$f":"IFERROR(VLOOKUP(Tabla_SERIEBM_01_6[[#This Row],[IdEstablecimiento]],[1]Establecimientos!A$1:E$175,5,FALSE),0)","v":"04303-MONTE PATRIA"},"105311","80307011","2021-05-13T16:50:40",248,null,248,0]
[5,"5",2021,{"$f":"IFERROR(VLOOKUP(Tabla_SERIEBM_01_6[[#This Row],[IdEstablecimiento]],[1]Establecimientos!A$1:E$175,5,FALSE),0)","v":"04101-LA SERENA"},"105319","81602203","2021-06-11T09:51:55",1,null,1,1]
[10,"5",2021,{"$f":"IFERROR(VLOOKUP(Tabla_SERIEBM_01_6[[#This Row],[IdEstablecimiento]],[1]Establecimientos!A$1:E$175,5,FALSE),0)","v":"04202-CANELA"},"105809","80106020","2021-11-15T12:17:04",3,3,null,null,3]
[10,"5",2021,{"$f":"IFERROR(VLOOKUP(Tabla_SERIEBM_01_6[[#This Row],[IdEstablecimiento]],[1]Establecimientos!A$1:E$175,5,FALSE),0)","v":"04301-OVALLE"},"105817","81901019","2021-11-15T12:17:50",4,4]
[4,"5",2021,{"$f":"IFERROR(VLOOKUP(Tabla_SERIEBM_01_6[[#This Row],[IdEstablecimiento]],[1]Establecimientos!A$1:E$175,5,FALSE),0)","v":"04305-RIO HURTADO"},"105411","81602222","2021-05-13T17:14:10",1,null,1,null,1]
[5,"5",2021,{"$f":"IFERROR(VLOOKUP(Tabla_SERIEBM_01_6[[#This Row],[IdEstablecimiento]],[1]Establecimientos!A$1:E$175,5,FALSE),0)","v":"04102-COQUIMBO"},"105803","81701001","2021-06-11T14:11:27",55,null,55,null,55,55]
[1,"5",2021,{"$f":"IFERROR(VLOOKUP(Tabla_SERIEBM_01_6[[#This Row],[IdEstablecimiento]],[1]Establecimientos!A$1:E$175,5,FALSE),0)","v":"04303-MONTE PATRIA"},"200720","80401043","2021-02-18T06:04:39",4,4]
[6,"5",2021,{"$f":"IFERROR(VLOOKUP(Tabla_SERIEBM_01_6[[#This Row],[IdEstablecimiento]],[1]Establecimientos!A$1:E$175,5,FALSE),0)","v":"04202-CANELA"},"105450","18050100","2021-07-19T14:10:04",23,23,0]
[5,"5",2021,{"$f":"IFERROR(VLOOKUP(Tabla_SERIEBM_01_6[[#This Row],[IdEstablecimiento]],[1]Establecimientos!A$1:E$175,5,FALSE),0)","v":"04204-SALAMANCA"},"105452","80500011","2021-06-11T11:46:54",16,null,16]
[2,"5",2021,{"$f":"IFERROR(VLOOKUP(Tabla_SERIEBM_01_6[[#This Row],[IdEstablecimiento]],[1]Establecimientos!A$1:E$175,5,FALSE),0)","v":"04301-OVALLE"},"200721","18040100","2021-11-09T15:21:06",12,12]
[4,"5",2021,{"$f":"IFERROR(VLOOKUP(Tabla_SERIEBM_01_6[[#This Row],[IdEstablecimiento]],[1]Establecimientos!A$1:E$175,5,FALSE),0)","v":"04202-CANELA"},"105309","80106014","2021-05-13T16:49:51",216,null,216,null,216]
[4,"5",2021,{"$f":"IFERROR(VLOOKUP(Tabla_SERIEBM_01_6[[#This Row],[IdEstablecimiento]],[1]Establecimientos!A$1:E$175,5,FALSE),0)","v":"04101-LA SERENA"},"105819","82107003","2021-05-14T11:02:10",77,77,null,null,77]
[10,"5",2021,{"$f":"IFERROR(VLOOKUP(Tabla_SERIEBM_01_6[[#This Row],[IdEstablecimiento]],[1]Establecimientos!A$1:E$175,5,FALSE),0)","v":"04301-OVALLE"},"105822","80401043","2021-11-15T12:20:29",19,19]
[10,"5",2021,{"$f":"IFERROR(VLOOKUP(Tabla_SERIEBM_01_6[[#This Row],[IdEstablecimiento]],[1]Establecimientos!A$1:E$175,5,FALSE),0)","v":"04301-OVALLE"},"105822","80500017","2021-11-15T12:20:29",22,22]
[8,"5",2021,{"$f":"IFERROR(VLOOKUP(Tabla_SERIEBM_01_6[[#This Row],[IdEstablecimiento]],[1]Establecimientos!A$1:E$175,5,FALSE),0)","v":"04301-OVALLE"},"105822","80401029","2021-09-16T13:17:40",2,2]
[8,"5",2021,{"$f":"IFERROR(VLOOKUP(Tabla_SERIEBM_01_6[[#This Row],[IdEstablecimiento]],[1]Establecimientos!A$1:E$175,5,FALSE),0)","v":"04201-ILLAPEL"},"105449","18700100","2021-09-16T11:27:22",5,0,4,1]
[5,"5",2021,{"$f":"IFERROR(VLOOKUP(Tabla_SERIEBM_01_6[[#This Row],[IdEstablecimiento]],[1]Establecimientos!A$1:E$175,5,FALSE),0)","v":"04102-COQUIMBO"},"105321","80308004","2021-06-11T09:52:29",0,null,null,7]
[6,"5",2021,{"$f":"IFERROR(VLOOKUP(Tabla_SERIEBM_01_6[[#This Row],[IdEstablecimiento]],[1]Establecimientos!A$1:E$175,5,FALSE),0)","v":"04102-COQUIMBO"},"105823","18020700","2021-07-19T15:07:32",8,4,4]
[8,"5",2021,{"$f":"IFERROR(VLOOKUP(Tabla_SERIEBM_01_6[[#This Row],[IdEstablecimiento]],[1]Establecimientos!A$1:E$175,5,FALSE),0)","v":"04101-LA SERENA"},"105313","80306011","2021-09-16T10:54:51",0,null,null,4]
[6,"5",2021,{"$f":"IFERROR(VLOOKUP(Tabla_SERIEBM_01_6[[#This Row],[IdEstablecimiento]],[1]Establecimientos!A$1:E$175,5,FALSE),0)","v":"04101-LA SERENA"},"105300","80500008","2021-08-17T10:11:34",5,null,5,null,5]
[7,"5",2021,{"$f":"IFERROR(VLOOKUP(Tabla_SERIEBM_01_6[[#This Row],[IdEstablecimiento]],[1]Establecimientos!A$1:E$175,5,FALSE),0)","v":"04301-OVALLE"},"105817","18020300","2021-08-17T09:25:43",2,2,0]
[1,"5",2021,{"$f":"IFERROR(VLOOKUP(Tabla_SERIEBM_01_6[[#This Row],[IdEstablecimiento]],[1]Establecimientos!A$1:E$175,5,FALSE),0)","v":"04104-LA HIGUERA"},"105500","81701001","2021-02-18T05:30:08",3,3,null,null,3]
[4,"5",2021,{"$f":"IFERROR(VLOOKUP(Tabla_SERIEBM_01_6[[#This Row],[IdEstablecimiento]],[1]Establecimientos!A$1:E$175,5,FALSE),0)","v":"04102-COQUIMBO"},"200494","80500014","2021-05-14T11:12:14",0,{"$nulls":4},23]
[10,"5",2021,{"$f":"IFERROR(VLOOKUP(Tabla_SERIEBM_01_6[[#This Row],[IdEstablecimiento]],[1]Establecimientos!A$1:E$175,5,FALSE),0)","v":"04301-OVALLE"},"105822","18030000","2021-11-15T12:20:29",21,21,0]
[10,"5",2021,{"$f":"IFERROR(VLOOKUP(Tabla_SERIEBM_01_6[[#This Row],[IdEstablecimiento]],[1]Establecimientos!A$1:E$175,5,FALSE),0)","v":"04105-PAIHUANO"},"105306","80301059","2021-11-15T07:29:19",0,null,null,33]
[10,"5",2021,{"$f":"IFERROR(VLOOKUP(Tabla_SERIEBM_01_6[[#This Row],[IdEstablecimiento]],[1]Establecimientos!A$1:E$175,5,FALSE),0)","v":"04105-PAIHUANO"},"105306","80306042","2021-11-15T07:29:19",0,null,null,62]
[2,"5",2021,{"$f":"IFERROR(VLOOKUP(Tabla_SERIEBM_01_6[[#This Row],[IdEstablecimiento]],[1]Establecimientos!A$1:E$175,5,FALSE),0)","v":"04301-OVALLE"},"105822","80401059","2021-11-09T15:09:48",32,32]
[5,"5",2021,{"$f":"IFERROR(VLOOKUP(Tabla_SERIEBM_01_6[[#This Row],[IdEstablecimiento]],[1]Establecimientos!A$1:E$175,5,FALSE),0)","v":"04301-OVALLE"},"105315","81701009","2021-06-11T09:50:41",79,null,79,null,79]
[4,"5",2021,{"$f":"IFERROR(VLOOKUP(Tabla_SERIEBM_01_6[[#This Row],[IdEstablecimiento]],[1]Establecimientos!A$1:E$175,5,FALSE),0)","v":"04101-LA SERENA"},"105819","80401032","2021-05-14T11:02:10",45,45]
[5,"5",2021,{"$f":"IFERROR(VLOOKUP(Tabla_SERIEBM_01_6[[#This Row],[IdEstablecimiento]],[1]Establecimientos!A$1:E$175,5,FALSE),0)","v":"04102-COQUIMBO"},"200273","80306042","2021-06-11T14:27:16",0,null,null,12]
[1,"5",2021,{"$f":"IFERROR(VLOOKUP(Tabla_SERIEBM_01_6[[#This Row],[IdEstablecimiento]],[1]Establecimientos!A$1:E$175,5,FALSE),0)","v":"04102-COQUIMBO"},"105304","80307012","2021-05-14T12:00:09",8,null,8]
[7,"5",2021,{"$f":"IFERROR(VLOOKUP(Tabla_SERIEBM_01_6[[#This Row],[IdEstablecimiento]],[1]Establecimientos!A$1:E$175,5,FALSE),0)","v":"04301-OVALLE"},"105322","80308005","2021-08-17T05:08:02",2,null,2]
[10,"5",2021,{"$f":"IFERROR(VLOOKUP(Tabla_SERIEBM_01_6[[#This Row],[IdEstablecimiento]],[1]Establecimientos!A$1:E$175,5,FALSE),0)","v":"04101-LA SERENA"},"105825","80106015","2021-11-15T12:24:17",20,20,0,0,20,0]
[6,"5",2021,{"$f":"IFERROR(VLOOKUP(Tabla_SERIEBM_01_6[[#This Row],[IdEstablecimiento]],[1]Establecimientos!A$1:E$175,5,FALSE),0)","v":"04303-MONTE PATRIA"},"105312","80307011","2021-08-17T10:13:27",188,null,188]
[1,"5",2021,{"$f":"IFERROR(VLOOKUP(Tabla_SERIEBM_01_6[[#This Row],[IdEstablecimiento]],[1]Establecimientos!A$1:E$175,5,FALSE),0)","v":"04302-COMBARBALÁ"},"105434","80106014","2021-02-18T03:49:07",21,null,21,null,21]
[10,"5",2021,{"$f":"IFERROR(VLOOKUP(Tabla_SERIEBM_01_6[[#This Row],[IdEstablecimiento]],[1]Establecimientos!A$1:E$175,5,FALSE),0)","v":"04105-PAIHUANO"},"105306","80106002","2021-11-15T07:29:19",140,null,140,null,140]
[1,"5",2021,{"$f":"IFERROR(VLOOKUP(Tabla_SERIEBM_01_6[[#This Row],[IdEstablecimiento]],[1]Establecimientos!A$1:E$175,5,FALSE),0)","v":"04305-RIO HURTADO"},"105410","80302076","2021-02-18T03:34:59",0,null,null,7]
[4,"5",2021,{"$f":"IFERROR(VLOOKUP(Tabla_SERIEBM_01_6[[#This Row],[IdEstablecimiento]],[1]Establecimientos!A$1:E$175,5,FALSE),0)","v":"04202-CANELA"},"105450","80500011","2021-05-13T17:33:14",13,null,13,null,13]
[2,"5",2021,{"$f":"IFERROR(VLOOKUP(Tabla_SERIEBM_01_6[[#This Row],[IdEstablecimiento]],[1]Establecimientos!A$1:E$175,5,FALSE),0)","v":"04102-COQUIMBO"},"105823","80106017","2021-11-09T15:10:10",153,153,null,null,153]
[2,"5",2021,{"$f":"IFERROR(VLOOKUP(Tabla_SERIEBM_01_6[[#This Row],[IdEstablecimiento]],[1]Establecimientos!A$1:E$175,5,FALSE),0)","v":"04101-LA SERENA"},"105826","80106014","2021-11-09T15:10:54",232,232,null,null,232]
[7,"5",2021,{"$f":"IFERROR(VLOOKUP(Tabla_SERIEBM_01_6[[#This Row],[IdEstablecimiento]],[1]Establecimientos!A$1:E$175,5,FALSE),0)","v":"04102-COQUIMBO"},"200494","80306002","2021-08-17T09:51:12",2,null,2]
[9,"5",2021,{"$f":"IFERROR(VLOOKUP(Tabla_SERIEBM_01_6[[#This Row],[IdEstablecimiento]],[1]Establecimientos!A$1:E$175,5,FALSE),0)","v":"04102-COQUIMBO"},"105304","18400900","2021-10-15T12:33:19",22,4,18]
[7,"5",2021,{"$f":"IFERROR(VLOOKUP(Tabla_SERIEBM_01_6[[#This Row],[IdEstablecimiento]],[1]Establecimientos!A$1:E$175,5,FALSE),0)","v":"04101-LA SERENA"},"105319","80307011","2021-08-17T05:05:40",531,null,531,531]
[10,"5",2021,{"$f":"IFERROR(VLOOKUP(Tabla_SERIEBM_01_6[[#This Row],[IdEstablecimiento]],[1]Establecimientos!A$1:E$175,5,FALSE),0)","v":"04201-ILLAPEL"},"200366","81602202","2021-11-15T12:26:45",0,{"$nulls":4},5]
[10,"5",2021,{"$f":"IFERROR(VLOOKUP(Tabla_SERIEBM_01_6[[#This Row],[IdEstablecimiento]],[1]Establecimientos!A$1:E$175,5,FALSE),0)","v":"04302-COMBARBALÁ"},"105466","80106013","2021-11-15T11:10:21",1,null,1,null,1]
[10,"5",2021,{"$f":"IFERROR(VLOOKUP(Tabla_SERIEBM_01_6[[#This Row],[IdEstablecimiento]],[1]Establecimientos!A$1:E$175,5,FALSE),0)","v":"04105-PAIHUANO"},"105306","18040200","2021-11-15T07:29:19",8,4,4]
[7,"5",2021,{"$f":"IFERROR(VLOOKUP(Tabla_SERIEBM_01_6[[#This Row],[IdEstablecimiento]],[1]Establecimientos!A$1:E$175,5,FALSE),0)","v":"04201-ILLAPEL"},"105448","80301045","2021-08-17T06:30:51",0,null,null,3]
[1,"5",2021,{"$f":"IFERROR(VLOOKUP(Tabla_SERIEBM_01_6[[#This Row],[IdEstablecimiento]],[1]Establecimientos!A$1:E$175,5,FALSE),0)","v":"04102-COQUIMBO"},"105405","80301038","2021-02-18T03:33:27",0,null,null,17]
[10,"5",2021,{"$f":"IFERROR(VLOOKUP(Tabla_SERIEBM_01_6[[#This Row],[IdEstablecimiento]],[1]Establecimientos!A$1:E$175,5,FALSE),0)","v":"04301-OVALLE"},"105322","80301034","2021-11-15T08:10:57",68,null,68]
[9,"5",2021,{"$f":"IFERROR(VLOOKUP(Tabla_SERIEBM_01_6[[#This Row],[IdEstablecimiento]],[1]Establecimientos!A$1:E$175,5,FALSE),0)","v":"04102-COQUIMBO"},"200848","80106008","2021-10-15T13:43:05",1,1,0,1,0]
[2,"5",2021,{"$f":"IFERROR(VLOOKUP(Tabla_SERIEBM_01_6[[#This Row],[IdEstablecimiento]],[1]Establecimientos!A$1:E$175,5,FALSE),0)","v":"04101-LA SERENA"},"200105","18050100","2021-11-09T15:11:20",39,39,0]
[5,"5",2021,{"$f":"IFERROR(VLOOKUP(Tabla_SERIEBM_01_6[[#This Row],[IdEstablecimiento]],[1]Establecimientos!A$1:E$175,5,FALSE),0)","v":"04201-ILLAPEL"},"105485","80309010","2021-06-11T12:17:29",0,null,null,18]
[8,"5",2021,{"$f":"IFERROR(VLOOKUP(Tabla_SERIEBM_01_6[[#This Row],[IdEstablecimiento]],[1]Establecimientos!A$1:E$175,5,FALSE),0)","v":"04105-PAIHUANO"},"105306","80302076","2021-09-16T10:49:19",0,null,null,175]
[10,"5",2021,{"$f":"IFERROR(VLOOKUP(Tabla_SERIEBM_01_6[[#This Row],[IdEstablecimiento]],[1]Establecimientos!A$1:E$175,5,FALSE),0)","v":"04105-PAIHUANO"},"105306","18700100","2021-11-15T07:29:19",265,5,246,14]
[11,"5",2021,{"$f":"IFERROR(VLOOKUP(Tabla_SERIEBM_01_6[[#This Row],[IdEstablecimiento]],[1]Establecimientos!A$1:E$175,5,FALSE),0)","v":"04106-VICUÑA"},"105467","81602222","2022-01-11T11:05:50",2,null,2,null,2]
[10,"5",2021,{"$f":"IFERROR(VLOOKUP(Tabla_SERIEBM_01_6[[#This Row],[IdEstablecimiento]],[1]Establecimientos!A$1:E$175,5,FALSE),0)","v":"04101-LA SERENA"},"200402","80307011","2021-11-15T12:27:56",0,null,null,60]
[9,"5",2021,{"$f":"IFERROR(VLOOKUP(Tabla_SERIEBM_01_6[[#This Row],[IdEstablecimiento]],[1]Establecimientos!A$1:E$175,5,FALSE),0)","v":"04305-RIO HURTADO"},"105413","80106013","2021-10-15T12:50:42",1,null,1,null,1]
[10,"5",2021,{"$f":"IFERROR(VLOOKUP(Tabla_SERIEBM_01_6[[#This Row],[IdEstablecimiento]],[1]Establecimientos!A$1:E$175,5,FALSE),0)","v":"04303-MONTE PATRIA"},"105307","80301059","2021-11-15T07:31:14",288,null,288]
[6,"5",2021,{"$f":"IFERROR(VLOOKUP(Tabla_SERIEBM_01_6[[#This Row],[IdEstablecimiento]],[1]Establecimientos!A$1:E$175,5,FALSE),0)","v":"04302-COMBARBALÁ"},"105459","80106002","2021-07-19T14:14:53",7,null,7,null,7]
[7,"5",2021,{"$f":"IFERROR(VLOOKUP(Tabla_SERIEBM_01_6[[#This Row],[IdEstablecimiento]],[1]Establecimientos!A$1:E$175,5,FALSE),0)","v":"04301-OVALLE"},"105322","18010900","2021-08-17T05:08:02",3446,0,3446]
[1,"5",2021,{"$f":"IFERROR(VLOOKUP(Tabla_SERIEBM_01_6[[#This Row],[IdEstablecimiento]],[1]Establecimientos!A$1:E$175,5,FALSE),0)","v":"04101-LA SERENA"},"105401","80309012","2021-02-18T03:32:10",0,null,null,9]
[10,"5",2021,{"$f":"IFERROR(VLOOKUP(Tabla_SERIEBM_01_6[[#This Row],[IdEstablecimiento]],[1]Establecimientos!A$1:E$175,5,FALSE),0)","v":"04304-PUNITAQUI"},"105308","80301041","2021-11-15T07:31:50",0,null,null,159]
[2,"5",2021,{"$f":"IFERROR(VLOOKUP(Tabla_SERIEBM_01_6[[#This Row],[IdEstablecimiento]],[1]Establecimientos!A$1:E$175,5,FALSE),0)","v":"04102-COQUIMBO"},"200273","80302032","2021-11-09T15:16:49",0,null,null,26]
[2,"5",2021,{"$f":"IFERROR(VLOOKUP(Tabla_SERIEBM_01_6[[#This Row],[IdEstablecimiento]],[1]Establecimientos!A$1:E$175,5,FALSE),0)","v":"04201-ILLAPEL"},"200366","80302057","2021-11-09T15:17:19",0,null,null,227]
[7,"5",2021,{"$f":"IFERROR(VLOOKUP(Tabla_SERIEBM_01_6[[#This Row],[IdEstablecimiento]],[1]Establecimientos!A$1:E$175,5,FALSE),0)","v":"04101-LA SERENA"},"105700","80106017","2021-08-17T09:19:43",34,null,34,null,34]
[9,"5",2021,{"$f":"IFERROR(VLOOKUP(Tabla_SERIEBM_01_6[[#This Row],[IdEstablecimiento]],[1]Establecimientos!A$1:E$175,5,FALSE),0)","v":"04305-RIO HURTADO"},"105413","80106014","2021-10-15T12:50:42",53,null,53,null,53]
[8,"5",2021,{"$f":"IFERROR(VLOOKUP(Tabla_SERIEBM_01_6[[#This Row],[IdEstablecimiento]],[1]Establecimientos!A$1:E$175,5,FALSE),0)","v":"04203-LOS VILOS"},"105511","80303015","2021-09-16T13:08:56",0,null,null,1]
[6,"5",2021,{"$f":"IFERROR(VLOOKUP(Tabla_SERIEBM_01_6[[#This Row],[IdEstablecimiento]],[1]Establecimientos!A$1:E$175,5,FALSE),0)","v":"04102-COQUIMBO"},"200607","80301034","2021-07-19T15:15:19",13,null,13]
[8,"5",2021,{"$f":"IFERROR(VLOOKUP(Tabla_SERIEBM_01_6[[#This Row],[IdEstablecimiento]],[1]Establecimientos!A$1:E$175,5,FALSE),0)","v":"04102-COQUIMBO"},"200494","80106023","2021-09-16T13:26:05",80,null,80,null,80]
[10,"5",2021,{"$f":"IFERROR(VLOOKUP(Tabla_SERIEBM_01_6[[#This Row],[IdEstablecimiento]],[1]Establecimientos!A$1:E$175,5,FALSE),0)","v":"04102-COQUIMBO"},"200494","80303024","2021-11-15T12:28:28",0,null,null,173]
[6,"5",2021,{"$f":"IFERROR(VLOOKUP(Tabla_SERIEBM_01_6[[#This Row],[IdEstablecimiento]],[1]Establecimientos!A$1:E$175,5,FALSE),0)","v":"04303-MONTE PATRIA"},"200720","18020500","2021-08-17T10:22:55",481,481,0]
[9,"5",2021,{"$f":"IFERROR(VLOOKUP(Tabla_SERIEBM_01_6[[#This Row],[IdEstablecimiento]],[1]Establecimientos!A$1:E$175,5,FALSE),0)","v":"04101-LA SERENA"},"105819","18020800","2021-10-21T14:34:10",74,74,0]
[2,"5",2021,{"$f":"IFERROR(VLOOKUP(Tabla_SERIEBM_01_6[[#This Row],[IdEstablecimiento]],[1]Establecimientos!A$1:E$175,5,FALSE),0)","v":"04301-OVALLE"},"200258","18050200","2021-11-09T15:15:33",5,0,5]
[10,"5",2021,{"$f":"IFERROR(VLOOKUP(Tabla_SERIEBM_01_6[[#This Row],[IdEstablecimiento]],[1]Establecimientos!A$1:E$175,5,FALSE),0)","v":"04303-MONTE PATRIA"},"105307","80302034","2021-11-15T07:31:14",982,null,982]
[7,"5",2021,{"$f":"IFERROR(VLOOKUP(Tabla_SERIEBM_01_6[[#This Row],[IdEstablecimiento]],[1]Establecimientos!A$1:E$175,5,FALSE),0)","v":"04305-RIO HURTADO"},"105413","18050100","2021-08-17T05:54:55",1,0,1]
[4,"5",2021,{"$f":"IFERROR(VLOOKUP(Tabla_SERIEBM_01_6[[#This Row],[IdEstablecimiento]],[1]Establecimientos!A$1:E$175,5,FALSE),0)","v":"04105-PAIHUANO"},"105475","80106015","2021-05-14T10:07:21",5,null,5,null,5]
[8,"5",2021,{"$f":"IFERROR(VLOOKUP(Tabla_SERIEBM_01_6[[#This Row],[IdEstablecimiento]],[1]Establecimientos!A$1:E$175,5,FALSE),0)","v":"04301-OVALLE"},"200742","81701001","2021-09-16T13:35:04",21,21,null,null,21]
[8,"5",2021,{"$f":"IFERROR(VLOOKUP(Tabla_SERIEBM_01_6[[#This Row],[IdEstablecimiento]],[1]Establecimientos!A$1:E$175,5,FALSE),0)","v":"04301-OVALLE"},"200742","18700100","2021-09-16T13:35:04",16,4,9,3]
[9,"5",2021,{"$f":"IFERROR(VLOOKUP(Tabla_SERIEBM_01_6[[#This Row],[IdEstablecimiento]],[1]Establecimientos!A$1:E$175,5,FALSE),0)","v":"04201-ILLAPEL"},"105486","80500011","2021-10-15T13:17:07",8,null,8,null,8]
[8,"5",2021,{"$f":"IFERROR(VLOOKUP(Tabla_SERIEBM_01_6[[#This Row],[IdEstablecimiento]],[1]Establecimientos!A$1:E$175,5,FALSE),0)","v":"04102-COQUIMBO"},"200494","80500014","2021-09-16T13:26:05",0,{"$nulls":4},19]
[5,"5",2021,{"$f":"IFERROR(VLOOKUP(Tabla_SERIEBM_01_6[[#This Row],[IdEstablecimiento]],[1]Establecimientos!A$1:E$175,5,FALSE),0)","v":"04101-LA SERENA"},"105400","80309028","2021-06-11T09:57:25",0,null,null,2]
[1,"5",2021,{"$f":"IFERROR(VLOOKUP(Tabla_SERIEBM_01_6[[#This Row],[IdEstablecimiento]],[1]Establecimientos!A$1:E$175,5,FALSE),0)","v":"04101-LA SERENA"},"105826","80106022","2021-02-18T05:56:50",3,3,null,null,3]
[10,"5",2021,{"$f":"IFERROR(VLOOKUP(Tabla_SERIEBM_01_6[[#This Row],[IdEstablecimiento]],[1]Establecimientos!A$1:E$175,5,FALSE),0)","v":"04303-MONTE PATRIA"},"105307","81901019","2021-11-15T07:31:14",5,null,5,null,5]
[10,"5",2021,{"$f":"IFERROR(VLOOKUP(Tabla_SERIEBM_01_6[[#This Row],[IdEstablecimiento]],[1]Establecimientos!A$1:E$175,5,FALSE),0)","v":"04303-MONTE PATRIA"},"105307","18700330","2021-11-15T07:31:14",2,null,2]
[6,"5",2021,{"$f":"IFERROR(VLOOKUP(Tabla_SERIEBM_01_6[[#This Row],[IdEstablecimiento]],[1]Establecimientos!A$1:E$175,5,FALSE),0)","v":"04106-VICUÑA"},"105473","80302034","2021-07-19T14:30:15",0,null,null,28]
[10,"5",2021,{"$f":"IFERROR(VLOOKUP(Tabla_SERIEBM_01_6[[#This Row],[IdEstablecimiento]],[1]Establecimientos!A$1:E$175,5,FALSE),0)","v":"04304-PUNITAQUI"},"105308","81701001","2021-11-15T07:31:50",80,null,80,null,80]
[1,"5",2021,{"$f":"IFERROR(VLOOKUP(Tabla_SERIEBM_01_6[[#This Row],[IdEstablecimiento]],[1]Establecimientos!A$1:E$175,5,FALSE),0)","v":"04102-COQUIMBO"},"105303","80308005","2021-02-18T03:19:23",0,null,null,1]
[7,"5",2021,{"$f":"IFERROR(VLOOKUP(Tabla_SERIEBM_01_6[[#This Row],[IdEstablecimiento]],[1]Establecimientos!A$1:E$175,5,FALSE),0)","v":"04101-LA SERENA"},"105701","80302068","2021-08-17T09:20:11",0,null,null,41]
[9,"5",2021,{"$f":"IFERROR(VLOOKUP(Tabla_SERIEBM_01_6[[#This Row],[IdEstablecimiento]],[1]Establecimientos!A$1:E$175,5,FALSE),0)","v":"04101-LA SERENA"},"105319","80302040","2021-10-15T12:42:30",0,null,null,30]
[8,"5",2021,{"$f":"IFERROR(VLOOKUP(Tabla_SERIEBM_01_6[[#This Row],[IdEstablecimiento]],[1]Establecimientos!A$1:E$175,5,FALSE),0)","v":"04301-OVALLE"},"200741","18020500","2021-09-16T13:34:30",20,20,0]
[9,"5",2021,{"$f":"IFERROR(VLOOKUP(Tabla_SERIEBM_01_6[[#This Row],[IdEstablecimiento]],[1]Establecimientos!A$1:E$175,5,FALSE),0)","v":"04102-COQUIMBO"},"200494","80308004","2021-10-15T13:38:07",0,null,null,4]
[8,"5",2021,{"$f":"IFERROR(VLOOKUP(Tabla_SERIEBM_01_6[[#This Row],[IdEstablecimiento]],[1]Establecimientos!A$1:E$175,5,FALSE),0)","v":"04101-LA SERENA"},"105826","80500011","2021-09-16T13:19:00",312,312,0,0,312,0]
[6,"5",2021,{"$f":"IFERROR(VLOOKUP(Tabla_SERIEBM_01_6[[#This Row],[IdEstablecimiento]],[1]Establecimientos!A$1:E$175,5,FALSE),0)","v":"04106-VICUÑA"},"105509","80306011","2021-07-19T14:50:32",0,null,null,2]
[2,"5",2021,{"$f":"IFERROR(VLOOKUP(Tabla_SERIEBM_01_6[[#This Row],[IdEstablecimiento]],[1]Establecimientos!A$1:E$175,5,FALSE),0)","v":"04106-VICUÑA"},"105471","81701001","2021-11-09T14:45:36",4,null,4,null,4]
[5,"5",2021,{"$f":"IFERROR(VLOOKUP(Tabla_SERIEBM_01_6[[#This Row],[IdEstablecimiento]],[1]Establecimientos!A$1:E$175,5,FALSE),0)","v":"04201-ILLAPEL"},"105486","80302005","2021-06-11T12:17:59",0,null,null,9]
[6,"5",2021,{"$f":"IFERROR(VLOOKUP(Tabla_SERIEBM_01_6[[#This Row],[IdEstablecimiento]],[1]Establecimientos!A$1:E$175,5,FALSE),0)","v":"04101-LA SERENA"},"105302","80302032","2021-07-19T11:57:58",0,null,null,168]
[1,"5",2021,{"$f":"IFERROR(VLOOKUP(Tabla_SERIEBM_01_6[[#This Row],[IdEstablecimiento]],[1]Establecimientos!A$1:E$175,5,FALSE),0)","v":"04301-OVALLE"},"105416","80106017","2021-02-18T03:37:23",24,null,24,null,24]
[6,"5",2021,{"$f":"IFERROR(VLOOKUP(Tabla_SERIEBM_01_6[[#This Row],[IdEstablecimiento]],[1]Establecimientos!A$1:E$175,5,FALSE),0)","v":"04102-COQUIMBO"},"200607","80302057","2021-07-19T15:15:19",0,null,null,128]
[8,"5",2021,{"$f":"IFERROR(VLOOKUP(Tabla_SERIEBM_01_6[[#This Row],[IdEstablecimiento]],[1]Establecimientos!A$1:E$175,5,FALSE),0)","v":"04102-COQUIMBO"},"105303","80301034","2021-09-16T10:47:43",0,null,null,17]
[10,"5",2021,{"$f":"IFERROR(VLOOKUP(Tabla_SERIEBM_01_6[[#This Row],[IdEstablecimiento]],[1]Establecimientos!A$1:E$175,5,FALSE),0)","v":"04106-VICUÑA"},"105468","80301045","2021-11-15T11:13:51",0,null,null,20]
[10,"5",2021,{"$f":"IFERROR(VLOOKUP(Tabla_SERIEBM_01_6[[#This Row],[IdEstablecimiento]],[1]Establecimientos!A$1:E$175,5,FALSE),0)","v":"04305-RIO HURTADO"},"105310","80500008","2021-11-15T07:54:30",2,null,2,null,2]
[9,"5",2021,{"$f":"IFERROR(VLOOKUP(Tabla_SERIEBM_01_6[[#This Row],[IdEstablecimiento]],[1]Establecimientos!A$1:E$175,5,FALSE),0)","v":"04102-COQUIMBO"},"200494","18020900","2021-10-15T13:38:07",2,0,2]
[9,"5",2021,{"$f":"IFERROR(VLOOKUP(Tabla_SERIEBM_01_6[[#This Row],[IdEstablecimiento]],[1]Establecimientos!A$1:E$175,5,FALSE),0)","v":"04102-COQUIMBO"},"105323","80301041","2021-11-15T12:49:15",0,null,null,175]
[6,"5",2021,{"$f":"IFERROR(VLOOKUP(Tabla_SERIEBM_01_6[[#This Row],[IdEstablecimiento]],[1]Establecimientos!A$1:E$175,5,FALSE),0)","v":"04201-ILLAPEL"},"105326","80302034","2021-07-19T15:31:04",0,null,null,165]
[2,"5",2021,{"$f":"IFERROR(VLOOKUP(Tabla_SERIEBM_01_6[[#This Row],[IdEstablecimiento]],[1]Establecimientos!A$1:E$175,5,FALSE),0)","v":"04106-VICUÑA"},"105472","80307011","2021-11-09T14:46:07",0,null,null,14]
[5,"5",2021,{"$f":"IFERROR(VLOOKUP(Tabla_SERIEBM_01_6[[#This Row],[IdEstablecimiento]],[1]Establecimientos!A$1:E$175,5,FALSE),0)","v":"04301-OVALLE"},"105817","81602221","2021-06-11T14:14:21",6,6,null,6]
[5,"5",2021,{"$f":"IFERROR(VLOOKUP(Tabla_SERIEBM_01_6[[#This Row],[IdEstablecimiento]],[1]Establecimientos!A$1:E$175,5,FALSE),0)","v":"04301-OVALLE"},"105817","80106020","2021-06-11T14:14:21",1,1,null,null,1]
[4,"5",2021,{"$f":"IFERROR(VLOOKUP(Tabla_SERIEBM_01_6[[#This Row],[IdEstablecimiento]],[1]Establecimientos!A$1:E$175,5,FALSE),0)","v":"04303-MONTE PATRIA"},"105428","80106002","2021-05-13T17:20:18",14,null,14,null,14]
[5,"5",2021,{"$f":"IFERROR(VLOOKUP(Tabla_SERIEBM_01_6[[#This Row],[IdEstablecimiento]],[1]Establecimientos!A$1:E$175,5,FALSE),0)","v":"04301-OVALLE"},"200569","18090200","2021-06-11T14:31:32",38]
[6,"5",2021,{"$f":"IFERROR(VLOOKUP(Tabla_SERIEBM_01_6[[#This Row],[IdEstablecimiento]],[1]Establecimientos!A$1:E$175,5,FALSE),0)","v":"04303-MONTE PATRIA"},"105318","18400900","2021-08-17T10:13:55",29,10,19]
[9,"5",2021,{"$f":"IFERROR(VLOOKUP(Tabla_SERIEBM_01_6[[#This Row],[IdEstablecimiento]],[1]Establecimientos!A$1:E$175,5,FALSE),0)","v":"04102-COQUIMBO"},"105305","80306051","2021-10-15T12:33:54",0,null,null,1]
[6,"5",2021,{"$f":"IFERROR(VLOOKUP(Tabla_SERIEBM_01_6[[#This Row],[IdEstablecimiento]],[1]Establecimientos!A$1:E$175,5,FALSE),0)","v":"04201-ILLAPEL"},"105445","18020500","2021-07-19T14:06:28",9,0,9]
[10,"5",2021,{"$f":"IFERROR(VLOOKUP(Tabla_SERIEBM_01_6[[#This Row],[IdEstablecimiento]],[1]Establecimientos!A$1:E$175,5,FALSE),0)","v":"04304-PUNITAQUI"},"105308","80302048","2021-11-15T07:31:50",0,null,null,69]
[10,"5",2021,{"$f":"IFERROR(VLOOKUP(Tabla_SERIEBM_01_6[[#This Row],[IdEstablecimiento]],[1]Establecimientos!A$1:E$175,5,FALSE),0)","v":"04106-VICUÑA"},"105468","80302015","2021-11-15T11:13:51",0,null,null,1]
[7,"5",2021,{"$f":"IFERROR(VLOOKUP(Tabla_SERIEBM_01_6[[#This Row],[IdEstablecimiento]],[1]Establecimientos!A$1:E$175,5,FALSE),0)","v":"04305-RIO HURTADO"},"105409","81701009","2021-08-17T05:48:44",3,null,3,null,3]
[6,"5",2021,{"$f":"IFERROR(VLOOKUP(Tabla_SERIEBM_01_6[[#This Row],[IdEstablecimiento]],[1]Establecimientos!A$1:E$175,5,FALSE),0)","v":"04203-LOS VILOS"},"105511","80309010","2021-10-18T08:02:01",0,null,null,3]
[8,"5",2021,{"$f":"IFERROR(VLOOKUP(Tabla_SERIEBM_01_6[[#This Row],[IdEstablecimiento]],[1]Establecimientos!A$1:E$175,5,FALSE),0)","v":"04303-MONTE PATRIA"},"105431","80106017","2021-09-16T11:15:24",12,null,12,null,12]
[4,"5",2021,{"$f":"IFERROR(VLOOKUP(Tabla_SERIEBM_01_6[[#This Row],[IdEstablecimiento]],[1]Establecimientos!A$1:E$175,5,FALSE),0)","v":"04305-RIO HURTADO"},"105411","18050300","2021-05-13T17:14:10",30,0,30]
[2,"5",2021,{"$f":"IFERROR(VLOOKUP(Tabla_SERIEBM_01_6[[#This Row],[IdEstablecimiento]],[1]Establecimientos!A$1:E$175,5,FALSE),0)","v":"04106-VICUÑA"},"105471","80303024","2021-11-09T14:45:36",0,null,null,6]
[5,"5",2021,{"$f":"IFERROR(VLOOKUP(Tabla_SERIEBM_01_6[[#This Row],[IdEstablecimiento]],[1]Establecimientos!A$1:E$175,5,FALSE),0)","v":"04101-LA SERENA"},"105819","80401013","2021-06-11T14:22:30",17,17]
[8,"5",2021,{"$f":"IFERROR(VLOOKUP(Tabla_SERIEBM_01_6[[#This Row],[IdEstablecimiento]],[1]Establecimientos!A$1:E$175,5,FALSE),0)","v":"04101-LA SERENA"},"105819","18020600","2021-09-16T13:17:00",6,6,0]
[9,"5",2021,{"$f":"IFERROR(VLOOKUP(Tabla_SERIEBM_01_6[[#This Row],[IdEstablecimiento]],[1]Establecimientos!A$1:E$175,5,FALSE),0)","v":"04301-OVALLE"},"105416","80106014","2021-10-15T12:51:52",27,null,27]
[9,"5",2021,{"$f":"IFERROR(VLOOKUP(Tabla_SERIEBM_01_6[[#This Row],[IdEstablecimiento]],[1]Establecimientos!A$1:E$175,5,FALSE),0)","v":"04201-ILLAPEL"},"105487","80301041","2021-10-15T13:17:31",0,null,null,15]
[7,"5",2021,{"$f":"IFERROR(VLOOKUP(Tabla_SERIEBM_01_6[[#This Row],[IdEstablecimiento]],[1]Establecimientos!A$1:E$175,5,FALSE),0)","v":"04301-OVALLE"},"200367","80106023","2021-08-17T09:48:11",20,null,20]
[10,"5",2021,{"$f":"IFERROR(VLOOKUP(Tabla_SERIEBM_01_6[[#This Row],[IdEstablecimiento]],[1]Establecimientos!A$1:E$175,5,FALSE),0)","v":"04304-PUNITAQUI"},"105308","18020900","2021-11-15T07:31:50",2,0,2]
[10,"5",2021,{"$f":"IFERROR(VLOOKUP(Tabla_SERIEBM_01_6[[#This Row],[IdEstablecimiento]],[1]Establecimientos!A$1:E$175,5,FALSE),0)","v":"04101-LA SERENA"},"105313","80306001","2021-11-15T07:55:47",0,null,null,3]
[10,"5",2021,{"$f":"IFERROR(VLOOKUP(Tabla_SERIEBM_01_6[[#This Row],[IdEstablecimiento]],[1]Establecimientos!A$1:E$175,5,FALSE),0)","v":"04106-VICUÑA"},"105468","80106017","2021-11-15T11:13:51",2,null,2,null,2]
[6,"5",2021,{"$f":"IFERROR(VLOOKUP(Tabla_SERIEBM_01_6[[#This Row],[IdEstablecimiento]],[1]Establecimientos!A$1:E$175,5,FALSE),0)","v":"04201-ILLAPEL"},"105504","80106014","2021-07-19T14:47:58",22,null,22,null,22]
[2,"5",2021,{"$f":"IFERROR(VLOOKUP(Tabla_SERIEBM_01_6[[#This Row],[IdEstablecimiento]],[1]Establecimientos!A$1:E$175,5,FALSE),0)","v":"04106-VICUÑA"},"105473","80301045","2021-11-09T14:46:37",0,null,null,13]
[1,"5",2021,{"$f":"IFERROR(VLOOKUP(Tabla_SERIEBM_01_6[[#This Row],[IdEstablecimiento]],[1]Establecimientos!A$1:E$175,5,FALSE),0)","v":"04301-OVALLE"},"200721","81701001","2021-02-18T06:05:05",22,22,null,null,22]
[1,"5",2021,{"$f":"IFERROR(VLOOKUP(Tabla_SERIEBM_01_6[[#This Row],[IdEstablecimiento]],[1]Establecimientos!A$1:E$175,5,FALSE),0)","v":"04102-COQUIMBO"},"105323","80302023","2021-02-18T03:29:29",0,null,null,268]
[8,"5",2021,{"$f":"IFERROR(VLOOKUP(Tabla_SERIEBM_01_6[[#This Row],[IdEstablecimiento]],[1]Establecimientos!A$1:E$175,5,FALSE),0)","v":"04102-COQUIMBO"},"105303","80306052","2021-09-16T10:47:43",0,null,null,3]
[9,"5",2021,{"$f":"IFERROR(VLOOKUP(Tabla_SERIEBM_01_6[[#This Row],[IdEstablecimiento]],[1]Establecimientos!A$1:E$175,5,FALSE),0)","v":"04101-LA SERENA"},"105300","18700100","2021-10-15T12:31:45",4399,50,3891,458]
[4,"5",2021,{"$f":"IFERROR(VLOOKUP(Tabla_SERIEBM_01_6[[#This Row],[IdEstablecimiento]],[1]Establecimientos!A$1:E$175,5,FALSE),0)","v":"04204-SALAMANCA"},"105501","18030000","2021-05-14T10:23:06",1,0,1]
[7,"5",2021,{"$f":"IFERROR(VLOOKUP(Tabla_SERIEBM_01_6[[#This Row],[IdEstablecimiento]],[1]Establecimientos!A$1:E$175,5,FALSE),0)","v":"04101-LA SERENA"},"105700","80302005","2021-08-17T09:19:43",0,null,null,6]
[6,"5",2021,{"$f":"IFERROR(VLOOKUP(Tabla_SERIEBM_01_6[[#This Row],[IdEstablecimiento]],[1]Establecimientos!A$1:E$175,5,FALSE),0)","v":"04102-COQUIMBO"},"200607","18010100","2021-07-19T15:15:19",26,0,26]
[2,"5",2021,{"$f":"IFERROR(VLOOKUP(Tabla_SERIEBM_01_6[[#This Row],[IdEstablecimiento]],[1]Establecimientos!A$1:E$175,5,FALSE),0)","v":"04101-LA SERENA"},"105401","80302032","2021-11-09T13:49:17",0,null,null,15]
[10,"5",2021,{"$f":"IFERROR(VLOOKUP(Tabla_SERIEBM_01_6[[#This Row],[IdEstablecimiento]],[1]Establecimientos!A$1:E$175,5,FALSE),0)","v":"04101-LA SERENA"},"105313","80500008","2021-11-15T07:55:47",14,null,14,null,14,0]
[10,"5",2021,{"$f":"IFERROR(VLOOKUP(Tabla_SERIEBM_01_6[[#This Row],[IdEstablecimiento]],[1]Establecimientos!A$1:E$175,5,FALSE),0)","v":"04301-OVALLE"},"105322","18010100","2021-11-15T08:10:57",2974,0,2974]
[10,"5",2021,{"$f":"IFERROR(VLOOKUP(Tabla_SERIEBM_01_6[[#This Row],[IdEstablecimiento]],[1]Establecimientos!A$1:E$175,5,FALSE),0)","v":"04106-VICUÑA"},"105469","80302076","2021-11-15T11:14:37",0,null,null,8]
[9,"5",2021,{"$f":"IFERROR(VLOOKUP(Tabla_SERIEBM_01_6[[#This Row],[IdEstablecimiento]],[1]Establecimientos!A$1:E$175,5,FALSE),0)","v":"04101-LA SERENA"},"105301","80301059","2021-10-15T12:32:09",0,null,null,7]
[4,"5",2021,{"$f":"IFERROR(VLOOKUP(Tabla_SERIEBM_01_6[[#This Row],[IdEstablecimiento]],[1]Establecimientos!A$1:E$175,5,FALSE),0)","v":"04101-LA SERENA"},"105319","80302032","2021-05-13T17:00:30",0,null,null,231]
[9,"5",2021,{"$f":"IFERROR(VLOOKUP(Tabla_SERIEBM_01_6[[#This Row],[IdEstablecimiento]],[1]Establecimientos!A$1:E$175,5,FALSE),0)","v":"04101-LA SERENA"},"105300","80301041","2021-10-15T12:31:45",0,null,null,217]
[5,"5",2021,{"$f":"IFERROR(VLOOKUP(Tabla_SERIEBM_01_6[[#This Row],[IdEstablecimiento]],[1]Establecimientos!A$1:E$175,5,FALSE),0)","v":"04102-COQUIMBO"},"105323","80309022","2021-06-11T09:55:34",0,null,null,303]
[8,"5",2021,{"$f":"IFERROR(VLOOKUP(Tabla_SERIEBM_01_6[[#This Row],[IdEstablecimiento]],[1]Establecimientos!A$1:E$175,5,FALSE),0)","v":"04303-MONTE PATRIA"},"105311","18020500","2021-09-16T10:53:09",595,0,595]
[7,"5",2021,{"$f":"IFERROR(VLOOKUP(Tabla_SERIEBM_01_6[[#This Row],[IdEstablecimiento]],[1]Establecimientos!A$1:E$175,5,FALSE),0)","v":"04102-COQUIMBO"},"105305","80301085","2021-11-12T14:37:39",0,null,null,13]
[7,"5",2021,{"$f":"IFERROR(VLOOKUP(Tabla_SERIEBM_01_6[[#This Row],[IdEstablecimiento]],[1]Establecimientos!A$1:E$175,5,FALSE),0)","v":"04302-COMBARBALÁ"},"105460","80106017","2021-11-16T08:03:48",2,null,2,null,2]
[4,"5",2021,{"$f":"IFERROR(VLOOKUP(Tabla_SERIEBM_01_6[[#This Row],[IdEstablecimiento]],[1]Establecimientos!A$1:E$175,5,FALSE),0)","v":"04106-VICUÑA"},"105472","80309013","2021-05-14T10:05:57",0,null,null,24]
[1,"5",2021,{"$f":"IFERROR(VLOOKUP(Tabla_SERIEBM_01_6[[#This Row],[IdEstablecimiento]],[1]Establecimientos!A$1:E$175,5,FALSE),0)","v":"04102-COQUIMBO"},"200499","18020700","2021-02-18T06:02:07",1,0,1]
[2,"5",2021,{"$f":"IFERROR(VLOOKUP(Tabla_SERIEBM_01_6[[#This Row],[IdEstablecimiento]],[1]Establecimientos!A$1:E$175,5,FALSE),0)","v":"04101-LA SERENA"},"105402","80305019","2021-11-09T13:50:01",0,null,null,1]
[10,"5",2021,{"$f":"IFERROR(VLOOKUP(Tabla_SERIEBM_01_6[[#This Row],[IdEstablecimiento]],[1]Establecimientos!A$1:E$175,5,FALSE),0)","v":"04102-COQUIMBO"},"105323","80301036","2021-11-15T08:11:44",0,null,null,114]
[5,"5",2021,{"$f":"IFERROR(VLOOKUP(Tabla_SERIEBM_01_6[[#This Row],[IdEstablecimiento]],[1]Establecimientos!A$1:E$175,5,FALSE),0)","v":"04201-ILLAPEL"},"105487","80302034","2021-06-11T12:18:43",0,null,null,53]
[2,"5",2021,{"$f":"IFERROR(VLOOKUP(Tabla_SERIEBM_01_6[[#This Row],[IdEstablecimiento]],[1]Establecimientos!A$1:E$175,5,FALSE),0)","v":"04201-ILLAPEL"},"105326","80401151","2021-11-09T13:47:25",0,null,null,10]
[10,"5",2021,{"$f":"IFERROR(VLOOKUP(Tabla_SERIEBM_01_6[[#This Row],[IdEstablecimiento]],[1]Establecimientos!A$1:E$175,5,FALSE),0)","v":"04101-LA SERENA"},"105313","18050100","2021-11-15T07:55:47",273,0,273]
[9,"5",2021,{"$f":"IFERROR(VLOOKUP(Tabla_SERIEBM_01_6[[#This Row],[IdEstablecimiento]],[1]Establecimientos!A$1:E$175,5,FALSE),0)","v":"04305-RIO HURTADO"},"105409","18090200","2021-10-15T12:49:31",3]
[6,"5",2021,{"$f":"IFERROR(VLOOKUP(Tabla_SERIEBM_01_6[[#This Row],[IdEstablecimiento]],[1]Establecimientos!A$1:E$175,5,FALSE),0)","v":"04101-LA SERENA"},"105702","18050100","2021-07-19T14:53:16",40,0,40]
[8,"5",2021,{"$f":"IFERROR(VLOOKUP(Tabla_SERIEBM_01_6[[#This Row],[IdEstablecimiento]],[1]Establecimientos!A$1:E$175,5,FALSE),0)","v":"04102-COQUIMBO"},"105305","80302026","2021-11-15T12:47:09",0,null,null,1]
[8,"5",2021,{"$f":"IFERROR(VLOOKUP(Tabla_SERIEBM_01_6[[#This Row],[IdEstablecimiento]],[1]Establecimientos!A$1:E$175,5,FALSE),0)","v":"04106-VICUÑA"},"105467","80309024","2021-09-16T11:39:35",0,null,null,37]
[4,"5",2021,{"$f":"IFERROR(VLOOKUP(Tabla_SERIEBM_01_6[[#This Row],[IdEstablecimiento]],[1]Establecimientos!A$1:E$175,5,FALSE),0)","v":"04105-PAIHUANO"},"105306","80302008","2021-05-13T16:48:36",0,null,null,8]
[6,"5",2021,{"$f":"IFERROR(VLOOKUP(Tabla_SERIEBM_01_6[[#This Row],[IdEstablecimiento]],[1]Establecimientos!A$1:E$175,5,FALSE),0)","v":"04302-COMBARBALÁ"},"105490","18050100","2021-07-19T14:41:52",11,0,11]
[7,"5",2021,{"$f":"IFERROR(VLOOKUP(Tabla_SERIEBM_01_6[[#This Row],[IdEstablecimiento]],[1]Establecimientos!A$1:E$175,5,FALSE),0)","v":"04303-MONTE PATRIA"},"105311","80307012","2021-08-17T04:58:46",5,null,5]
[5,"5",2021,{"$f":"IFERROR(VLOOKUP(Tabla_SERIEBM_01_6[[#This Row],[IdEstablecimiento]],[1]Establecimientos!A$1:E$175,5,FALSE),0)","v":"04101-LA SERENA"},"105302","80106002","2021-06-11T14:53:45",308,null,308,null,308]
[2,"5",2021,{"$f":"IFERROR(VLOOKUP(Tabla_SERIEBM_01_6[[#This Row],[IdEstablecimiento]],[1]Establecimientos!A$1:E$175,5,FALSE),0)","v":"04305-RIO HURTADO"},"105410","18070300","2021-11-09T13:52:53",7,{"$nulls":5},7]
[8,"5",2021,{"$f":"IFERROR(VLOOKUP(Tabla_SERIEBM_01_6[[#This Row],[IdEstablecimiento]],[1]Establecimientos!A$1:E$175,5,FALSE),0)","v":"04101-LA SERENA"},"105702","80309028","2021-09-16T13:10:37",0,null,null,19]
[9,"5",2021,{"$f":"IFERROR(VLOOKUP(Tabla_SERIEBM_01_6[[#This Row],[IdEstablecimiento]],[1]Establecimientos!A$1:E$175,5,FALSE),0)","v":"04305-RIO HURTADO"},"105410","80306042","2021-10-15T12:49:56",0,null,null,4]
[10,"5",2021,{"$f":"IFERROR(VLOOKUP(Tabla_SERIEBM_01_6[[#This Row],[IdEstablecimiento]],[1]Establecimientos!A$1:E$175,5,FALSE),0)","v":"04102-COQUIMBO"},"105323","80302040","2021-11-15T08:11:44",0,null,null,66]
[10,"5",2021,{"$f":"IFERROR(VLOOKUP(Tabla_SERIEBM_01_6[[#This Row],[IdEstablecimiento]],[1]Establecimientos!A$1:E$175,5,FALSE),0)","v":"04301-OVALLE"},"105317","80106023","2021-11-15T08:07:10",12,null,12,null,12]
[6,"5",2021,{"$f":"IFERROR(VLOOKUP(Tabla_SERIEBM_01_6[[#This Row],[IdEstablecimiento]],[1]Establecimientos!A$1:E$175,5,FALSE),0)","v":"04102-COQUIMBO"},"105407","18050100","2021-08-17T10:14:50",8,0,8]
[4,"5",2021,{"$f":"IFERROR(VLOOKUP(Tabla_SERIEBM_01_6[[#This Row],[IdEstablecimiento]],[1]Establecimientos!A$1:E$175,5,FALSE),0)","v":"04304-PUNITAQUI"},"105440","80106013","2021-05-13T17:26:27",9,null,9,null,9]
[4,"5",2021,{"$f":"IFERROR(VLOOKUP(Tabla_SERIEBM_01_6[[#This Row],[IdEstablecimiento]],[1]Establecimientos!A$1:E$175,5,FALSE),0)","v":"04304-PUNITAQUI"},"105440","80307011","2021-05-13T17:26:27",20,null,20]
[6,"5",2021,{"$f":"IFERROR(VLOOKUP(Tabla_SERIEBM_01_6[[#This Row],[IdEstablecimiento]],[1]Establecimientos!A$1:E$175,5,FALSE),0)","v":"04105-PAIHUANO"},"105306","80106015","2021-07-19T12:01:03",1,null,1,null,1]
[8,"5",2021,{"$f":"IFERROR(VLOOKUP(Tabla_SERIEBM_01_6[[#This Row],[IdEstablecimiento]],[1]Establecimientos!A$1:E$175,5,FALSE),0)","v":"04102-COQUIMBO"},"105323","80309022","2021-11-15T12:47:33",0,null,null,344]
[6,"5",2021,{"$f":"IFERROR(VLOOKUP(Tabla_SERIEBM_01_6[[#This Row],[IdEstablecimiento]],[1]Establecimientos!A$1:E$175,5,FALSE),0)","v":"04106-VICUÑA"},"105471","80309013","2021-07-19T14:29:14",0,null,null,3]
[7,"5",2021,{"$f":"IFERROR(VLOOKUP(Tabla_SERIEBM_01_6[[#This Row],[IdEstablecimiento]],[1]Establecimientos!A$1:E$175,5,FALSE),0)","v":"04106-VICUÑA"},"105470","80302076","2021-08-17T06:50:15",0,null,null,5]
[6,"5",2021,{"$f":"IFERROR(VLOOKUP(Tabla_SERIEBM_01_6[[#This Row],[IdEstablecimiento]],[1]Establecimientos!A$1:E$175,5,FALSE),0)","v":"04201-ILLAPEL"},"105444","80309010","2021-07-19T14:05:56",0,null,null,14]
[10,"5",2021,{"$f":"IFERROR(VLOOKUP(Tabla_SERIEBM_01_6[[#This Row],[IdEstablecimiento]],[1]Establecimientos!A$1:E$175,5,FALSE),0)","v":"04102-COQUIMBO"},"105323","80306011","2021-11-15T08:11:44",0,null,null,54]
[10,"5",2021,{"$f":"IFERROR(VLOOKUP(Tabla_SERIEBM_01_6[[#This Row],[IdEstablecimiento]],[1]Establecimientos!A$1:E$175,5,FALSE),0)","v":"04102-COQUIMBO"},"105323","80309022","2021-11-15T08:11:44",0,null,null,308]
[10,"5",2021,{"$f":"IFERROR(VLOOKUP(Tabla_SERIEBM_01_6[[#This Row],[IdEstablecimiento]],[1]Establecimientos!A$1:E$175,5,FALSE),0)","v":"04101-LA SERENA"},"105319","80301059","2021-11-15T08:09:29",0,null,null,2]
[1,"5",2021,{"$f":"IFERROR(VLOOKUP(Tabla_SERIEBM_01_6[[#This Row],[IdEstablecimiento]],[1]Establecimientos!A$1:E$175,5,FALSE),0)","v":"04102-COQUIMBO"},"105323","80302063","2021-02-18T03:29:29",0,null,null,108]
[8,"5",2021,{"$f":"IFERROR(VLOOKUP(Tabla_SERIEBM_01_6[[#This Row],[IdEstablecimiento]],[1]Establecimientos!A$1:E$175,5,FALSE),0)","v":"04301-OVALLE"},"105822","81707030","2021-09-16T13:17:40",8,8]
[9,"5",2021,{"$f":"IFERROR(VLOOKUP(Tabla_SERIEBM_01_6[[#This Row],[IdEstablecimiento]],[1]Establecimientos!A$1:E$175,5,FALSE),0)","v":"04106-VICUÑA"},"105472","18020500","2021-10-15T13:11:29",1,0,1]
[4,"5",2021,{"$f":"IFERROR(VLOOKUP(Tabla_SERIEBM_01_6[[#This Row],[IdEstablecimiento]],[1]Establecimientos!A$1:E$175,5,FALSE),0)","v":"04203-LOS VILOS"},"105480","18050100","2021-10-18T08:00:13",10,0,10]
[4,"5",2021,{"$f":"IFERROR(VLOOKUP(Tabla_SERIEBM_01_6[[#This Row],[IdEstablecimiento]],[1]Establecimientos!A$1:E$175,5,FALSE),0)","v":"04106-VICUÑA"},"105473","80309010","2021-05-14T10:06:28",0,null,null,23]
[9,"5",2021,{"$f":"IFERROR(VLOOKUP(Tabla_SERIEBM_01_6[[#This Row],[IdEstablecimiento]],[1]Establecimientos!A$1:E$175,5,FALSE),0)","v":"04102-COQUIMBO"},"105304","80306011","2021-10-15T12:33:19",0,null,null,105]
[9,"5",2021,{"$f":"IFERROR(VLOOKUP(Tabla_SERIEBM_01_6[[#This Row],[IdEstablecimiento]],[1]Establecimientos!A$1:E$175,5,FALSE),0)","v":"04102-COQUIMBO"},"105304","80401009","2021-10-15T12:33:19",0,null,null,26]
[10,"5",2021,{"$f":"IFERROR(VLOOKUP(Tabla_SERIEBM_01_6[[#This Row],[IdEstablecimiento]],[1]Establecimientos!A$1:E$175,5,FALSE),0)","v":"04303-MONTE PATRIA"},"105428","80500011","2021-11-15T08:36:26",19,null,19,null,19]
[1,"5",2021,{"$f":"IFERROR(VLOOKUP(Tabla_SERIEBM_01_6[[#This Row],[IdEstablecimiento]],[1]Establecimientos!A$1:E$175,5,FALSE),0)","v":"04301-OVALLE"},"105317","80106017","2021-02-18T03:27:02",52,null,52,null,52]
[10,"5",2021,{"$f":"IFERROR(VLOOKUP(Tabla_SERIEBM_01_6[[#This Row],[IdEstablecimiento]],[1]Establecimientos!A$1:E$175,5,FALSE),0)","v":"04106-VICUÑA"},"105471","80302076","2021-11-15T11:16:06",0,null,null,3]
[4,"5",2021,{"$f":"IFERROR(VLOOKUP(Tabla_SERIEBM_01_6[[#This Row],[IdEstablecimiento]],[1]Establecimientos!A$1:E$175,5,FALSE),0)","v":"04305-RIO HURTADO"},"105409","80306042","2021-05-13T17:13:23",0,null,null,3]
[6,"5",2021,{"$f":"IFERROR(VLOOKUP(Tabla_SERIEBM_01_6[[#This Row],[IdEstablecimiento]],[1]Establecimientos!A$1:E$175,5,FALSE),0)","v":"04101-LA SERENA"},"105313","18700100","2021-07-19T12:05:08",5402,89,4793,520]
[10,"5",2021,{"$f":"IFERROR(VLOOKUP(Tabla_SERIEBM_01_6[[#This Row],[IdEstablecimiento]],[1]Establecimientos!A$1:E$175,5,FALSE),0)","v":"04301-OVALLE"},"105315","18050100","2021-11-15T08:06:43",99,0,99]
[3,"5",2021,{"$f":"IFERROR(VLOOKUP(Tabla_SERIEBM_01_6[[#This Row],[IdEstablecimiento]],[1]Establecimientos!A$1:E$175,5,FALSE),0)","v":"04201-ILLAPEL"},"105487","18700100","2021-11-10T09:31:26",54,2,44,8]
[4,"5",2021,{"$f":"IFERROR(VLOOKUP(Tabla_SERIEBM_01_6[[#This Row],[IdEstablecimiento]],[1]Establecimientos!A$1:E$175,5,FALSE),0)","v":"04203-LOS VILOS"},"105478","80303024","2021-05-14T10:10:42",0,null,null,24]
[9,"5",2021,{"$f":"IFERROR(VLOOKUP(Tabla_SERIEBM_01_6[[#This Row],[IdEstablecimiento]],[1]Establecimientos!A$1:E$175,5,FALSE),0)","v":"04305-RIO HURTADO"},"105411","81701001","2021-10-15T12:50:18",7,null,7,null,7]
[9,"5",2021,{"$f":"IFERROR(VLOOKUP(Tabla_SERIEBM_01_6[[#This Row],[IdEstablecimiento]],[1]Establecimientos!A$1:E$175,5,FALSE),0)","v":"04102-COQUIMBO"},"105305","80301041","2021-10-15T12:33:54",0,null,null,273]
[10,"5",2021,{"$f":"IFERROR(VLOOKUP(Tabla_SERIEBM_01_6[[#This Row],[IdEstablecimiento]],[1]Establecimientos!A$1:E$175,5,FALSE),0)","v":"04301-OVALLE"},"105437","80106007","2021-11-15T08:40:13",2,null,2]
[4,"5",2021,{"$f":"IFERROR(VLOOKUP(Tabla_SERIEBM_01_6[[#This Row],[IdEstablecimiento]],[1]Establecimientos!A$1:E$175,5,FALSE),0)","v":"04204-SALAMANCA"},"105491","18020500","2021-05-14T10:19:26",14,0,14]
[4,"5",2021,{"$f":"IFERROR(VLOOKUP(Tabla_SERIEBM_01_6[[#This Row],[IdEstablecimiento]],[1]Establecimientos!A$1:E$175,5,FALSE),0)","v":"04202-CANELA"},"105309","80301011","2021-05-13T16:49:51",0,null,null,10]
[7,"5",2021,{"$f":"IFERROR(VLOOKUP(Tabla_SERIEBM_01_6[[#This Row],[IdEstablecimiento]],[1]Establecimientos!A$1:E$175,5,FALSE),0)","v":"04301-OVALLE"},"105315","80106017","2021-08-17T05:02:22",35,null,35,null,35]
[10,"5",2021,{"$f":"IFERROR(VLOOKUP(Tabla_SERIEBM_01_6[[#This Row],[IdEstablecimiento]],[1]Establecimientos!A$1:E$175,5,FALSE),0)","v":"04303-MONTE PATRIA"},"105428","18700230","2021-11-15T08:36:26",2,null,2,null,2,0,2]
[9,"5",2021,{"$f":"IFERROR(VLOOKUP(Tabla_SERIEBM_01_6[[#This Row],[IdEstablecimiento]],[1]Establecimientos!A$1:E$175,5,FALSE),0)","v":"04202-CANELA"},"105483","80106015","2021-10-15T13:15:53",2,2,null,null,2]
[8,"5",2021,{"$f":"IFERROR(VLOOKUP(Tabla_SERIEBM_01_6[[#This Row],[IdEstablecimiento]],[1]Establecimientos!A$1:E$175,5,FALSE),0)","v":"04305-RIO HURTADO"},"105503","80301045","2021-09-16T13:02:27",0,null,null,16]
[10,"5",2021,{"$f":"IFERROR(VLOOKUP(Tabla_SERIEBM_01_6[[#This Row],[IdEstablecimiento]],[1]Establecimientos!A$1:E$175,5,FALSE),0)","v":"04102-COQUIMBO"},"105323","18090000","2021-11-15T08:11:44",156,0,156]
[10,"5",2021,{"$f":"IFERROR(VLOOKUP(Tabla_SERIEBM_01_6[[#This Row],[IdEstablecimiento]],[1]Establecimientos!A$1:E$175,5,FALSE),0)","v":"04106-VICUÑA"},"105471","80306169","2021-11-15T11:16:06",0,null,null,1]
[2,"5",2021,{"$f":"IFERROR(VLOOKUP(Tabla_SERIEBM_01_6[[#This Row],[IdEstablecimiento]],[1]Establecimientos!A$1:E$175,5,FALSE),0)","v":"04101-LA SERENA"},"105325","80106014","2021-11-09T13:46:59",371,null,371,null,371]
[7,"5",2021,{"$f":"IFERROR(VLOOKUP(Tabla_SERIEBM_01_6[[#This Row],[IdEstablecimiento]],[1]Establecimientos!A$1:E$175,5,FALSE),0)","v":"04101-LA SERENA"},"105302","80305019","2021-08-17T04:51:52",0,null,null,1]
[1,"5",2021,{"$f":"IFERROR(VLOOKUP(Tabla_SERIEBM_01_6[[#This Row],[IdEstablecimiento]],[1]Establecimientos!A$1:E$175,5,FALSE),0)","v":"04204-SALAMANCA"},"105492","18050100","2021-02-18T05:26:52",14,0,14]
[10,"5",2021,{"$f":"IFERROR(VLOOKUP(Tabla_SERIEBM_01_6[[#This Row],[IdEstablecimiento]],[1]Establecimientos!A$1:E$175,5,FALSE),0)","v":"04106-VICUÑA"},"105471","18040200","2021-11-15T11:16:06",2,null,2]
[10,"5",2021,{"$f":"IFERROR(VLOOKUP(Tabla_SERIEBM_01_6[[#This Row],[IdEstablecimiento]],[1]Establecimientos!A$1:E$175,5,FALSE),0)","v":"04106-VICUÑA"},"105473","80305070","2021-11-15T11:18:08",0,null,null,1]
[4,"5",2021,{"$f":"IFERROR(VLOOKUP(Tabla_SERIEBM_01_6[[#This Row],[IdEstablecimiento]],[1]Establecimientos!A$1:E$175,5,FALSE),0)","v":"04202-CANELA"},"105451","80106017","2021-05-13T17:33:39",3,null,3,null,3]
[7,"5",2021,{"$f":"IFERROR(VLOOKUP(Tabla_SERIEBM_01_6[[#This Row],[IdEstablecimiento]],[1]Establecimientos!A$1:E$175,5,FALSE),0)","v":"04303-MONTE PATRIA"},"105425","18020500","2021-08-17T06:02:19",35,0,35]
[10,"5",2021,{"$f":"IFERROR(VLOOKUP(Tabla_SERIEBM_01_6[[#This Row],[IdEstablecimiento]],[1]Establecimientos!A$1:E$175,5,FALSE),0)","v":"04304-PUNITAQUI"},"105440","80106002","2021-11-15T08:41:04",45,null,45,null,45]
[7,"5",2021,{"$f":"IFERROR(VLOOKUP(Tabla_SERIEBM_01_6[[#This Row],[IdEstablecimiento]],[1]Establecimientos!A$1:E$175,5,FALSE),0)","v":"04101-LA SERENA"},"105701","80302064","2021-08-17T09:20:11",0,null,null,42]
[4,"5",2021,{"$f":"IFERROR(VLOOKUP(Tabla_SERIEBM_01_6[[#This Row],[IdEstablecimiento]],[1]Establecimientos!A$1:E$175,5,FALSE),0)","v":"04305-RIO HURTADO"},"105413","18011001","2021-05-13T17:14:37",9,0,9]
[9,"5",2021,{"$f":"IFERROR(VLOOKUP(Tabla_SERIEBM_01_6[[#This Row],[IdEstablecimiento]],[1]Establecimientos!A$1:E$175,5,FALSE),0)","v":"04102-COQUIMBO"},"105305","80301086","2021-10-15T12:33:54",0,null,null,6]
[9,"5",2021,{"$f":"IFERROR(VLOOKUP(Tabla_SERIEBM_01_6[[#This Row],[IdEstablecimiento]],[1]Establecimientos!A$1:E$175,5,FALSE),0)","v":"04305-RIO HURTADO"},"105414","80306011","2021-10-15T12:51:04",0,null,null,3]
[5,"5",2021,{"$f":"IFERROR(VLOOKUP(Tabla_SERIEBM_01_6[[#This Row],[IdEstablecimiento]],[1]Establecimientos!A$1:E$175,5,FALSE),0)","v":"04101-LA SERENA"},"105301","80500014","2021-06-11T09:40:37",13,0,13,0,13,0]
[10,"5",2021,{"$f":"IFERROR(VLOOKUP(Tabla_SERIEBM_01_6[[#This Row],[IdEstablecimiento]],[1]Establecimientos!A$1:E$175,5,FALSE),0)","v":"04106-VICUÑA"},"105473","80305019","2021-11-15T11:18:08",0,null,null,1]
[10,"5",2021,{"$f":"IFERROR(VLOOKUP(Tabla_SERIEBM_01_6[[#This Row],[IdEstablecimiento]],[1]Establecimientos!A$1:E$175,5,FALSE),0)","v":"04106-VICUÑA"},"105473","80106023","2021-11-15T11:18:08",9,null,9,null,9]
[10,"5",2021,{"$f":"IFERROR(VLOOKUP(Tabla_SERIEBM_01_6[[#This Row],[IdEstablecimiento]],[1]Establecimientos!A$1:E$175,5,FALSE),0)","v":"04101-LA SERENA"},"105319","80306001","2021-11-15T08:09:29",0,null,null,2]
[5,"5",2021,{"$f":"IFERROR(VLOOKUP(Tabla_SERIEBM_01_6[[#This Row],[IdEstablecimiento]],[1]Establecimientos!A$1:E$175,5,FALSE),0)","v":0},"200928","81602222","2021-06-11T14:41:06",8,8,null,8]
[7,"5",2021,{"$f":"IFERROR(VLOOKUP(Tabla_SERIEBM_01_6[[#This Row],[IdEstablecimiento]],[1]Establecimientos!A$1:E$175,5,FALSE),0)","v":"04301-OVALLE"},"200741","81701009","2021-08-17T09:58:14",30,null,30,null,30]
[4,"5",2021,{"$f":"IFERROR(VLOOKUP(Tabla_SERIEBM_01_6[[#This Row],[IdEstablecimiento]],[1]Establecimientos!A$1:E$175,5,FALSE),0)","v":"04105-PAIHUANO"},"105477","81701009","2021-05-14T10:08:20",6,null,6,null,6]
[1,"5",2021,{"$f":"IFERROR(VLOOKUP(Tabla_SERIEBM_01_6[[#This Row],[IdEstablecimiento]],[1]Establecimientos!A$1:E$175,5,FALSE),0)","v":"04301-OVALLE"},"105322","80106002","2021-02-18T03:29:04",221,null,221,null,221]
[6,"5",2021,{"$f":"IFERROR(VLOOKUP(Tabla_SERIEBM_01_6[[#This Row],[IdEstablecimiento]],[1]Establecimientos!A$1:E$175,5,FALSE),0)","v":"04102-COQUIMBO"},"200499","80303027","2021-07-19T15:13:44",0,null,null,3]
[10,"5",2021,{"$f":"IFERROR(VLOOKUP(Tabla_SERIEBM_01_6[[#This Row],[IdEstablecimiento]],[1]Establecimientos!A$1:E$175,5,FALSE),0)","v":"04204-SALAMANCA"},"105455","80106023","2021-11-15T10:33:33",5,null,5]
[10,"5",2021,{"$f":"IFERROR(VLOOKUP(Tabla_SERIEBM_01_6[[#This Row],[IdEstablecimiento]],[1]Establecimientos!A$1:E$175,5,FALSE),0)","v":"04204-SALAMANCA"},"105456","18090000","2021-11-15T10:33:58",11,0,11]
[4,"5",2021,{"$f":"IFERROR(VLOOKUP(Tabla_SERIEBM_01_6[[#This Row],[IdEstablecimiento]],[1]Establecimientos!A$1:E$175,5,FALSE),0)","v":"04201-ILLAPEL"},"105486","80302057","2021-05-14T10:14:59",0,null,null,11]
[10,"5",2021,{"$f":"IFERROR(VLOOKUP(Tabla_SERIEBM_01_6[[#This Row],[IdEstablecimiento]],[1]Establecimientos!A$1:E$175,5,FALSE),0)","v":"04203-LOS VILOS"},"105478","80306024","2021-11-15T11:22:42",0,null,null,11]
[10,"5",2021,{"$f":"IFERROR(VLOOKUP(Tabla_SERIEBM_01_6[[#This Row],[IdEstablecimiento]],[1]Establecimientos!A$1:E$175,5,FALSE),0)","v":"04203-LOS VILOS"},"105479","80303024","2021-11-15T11:23:24",0,null,null,1]
[4,"5",2021,{"$f":"IFERROR(VLOOKUP(Tabla_SERIEBM_01_6[[#This Row],[IdEstablecimiento]],[1]Establecimientos!A$1:E$175,5,FALSE),0)","v":"04201-ILLAPEL"},"105496","80302047","2021-05-14T10:20:45",0,null,null,16]
[10,"5",2021,{"$f":"IFERROR(VLOOKUP(Tabla_SERIEBM_01_6[[#This Row],[IdEstablecimiento]],[1]Establecimientos!A$1:E$175,5,FALSE),0)","v":"04101-LA SERENA"},"105319","80309013","2021-11-15T08:09:29",0,null,null,2]
[10,"5",2021,{"$f":"IFERROR(VLOOKUP(Tabla_SERIEBM_01_6[[#This Row],[IdEstablecimiento]],[1]Establecimientos!A$1:E$175,5,FALSE),0)","v":"04201-ILLAPEL"},"105446","18090000","2021-11-15T10:29:10",2,0,2]
[10,"5",2021,{"$f":"IFERROR(VLOOKUP(Tabla_SERIEBM_01_6[[#This Row],[IdEstablecimiento]],[1]Establecimientos!A$1:E$175,5,FALSE),0)","v":"04202-CANELA"},"105450","80106022","2021-11-15T10:31:36",1,null,1,0,1,0]
[7,"5",2021,{"$f":"IFERROR(VLOOKUP(Tabla_SERIEBM_01_6[[#This Row],[IdEstablecimiento]],[1]Establecimientos!A$1:E$175,5,FALSE),0)","v":"04305-RIO HURTADO"},"105410","80306011","2021-08-17T05:49:39",0,null,null,2]
[1,"5",2021,{"$f":"IFERROR(VLOOKUP(Tabla_SERIEBM_01_6[[#This Row],[IdEstablecimiento]],[1]Establecimientos!A$1:E$175,5,FALSE),0)","v":"04303-MONTE PATRIA"},"105432","80106002","2021-02-18T03:48:13",62,null,62,null,62]
[8,"5",2021,{"$f":"IFERROR(VLOOKUP(Tabla_SERIEBM_01_6[[#This Row],[IdEstablecimiento]],[1]Establecimientos!A$1:E$175,5,FALSE),0)","v":"04303-MONTE PATRIA"},"105318","80106015","2021-09-16T10:56:40",102,73,29,null,102]
[5,"5",2021,{"$f":"IFERROR(VLOOKUP(Tabla_SERIEBM_01_6[[#This Row],[IdEstablecimiento]],[1]Establecimientos!A$1:E$175,5,FALSE),0)","v":"04101-LA SERENA"},"105302","80306002","2021-06-11T14:53:45",0,null,null,4]
[6,"5",2021,{"$f":"IFERROR(VLOOKUP(Tabla_SERIEBM_01_6[[#This Row],[IdEstablecimiento]],[1]Establecimientos!A$1:E$175,5,FALSE),0)","v":"04201-ILLAPEL"},"105449","80302047","2021-07-19T14:09:28",0,null,null,5]
[6,"5",2021,{"$f":"IFERROR(VLOOKUP(Tabla_SERIEBM_01_6[[#This Row],[IdEstablecimiento]],[1]Establecimientos!A$1:E$175,5,FALSE),0)","v":"04101-LA SERENA"},"105325","80302013","2021-07-19T12:09:58",0,null,null,25]
[10,"5",2021,{"$f":"IFERROR(VLOOKUP(Tabla_SERIEBM_01_6[[#This Row],[IdEstablecimiento]],[1]Establecimientos!A$1:E$175,5,FALSE),0)","v":"04203-LOS VILOS"},"105479","80302023","2021-11-15T11:23:24",0,null,null,11]
[10,"5",2021,{"$f":"IFERROR(VLOOKUP(Tabla_SERIEBM_01_6[[#This Row],[IdEstablecimiento]],[1]Establecimientos!A$1:E$175,5,FALSE),0)","v":"04203-LOS VILOS"},"105479","18050100","2021-11-15T11:23:24",10,0,10]
[9,"5",2021,{"$f":"IFERROR(VLOOKUP(Tabla_SERIEBM_01_6[[#This Row],[IdEstablecimiento]],[1]Establecimientos!A$1:E$175,5,FALSE),0)","v":"04302-COMBARBALÁ"},"105463","80106002","2021-10-15T13:08:00",9,null,9,null,9]
[1,"5",2021,{"$f":"IFERROR(VLOOKUP(Tabla_SERIEBM_01_6[[#This Row],[IdEstablecimiento]],[1]Establecimientos!A$1:E$175,5,FALSE),0)","v":"04106-VICUÑA"},"105474","80309022","2021-02-18T04:40:01",0,null,null,4]
[8,"5",2021,{"$f":"IFERROR(VLOOKUP(Tabla_SERIEBM_01_6[[#This Row],[IdEstablecimiento]],[1]Establecimientos!A$1:E$175,5,FALSE),0)","v":"04106-VICUÑA"},"105468","80302067","2021-09-16T11:40:01",0,null,null,1]
[5,"5",2021,{"$f":"IFERROR(VLOOKUP(Tabla_SERIEBM_01_6[[#This Row],[IdEstablecimiento]],[1]Establecimientos!A$1:E$175,5,FALSE),0)","v":"04104-LA HIGUERA"},"105314","80302064","2021-06-11T09:50:16",0,null,null,39]
[4,"5",2021,{"$f":"IFERROR(VLOOKUP(Tabla_SERIEBM_01_6[[#This Row],[IdEstablecimiento]],[1]Establecimientos!A$1:E$175,5,FALSE),0)","v":"04101-LA SERENA"},"105701","80302032","2021-05-14T10:33:10",0,null,null,12]
[9,"5",2021,{"$f":"IFERROR(VLOOKUP(Tabla_SERIEBM_01_6[[#This Row],[IdEstablecimiento]],[1]Establecimientos!A$1:E$175,5,FALSE),0)","v":"04303-MONTE PATRIA"},"105311","18400900","2021-10-15T12:36:38",10,2,8]
[1,"5",2021,{"$f":"IFERROR(VLOOKUP(Tabla_SERIEBM_01_6[[#This Row],[IdEstablecimiento]],[1]Establecimientos!A$1:E$175,5,FALSE),0)","v":"04102-COQUIMBO"},"105805","80401061","2021-02-18T05:53:25",13,13]
[10,"5",2021,{"$f":"IFERROR(VLOOKUP(Tabla_SERIEBM_01_6[[#This Row],[IdEstablecimiento]],[1]Establecimientos!A$1:E$175,5,FALSE),0)","v":"04106-VICUÑA"},"105472","80301034","2021-11-15T11:17:24",0,null,null,2]
[4,"5",2021,{"$f":"IFERROR(VLOOKUP(Tabla_SERIEBM_01_6[[#This Row],[IdEstablecimiento]],[1]Establecimientos!A$1:E$175,5,FALSE),0)","v":"04101-LA SERENA"},"105302","18050100","2021-05-13T16:40:16",258,0,258]
[7,"5",2021,{"$f":"IFERROR(VLOOKUP(Tabla_SERIEBM_01_6[[#This Row],[IdEstablecimiento]],[1]Establecimientos!A$1:E$175,5,FALSE),0)","v":"04301-OVALLE"},"105324","18020500","2021-08-17T05:12:01",231,0,231]
[7,"5",2021,{"$f":"IFERROR(VLOOKUP(Tabla_SERIEBM_01_6[[#This Row],[IdEstablecimiento]],[1]Establecimientos!A$1:E$175,5,FALSE),0)","v":"04101-LA SERENA"},"105325","80302064","2021-08-17T05:12:44",0,null,null,210]
[7,"5",2021,{"$f":"IFERROR(VLOOKUP(Tabla_SERIEBM_01_6[[#This Row],[IdEstablecimiento]],[1]Establecimientos!A$1:E$175,5,FALSE),0)","v":"04101-LA SERENA"},"105300","80401130","2021-08-17T04:50:17",0,null,null,1]
[8,"5",2021,{"$f":"IFERROR(VLOOKUP(Tabla_SERIEBM_01_6[[#This Row],[IdEstablecimiento]],[1]Establecimientos!A$1:E$175,5,FALSE),0)","v":"04101-LA SERENA"},"105319","80302005","2021-09-16T10:57:04",0,null,null,19]
[6,"5",2021,{"$f":"IFERROR(VLOOKUP(Tabla_SERIEBM_01_6[[#This Row],[IdEstablecimiento]],[1]Establecimientos!A$1:E$175,5,FALSE),0)","v":"04305-RIO HURTADO"},"105409","80301041","2021-07-19T12:25:32",0,null,null,10]
[4,"5",2021,{"$f":"IFERROR(VLOOKUP(Tabla_SERIEBM_01_6[[#This Row],[IdEstablecimiento]],[1]Establecimientos!A$1:E$175,5,FALSE),0)","v":"04102-COQUIMBO"},"200499","80500009","2021-05-14T11:12:48",3,null,3,null,3]
[8,"5",2021,{"$f":"IFERROR(VLOOKUP(Tabla_SERIEBM_01_6[[#This Row],[IdEstablecimiento]],[1]Establecimientos!A$1:E$175,5,FALSE),0)","v":"04101-LA SERENA"},"105300","80301059","2021-09-16T10:46:28",0,null,null,7]
[4,"5",2021,{"$f":"IFERROR(VLOOKUP(Tabla_SERIEBM_01_6[[#This Row],[IdEstablecimiento]],[1]Establecimientos!A$1:E$175,5,FALSE),0)","v":"04303-MONTE PATRIA"},"105318","80106015","2021-05-13T17:00:03",85,59,26,null,85]
[1,"5",2021,{"$f":"IFERROR(VLOOKUP(Tabla_SERIEBM_01_6[[#This Row],[IdEstablecimiento]],[1]Establecimientos!A$1:E$175,5,FALSE),0)","v":"04102-COQUIMBO"},"105407","80106002","2021-02-18T03:33:53",23,null,23,null,23]
[1,"5",2021,{"$f":"IFERROR(VLOOKUP(Tabla_SERIEBM_01_6[[#This Row],[IdEstablecimiento]],[1]Establecimientos!A$1:E$175,5,FALSE),0)","v":"04102-COQUIMBO"},"200499","80302013","2021-02-18T06:02:07",0,null,null,8]
[9,"5",2021,{"$f":"IFERROR(VLOOKUP(Tabla_SERIEBM_01_6[[#This Row],[IdEstablecimiento]],[1]Establecimientos!A$1:E$175,5,FALSE),0)","v":"04101-LA SERENA"},"105701","80302023","2021-10-18T09:14:15",0,null,null,32]
[7,"5",2021,{"$f":"IFERROR(VLOOKUP(Tabla_SERIEBM_01_6[[#This Row],[IdEstablecimiento]],[1]Establecimientos!A$1:E$175,5,FALSE),0)","v":"04204-SALAMANCA"},"105458","80500011","2021-08-17T06:38:17",40,null,40]
[8,"5",2021,{"$f":"IFERROR(VLOOKUP(Tabla_SERIEBM_01_6[[#This Row],[IdEstablecimiento]],[1]Establecimientos!A$1:E$175,5,FALSE),0)","v":"04301-OVALLE"},"105315","80106007","2021-09-16T10:55:38",1,null,1,null,1]
[5,"5",2021,{"$f":"IFERROR(VLOOKUP(Tabla_SERIEBM_01_6[[#This Row],[IdEstablecimiento]],[1]Establecimientos!A$1:E$175,5,FALSE),0)","v":"04102-COQUIMBO"},"105305","81901019","2021-06-11T09:45:20",13,null,13,null,13]
[1,"5",2021,{"$f":"IFERROR(VLOOKUP(Tabla_SERIEBM_01_6[[#This Row],[IdEstablecimiento]],[1]Establecimientos!A$1:E$175,5,FALSE),0)","v":"04201-ILLAPEL"},"105447","80307011","2021-02-18T04:04:10",0,null,null,17]
[7,"5",2021,{"$f":"IFERROR(VLOOKUP(Tabla_SERIEBM_01_6[[#This Row],[IdEstablecimiento]],[1]Establecimientos!A$1:E$175,5,FALSE),0)","v":"04305-RIO HURTADO"},"105410","18020500","2021-08-17T05:49:39",8,0,8]
[8,"5",2021,{"$f":"IFERROR(VLOOKUP(Tabla_SERIEBM_01_6[[#This Row],[IdEstablecimiento]],[1]Establecimientos!A$1:E$175,5,FALSE),0)","v":"04201-ILLAPEL"},"200366","80301085","2021-09-16T13:23:39",0,null,null,89]
[9,"5",2021,{"$f":"IFERROR(VLOOKUP(Tabla_SERIEBM_01_6[[#This Row],[IdEstablecimiento]],[1]Establecimientos!A$1:E$175,5,FALSE),0)","v":"04106-VICUÑA"},"105473","80306061","2021-10-15T13:11:51",0,null,null,2]
[8,"5",2021,{"$f":"IFERROR(VLOOKUP(Tabla_SERIEBM_01_6[[#This Row],[IdEstablecimiento]],[1]Establecimientos!A$1:E$175,5,FALSE),0)","v":"04101-LA SERENA"},"105300","80302040","2021-09-16T10:46:28",0,null,null,12]
[1,"5",2021,{"$f":"IFERROR(VLOOKUP(Tabla_SERIEBM_01_6[[#This Row],[IdEstablecimiento]],[1]Establecimientos!A$1:E$175,5,FALSE),0)","v":"04201-ILLAPEL"},"105326","80106013","2021-02-18T03:31:11",1,null,1,1]
[1,"5",2021,{"$f":"IFERROR(VLOOKUP(Tabla_SERIEBM_01_6[[#This Row],[IdEstablecimiento]],[1]Establecimientos!A$1:E$175,5,FALSE),0)","v":"04201-ILLAPEL"},"105326","80500011","2021-02-18T03:31:11",11,null,11,null,11]
[5,"5",2021,{"$f":"IFERROR(VLOOKUP(Tabla_SERIEBM_01_6[[#This Row],[IdEstablecimiento]],[1]Establecimientos!A$1:E$175,5,FALSE),0)","v":"04301-OVALLE"},"105322","18020500","2021-06-11T09:55:00",141,0,141]
[4,"5",2021,{"$f":"IFERROR(VLOOKUP(Tabla_SERIEBM_01_6[[#This Row],[IdEstablecimiento]],[1]Establecimientos!A$1:E$175,5,FALSE),0)","v":"04102-COQUIMBO"},"105304","18050100","2021-05-13T16:47:41",252,0,252]
[4,"5",2021,{"$f":"IFERROR(VLOOKUP(Tabla_SERIEBM_01_6[[#This Row],[IdEstablecimiento]],[1]Establecimientos!A$1:E$175,5,FALSE),0)","v":"04104-LA HIGUERA"},"105506","18030000","2021-05-17T10:12:08",2,2,0]
[4,"5",2021,{"$f":"IFERROR(VLOOKUP(Tabla_SERIEBM_01_6[[#This Row],[IdEstablecimiento]],[1]Establecimientos!A$1:E$175,5,FALSE),0)","v":"04201-ILLAPEL"},"200366","80301015","2021-05-14T11:10:35",0,null,null,10]
[6,"5",2021,{"$f":"IFERROR(VLOOKUP(Tabla_SERIEBM_01_6[[#This Row],[IdEstablecimiento]],[1]Establecimientos!A$1:E$175,5,FALSE),0)","v":"04204-SALAMANCA"},"105456","80106010","2021-07-19T14:13:09",3,null,3]
[1,"5",2021,{"$f":"IFERROR(VLOOKUP(Tabla_SERIEBM_01_6[[#This Row],[IdEstablecimiento]],[1]Establecimientos!A$1:E$175,5,FALSE),0)","v":"04304-PUNITAQUI"},"105308","80106014","2021-02-18T03:21:39",135,null,135,null,135]
[8,"5",2021,{"$f":"IFERROR(VLOOKUP(Tabla_SERIEBM_01_6[[#This Row],[IdEstablecimiento]],[1]Establecimientos!A$1:E$175,5,FALSE),0)","v":"04302-COMBARBALÁ"},"105462","80106002","2021-09-16T11:37:03",12,null,12,null,12]
[8,"5",2021,{"$f":"IFERROR(VLOOKUP(Tabla_SERIEBM_01_6[[#This Row],[IdEstablecimiento]],[1]Establecimientos!A$1:E$175,5,FALSE),0)","v":"04201-ILLAPEL"},"105487","80302076","2021-09-16T11:55:03",0,null,null,2]
[6,"5",2021,{"$f":"IFERROR(VLOOKUP(Tabla_SERIEBM_01_6[[#This Row],[IdEstablecimiento]],[1]Establecimientos!A$1:E$175,5,FALSE),0)","v":"04303-MONTE PATRIA"},"105489","18020500","2021-08-17T10:19:00",19,0,19]
[10,"5",2021,{"$f":"IFERROR(VLOOKUP(Tabla_SERIEBM_01_6[[#This Row],[IdEstablecimiento]],[1]Establecimientos!A$1:E$175,5,FALSE),0)","v":"04302-COMBARBALÁ"},"105464","80301041","2021-11-15T11:06:08",0,null,null,20]
[4,"5",2021,{"$f":"IFERROR(VLOOKUP(Tabla_SERIEBM_01_6[[#This Row],[IdEstablecimiento]],[1]Establecimientos!A$1:E$175,5,FALSE),0)","v":"04101-LA SERENA"},"105825","18400700","2021-05-14T11:03:35",2372]
[10,"5",2021,{"$f":"IFERROR(VLOOKUP(Tabla_SERIEBM_01_6[[#This Row],[IdEstablecimiento]],[1]Establecimientos!A$1:E$175,5,FALSE),0)","v":"04201-ILLAPEL"},"105448","80106017","2021-11-15T10:30:41",11,null,11,null,11]
[1,"5",2021,{"$f":"IFERROR(VLOOKUP(Tabla_SERIEBM_01_6[[#This Row],[IdEstablecimiento]],[1]Establecimientos!A$1:E$175,5,FALSE),0)","v":"04201-ILLAPEL"},"200366","80302048","2021-02-18T05:59:42",0,null,null,13]
[4,"5",2021,{"$f":"IFERROR(VLOOKUP(Tabla_SERIEBM_01_6[[#This Row],[IdEstablecimiento]],[1]Establecimientos!A$1:E$175,5,FALSE),0)","v":"04101-LA SERENA"},"105302","80106017","2021-05-13T16:40:16",213,null,213,null,118]
[7,"5",2021,{"$f":"IFERROR(VLOOKUP(Tabla_SERIEBM_01_6[[#This Row],[IdEstablecimiento]],[1]Establecimientos!A$1:E$175,5,FALSE),0)","v":"04303-MONTE PATRIA"},"105435","80500011","2021-08-17T06:19:17",10,null,10,null,10]
[1,"5",2021,{"$f":"IFERROR(VLOOKUP(Tabla_SERIEBM_01_6[[#This Row],[IdEstablecimiento]],[1]Establecimientos!A$1:E$175,5,FALSE),0)","v":"04201-ILLAPEL"},"105447","80302005","2021-02-18T04:04:10",0,null,null,17]
[7,"5",2021,{"$f":"IFERROR(VLOOKUP(Tabla_SERIEBM_01_6[[#This Row],[IdEstablecimiento]],[1]Establecimientos!A$1:E$175,5,FALSE),0)","v":"04301-OVALLE"},"105322","80301036","2021-08-17T05:08:02",202,null,202]
[4,"5",2021,{"$f":"IFERROR(VLOOKUP(Tabla_SERIEBM_01_6[[#This Row],[IdEstablecimiento]],[1]Establecimientos!A$1:E$175,5,FALSE),0)","v":"04202-CANELA"},"105488","80106014","2021-05-14T10:17:03",26,null,26,null,26]
[9,"5",2021,{"$f":"IFERROR(VLOOKUP(Tabla_SERIEBM_01_6[[#This Row],[IdEstablecimiento]],[1]Establecimientos!A$1:E$175,5,FALSE),0)","v":"04301-OVALLE"},"200742","80106017","2021-10-15T13:42:39",1,1,null,null,1]
[1,"5",2021,{"$f":"IFERROR(VLOOKUP(Tabla_SERIEBM_01_6[[#This Row],[IdEstablecimiento]],[1]Establecimientos!A$1:E$175,5,FALSE),0)","v":"04101-LA SERENA"},"105701","80302063","2021-02-18T05:48:42",0,null,null,5]
[7,"5",2021,{"$f":"IFERROR(VLOOKUP(Tabla_SERIEBM_01_6[[#This Row],[IdEstablecimiento]],[1]Establecimientos!A$1:E$175,5,FALSE),0)","v":"04101-LA SERENA"},"105826","80401031","2021-08-17T09:40:31",9,9]
[5,"5",2021,{"$f":"IFERROR(VLOOKUP(Tabla_SERIEBM_01_6[[#This Row],[IdEstablecimiento]],[1]Establecimientos!A$1:E$175,5,FALSE),0)","v":"04102-COQUIMBO"},"105305","80106005","2021-06-11T09:45:20",12,null,12,12]
[8,"5",2021,{"$f":"IFERROR(VLOOKUP(Tabla_SERIEBM_01_6[[#This Row],[IdEstablecimiento]],[1]Establecimientos!A$1:E$175,5,FALSE),0)","v":"04104-LA HIGUERA"},"105505","80307011","2021-09-16T13:06:01",1,null,1]
[4,"5",2021,{"$f":"IFERROR(VLOOKUP(Tabla_SERIEBM_01_6[[#This Row],[IdEstablecimiento]],[1]Establecimientos!A$1:E$175,5,FALSE),0)","v":"04201-ILLAPEL"},"105448","80302047","2021-05-13T17:32:22",0,null,null,32]
[8,"5",2021,{"$f":"IFERROR(VLOOKUP(Tabla_SERIEBM_01_6[[#This Row],[IdEstablecimiento]],[1]Establecimientos!A$1:E$175,5,FALSE),0)","v":"04301-OVALLE"},"200569","18020500","2021-09-16T13:29:21",204,0,204]
[6,"5",2021,{"$f":"IFERROR(VLOOKUP(Tabla_SERIEBM_01_6[[#This Row],[IdEstablecimiento]],[1]Establecimientos!A$1:E$175,5,FALSE),0)","v":"04105-PAIHUANO"},"105306","80301034","2021-07-19T12:01:03",0,null,null,2]
[5,"5",2021,{"$f":"IFERROR(VLOOKUP(Tabla_SERIEBM_01_6[[#This Row],[IdEstablecimiento]],[1]Establecimientos!A$1:E$175,5,FALSE),0)","v":"04201-ILLAPEL"},"105487","80301036","2021-06-11T12:18:43",0,null,null,8]
[4,"5",2021,{"$f":"IFERROR(VLOOKUP(Tabla_SERIEBM_01_6[[#This Row],[IdEstablecimiento]],[1]Establecimientos!A$1:E$175,5,FALSE),0)","v":"04201-ILLAPEL"},"105326","80302048","2021-05-14T11:07:59",0,null,null,5]
[1,"5",2021,{"$f":"IFERROR(VLOOKUP(Tabla_SERIEBM_01_6[[#This Row],[IdEstablecimiento]],[1]Establecimientos!A$1:E$175,5,FALSE),0)","v":"04301-OVALLE"},"105419","18020500","2021-02-18T03:40:23",8,0,8]
[8,"5",2021,{"$f":"IFERROR(VLOOKUP(Tabla_SERIEBM_01_6[[#This Row],[IdEstablecimiento]],[1]Establecimientos!A$1:E$175,5,FALSE),0)","v":"04202-CANELA"},"105309","80302015","2021-09-16T10:51:18",0,null,null,3]
[8,"5",2021,{"$f":"IFERROR(VLOOKUP(Tabla_SERIEBM_01_6[[#This Row],[IdEstablecimiento]],[1]Establecimientos!A$1:E$175,5,FALSE),0)","v":"04102-COQUIMBO"},"200607","81901022","2021-09-16T13:31:26",1,0,1,0,1]
[8,"5",2021,{"$f":"IFERROR(VLOOKUP(Tabla_SERIEBM_01_6[[#This Row],[IdEstablecimiento]],[1]Establecimientos!A$1:E$175,5,FALSE),0)","v":"04304-PUNITAQUI"},"105308","80500011","2021-09-16T10:50:36",59,null,59,null,59]
[6,"5",2021,{"$f":"IFERROR(VLOOKUP(Tabla_SERIEBM_01_6[[#This Row],[IdEstablecimiento]],[1]Establecimientos!A$1:E$175,5,FALSE),0)","v":"04301-OVALLE"},"105315","18400900","2021-07-19T12:06:10",31,12,19]
[6,"5",2021,{"$f":"IFERROR(VLOOKUP(Tabla_SERIEBM_01_6[[#This Row],[IdEstablecimiento]],[1]Establecimientos!A$1:E$175,5,FALSE),0)","v":"04305-RIO HURTADO"},"105503","80303024","2021-07-19T14:47:12",0,null,null,4]
[8,"5",2021,{"$f":"IFERROR(VLOOKUP(Tabla_SERIEBM_01_6[[#This Row],[IdEstablecimiento]],[1]Establecimientos!A$1:E$175,5,FALSE),0)","v":"04201-ILLAPEL"},"105326","80301041","2021-09-16T11:04:19",0,null,null,68]
[1,"5",2021,{"$f":"IFERROR(VLOOKUP(Tabla_SERIEBM_01_6[[#This Row],[IdEstablecimiento]],[1]Establecimientos!A$1:E$175,5,FALSE),0)","v":"04301-OVALLE"},"105817","18050300","2021-02-18T05:54:41",2,2,0]
[9,"5",2021,{"$f":"IFERROR(VLOOKUP(Tabla_SERIEBM_01_6[[#This Row],[IdEstablecimiento]],[1]Establecimientos!A$1:E$175,5,FALSE),0)","v":"04302-COMBARBALÁ"},"105459","18700100","2021-10-15T13:06:26",1,null,1]
[5,"5",2021,{"$f":"IFERROR(VLOOKUP(Tabla_SERIEBM_01_6[[#This Row],[IdEstablecimiento]],[1]Establecimientos!A$1:E$175,5,FALSE),0)","v":"04102-COQUIMBO"},"105323","80500009","2021-06-11T09:55:34",19,null,19,null,19]
[1,"5",2021,{"$f":"IFERROR(VLOOKUP(Tabla_SERIEBM_01_6[[#This Row],[IdEstablecimiento]],[1]Establecimientos!A$1:E$175,5,FALSE),0)","v":"04201-ILLAPEL"},"105444","80302047","2021-02-18T04:03:01",0,null,null,17]
[1,"5",2021,{"$f":"IFERROR(VLOOKUP(Tabla_SERIEBM_01_6[[#This Row],[IdEstablecimiento]],[1]Establecimientos!A$1:E$175,5,FALSE),0)","v":"04106-VICUÑA"},"105473","18030000","2021-02-18T04:39:36",4,0,4]
[4,"5",2021,{"$f":"IFERROR(VLOOKUP(Tabla_SERIEBM_01_6[[#This Row],[IdEstablecimiento]],[1]Establecimientos!A$1:E$175,5,FALSE),0)","v":"04101-LA SERENA"},"105401","80309022","2021-05-13T17:09:14",0,null,null,7]
[4,"5",2021,{"$f":"IFERROR(VLOOKUP(Tabla_SERIEBM_01_6[[#This Row],[IdEstablecimiento]],[1]Establecimientos!A$1:E$175,5,FALSE),0)","v":"04301-OVALLE"},"200741","18050100","2021-05-14T11:21:02",9,9,0]
[3,"5",2021,{"$f":"IFERROR(VLOOKUP(Tabla_SERIEBM_01_6[[#This Row],[IdEstablecimiento]],[1]Establecimientos!A$1:E$175,5,FALSE),0)","v":"04101-LA SERENA"},"105402","80309010","2021-11-08T12:00:37",0,null,null,9]
[4,"5",2021,{"$f":"IFERROR(VLOOKUP(Tabla_SERIEBM_01_6[[#This Row],[IdEstablecimiento]],[1]Establecimientos!A$1:E$175,5,FALSE),0)","v":"04201-ILLAPEL"},"105504","80303024","2021-05-14T10:25:18",0,null,null,4]
[6,"5",2021,{"$f":"IFERROR(VLOOKUP(Tabla_SERIEBM_01_6[[#This Row],[IdEstablecimiento]],[1]Establecimientos!A$1:E$175,5,FALSE),0)","v":"04201-ILLAPEL"},"105496","18050100","2021-07-19T14:44:06",4,0,4]
[6,"5",2021,{"$f":"IFERROR(VLOOKUP(Tabla_SERIEBM_01_6[[#This Row],[IdEstablecimiento]],[1]Establecimientos!A$1:E$175,5,FALSE),0)","v":"04101-LA SERENA"},"105802","80106020","2021-07-19T14:55:31",6,6,null,null,6]
[1,"5",2021,{"$f":"IFERROR(VLOOKUP(Tabla_SERIEBM_01_6[[#This Row],[IdEstablecimiento]],[1]Establecimientos!A$1:E$175,5,FALSE),0)","v":"04102-COQUIMBO"},"105804","18020800","2021-02-18T05:52:59",4,4,0]
[8,"5",2021,{"$f":"IFERROR(VLOOKUP(Tabla_SERIEBM_01_6[[#This Row],[IdEstablecimiento]],[1]Establecimientos!A$1:E$175,5,FALSE),0)","v":"04305-RIO HURTADO"},"105411","80301014","2021-09-16T11:08:34",0,null,null,1]
[2,"5",2021,{"$f":"IFERROR(VLOOKUP(Tabla_SERIEBM_01_6[[#This Row],[IdEstablecimiento]],[1]Establecimientos!A$1:E$175,5,FALSE),0)","v":"04102-COQUIMBO"},"105304","80500008","2021-11-09T13:38:16",13,0,13,0,13]
[9,"5",2021,{"$f":"IFERROR(VLOOKUP(Tabla_SERIEBM_01_6[[#This Row],[IdEstablecimiento]],[1]Establecimientos!A$1:E$175,5,FALSE),0)","v":"04302-COMBARBALÁ"},"105461","18050100","2021-10-15T13:07:14",6,0,6]
[1,"5",2021,{"$f":"IFERROR(VLOOKUP(Tabla_SERIEBM_01_6[[#This Row],[IdEstablecimiento]],[1]Establecimientos!A$1:E$175,5,FALSE),0)","v":"04101-LA SERENA"},"105302","80302034","2021-02-18T03:19:03",0,null,null,311]
[1,"5",2021,{"$f":"IFERROR(VLOOKUP(Tabla_SERIEBM_01_6[[#This Row],[IdEstablecimiento]],[1]Establecimientos!A$1:E$175,5,FALSE),0)","v":"04201-ILLAPEL"},"105504","80106002","2021-02-18T05:31:41",18,null,18,null,18]
[4,"5",2021,{"$f":"IFERROR(VLOOKUP(Tabla_SERIEBM_01_6[[#This Row],[IdEstablecimiento]],[1]Establecimientos!A$1:E$175,5,FALSE),0)","v":"04102-COQUIMBO"},"105303","80303028","2021-05-13T16:47:19",0,null,null,4]
[7,"5",2021,{"$f":"IFERROR(VLOOKUP(Tabla_SERIEBM_01_6[[#This Row],[IdEstablecimiento]],[1]Establecimientos!A$1:E$175,5,FALSE),0)","v":"04204-SALAMANCA"},"105453","18700100","2021-08-17T06:35:22",20,null,20]
[7,"5",2021,{"$f":"IFERROR(VLOOKUP(Tabla_SERIEBM_01_6[[#This Row],[IdEstablecimiento]],[1]Establecimientos!A$1:E$175,5,FALSE),0)","v":"04106-VICUÑA"},"105509","80309024","2021-08-17T09:18:09",0,null,null,3]
[10,"5",2021,{"$f":"IFERROR(VLOOKUP(Tabla_SERIEBM_01_6[[#This Row],[IdEstablecimiento]],[1]Establecimientos!A$1:E$175,5,FALSE),0)","v":"04204-SALAMANCA"},"105458","80500011","2021-11-15T10:34:52",47,null,47]
[7,"5",2021,{"$f":"IFERROR(VLOOKUP(Tabla_SERIEBM_01_6[[#This Row],[IdEstablecimiento]],[1]Establecimientos!A$1:E$175,5,FALSE),0)","v":"04106-VICUÑA"},"105472","80309024","2021-08-17T06:52:27",0,null,null,41]
[10,"5",2021,{"$f":"IFERROR(VLOOKUP(Tabla_SERIEBM_01_6[[#This Row],[IdEstablecimiento]],[1]Establecimientos!A$1:E$175,5,FALSE),0)","v":"04303-MONTE PATRIA"},"105431","81701009","2021-11-15T08:37:18",22,null,22,null,22]
[4,"5",2021,{"$f":"IFERROR(VLOOKUP(Tabla_SERIEBM_01_6[[#This Row],[IdEstablecimiento]],[1]Establecimientos!A$1:E$175,5,FALSE),0)","v":"04303-MONTE PATRIA"},"105312","18090200","2021-05-13T16:51:05",53]
[1,"5",2021,{"$f":"IFERROR(VLOOKUP(Tabla_SERIEBM_01_6[[#This Row],[IdEstablecimiento]],[1]Establecimientos!A$1:E$175,5,FALSE),0)","v":"04305-RIO HURTADO"},"105411","80302034","2021-02-18T03:35:29",0,null,null,12]
[8,"5",2021,{"$f":"IFERROR(VLOOKUP(Tabla_SERIEBM_01_6[[#This Row],[IdEstablecimiento]],[1]Establecimientos!A$1:E$175,5,FALSE),0)","v":"04202-CANELA"},"105482","18020500","2021-09-16T11:52:37",19,19,0]
[7,"5",2021,{"$f":"IFERROR(VLOOKUP(Tabla_SERIEBM_01_6[[#This Row],[IdEstablecimiento]],[1]Establecimientos!A$1:E$175,5,FALSE),0)","v":"04301-OVALLE"},"105722","80500011","2021-08-17T09:21:21",5,null,5,null,5]
[1,"5",2021,{"$f":"IFERROR(VLOOKUP(Tabla_SERIEBM_01_6[[#This Row],[IdEstablecimiento]],[1]Establecimientos!A$1:E$175,5,FALSE),0)","v":"04203-LOS VILOS"},"105480","80302034","2021-05-14T12:02:09",0,null,null,89]
[8,"5",2021,{"$f":"IFERROR(VLOOKUP(Tabla_SERIEBM_01_6[[#This Row],[IdEstablecimiento]],[1]Establecimientos!A$1:E$175,5,FALSE),0)","v":"04302-COMBARBALÁ"},"105463","80500011","2021-09-16T11:37:32",24,null,24,null,24]
[4,"5",2021,{"$f":"IFERROR(VLOOKUP(Tabla_SERIEBM_01_6[[#This Row],[IdEstablecimiento]],[1]Establecimientos!A$1:E$175,5,FALSE),0)","v":"04203-LOS VILOS"},"105481","80308027","2021-10-18T08:00:46",0,null,null,5]
[8,"5",2021,{"$f":"IFERROR(VLOOKUP(Tabla_SERIEBM_01_6[[#This Row],[IdEstablecimiento]],[1]Establecimientos!A$1:E$175,5,FALSE),0)","v":"04102-COQUIMBO"},"105405","80301059","2021-09-16T11:06:39",0,null,null,1]
[6,"5",2021,{"$f":"IFERROR(VLOOKUP(Tabla_SERIEBM_01_6[[#This Row],[IdEstablecimiento]],[1]Establecimientos!A$1:E$175,5,FALSE),0)","v":"04102-COQUIMBO"},"105323","80106002","2021-07-19T12:09:03",218,null,218,null,218]
[9,"5",2021,{"$f":"IFERROR(VLOOKUP(Tabla_SERIEBM_01_6[[#This Row],[IdEstablecimiento]],[1]Establecimientos!A$1:E$175,5,FALSE),0)","v":"04101-LA SERENA"},"105700","80309013","2021-10-15T13:27:27",0,null,null,48]
[6,"5",2021,{"$f":"IFERROR(VLOOKUP(Tabla_SERIEBM_01_6[[#This Row],[IdEstablecimiento]],[1]Establecimientos!A$1:E$175,5,FALSE),0)","v":"04101-LA SERENA"},"200402","80302032","2021-07-19T15:12:20",0,null,null,63]
[10,"5",2021,{"$f":"IFERROR(VLOOKUP(Tabla_SERIEBM_01_6[[#This Row],[IdEstablecimiento]],[1]Establecimientos!A$1:E$175,5,FALSE),0)","v":"04303-MONTE PATRIA"},"105432","80307011","2021-11-15T08:37:45",53,null,53]
[5,"5",2021,{"$f":"IFERROR(VLOOKUP(Tabla_SERIEBM_01_6[[#This Row],[IdEstablecimiento]],[1]Establecimientos!A$1:E$175,5,FALSE),0)","v":"04106-VICUÑA"},"105473","80302032","2021-06-11T12:02:01",0,null,null,3]
[4,"5",2021,{"$f":"IFERROR(VLOOKUP(Tabla_SERIEBM_01_6[[#This Row],[IdEstablecimiento]],[1]Establecimientos!A$1:E$175,5,FALSE),0)","v":"04101-LA SERENA"},"105325","80306011","2021-05-13T17:02:42",0,null,null,54]
[7,"5",2021,{"$f":"IFERROR(VLOOKUP(Tabla_SERIEBM_01_6[[#This Row],[IdEstablecimiento]],[1]Establecimientos!A$1:E$175,5,FALSE),0)","v":"04102-COQUIMBO"},"105303","81602206","2021-08-17T04:52:29",4,null,4,4]
[7,"5",2021,{"$f":"IFERROR(VLOOKUP(Tabla_SERIEBM_01_6[[#This Row],[IdEstablecimiento]],[1]Establecimientos!A$1:E$175,5,FALSE),0)","v":"04102-COQUIMBO"},"105303","80307012","2021-08-17T04:52:29",19,null,19]
[1,"5",2021,{"$f":"IFERROR(VLOOKUP(Tabla_SERIEBM_01_6[[#This Row],[IdEstablecimiento]],[1]Establecimientos!A$1:E$175,5,FALSE),0)","v":"04105-PAIHUANO"},"105306","80302067","2021-02-18T03:20:52",0,null,null,3]
[1,"5",2021,{"$f":"IFERROR(VLOOKUP(Tabla_SERIEBM_01_6[[#This Row],[IdEstablecimiento]],[1]Establecimientos!A$1:E$175,5,FALSE),0)","v":"04102-COQUIMBO"},"105805","80401046","2021-02-18T05:53:25",1,1]
[1,"5",2021,{"$f":"IFERROR(VLOOKUP(Tabla_SERIEBM_01_6[[#This Row],[IdEstablecimiento]],[1]Establecimientos!A$1:E$175,5,FALSE),0)","v":"04305-RIO HURTADO"},"105411","80309013","2021-02-18T03:35:29",0,null,null,5]
[5,"5",2021,{"$f":"IFERROR(VLOOKUP(Tabla_SERIEBM_01_6[[#This Row],[IdEstablecimiento]],[1]Establecimientos!A$1:E$175,5,FALSE),0)","v":"04303-MONTE PATRIA"},"105318","80106009","2021-06-11T09:51:29",1,1,0,null,1]
[4,"5",2021,{"$f":"IFERROR(VLOOKUP(Tabla_SERIEBM_01_6[[#This Row],[IdEstablecimiento]],[1]Establecimientos!A$1:E$175,5,FALSE),0)","v":"04101-LA SERENA"},"105325","81602225","2021-05-13T17:02:42",0,{"$nulls":4},1]
[1,"5",2021,{"$f":"IFERROR(VLOOKUP(Tabla_SERIEBM_01_6[[#This Row],[IdEstablecimiento]],[1]Establecimientos!A$1:E$175,5,FALSE),0)","v":"04304-PUNITAQUI"},"105308","80302057","2021-02-18T03:21:39",0,null,null,120]
[4,"5",2021,{"$f":"IFERROR(VLOOKUP(Tabla_SERIEBM_01_6[[#This Row],[IdEstablecimiento]],[1]Establecimientos!A$1:E$175,5,FALSE),0)","v":"04101-LA SERENA"},"200105","80106020","2021-05-14T11:08:52",4,4,null,null,4]
[4,"5",2021,{"$f":"IFERROR(VLOOKUP(Tabla_SERIEBM_01_6[[#This Row],[IdEstablecimiento]],[1]Establecimientos!A$1:E$175,5,FALSE),0)","v":"04302-COMBARBALÁ"},"105462","80106017","2021-05-13T17:38:53",2,null,2,null,2]
[7,"5",2021,{"$f":"IFERROR(VLOOKUP(Tabla_SERIEBM_01_6[[#This Row],[IdEstablecimiento]],[1]Establecimientos!A$1:E$175,5,FALSE),0)","v":"04102-COQUIMBO"},"105304","80302064","2021-08-17T04:52:57",0,null,null,257]
[1,"5",2021,{"$f":"IFERROR(VLOOKUP(Tabla_SERIEBM_01_6[[#This Row],[IdEstablecimiento]],[1]Establecimientos!A$1:E$175,5,FALSE),0)","v":"04305-RIO HURTADO"},"105503","80500011","2021-02-18T05:31:02",4,null,4,null,4]
[7,"5",2021,{"$f":"IFERROR(VLOOKUP(Tabla_SERIEBM_01_6[[#This Row],[IdEstablecimiento]],[1]Establecimientos!A$1:E$175,5,FALSE),0)","v":"04101-LA SERENA"},"105802","80106015","2021-08-17T09:22:57",96,96,null,null,96]
[1,"5",2021,{"$f":"IFERROR(VLOOKUP(Tabla_SERIEBM_01_6[[#This Row],[IdEstablecimiento]],[1]Establecimientos!A$1:E$175,5,FALSE),0)","v":"04301-OVALLE"},"200258","18020900","2021-02-18T05:57:46",1,0,1]
[4,"5",2021,{"$f":"IFERROR(VLOOKUP(Tabla_SERIEBM_01_6[[#This Row],[IdEstablecimiento]],[1]Establecimientos!A$1:E$175,5,FALSE),0)","v":"04101-LA SERENA"},"105325","80309022","2021-05-13T17:02:42",0,null,null,262]
[9,"5",2021,{"$f":"IFERROR(VLOOKUP(Tabla_SERIEBM_01_6[[#This Row],[IdEstablecimiento]],[1]Establecimientos!A$1:E$175,5,FALSE),0)","v":"04301-OVALLE"},"105822","18030000","2021-10-15T13:33:09",14,14,0]
[7,"5",2021,{"$f":"IFERROR(VLOOKUP(Tabla_SERIEBM_01_6[[#This Row],[IdEstablecimiento]],[1]Establecimientos!A$1:E$175,5,FALSE),0)","v":"04102-COQUIMBO"},"105305","80302076","2021-11-12T14:37:39",0,null,null,53]
[4,"5",2021,{"$f":"IFERROR(VLOOKUP(Tabla_SERIEBM_01_6[[#This Row],[IdEstablecimiento]],[1]Establecimientos!A$1:E$175,5,FALSE),0)","v":"04203-LOS VILOS"},"105481","80302032","2021-10-18T08:00:46",0,null,null,13]
[6,"5",2021,{"$f":"IFERROR(VLOOKUP(Tabla_SERIEBM_01_6[[#This Row],[IdEstablecimiento]],[1]Establecimientos!A$1:E$175,5,FALSE),0)","v":"04303-MONTE PATRIA"},"105311","80307011","2021-08-17T10:12:59",247,null,247]
[5,"5",2021,{"$f":"IFERROR(VLOOKUP(Tabla_SERIEBM_01_6[[#This Row],[IdEstablecimiento]],[1]Establecimientos!A$1:E$175,5,FALSE),0)","v":"04101-LA SERENA"},"105402","18400900","2021-06-11T09:58:19",2,null,2]
[1,"5",2021,{"$f":"IFERROR(VLOOKUP(Tabla_SERIEBM_01_6[[#This Row],[IdEstablecimiento]],[1]Establecimientos!A$1:E$175,5,FALSE),0)","v":"04305-RIO HURTADO"},"105409","80302067","2021-02-18T03:34:35",0,null,null,1]
[4,"5",2021,{"$f":"IFERROR(VLOOKUP(Tabla_SERIEBM_01_6[[#This Row],[IdEstablecimiento]],[1]Establecimientos!A$1:E$175,5,FALSE),0)","v":"04102-COQUIMBO"},"105404","80106010","2021-05-13T17:11:53",1,null,1,null,1]
[1,"5",2021,{"$f":"IFERROR(VLOOKUP(Tabla_SERIEBM_01_6[[#This Row],[IdEstablecimiento]],[1]Establecimientos!A$1:E$175,5,FALSE),0)","v":"04102-COQUIMBO"},"200273","80302048","2021-02-18T05:58:38",0,null,null,6]
[1,"5",2021,{"$f":"IFERROR(VLOOKUP(Tabla_SERIEBM_01_6[[#This Row],[IdEstablecimiento]],[1]Establecimientos!A$1:E$175,5,FALSE),0)","v":"04201-ILLAPEL"},"105443","80106002","2021-02-18T04:02:26",22,null,22,null,22]
[8,"5",2021,{"$f":"IFERROR(VLOOKUP(Tabla_SERIEBM_01_6[[#This Row],[IdEstablecimiento]],[1]Establecimientos!A$1:E$175,5,FALSE),0)","v":"04101-LA SERENA"},"105702","80302023","2021-09-16T13:10:37",0,null,null,54]
[7,"5",2021,{"$f":"IFERROR(VLOOKUP(Tabla_SERIEBM_01_6[[#This Row],[IdEstablecimiento]],[1]Establecimientos!A$1:E$175,5,FALSE),0)","v":"04102-COQUIMBO"},"105803","80106017","2021-08-17T09:23:24",8,8,null,8]
[6,"5",2021,{"$f":"IFERROR(VLOOKUP(Tabla_SERIEBM_01_6[[#This Row],[IdEstablecimiento]],[1]Establecimientos!A$1:E$175,5,FALSE),0)","v":"04204-SALAMANCA"},"105458","80500011","2021-07-19T14:14:17",31,null,31]
[10,"5",2021,{"$f":"IFERROR(VLOOKUP(Tabla_SERIEBM_01_6[[#This Row],[IdEstablecimiento]],[1]Establecimientos!A$1:E$175,5,FALSE),0)","v":"04204-SALAMANCA"},"105452","80305070","2021-11-15T10:32:22",0,null,null,22]
[10,"5",2021,{"$f":"IFERROR(VLOOKUP(Tabla_SERIEBM_01_6[[#This Row],[IdEstablecimiento]],[1]Establecimientos!A$1:E$175,5,FALSE),0)","v":"04204-SALAMANCA"},"105452","80106022","2021-11-15T10:32:22",3,null,3]
[6,"5",2021,{"$f":"IFERROR(VLOOKUP(Tabla_SERIEBM_01_6[[#This Row],[IdEstablecimiento]],[1]Establecimientos!A$1:E$175,5,FALSE),0)","v":"04203-LOS VILOS"},"105478","80306042","2021-10-18T08:03:09",0,null,null,1]
[5,"5",2021,{"$f":"IFERROR(VLOOKUP(Tabla_SERIEBM_01_6[[#This Row],[IdEstablecimiento]],[1]Establecimientos!A$1:E$175,5,FALSE),0)","v":"04301-OVALLE"},"105510","80106007","2021-06-11T14:06:58",1,null,1]
[1,"5",2021,{"$f":"IFERROR(VLOOKUP(Tabla_SERIEBM_01_6[[#This Row],[IdEstablecimiento]],[1]Establecimientos!A$1:E$175,5,FALSE),0)","v":"04304-PUNITAQUI"},"105508","80106013","2021-02-18T05:36:12",2,null,2,null,2]
[9,"5",2021,{"$f":"IFERROR(VLOOKUP(Tabla_SERIEBM_01_6[[#This Row],[IdEstablecimiento]],[1]Establecimientos!A$1:E$175,5,FALSE),0)","v":"04101-LA SERENA"},"105700","18020900","2021-10-15T13:27:27",1,0,1]
[1,"5",2021,{"$f":"IFERROR(VLOOKUP(Tabla_SERIEBM_01_6[[#This Row],[IdEstablecimiento]],[1]Establecimientos!A$1:E$175,5,FALSE),0)","v":"04301-OVALLE"},"200721","80106007","2021-02-18T06:05:05",3,3,null,3,0]
[6,"5",2021,{"$f":"IFERROR(VLOOKUP(Tabla_SERIEBM_01_6[[#This Row],[IdEstablecimiento]],[1]Establecimientos!A$1:E$175,5,FALSE),0)","v":"04203-LOS VILOS"},"105478","18020700","2021-10-18T08:03:09",1,0,1]
[9,"5",2021,{"$f":"IFERROR(VLOOKUP(Tabla_SERIEBM_01_6[[#This Row],[IdEstablecimiento]],[1]Establecimientos!A$1:E$175,5,FALSE),0)","v":"04303-MONTE PATRIA"},"105430","18020500","2021-10-15T12:54:53",39,0,39]
[4,"5",2021,{"$f":"IFERROR(VLOOKUP(Tabla_SERIEBM_01_6[[#This Row],[IdEstablecimiento]],[1]Establecimientos!A$1:E$175,5,FALSE),0)","v":"04305-RIO HURTADO"},"105310","80500009","2021-05-13T16:50:15",1,null,1,null,1]
[5,"5",2021,{"$f":"IFERROR(VLOOKUP(Tabla_SERIEBM_01_6[[#This Row],[IdEstablecimiento]],[1]Establecimientos!A$1:E$175,5,FALSE),0)","v":"04303-MONTE PATRIA"},"105430","80106015","2021-06-11T11:28:42",3,null,3,null,3]
[4,"5",2021,{"$f":"IFERROR(VLOOKUP(Tabla_SERIEBM_01_6[[#This Row],[IdEstablecimiento]],[1]Establecimientos!A$1:E$175,5,FALSE),0)","v":"04303-MONTE PATRIA"},"105307","80301036","2021-05-13T16:49:01",88,null,88]
[5,"5",2021,{"$f":"IFERROR(VLOOKUP(Tabla_SERIEBM_01_6[[#This Row],[IdEstablecimiento]],[1]Establecimientos!A$1:E$175,5,FALSE),0)","v":"04301-OVALLE"},"105317","80500009","2021-06-11T09:51:04",20,null,20,null,20]
[5,"5",2021,{"$f":"IFERROR(VLOOKUP(Tabla_SERIEBM_01_6[[#This Row],[IdEstablecimiento]],[1]Establecimientos!A$1:E$175,5,FALSE),0)","v":"04303-MONTE PATRIA"},"105318","80404002","2021-06-11T09:51:29",15,null,15]
[10,"5",2021,{"$f":"IFERROR(VLOOKUP(Tabla_SERIEBM_01_6[[#This Row],[IdEstablecimiento]],[1]Establecimientos!A$1:E$175,5,FALSE),0)","v":"04302-COMBARBALÁ"},"105465","80301041","2021-11-15T11:07:18",0,null,null,9]
[10,"5",2021,{"$f":"IFERROR(VLOOKUP(Tabla_SERIEBM_01_6[[#This Row],[IdEstablecimiento]],[1]Establecimientos!A$1:E$175,5,FALSE),0)","v":"04302-COMBARBALÁ"},"105465","18700100","2021-11-15T11:07:18",5,null,5]
[4,"5",2021,{"$f":"IFERROR(VLOOKUP(Tabla_SERIEBM_01_6[[#This Row],[IdEstablecimiento]],[1]Establecimientos!A$1:E$175,5,FALSE),0)","v":"04102-COQUIMBO"},"105323","80303028","2021-08-17T10:23:38",0,null,null,3]
[4,"5",2021,{"$f":"IFERROR(VLOOKUP(Tabla_SERIEBM_01_6[[#This Row],[IdEstablecimiento]],[1]Establecimientos!A$1:E$175,5,FALSE),0)","v":"04301-OVALLE"},"105324","18700100","2021-05-13T17:02:17",46,6,34,6]
[1,"5",2021,{"$f":"IFERROR(VLOOKUP(Tabla_SERIEBM_01_6[[#This Row],[IdEstablecimiento]],[1]Establecimientos!A$1:E$175,5,FALSE),0)","v":"04201-ILLAPEL"},"105496","80106017","2021-02-18T05:27:54",1,null,1,null,1]
[5,"5",2021,{"$f":"IFERROR(VLOOKUP(Tabla_SERIEBM_01_6[[#This Row],[IdEstablecimiento]],[1]Establecimientos!A$1:E$175,5,FALSE),0)","v":"04201-ILLAPEL"},"105444","80307011","2021-06-11T11:40:05",0,null,null,22]
[5,"5",2021,{"$f":"IFERROR(VLOOKUP(Tabla_SERIEBM_01_6[[#This Row],[IdEstablecimiento]],[1]Establecimientos!A$1:E$175,5,FALSE),0)","v":"04102-COQUIMBO"},"105303","80301059","2021-06-11T09:41:14",0,null,null,4]
[7,"5",2021,{"$f":"IFERROR(VLOOKUP(Tabla_SERIEBM_01_6[[#This Row],[IdEstablecimiento]],[1]Establecimientos!A$1:E$175,5,FALSE),0)","v":"04301-OVALLE"},"105322","80301059","2021-08-17T05:08:02",34,null,34]
[10,"5",2021,{"$f":"IFERROR(VLOOKUP(Tabla_SERIEBM_01_6[[#This Row],[IdEstablecimiento]],[1]Establecimientos!A$1:E$175,5,FALSE),0)","v":"04201-ILLAPEL"},"105444","80302047","2021-11-15T08:43:39",0,null,null,20]
[9,"5",2021,{"$f":"IFERROR(VLOOKUP(Tabla_SERIEBM_01_6[[#This Row],[IdEstablecimiento]],[1]Establecimientos!A$1:E$175,5,FALSE),0)","v":"04201-ILLAPEL"},"105487","18020500","2021-10-15T13:17:31",12,0,12]
[1,"5",2021,{"$f":"IFERROR(VLOOKUP(Tabla_SERIEBM_01_6[[#This Row],[IdEstablecimiento]],[1]Establecimientos!A$1:E$175,5,FALSE),0)","v":"04102-COQUIMBO"},"105305","81801023","2021-02-18T03:20:29",2,null,2,null,2]
[4,"5",2021,{"$f":"IFERROR(VLOOKUP(Tabla_SERIEBM_01_6[[#This Row],[IdEstablecimiento]],[1]Establecimientos!A$1:E$175,5,FALSE),0)","v":"04102-COQUIMBO"},"105323","80301045","2021-08-17T10:23:38",0,null,null,207]
[8,"5",2021,{"$f":"IFERROR(VLOOKUP(Tabla_SERIEBM_01_6[[#This Row],[IdEstablecimiento]],[1]Establecimientos!A$1:E$175,5,FALSE),0)","v":"04202-CANELA"},"105482","18050100","2021-09-16T11:52:37",20,20,0]
[7,"5",2021,{"$f":"IFERROR(VLOOKUP(Tabla_SERIEBM_01_6[[#This Row],[IdEstablecimiento]],[1]Establecimientos!A$1:E$175,5,FALSE),0)","v":"04305-RIO HURTADO"},"105414","80106015","2021-08-17T05:57:31",3,null,3]
[9,"5",2021,{"$f":"IFERROR(VLOOKUP(Tabla_SERIEBM_01_6[[#This Row],[IdEstablecimiento]],[1]Establecimientos!A$1:E$175,5,FALSE),0)","v":"04102-COQUIMBO"},"200499","80302048","2021-10-15T13:38:33",0,null,null,17]
[5,"5",2021,{"$f":"IFERROR(VLOOKUP(Tabla_SERIEBM_01_6[[#This Row],[IdEstablecimiento]],[1]Establecimientos!A$1:E$175,5,FALSE),0)","v":"04102-COQUIMBO"},"200494","80306011","2021-06-11T14:29:44",0,null,null,47]
[1,"5",2021,{"$f":"IFERROR(VLOOKUP(Tabla_SERIEBM_01_6[[#This Row],[IdEstablecimiento]],[1]Establecimientos!A$1:E$175,5,FALSE),0)","v":"04101-LA SERENA"},"105819","81602221","2021-02-18T05:55:05",12,12,null,12]
[7,"5",2021,{"$f":"IFERROR(VLOOKUP(Tabla_SERIEBM_01_6[[#This Row],[IdEstablecimiento]],[1]Establecimientos!A$1:E$175,5,FALSE),0)","v":"04101-LA SERENA"},"200402","80500008","2021-08-17T09:49:33",3,null,3,null,3]
[9,"5",2021,{"$f":"IFERROR(VLOOKUP(Tabla_SERIEBM_01_6[[#This Row],[IdEstablecimiento]],[1]Establecimientos!A$1:E$175,5,FALSE),0)","v":"04301-OVALLE"},"200742","18050100","2021-10-15T13:42:39",18,18,0]
[1,"5",2021,{"$f":"IFERROR(VLOOKUP(Tabla_SERIEBM_01_6[[#This Row],[IdEstablecimiento]],[1]Establecimientos!A$1:E$175,5,FALSE),0)","v":"04102-COQUIMBO"},"105405","80308005","2021-02-18T03:33:27",0,null,null,1]
[1,"5",2021,{"$f":"IFERROR(VLOOKUP(Tabla_SERIEBM_01_6[[#This Row],[IdEstablecimiento]],[1]Establecimientos!A$1:E$175,5,FALSE),0)","v":"04305-RIO HURTADO"},"105503","80302076","2021-02-18T05:31:02",0,null,null,1]
[1,"5",2021,{"$f":"IFERROR(VLOOKUP(Tabla_SERIEBM_01_6[[#This Row],[IdEstablecimiento]],[1]Establecimientos!A$1:E$175,5,FALSE),0)","v":"04106-VICUÑA"},"200538","80302032","2021-02-18T06:02:38",0,null,null,16]
[8,"5",2021,{"$f":"IFERROR(VLOOKUP(Tabla_SERIEBM_01_6[[#This Row],[IdEstablecimiento]],[1]Establecimientos!A$1:E$175,5,FALSE),0)","v":"04106-VICUÑA"},"105474","80106014","2021-09-16T11:43:18",13,null,13,null,13]
[8,"5",2021,{"$f":"IFERROR(VLOOKUP(Tabla_SERIEBM_01_6[[#This Row],[IdEstablecimiento]],[1]Establecimientos!A$1:E$175,5,FALSE),0)","v":"04101-LA SERENA"},"105302","18700270","2021-09-16T10:47:18",17,null,17]
[1,"5",2021,{"$f":"IFERROR(VLOOKUP(Tabla_SERIEBM_01_6[[#This Row],[IdEstablecimiento]],[1]Establecimientos!A$1:E$175,5,FALSE),0)","v":"04201-ILLAPEL"},"200366","80306061","2021-02-18T05:59:42",0,null,null,20]
[9,"5",2021,{"$f":"IFERROR(VLOOKUP(Tabla_SERIEBM_01_6[[#This Row],[IdEstablecimiento]],[1]Establecimientos!A$1:E$175,5,FALSE),0)","v":"04303-MONTE PATRIA"},"105431","18050100","2021-10-15T12:55:17",9,0,9]
[9,"5",2021,{"$f":"IFERROR(VLOOKUP(Tabla_SERIEBM_01_6[[#This Row],[IdEstablecimiento]],[1]Establecimientos!A$1:E$175,5,FALSE),0)","v":"04303-MONTE PATRIA"},"105432","18050100","2021-10-15T12:55:41",36,0,36]
[10,"5",2021,{"$f":"IFERROR(VLOOKUP(Tabla_SERIEBM_01_6[[#This Row],[IdEstablecimiento]],[1]Establecimientos!A$1:E$175,5,FALSE),0)","v":"04304-PUNITAQUI"},"105440","80106015","2021-11-15T08:41:04",21,null,21,null,21]
[1,"5",2021,{"$f":"IFERROR(VLOOKUP(Tabla_SERIEBM_01_6[[#This Row],[IdEstablecimiento]],[1]Establecimientos!A$1:E$175,5,FALSE),0)","v":"04302-COMBARBALÁ"},"105490","18050100","2021-02-18T05:25:45",2,0,2]
[9,"5",2021,{"$f":"IFERROR(VLOOKUP(Tabla_SERIEBM_01_6[[#This Row],[IdEstablecimiento]],[1]Establecimientos!A$1:E$175,5,FALSE),0)","v":"04301-OVALLE"},"105322","80302045","2021-10-15T12:43:24",4,null,4]
[6,"5",2021,{"$f":"IFERROR(VLOOKUP(Tabla_SERIEBM_01_6[[#This Row],[IdEstablecimiento]],[1]Establecimientos!A$1:E$175,5,FALSE),0)","v":"04201-ILLAPEL"},"200366","80309010","2021-07-19T15:11:14",0,null,null,151]
[5,"5",2021,{"$f":"IFERROR(VLOOKUP(Tabla_SERIEBM_01_6[[#This Row],[IdEstablecimiento]],[1]Establecimientos!A$1:E$175,5,FALSE),0)","v":"04102-COQUIMBO"},"105805","18040100","2021-06-11T14:13:18",2,1,1]
[8,"5",2021,{"$f":"IFERROR(VLOOKUP(Tabla_SERIEBM_01_6[[#This Row],[IdEstablecimiento]],[1]Establecimientos!A$1:E$175,5,FALSE),0)","v":"04101-LA SERENA"},"105319","18700330","2021-09-16T10:57:04",2,null,2]
[9,"5",2021,{"$f":"IFERROR(VLOOKUP(Tabla_SERIEBM_01_6[[#This Row],[IdEstablecimiento]],[1]Establecimientos!A$1:E$175,5,FALSE),0)","v":"04106-VICUÑA"},"105474","80301038","2021-10-15T13:12:16",0,null,null,1]
[6,"5",2021,{"$f":"IFERROR(VLOOKUP(Tabla_SERIEBM_01_6[[#This Row],[IdEstablecimiento]],[1]Establecimientos!A$1:E$175,5,FALSE),0)","v":"04302-COMBARBALÁ"},"105460","80301041","2021-07-19T14:15:24",0,null,null,10]
[5,"5",2021,{"$f":"IFERROR(VLOOKUP(Tabla_SERIEBM_01_6[[#This Row],[IdEstablecimiento]],[1]Establecimientos!A$1:E$175,5,FALSE),0)","v":"04106-VICUÑA"},"105471","80306061","2021-06-11T12:00:56",0,null,null,2]
[8,"5",2021,{"$f":"IFERROR(VLOOKUP(Tabla_SERIEBM_01_6[[#This Row],[IdEstablecimiento]],[1]Establecimientos!A$1:E$175,5,FALSE),0)","v":"04201-ILLAPEL"},"105326","80307012","2021-09-16T11:04:19",0,null,null,9]
[4,"5",2021,{"$f":"IFERROR(VLOOKUP(Tabla_SERIEBM_01_6[[#This Row],[IdEstablecimiento]],[1]Establecimientos!A$1:E$175,5,FALSE),0)","v":"04203-LOS VILOS"},"105478","81701001","2021-05-14T10:10:42",3,null,3,null,3]
[8,"5",2021,{"$f":"IFERROR(VLOOKUP(Tabla_SERIEBM_01_6[[#This Row],[IdEstablecimiento]],[1]Establecimientos!A$1:E$175,5,FALSE),0)","v":"04203-LOS VILOS"},"105481","80309022","2021-10-19T08:44:06",0,null,null,8]
[10,"5",2021,{"$f":"IFERROR(VLOOKUP(Tabla_SERIEBM_01_6[[#This Row],[IdEstablecimiento]],[1]Establecimientos!A$1:E$175,5,FALSE),0)","v":"04302-COMBARBALÁ"},"105441","80106013","2021-11-15T08:41:29",1,null,1,null,1]
[5,"5",2021,{"$f":"IFERROR(VLOOKUP(Tabla_SERIEBM_01_6[[#This Row],[IdEstablecimiento]],[1]Establecimientos!A$1:E$175,5,FALSE),0)","v":"04102-COQUIMBO"},"200494","80500011","2021-06-11T14:29:44",43,null,43,null,43]
[7,"5",2021,{"$f":"IFERROR(VLOOKUP(Tabla_SERIEBM_01_6[[#This Row],[IdEstablecimiento]],[1]Establecimientos!A$1:E$175,5,FALSE),0)","v":"04102-COQUIMBO"},"105321","80306011","2021-08-17T05:07:07",0,null,null,25]
[1,"5",2021,{"$f":"IFERROR(VLOOKUP(Tabla_SERIEBM_01_6[[#This Row],[IdEstablecimiento]],[1]Establecimientos!A$1:E$175,5,FALSE),0)","v":"04301-OVALLE"},"105722","80307011","2021-02-18T05:49:38",10,null,10]
[4,"5",2021,{"$f":"IFERROR(VLOOKUP(Tabla_SERIEBM_01_6[[#This Row],[IdEstablecimiento]],[1]Establecimientos!A$1:E$175,5,FALSE),0)","v":"04201-ILLAPEL"},"105326","80303024","2021-05-14T11:07:59",0,null,null,98]
[1,"5",2021,{"$f":"IFERROR(VLOOKUP(Tabla_SERIEBM_01_6[[#This Row],[IdEstablecimiento]],[1]Establecimientos!A$1:E$175,5,FALSE),0)","v":"04302-COMBARBALÁ"},"105459","81701001","2021-02-18T04:09:13",1,null,1,null,1]
[1,"5",2021,{"$f":"IFERROR(VLOOKUP(Tabla_SERIEBM_01_6[[#This Row],[IdEstablecimiento]],[1]Establecimientos!A$1:E$175,5,FALSE),0)","v":"04201-ILLAPEL"},"105326","80306011","2021-02-18T03:31:11",0,null,null,46]
[9,"5",2021,{"$f":"IFERROR(VLOOKUP(Tabla_SERIEBM_01_6[[#This Row],[IdEstablecimiento]],[1]Establecimientos!A$1:E$175,5,FALSE),0)","v":"04106-VICUÑA"},"105474","80309004","2021-10-15T13:12:16",0,null,null,4]
[7,"5",2021,{"$f":"IFERROR(VLOOKUP(Tabla_SERIEBM_01_6[[#This Row],[IdEstablecimiento]],[1]Establecimientos!A$1:E$175,5,FALSE),0)","v":"04204-SALAMANCA"},"105492","80106010","2021-08-17T09:03:07",1,null,1]
[7,"5",2021,{"$f":"IFERROR(VLOOKUP(Tabla_SERIEBM_01_6[[#This Row],[IdEstablecimiento]],[1]Establecimientos!A$1:E$175,5,FALSE),0)","v":"04304-PUNITAQUI"},"105442","80106014","2021-08-17T06:24:57",24,null,24,null,24]
[7,"5",2021,{"$f":"IFERROR(VLOOKUP(Tabla_SERIEBM_01_6[[#This Row],[IdEstablecimiento]],[1]Establecimientos!A$1:E$175,5,FALSE),0)","v":"04101-LA SERENA"},"200402","80302064","2021-08-17T09:49:33",0,null,null,51]
[6,"5",2021,{"$f":"IFERROR(VLOOKUP(Tabla_SERIEBM_01_6[[#This Row],[IdEstablecimiento]],[1]Establecimientos!A$1:E$175,5,FALSE),0)","v":"04301-OVALLE"},"105817","18700100","2021-07-19T14:58:11",305,61,231,13]
[4,"5",2021,{"$f":"IFERROR(VLOOKUP(Tabla_SERIEBM_01_6[[#This Row],[IdEstablecimiento]],[1]Establecimientos!A$1:E$175,5,FALSE),0)","v":"04102-COQUIMBO"},"200848","81707030","2021-05-14T11:22:39",6,6,0,0,6]
[6,"5",2021,{"$f":"IFERROR(VLOOKUP(Tabla_SERIEBM_01_6[[#This Row],[IdEstablecimiento]],[1]Establecimientos!A$1:E$175,5,FALSE),0)","v":"04301-OVALLE"},"105322","18050100","2021-07-19T12:08:32",315,0,315]
[10,"5",2021,{"$f":"IFERROR(VLOOKUP(Tabla_SERIEBM_01_6[[#This Row],[IdEstablecimiento]],[1]Establecimientos!A$1:E$175,5,FALSE),0)","v":"04305-RIO HURTADO"},"105413","18050100","2021-11-15T08:30:32",4,0,4]
[5,"5",2021,{"$f":"IFERROR(VLOOKUP(Tabla_SERIEBM_01_6[[#This Row],[IdEstablecimiento]],[1]Establecimientos!A$1:E$175,5,FALSE),0)","v":"04101-LA SERENA"},"105401","80106002","2021-06-11T09:57:53",28,null,28,null,28]
[4,"5",2021,{"$f":"IFERROR(VLOOKUP(Tabla_SERIEBM_01_6[[#This Row],[IdEstablecimiento]],[1]Establecimientos!A$1:E$175,5,FALSE),0)","v":"04203-LOS VILOS"},"105481","80302064","2021-10-18T08:00:46",0,null,null,3]
[4,"5",2021,{"$f":"IFERROR(VLOOKUP(Tabla_SERIEBM_01_6[[#This Row],[IdEstablecimiento]],[1]Establecimientos!A$1:E$175,5,FALSE),0)","v":"04201-ILLAPEL"},"105326","80302032","2021-05-14T11:07:59",0,null,null,104]
[4,"5",2021,{"$f":"IFERROR(VLOOKUP(Tabla_SERIEBM_01_6[[#This Row],[IdEstablecimiento]],[1]Establecimientos!A$1:E$175,5,FALSE),0)","v":"04102-COQUIMBO"},"200494","80302064","2021-05-14T11:12:14",0,null,null,206]
[6,"5",2021,{"$f":"IFERROR(VLOOKUP(Tabla_SERIEBM_01_6[[#This Row],[IdEstablecimiento]],[1]Establecimientos!A$1:E$175,5,FALSE),0)","v":"04101-LA SERENA"},"105313","80302075","2021-07-19T12:05:08",0,null,null,2]
[4,"5",2021,{"$f":"IFERROR(VLOOKUP(Tabla_SERIEBM_01_6[[#This Row],[IdEstablecimiento]],[1]Establecimientos!A$1:E$175,5,FALSE),0)","v":"04302-COMBARBALÁ"},"105463","80106023","2021-05-13T17:39:20",14,null,14,null,14]
[7,"5",2021,{"$f":"IFERROR(VLOOKUP(Tabla_SERIEBM_01_6[[#This Row],[IdEstablecimiento]],[1]Establecimientos!A$1:E$175,5,FALSE),0)","v":"04201-ILLAPEL"},"105443","80309022","2021-08-17T06:26:00",0,null,null,37]
[1,"5",2021,{"$f":"IFERROR(VLOOKUP(Tabla_SERIEBM_01_6[[#This Row],[IdEstablecimiento]],[1]Establecimientos!A$1:E$175,5,FALSE),0)","v":"04102-COQUIMBO"},"200499","18400700","2021-02-18T06:02:07",414]
[8,"5",2021,{"$f":"IFERROR(VLOOKUP(Tabla_SERIEBM_01_6[[#This Row],[IdEstablecimiento]],[1]Establecimientos!A$1:E$175,5,FALSE),0)","v":"04101-LA SERENA"},"105313","18050100","2021-09-16T10:54:51",264,0,264]
[1,"5",2021,{"$f":"IFERROR(VLOOKUP(Tabla_SERIEBM_01_6[[#This Row],[IdEstablecimiento]],[1]Establecimientos!A$1:E$175,5,FALSE),0)","v":"04104-LA HIGUERA"},"105506","80106007","2021-02-18T05:32:38",1,1,null,null,1]
[5,"5",2021,{"$f":"IFERROR(VLOOKUP(Tabla_SERIEBM_01_6[[#This Row],[IdEstablecimiento]],[1]Establecimientos!A$1:E$175,5,FALSE),0)","v":"04304-PUNITAQUI"},"105308","81602222","2021-06-11T09:47:18",10,null,10,null,10]
[4,"5",2021,{"$f":"IFERROR(VLOOKUP(Tabla_SERIEBM_01_6[[#This Row],[IdEstablecimiento]],[1]Establecimientos!A$1:E$175,5,FALSE),0)","v":"04304-PUNITAQUI"},"105440","18050200","2021-05-13T17:26:27",36,0,36]
[9,"5",2021,{"$f":"IFERROR(VLOOKUP(Tabla_SERIEBM_01_6[[#This Row],[IdEstablecimiento]],[1]Establecimientos!A$1:E$175,5,FALSE),0)","v":"04201-ILLAPEL"},"105449","18050100","2021-10-15T13:02:28",6,0,6]
[5,"5",2021,{"$f":"IFERROR(VLOOKUP(Tabla_SERIEBM_01_6[[#This Row],[IdEstablecimiento]],[1]Establecimientos!A$1:E$175,5,FALSE),0)","v":"04303-MONTE PATRIA"},"105435","80106007","2021-06-11T11:34:12",1,null,1,null,1]
[5,"5",2021,{"$f":"IFERROR(VLOOKUP(Tabla_SERIEBM_01_6[[#This Row],[IdEstablecimiento]],[1]Establecimientos!A$1:E$175,5,FALSE),0)","v":"04101-LA SERENA"},"105300","18700330","2021-06-11T09:39:21",2,null,2]
[1,"5",2021,{"$f":"IFERROR(VLOOKUP(Tabla_SERIEBM_01_6[[#This Row],[IdEstablecimiento]],[1]Establecimientos!A$1:E$175,5,FALSE),0)","v":"04302-COMBARBALÁ"},"105461","80500001","2021-02-18T04:12:58",1,null,1,null,1]
[9,"5",2021,{"$f":"IFERROR(VLOOKUP(Tabla_SERIEBM_01_6[[#This Row],[IdEstablecimiento]],[1]Establecimientos!A$1:E$175,5,FALSE),0)","v":"04102-COQUIMBO"},"105305","80500008","2021-10-15T12:33:54",20,null,20,null,20]
[4,"5",2021,{"$f":"IFERROR(VLOOKUP(Tabla_SERIEBM_01_6[[#This Row],[IdEstablecimiento]],[1]Establecimientos!A$1:E$175,5,FALSE),0)","v":"04101-LA SERENA"},"105700","80106017","2021-05-14T10:32:41",33,null,33,null,33]
[5,"5",2021,{"$f":"IFERROR(VLOOKUP(Tabla_SERIEBM_01_6[[#This Row],[IdEstablecimiento]],[1]Establecimientos!A$1:E$175,5,FALSE),0)","v":"04304-PUNITAQUI"},"105442","80106020","2021-06-11T11:37:59",1,null,1,null,1]
[4,"5",2021,{"$f":"IFERROR(VLOOKUP(Tabla_SERIEBM_01_6[[#This Row],[IdEstablecimiento]],[1]Establecimientos!A$1:E$175,5,FALSE),0)","v":"04202-CANELA"},"105309","18020300","2021-05-13T16:49:51",34,0,34]
[6,"5",2021,{"$f":"IFERROR(VLOOKUP(Tabla_SERIEBM_01_6[[#This Row],[IdEstablecimiento]],[1]Establecimientos!A$1:E$175,5,FALSE),0)","v":"04303-MONTE PATRIA"},"105318","80307012","2021-08-17T10:13:55",2,null,2]
[5,"5",2021,{"$f":"IFERROR(VLOOKUP(Tabla_SERIEBM_01_6[[#This Row],[IdEstablecimiento]],[1]Establecimientos!A$1:E$175,5,FALSE),0)","v":"04301-OVALLE"},"105416","80106015","2021-06-11T10:02:59",5,null,5]
[5,"5",2021,{"$f":"IFERROR(VLOOKUP(Tabla_SERIEBM_01_6[[#This Row],[IdEstablecimiento]],[1]Establecimientos!A$1:E$175,5,FALSE),0)","v":"04106-VICUÑA"},"200538","80306061","2021-06-11T14:30:56",0,null,null,3]
[7,"5",2021,{"$f":"IFERROR(VLOOKUP(Tabla_SERIEBM_01_6[[#This Row],[IdEstablecimiento]],[1]Establecimientos!A$1:E$175,5,FALSE),0)","v":"04301-OVALLE"},"105422","18050100","2021-08-17T06:01:51",5,0,5]
[1,"5",2021,{"$f":"IFERROR(VLOOKUP(Tabla_SERIEBM_01_6[[#This Row],[IdEstablecimiento]],[1]Establecimientos!A$1:E$175,5,FALSE),0)","v":"04303-MONTE PATRIA"},"105311","81901019","2021-02-18T03:23:37",2,null,2,null,2]
[6,"5",2021,{"$f":"IFERROR(VLOOKUP(Tabla_SERIEBM_01_6[[#This Row],[IdEstablecimiento]],[1]Establecimientos!A$1:E$175,5,FALSE),0)","v":"04301-OVALLE"},"200258","80500001","2021-07-19T15:09:58",5,null,5,null,5]
[5,"5",2021,{"$f":"IFERROR(VLOOKUP(Tabla_SERIEBM_01_6[[#This Row],[IdEstablecimiento]],[1]Establecimientos!A$1:E$175,5,FALSE),0)","v":"04305-RIO HURTADO"},"105409","80302034","2021-06-11T10:00:06",0,null,null,22]
[8,"5",2021,{"$f":"IFERROR(VLOOKUP(Tabla_SERIEBM_01_6[[#This Row],[IdEstablecimiento]],[1]Establecimientos!A$1:E$175,5,FALSE),0)","v":"04301-OVALLE"},"200721","80106022","2021-09-16T13:32:30",9,9,null,null,9]
[9,"5",2021,{"$f":"IFERROR(VLOOKUP(Tabla_SERIEBM_01_6[[#This Row],[IdEstablecimiento]],[1]Establecimientos!A$1:E$175,5,FALSE),0)","v":"04203-LOS VILOS"},"105511","80106002","2021-10-15T13:26:57",3,null,3,null,3]
[1,"5",2021,{"$f":"IFERROR(VLOOKUP(Tabla_SERIEBM_01_6[[#This Row],[IdEstablecimiento]],[1]Establecimientos!A$1:E$175,5,FALSE),0)","v":"04101-LA SERENA"},"105701","80301038","2021-02-18T05:48:42",0,null,null,2]
[7,"5",2021,{"$f":"IFERROR(VLOOKUP(Tabla_SERIEBM_01_6[[#This Row],[IdEstablecimiento]],[1]Establecimientos!A$1:E$175,5,FALSE),0)","v":"04201-ILLAPEL"},"105487","18020500","2021-08-17T07:28:21",7,0,7]
[9,"5",2021,{"$f":"IFERROR(VLOOKUP(Tabla_SERIEBM_01_6[[#This Row],[IdEstablecimiento]],[1]Establecimientos!A$1:E$175,5,FALSE),0)","v":"04303-MONTE PATRIA"},"105307","81701001","2021-10-15T12:34:53",102,null,102,null,102]
[7,"5",2021,{"$f":"IFERROR(VLOOKUP(Tabla_SERIEBM_01_6[[#This Row],[IdEstablecimiento]],[1]Establecimientos!A$1:E$175,5,FALSE),0)","v":"04204-SALAMANCA"},"105492","81701001","2021-08-17T09:03:07",3,null,3]
[4,"5",2021,{"$f":"IFERROR(VLOOKUP(Tabla_SERIEBM_01_6[[#This Row],[IdEstablecimiento]],[1]Establecimientos!A$1:E$175,5,FALSE),0)","v":"04201-ILLAPEL"},"105448","18020500","2021-05-13T17:32:22",5,0,5]
[10,"5",2021,{"$f":"IFERROR(VLOOKUP(Tabla_SERIEBM_01_6[[#This Row],[IdEstablecimiento]],[1]Establecimientos!A$1:E$175,5,FALSE),0)","v":"04304-PUNITAQUI"},"105442","18050100","2021-11-15T08:41:56",3,0,3]
[5,"5",2021,{"$f":"IFERROR(VLOOKUP(Tabla_SERIEBM_01_6[[#This Row],[IdEstablecimiento]],[1]Establecimientos!A$1:E$175,5,FALSE),0)","v":"04106-VICUÑA"},"200538","80307012","2021-06-11T14:30:56",0,null,null,1]
[1,"5",2021,{"$f":"IFERROR(VLOOKUP(Tabla_SERIEBM_01_6[[#This Row],[IdEstablecimiento]],[1]Establecimientos!A$1:E$175,5,FALSE),0)","v":"04201-ILLAPEL"},"105444","80301045","2021-02-18T04:03:01",0,null,null,18]
[10,"5",2021,{"$f":"IFERROR(VLOOKUP(Tabla_SERIEBM_01_6[[#This Row],[IdEstablecimiento]],[1]Establecimientos!A$1:E$175,5,FALSE),0)","v":"04102-COQUIMBO"},"105803","81301025","2021-11-15T12:15:37",1,1,null,1]
[7,"5",2021,{"$f":"IFERROR(VLOOKUP(Tabla_SERIEBM_01_6[[#This Row],[IdEstablecimiento]],[1]Establecimientos!A$1:E$175,5,FALSE),0)","v":"04102-COQUIMBO"},"105303","80306016","2021-08-17T04:52:29",0,null,null,2]
[6,"5",2021,{"$f":"IFERROR(VLOOKUP(Tabla_SERIEBM_01_6[[#This Row],[IdEstablecimiento]],[1]Establecimientos!A$1:E$175,5,FALSE),0)","v":"04202-CANELA"},"105482","80106014","2021-07-19T14:36:40",91,91,null,null,91]
[5,"5",2021,{"$f":"IFERROR(VLOOKUP(Tabla_SERIEBM_01_6[[#This Row],[IdEstablecimiento]],[1]Establecimientos!A$1:E$175,5,FALSE),0)","v":"04102-COQUIMBO"},"105405","80301045","2021-06-11T09:59:14",0,null,null,50]
[8,"5",2021,{"$f":"IFERROR(VLOOKUP(Tabla_SERIEBM_01_6[[#This Row],[IdEstablecimiento]],[1]Establecimientos!A$1:E$175,5,FALSE),0)","v":"04301-OVALLE"},"105322","80106021","2021-09-16T11:02:29",1,null,1,null,1]
[8,"5",2021,{"$f":"IFERROR(VLOOKUP(Tabla_SERIEBM_01_6[[#This Row],[IdEstablecimiento]],[1]Establecimientos!A$1:E$175,5,FALSE),0)","v":"04301-OVALLE"},"105416","18090000","2021-09-16T11:10:38",10,0,10]
[7,"5",2021,{"$f":"IFERROR(VLOOKUP(Tabla_SERIEBM_01_6[[#This Row],[IdEstablecimiento]],[1]Establecimientos!A$1:E$175,5,FALSE),0)","v":"04301-OVALLE"},"105723","80106014","2021-08-17T09:21:49",120,null,120,null,120]
[4,"5",2021,{"$f":"IFERROR(VLOOKUP(Tabla_SERIEBM_01_6[[#This Row],[IdEstablecimiento]],[1]Establecimientos!A$1:E$175,5,FALSE),0)","v":"04301-OVALLE"},"105822","80401049","2021-05-14T11:02:37",1,1]
[6,"5",2021,{"$f":"IFERROR(VLOOKUP(Tabla_SERIEBM_01_6[[#This Row],[IdEstablecimiento]],[1]Establecimientos!A$1:E$175,5,FALSE),0)","v":"04202-CANELA"},"105809","18040100","2021-07-19T14:57:35",2,1,1]
[8,"5",2021,{"$f":"IFERROR(VLOOKUP(Tabla_SERIEBM_01_6[[#This Row],[IdEstablecimiento]],[1]Establecimientos!A$1:E$175,5,FALSE),0)","v":"04106-VICUÑA"},"105467","80306011","2021-09-16T11:39:35",0,null,null,7]
[9,"5",2021,{"$f":"IFERROR(VLOOKUP(Tabla_SERIEBM_01_6[[#This Row],[IdEstablecimiento]],[1]Establecimientos!A$1:E$175,5,FALSE),0)","v":"04101-LA SERENA"},"105302","80106023","2021-10-15T12:32:32",76,null,76,null,76]
[6,"5",2021,{"$f":"IFERROR(VLOOKUP(Tabla_SERIEBM_01_6[[#This Row],[IdEstablecimiento]],[1]Establecimientos!A$1:E$175,5,FALSE),0)","v":"04301-OVALLE"},"105322","80301067","2021-07-19T12:08:32",1,null,1]
[5,"5",2021,{"$f":"IFERROR(VLOOKUP(Tabla_SERIEBM_01_6[[#This Row],[IdEstablecimiento]],[1]Establecimientos!A$1:E$175,5,FALSE),0)","v":"04102-COQUIMBO"},"105303","80401070","2021-06-11T09:41:14",0,0,0,4]
[4,"5",2021,{"$f":"IFERROR(VLOOKUP(Tabla_SERIEBM_01_6[[#This Row],[IdEstablecimiento]],[1]Establecimientos!A$1:E$175,5,FALSE),0)","v":"04102-COQUIMBO"},"105304","80302040","2021-05-13T16:47:41",0,null,null,65]
[8,"5",2021,{"$f":"IFERROR(VLOOKUP(Tabla_SERIEBM_01_6[[#This Row],[IdEstablecimiento]],[1]Establecimientos!A$1:E$175,5,FALSE),0)","v":"04301-OVALLE"},"105322","18090200","2021-09-16T11:02:29",11]
[8,"5",2021,{"$f":"IFERROR(VLOOKUP(Tabla_SERIEBM_01_6[[#This Row],[IdEstablecimiento]],[1]Establecimientos!A$1:E$175,5,FALSE),0)","v":"04102-COQUIMBO"},"105823","80106010","2021-11-15T12:48:40",2,2,null,null,2]
[9,"5",2021,{"$f":"IFERROR(VLOOKUP(Tabla_SERIEBM_01_6[[#This Row],[IdEstablecimiento]],[1]Establecimientos!A$1:E$175,5,FALSE),0)","v":"04101-LA SERENA"},"105801","81701001","2021-10-15T13:29:28",11,11,null,null,11]
[5,"5",2021,{"$f":"IFERROR(VLOOKUP(Tabla_SERIEBM_01_6[[#This Row],[IdEstablecimiento]],[1]Establecimientos!A$1:E$175,5,FALSE),0)","v":"04305-RIO HURTADO"},"105411","80309013","2021-06-11T10:01:01",0,null,null,4]
[5,"5",2021,{"$f":"IFERROR(VLOOKUP(Tabla_SERIEBM_01_6[[#This Row],[IdEstablecimiento]],[1]Establecimientos!A$1:E$175,5,FALSE),0)","v":"04301-OVALLE"},"105322","80309013","2021-06-11T09:55:00",1089,null,1089]
[1,"5",2021,{"$f":"IFERROR(VLOOKUP(Tabla_SERIEBM_01_6[[#This Row],[IdEstablecimiento]],[1]Establecimientos!A$1:E$175,5,FALSE),0)","v":"04301-OVALLE"},"200742","18020500","2021-02-18T06:06:59",22,22,0]
[9,"5",2021,{"$f":"IFERROR(VLOOKUP(Tabla_SERIEBM_01_6[[#This Row],[IdEstablecimiento]],[1]Establecimientos!A$1:E$175,5,FALSE),0)","v":"04102-COQUIMBO"},"200499","18011002","2021-10-15T13:38:33",5,0,5]
[8,"5",2021,{"$f":"IFERROR(VLOOKUP(Tabla_SERIEBM_01_6[[#This Row],[IdEstablecimiento]],[1]Establecimientos!A$1:E$175,5,FALSE),0)","v":"04102-COQUIMBO"},"105823","80500011","2021-11-15T12:48:40",54,54,null,null,54]
[6,"5",2021,{"$f":"IFERROR(VLOOKUP(Tabla_SERIEBM_01_6[[#This Row],[IdEstablecimiento]],[1]Establecimientos!A$1:E$175,5,FALSE),0)","v":"04101-LA SERENA"},"105702","80302067","2021-07-19T14:53:16",0,null,null,75]
[1,"5",2021,{"$f":"IFERROR(VLOOKUP(Tabla_SERIEBM_01_6[[#This Row],[IdEstablecimiento]],[1]Establecimientos!A$1:E$175,5,FALSE),0)","v":"04101-LA SERENA"},"105401","80303024","2021-02-18T03:32:10",0,null,null,10]
[6,"5",2021,{"$f":"IFERROR(VLOOKUP(Tabla_SERIEBM_01_6[[#This Row],[IdEstablecimiento]],[1]Establecimientos!A$1:E$175,5,FALSE),0)","v":"04101-LA SERENA"},"105302","80303024","2021-07-19T11:57:58",0,null,null,159]
[7,"5",2021,{"$f":"IFERROR(VLOOKUP(Tabla_SERIEBM_01_6[[#This Row],[IdEstablecimiento]],[1]Establecimientos!A$1:E$175,5,FALSE),0)","v":"04204-SALAMANCA"},"105501","80106002","2021-08-17T09:11:12",12,null,12]
[5,"5",2021,{"$f":"IFERROR(VLOOKUP(Tabla_SERIEBM_01_6[[#This Row],[IdEstablecimiento]],[1]Establecimientos!A$1:E$175,5,FALSE),0)","v":"04301-OVALLE"},"105322","80301041","2021-06-11T09:55:00",769,null,769]
[9,"5",2021,{"$f":"IFERROR(VLOOKUP(Tabla_SERIEBM_01_6[[#This Row],[IdEstablecimiento]],[1]Establecimientos!A$1:E$175,5,FALSE),0)","v":"04303-MONTE PATRIA"},"105435","81701009","2021-10-15T12:56:54",22,null,22,null,22]
[7,"5",2021,{"$f":"IFERROR(VLOOKUP(Tabla_SERIEBM_01_6[[#This Row],[IdEstablecimiento]],[1]Establecimientos!A$1:E$175,5,FALSE),0)","v":"04106-VICUÑA"},"105467","80305019","2021-08-17T06:46:57",0,null,null,1]
[4,"5",2021,{"$f":"IFERROR(VLOOKUP(Tabla_SERIEBM_01_6[[#This Row],[IdEstablecimiento]],[1]Establecimientos!A$1:E$175,5,FALSE),0)","v":"04101-LA SERENA"},"105400","80302063","2021-05-13T17:07:25",0,null,null,2]
[1,"5",2021,{"$f":"IFERROR(VLOOKUP(Tabla_SERIEBM_01_6[[#This Row],[IdEstablecimiento]],[1]Establecimientos!A$1:E$175,5,FALSE),0)","v":"04304-PUNITAQUI"},"105440","80106002","2021-02-18T04:00:32",36,null,36,null,36]
[7,"5",2021,{"$f":"IFERROR(VLOOKUP(Tabla_SERIEBM_01_6[[#This Row],[IdEstablecimiento]],[1]Establecimientos!A$1:E$175,5,FALSE),0)","v":"04102-COQUIMBO"},"105305","80309023","2021-11-12T14:37:39",0,null,null,1]
[6,"5",2021,{"$f":"IFERROR(VLOOKUP(Tabla_SERIEBM_01_6[[#This Row],[IdEstablecimiento]],[1]Establecimientos!A$1:E$175,5,FALSE),0)","v":"04305-RIO HURTADO"},"105414","80106020","2021-07-19T12:27:33",2,null,2,null,2]
[8,"5",2021,{"$f":"IFERROR(VLOOKUP(Tabla_SERIEBM_01_6[[#This Row],[IdEstablecimiento]],[1]Establecimientos!A$1:E$175,5,FALSE),0)","v":"04203-LOS VILOS"},"105480","80301086","2021-10-19T08:44:36",0,null,null,5]
[8,"5",2021,{"$f":"IFERROR(VLOOKUP(Tabla_SERIEBM_01_6[[#This Row],[IdEstablecimiento]],[1]Establecimientos!A$1:E$175,5,FALSE),0)","v":"04102-COQUIMBO"},"105805","18400700","2021-11-15T12:48:10",2634]
[8,"5",2021,{"$f":"IFERROR(VLOOKUP(Tabla_SERIEBM_01_6[[#This Row],[IdEstablecimiento]],[1]Establecimientos!A$1:E$175,5,FALSE),0)","v":"04102-COQUIMBO"},"105805","18700100","2021-11-15T12:48:10",832,151,611,70]
[7,"5",2021,{"$f":"IFERROR(VLOOKUP(Tabla_SERIEBM_01_6[[#This Row],[IdEstablecimiento]],[1]Establecimientos!A$1:E$175,5,FALSE),0)","v":"04102-COQUIMBO"},"200607","80309028","2021-08-17T09:53:48",0,null,null,2]
[5,"5",2021,{"$f":"IFERROR(VLOOKUP(Tabla_SERIEBM_01_6[[#This Row],[IdEstablecimiento]],[1]Establecimientos!A$1:E$175,5,FALSE),0)","v":"04102-COQUIMBO"},"105305","18020900","2021-06-11T09:45:20",12,0,12]
[5,"5",2021,{"$f":"IFERROR(VLOOKUP(Tabla_SERIEBM_01_6[[#This Row],[IdEstablecimiento]],[1]Establecimientos!A$1:E$175,5,FALSE),0)","v":"04201-ILLAPEL"},"105326","80302005","2021-06-11T09:56:56",0,null,null,118]
[6,"5",2021,{"$f":"IFERROR(VLOOKUP(Tabla_SERIEBM_01_6[[#This Row],[IdEstablecimiento]],[1]Establecimientos!A$1:E$175,5,FALSE),0)","v":"04102-COQUIMBO"},"105804","81301042","2021-07-19T14:56:33",1,1,null,1]
[4,"5",2021,{"$f":"IFERROR(VLOOKUP(Tabla_SERIEBM_01_6[[#This Row],[IdEstablecimiento]],[1]Establecimientos!A$1:E$175,5,FALSE),0)","v":"04102-COQUIMBO"},"105805","80401054","2021-05-14T10:41:45",52,40,12]
[1,"5",2021,{"$f":"IFERROR(VLOOKUP(Tabla_SERIEBM_01_6[[#This Row],[IdEstablecimiento]],[1]Establecimientos!A$1:E$175,5,FALSE),0)","v":"04201-ILLAPEL"},"105487","80303024","2021-02-18T05:24:11",0,null,null,15]
[4,"5",2021,{"$f":"IFERROR(VLOOKUP(Tabla_SERIEBM_01_6[[#This Row],[IdEstablecimiento]],[1]Establecimientos!A$1:E$175,5,FALSE),0)","v":"04203-LOS VILOS"},"105479","80305019","2021-10-18T07:59:43",0,null,null,4]
[5,"5",2021,{"$f":"IFERROR(VLOOKUP(Tabla_SERIEBM_01_6[[#This Row],[IdEstablecimiento]],[1]Establecimientos!A$1:E$175,5,FALSE),0)","v":"04106-VICUÑA"},"200538","18400900","2021-06-11T14:30:56",42,2,40]
[1,"5",2021,{"$f":"IFERROR(VLOOKUP(Tabla_SERIEBM_01_6[[#This Row],[IdEstablecimiento]],[1]Establecimientos!A$1:E$175,5,FALSE),0)","v":"04102-COQUIMBO"},"200848","18050100","2021-02-18T06:07:29",74,74,0]
[5,"5",2021,{"$f":"IFERROR(VLOOKUP(Tabla_SERIEBM_01_6[[#This Row],[IdEstablecimiento]],[1]Establecimientos!A$1:E$175,5,FALSE),0)","v":"04105-PAIHUANO"},"105306","80302060","2021-06-11T09:45:47",0,null,null,17]
[4,"5",2021,{"$f":"IFERROR(VLOOKUP(Tabla_SERIEBM_01_6[[#This Row],[IdEstablecimiento]],[1]Establecimientos!A$1:E$175,5,FALSE),0)","v":"04203-LOS VILOS"},"105479","80500014","2021-10-18T07:59:43",1,null,1,null,1,1]
[9,"5",2021,{"$f":"IFERROR(VLOOKUP(Tabla_SERIEBM_01_6[[#This Row],[IdEstablecimiento]],[1]Establecimientos!A$1:E$175,5,FALSE),0)","v":"04301-OVALLE"},"105822","80401055","2021-10-15T13:33:09",5,5]
[1,"5",2021,{"$f":"IFERROR(VLOOKUP(Tabla_SERIEBM_01_6[[#This Row],[IdEstablecimiento]],[1]Establecimientos!A$1:E$175,5,FALSE),0)","v":"04102-COQUIMBO"},"105305","80302076","2021-02-18T03:20:29",0,null,null,24]
[8,"5",2021,{"$f":"IFERROR(VLOOKUP(Tabla_SERIEBM_01_6[[#This Row],[IdEstablecimiento]],[1]Establecimientos!A$1:E$175,5,FALSE),0)","v":"04102-COQUIMBO"},"200494","80302060","2021-09-16T13:26:05",0,null,null,9]
[4,"5",2021,{"$f":"IFERROR(VLOOKUP(Tabla_SERIEBM_01_6[[#This Row],[IdEstablecimiento]],[1]Establecimientos!A$1:E$175,5,FALSE),0)","v":"04102-COQUIMBO"},"105305","80305019","2021-05-13T16:48:09",0,null,null,15]
[6,"5",2021,{"$f":"IFERROR(VLOOKUP(Tabla_SERIEBM_01_6[[#This Row],[IdEstablecimiento]],[1]Establecimientos!A$1:E$175,5,FALSE),0)","v":"04102-COQUIMBO"},"105805","80401059","2021-07-19T14:57:04",4,4]
[1,"5",2021,{"$f":"IFERROR(VLOOKUP(Tabla_SERIEBM_01_6[[#This Row],[IdEstablecimiento]],[1]Establecimientos!A$1:E$175,5,FALSE),0)","v":"04106-VICUÑA"},"105472","80302023","2021-02-18T04:39:12",0,null,null,14]
[4,"5",2021,{"$f":"IFERROR(VLOOKUP(Tabla_SERIEBM_01_6[[#This Row],[IdEstablecimiento]],[1]Establecimientos!A$1:E$175,5,FALSE),0)","v":"04303-MONTE PATRIA"},"200720","18011001","2021-05-14T11:17:36",243,243,0]
[10,"5",2021,{"$f":"IFERROR(VLOOKUP(Tabla_SERIEBM_01_6[[#This Row],[IdEstablecimiento]],[1]Establecimientos!A$1:E$175,5,FALSE),0)","v":"04201-ILLAPEL"},"105445","80301041","2021-11-15T08:44:05",0,null,null,2]
[1,"5",2021,{"$f":"IFERROR(VLOOKUP(Tabla_SERIEBM_01_6[[#This Row],[IdEstablecimiento]],[1]Establecimientos!A$1:E$175,5,FALSE),0)","v":"04203-LOS VILOS"},"105480","80307011","2021-05-14T12:02:09",31,null,31]
[5,"5",2021,{"$f":"IFERROR(VLOOKUP(Tabla_SERIEBM_01_6[[#This Row],[IdEstablecimiento]],[1]Establecimientos!A$1:E$175,5,FALSE),0)","v":"04202-CANELA"},"105309","80302042","2021-06-11T09:48:04",0,null,null,1]
[4,"5",2021,{"$f":"IFERROR(VLOOKUP(Tabla_SERIEBM_01_6[[#This Row],[IdEstablecimiento]],[1]Establecimientos!A$1:E$175,5,FALSE),0)","v":"04203-LOS VILOS"},"105479","18700100","2021-10-18T07:59:43",66,1,58,7,0]
[1,"5",2021,{"$f":"IFERROR(VLOOKUP(Tabla_SERIEBM_01_6[[#This Row],[IdEstablecimiento]],[1]Establecimientos!A$1:E$175,5,FALSE),0)","v":"04301-OVALLE"},"105322","80302063","2021-02-18T03:29:04",33,null,33]
[9,"5",2021,{"$f":"IFERROR(VLOOKUP(Tabla_SERIEBM_01_6[[#This Row],[IdEstablecimiento]],[1]Establecimientos!A$1:E$175,5,FALSE),0)","v":"04106-VICUÑA"},"105472","80306061","2021-10-15T13:11:29",0,null,null,3]
[5,"5",2021,{"$f":"IFERROR(VLOOKUP(Tabla_SERIEBM_01_6[[#This Row],[IdEstablecimiento]],[1]Establecimientos!A$1:E$175,5,FALSE),0)","v":"04301-OVALLE"},"200569","80307011","2021-06-11T14:31:32",517,null,517]
[5,"5",2021,{"$f":"IFERROR(VLOOKUP(Tabla_SERIEBM_01_6[[#This Row],[IdEstablecimiento]],[1]Establecimientos!A$1:E$175,5,FALSE),0)","v":"04201-ILLAPEL"},"105443","80309010","2021-06-11T11:38:37",0,null,null,36]
[7,"5",2021,{"$f":"IFERROR(VLOOKUP(Tabla_SERIEBM_01_6[[#This Row],[IdEstablecimiento]],[1]Establecimientos!A$1:E$175,5,FALSE),0)","v":"04102-COQUIMBO"},"105803","80500011","2021-08-17T09:23:24",14,14,null,null,14]
[7,"5",2021,{"$f":"IFERROR(VLOOKUP(Tabla_SERIEBM_01_6[[#This Row],[IdEstablecimiento]],[1]Establecimientos!A$1:E$175,5,FALSE),0)","v":"04201-ILLAPEL"},"105487","80106013","2021-08-17T07:28:21",2,null,2,null,2]
[8,"5",2021,{"$f":"IFERROR(VLOOKUP(Tabla_SERIEBM_01_6[[#This Row],[IdEstablecimiento]],[1]Establecimientos!A$1:E$175,5,FALSE),0)","v":"04305-RIO HURTADO"},"105409","80302005","2021-09-16T11:07:33",0,null,null,3]
[8,"5",2021,{"$f":"IFERROR(VLOOKUP(Tabla_SERIEBM_01_6[[#This Row],[IdEstablecimiento]],[1]Establecimientos!A$1:E$175,5,FALSE),0)","v":"04305-RIO HURTADO"},"105411","81701009","2021-09-16T11:08:34",2,null,2,null,2]
[1,"5",2021,{"$f":"IFERROR(VLOOKUP(Tabla_SERIEBM_01_6[[#This Row],[IdEstablecimiento]],[1]Establecimientos!A$1:E$175,5,FALSE),0)","v":"04201-ILLAPEL"},"105443","80303024","2021-02-18T04:02:26",0,null,null,7]
[1,"5",2021,{"$f":"IFERROR(VLOOKUP(Tabla_SERIEBM_01_6[[#This Row],[IdEstablecimiento]],[1]Establecimientos!A$1:E$175,5,FALSE),0)","v":"04201-ILLAPEL"},"105444","80309010","2021-02-18T04:03:01",0,null,null,17]
[4,"5",2021,{"$f":"IFERROR(VLOOKUP(Tabla_SERIEBM_01_6[[#This Row],[IdEstablecimiento]],[1]Establecimientos!A$1:E$175,5,FALSE),0)","v":"04302-COMBARBALÁ"},"105460","80106002","2021-08-17T10:25:03",9,null,9,null,9]
[4,"5",2021,{"$f":"IFERROR(VLOOKUP(Tabla_SERIEBM_01_6[[#This Row],[IdEstablecimiento]],[1]Establecimientos!A$1:E$175,5,FALSE),0)","v":"04102-COQUIMBO"},"200607","80302068","2021-05-14T11:16:57",0,null,null,180]
[6,"5",2021,{"$f":"IFERROR(VLOOKUP(Tabla_SERIEBM_01_6[[#This Row],[IdEstablecimiento]],[1]Establecimientos!A$1:E$175,5,FALSE),0)","v":"04101-LA SERENA"},"105701","80309022","2021-07-19T14:52:48",0,null,null,53]
[7,"5",2021,{"$f":"IFERROR(VLOOKUP(Tabla_SERIEBM_01_6[[#This Row],[IdEstablecimiento]],[1]Establecimientos!A$1:E$175,5,FALSE),0)","v":"04102-COQUIMBO"},"200607","80303024","2021-08-17T09:53:48",0,null,null,173]
[7,"5",2021,{"$f":"IFERROR(VLOOKUP(Tabla_SERIEBM_01_6[[#This Row],[IdEstablecimiento]],[1]Establecimientos!A$1:E$175,5,FALSE),0)","v":"04301-OVALLE"},"200721","80309023","2021-08-17T09:56:01",33,33]
[7,"5",2021,{"$f":"IFERROR(VLOOKUP(Tabla_SERIEBM_01_6[[#This Row],[IdEstablecimiento]],[1]Establecimientos!A$1:E$175,5,FALSE),0)","v":"04301-OVALLE"},"200721","81602217","2021-08-17T09:56:01",6,6,null,6]
[7,"5",2021,{"$f":"IFERROR(VLOOKUP(Tabla_SERIEBM_01_6[[#This Row],[IdEstablecimiento]],[1]Establecimientos!A$1:E$175,5,FALSE),0)","v":"04105-PAIHUANO"},"200737","80106002","2021-08-17T09:56:35",6,6,null,null,6]
[6,"5",2021,{"$f":"IFERROR(VLOOKUP(Tabla_SERIEBM_01_6[[#This Row],[IdEstablecimiento]],[1]Establecimientos!A$1:E$175,5,FALSE),0)","v":"04201-ILLAPEL"},"200366","80302057","2021-07-19T15:11:14",0,null,null,172]
[7,"5",2021,{"$f":"IFERROR(VLOOKUP(Tabla_SERIEBM_01_6[[#This Row],[IdEstablecimiento]],[1]Establecimientos!A$1:E$175,5,FALSE),0)","v":"04101-LA SERENA"},"105826","82106006","2021-08-17T09:40:31",2,2,null,null,2]
[5,"5",2021,{"$f":"IFERROR(VLOOKUP(Tabla_SERIEBM_01_6[[#This Row],[IdEstablecimiento]],[1]Establecimientos!A$1:E$175,5,FALSE),0)","v":"04106-VICUÑA"},"105473","18050100","2021-06-11T12:02:01",14,0,14]
[6,"5",2021,{"$f":"IFERROR(VLOOKUP(Tabla_SERIEBM_01_6[[#This Row],[IdEstablecimiento]],[1]Establecimientos!A$1:E$175,5,FALSE),0)","v":"04106-VICUÑA"},"105470","80302032","2021-07-19T14:28:40",0,null,null,3]
[6,"5",2021,{"$f":"IFERROR(VLOOKUP(Tabla_SERIEBM_01_6[[#This Row],[IdEstablecimiento]],[1]Establecimientos!A$1:E$175,5,FALSE),0)","v":"04202-CANELA"},"105309","80303024","2021-07-19T12:03:10",0,null,null,180]
[5,"5",2021,{"$f":"IFERROR(VLOOKUP(Tabla_SERIEBM_01_6[[#This Row],[IdEstablecimiento]],[1]Establecimientos!A$1:E$175,5,FALSE),0)","v":"04203-LOS VILOS"},"105478","18700100","2021-06-11T12:04:59",4,0,4,0,0]
[6,"5",2021,{"$f":"IFERROR(VLOOKUP(Tabla_SERIEBM_01_6[[#This Row],[IdEstablecimiento]],[1]Establecimientos!A$1:E$175,5,FALSE),0)","v":"04303-MONTE PATRIA"},"105307","18011001","2021-08-17T10:12:33",11,0,11]
[5,"5",2021,{"$f":"IFERROR(VLOOKUP(Tabla_SERIEBM_01_6[[#This Row],[IdEstablecimiento]],[1]Establecimientos!A$1:E$175,5,FALSE),0)","v":"04203-LOS VILOS"},"105481","18400900","2021-06-11T12:06:18",2,0,2]
[5,"5",2021,{"$f":"IFERROR(VLOOKUP(Tabla_SERIEBM_01_6[[#This Row],[IdEstablecimiento]],[1]Establecimientos!A$1:E$175,5,FALSE),0)","v":"04101-LA SERENA"},"105400","18050100","2021-06-11T09:57:25",26,0,26]
[8,"5",2021,{"$f":"IFERROR(VLOOKUP(Tabla_SERIEBM_01_6[[#This Row],[IdEstablecimiento]],[1]Establecimientos!A$1:E$175,5,FALSE),0)","v":"04101-LA SERENA"},"105826","80401013","2021-09-16T13:19:00",30,30]
[7,"5",2021,{"$f":"IFERROR(VLOOKUP(Tabla_SERIEBM_01_6[[#This Row],[IdEstablecimiento]],[1]Establecimientos!A$1:E$175,5,FALSE),0)","v":"04102-COQUIMBO"},"105305","80301045","2021-11-12T14:37:39",0,null,null,403]
[8,"5",2021,{"$f":"IFERROR(VLOOKUP(Tabla_SERIEBM_01_6[[#This Row],[IdEstablecimiento]],[1]Establecimientos!A$1:E$175,5,FALSE),0)","v":"04303-MONTE PATRIA"},"200720","80401009","2021-09-16T13:31:58",4,4,null,4]
[8,"5",2021,{"$f":"IFERROR(VLOOKUP(Tabla_SERIEBM_01_6[[#This Row],[IdEstablecimiento]],[1]Establecimientos!A$1:E$175,5,FALSE),0)","v":"04102-COQUIMBO"},"105323","80106022","2021-11-15T12:47:33",13,null,13,null,13]
[10,"5",2021,{"$f":"IFERROR(VLOOKUP(Tabla_SERIEBM_01_6[[#This Row],[IdEstablecimiento]],[1]Establecimientos!A$1:E$175,5,FALSE),0)","v":"04201-ILLAPEL"},"105447","80306042","2021-11-15T10:30:04",0,null,null,7]
[6,"5",2021,{"$f":"IFERROR(VLOOKUP(Tabla_SERIEBM_01_6[[#This Row],[IdEstablecimiento]],[1]Establecimientos!A$1:E$175,5,FALSE),0)","v":"04302-COMBARBALÁ"},"105433","18090000","2021-07-19T13:26:17",4,0,4]
[6,"5",2021,{"$f":"IFERROR(VLOOKUP(Tabla_SERIEBM_01_6[[#This Row],[IdEstablecimiento]],[1]Establecimientos!A$1:E$175,5,FALSE),0)","v":"04101-LA SERENA"},"105702","80309013","2021-07-19T14:53:16",0,null,null,2]
[1,"5",2021,{"$f":"IFERROR(VLOOKUP(Tabla_SERIEBM_01_6[[#This Row],[IdEstablecimiento]],[1]Establecimientos!A$1:E$175,5,FALSE),0)","v":"04301-OVALLE"},"200721","18020600","2021-02-18T06:05:05",1,1,0]
[10,"5",2021,{"$f":"IFERROR(VLOOKUP(Tabla_SERIEBM_01_6[[#This Row],[IdEstablecimiento]],[1]Establecimientos!A$1:E$175,5,FALSE),0)","v":"04303-MONTE PATRIA"},"105435","18030000","2021-11-15T08:39:06",1,0,1]
[8,"5",2021,{"$f":"IFERROR(VLOOKUP(Tabla_SERIEBM_01_6[[#This Row],[IdEstablecimiento]],[1]Establecimientos!A$1:E$175,5,FALSE),0)","v":"04303-MONTE PATRIA"},"105430","80106002","2021-09-16T11:14:56",21,null,21,null,21]
[1,"5",2021,{"$f":"IFERROR(VLOOKUP(Tabla_SERIEBM_01_6[[#This Row],[IdEstablecimiento]],[1]Establecimientos!A$1:E$175,5,FALSE),0)","v":"04106-VICUÑA"},"105474","80301041","2021-02-18T04:40:01",0,null,null,3]
[4,"5",2021,{"$f":"IFERROR(VLOOKUP(Tabla_SERIEBM_01_6[[#This Row],[IdEstablecimiento]],[1]Establecimientos!A$1:E$175,5,FALSE),0)","v":"04101-LA SERENA"},"105700","80301041","2021-05-14T10:32:41",0,null,null,20]
[1,"5",2021,{"$f":"IFERROR(VLOOKUP(Tabla_SERIEBM_01_6[[#This Row],[IdEstablecimiento]],[1]Establecimientos!A$1:E$175,5,FALSE),0)","v":"04101-LA SERENA"},"105313","18700280","2021-02-18T03:24:35",14]
[4,"5",2021,{"$f":"IFERROR(VLOOKUP(Tabla_SERIEBM_01_6[[#This Row],[IdEstablecimiento]],[1]Establecimientos!A$1:E$175,5,FALSE),0)","v":"04301-OVALLE"},"105822","80500017","2021-05-14T11:02:37",50,50,null,null,50]
[4,"5",2021,{"$f":"IFERROR(VLOOKUP(Tabla_SERIEBM_01_6[[#This Row],[IdEstablecimiento]],[1]Establecimientos!A$1:E$175,5,FALSE),0)","v":"04102-COQUIMBO"},"200607","80305070","2021-05-14T11:16:57",0,null,null,2]
[5,"5",2021,{"$f":"IFERROR(VLOOKUP(Tabla_SERIEBM_01_6[[#This Row],[IdEstablecimiento]],[1]Establecimientos!A$1:E$175,5,FALSE),0)","v":"04305-RIO HURTADO"},"105409","81602222","2021-06-11T10:00:06",1,1]
[4,"5",2021,{"$f":"IFERROR(VLOOKUP(Tabla_SERIEBM_01_6[[#This Row],[IdEstablecimiento]],[1]Establecimientos!A$1:E$175,5,FALSE),0)","v":"04102-COQUIMBO"},"105303","80302042","2021-05-13T16:47:19",0,null,null,1]
[6,"5",2021,{"$f":"IFERROR(VLOOKUP(Tabla_SERIEBM_01_6[[#This Row],[IdEstablecimiento]],[1]Establecimientos!A$1:E$175,5,FALSE),0)","v":"04303-MONTE PATRIA"},"200720","80401059","2021-08-17T10:22:55",19,19,null,1]
[9,"5",2021,{"$f":"IFERROR(VLOOKUP(Tabla_SERIEBM_01_6[[#This Row],[IdEstablecimiento]],[1]Establecimientos!A$1:E$175,5,FALSE),0)","v":"04203-LOS VILOS"},"105480","18020500","2021-10-15T13:14:42",14,0,14]
[9,"5",2021,{"$f":"IFERROR(VLOOKUP(Tabla_SERIEBM_01_6[[#This Row],[IdEstablecimiento]],[1]Establecimientos!A$1:E$175,5,FALSE),0)","v":"04203-LOS VILOS"},"105480","18700100","2021-10-15T13:14:42",269,11,242,16,0]
[4,"5",2021,{"$f":"IFERROR(VLOOKUP(Tabla_SERIEBM_01_6[[#This Row],[IdEstablecimiento]],[1]Establecimientos!A$1:E$175,5,FALSE),0)","v":"04102-COQUIMBO"},"200607","80301038","2021-05-14T11:16:57",0,null,null,67]
[1,"5",2021,{"$f":"IFERROR(VLOOKUP(Tabla_SERIEBM_01_6[[#This Row],[IdEstablecimiento]],[1]Establecimientos!A$1:E$175,5,FALSE),0)","v":"04204-SALAMANCA"},"105491","80106020","2021-02-18T05:26:17",1,null,1]
[1,"5",2021,{"$f":"IFERROR(VLOOKUP(Tabla_SERIEBM_01_6[[#This Row],[IdEstablecimiento]],[1]Establecimientos!A$1:E$175,5,FALSE),0)","v":"04201-ILLAPEL"},"105449","80301041","2021-02-18T04:04:58",0,null,null,3]
[9,"5",2021,{"$f":"IFERROR(VLOOKUP(Tabla_SERIEBM_01_6[[#This Row],[IdEstablecimiento]],[1]Establecimientos!A$1:E$175,5,FALSE),0)","v":"04201-ILLAPEL"},"105446","18050100","2021-10-15T13:01:10",10,0,10]
[8,"5",2021,{"$f":"IFERROR(VLOOKUP(Tabla_SERIEBM_01_6[[#This Row],[IdEstablecimiento]],[1]Establecimientos!A$1:E$175,5,FALSE),0)","v":"04102-COQUIMBO"},"105305","80301086","2021-11-15T12:47:09",0,null,null,4]
[8,"5",2021,{"$f":"IFERROR(VLOOKUP(Tabla_SERIEBM_01_6[[#This Row],[IdEstablecimiento]],[1]Establecimientos!A$1:E$175,5,FALSE),0)","v":"04102-COQUIMBO"},"105305","80106006","2021-11-15T12:47:09",16,null,16,null,16]
[7,"5",2021,{"$f":"IFERROR(VLOOKUP(Tabla_SERIEBM_01_6[[#This Row],[IdEstablecimiento]],[1]Establecimientos!A$1:E$175,5,FALSE),0)","v":"04303-MONTE PATRIA"},"105318","80106023","2021-08-17T05:03:35",63,0,63,null,63,63]
[9,"5",2021,{"$f":"IFERROR(VLOOKUP(Tabla_SERIEBM_01_6[[#This Row],[IdEstablecimiento]],[1]Establecimientos!A$1:E$175,5,FALSE),0)","v":"04202-CANELA"},"105309","18050300","2021-10-15T12:35:47",4,0,4]
[4,"5",2021,{"$f":"IFERROR(VLOOKUP(Tabla_SERIEBM_01_6[[#This Row],[IdEstablecimiento]],[1]Establecimientos!A$1:E$175,5,FALSE),0)","v":"04204-SALAMANCA"},"105452","80301085","2021-05-13T17:34:06",0,null,null,1]
[7,"5",2021,{"$f":"IFERROR(VLOOKUP(Tabla_SERIEBM_01_6[[#This Row],[IdEstablecimiento]],[1]Establecimientos!A$1:E$175,5,FALSE),0)","v":"04101-LA SERENA"},"105400","80302047","2021-08-17T05:17:13",0,null,null,78]
[6,"5",2021,{"$f":"IFERROR(VLOOKUP(Tabla_SERIEBM_01_6[[#This Row],[IdEstablecimiento]],[1]Establecimientos!A$1:E$175,5,FALSE),0)","v":"04105-PAIHUANO"},"105306","80301086","2021-07-19T12:01:03",0,null,null,186]
[7,"5",2021,{"$f":"IFERROR(VLOOKUP(Tabla_SERIEBM_01_6[[#This Row],[IdEstablecimiento]],[1]Establecimientos!A$1:E$175,5,FALSE),0)","v":"04202-CANELA"},"105450","80106005","2021-08-17T06:33:35",9,9,null,null,9]
[7,"5",2021,{"$f":"IFERROR(VLOOKUP(Tabla_SERIEBM_01_6[[#This Row],[IdEstablecimiento]],[1]Establecimientos!A$1:E$175,5,FALSE),0)","v":"04202-CANELA"},"105809","80106017","2021-08-17T09:25:06",1,1,null,null,1]
[5,"5",2021,{"$f":"IFERROR(VLOOKUP(Tabla_SERIEBM_01_6[[#This Row],[IdEstablecimiento]],[1]Establecimientos!A$1:E$175,5,FALSE),0)","v":"04106-VICUÑA"},"105467","80302005","2021-06-11T11:58:42",0,null,null,9]
[6,"5",2021,{"$f":"IFERROR(VLOOKUP(Tabla_SERIEBM_01_6[[#This Row],[IdEstablecimiento]],[1]Establecimientos!A$1:E$175,5,FALSE),0)","v":"04106-VICUÑA"},"105472","80309013","2021-07-19T14:29:44",0,null,null,24]
[4,"5",2021,{"$f":"IFERROR(VLOOKUP(Tabla_SERIEBM_01_6[[#This Row],[IdEstablecimiento]],[1]Establecimientos!A$1:E$175,5,FALSE),0)","v":"04305-RIO HURTADO"},"105411","80306011","2021-05-13T17:14:10",0,null,null,4]
[1,"5",2021,{"$f":"IFERROR(VLOOKUP(Tabla_SERIEBM_01_6[[#This Row],[IdEstablecimiento]],[1]Establecimientos!A$1:E$175,5,FALSE),0)","v":"04102-COQUIMBO"},"105805","18090200","2021-02-18T05:53:25",3]
[4,"5",2021,{"$f":"IFERROR(VLOOKUP(Tabla_SERIEBM_01_6[[#This Row],[IdEstablecimiento]],[1]Establecimientos!A$1:E$175,5,FALSE),0)","v":"04301-OVALLE"},"200258","18050100","2021-05-14T11:09:28",51,0,51]
[8,"5",2021,{"$f":"IFERROR(VLOOKUP(Tabla_SERIEBM_01_6[[#This Row],[IdEstablecimiento]],[1]Establecimientos!A$1:E$175,5,FALSE),0)","v":"04106-VICUÑA"},"105471","80303024","2021-09-16T11:41:29",0,null,null,11]
[6,"5",2021,{"$f":"IFERROR(VLOOKUP(Tabla_SERIEBM_01_6[[#This Row],[IdEstablecimiento]],[1]Establecimientos!A$1:E$175,5,FALSE),0)","v":"04101-LA SERENA"},"105826","80401052","2021-07-19T15:08:42",3,3]
[4,"5",2021,{"$f":"IFERROR(VLOOKUP(Tabla_SERIEBM_01_6[[#This Row],[IdEstablecimiento]],[1]Establecimientos!A$1:E$175,5,FALSE),0)","v":"04102-COQUIMBO"},"200607","80106002","2021-05-14T11:16:57",194,0,194,0,194]
[7,"5",2021,{"$f":"IFERROR(VLOOKUP(Tabla_SERIEBM_01_6[[#This Row],[IdEstablecimiento]],[1]Establecimientos!A$1:E$175,5,FALSE),0)","v":"04201-ILLAPEL"},"105485","18700100","2021-08-17T07:27:23",32,1,30,1]
[3,"5",2021,{"$f":"IFERROR(VLOOKUP(Tabla_SERIEBM_01_6[[#This Row],[IdEstablecimiento]],[1]Establecimientos!A$1:E$175,5,FALSE),0)","v":"04101-LA SERENA"},"105300","80309013","2021-11-08T07:28:21",0,null,null,31]
[4,"5",2021,{"$f":"IFERROR(VLOOKUP(Tabla_SERIEBM_01_6[[#This Row],[IdEstablecimiento]],[1]Establecimientos!A$1:E$175,5,FALSE),0)","v":"04303-MONTE PATRIA"},"105430","80106007","2021-05-13T17:20:44",1,null,1,null,1]
[8,"5",2021,{"$f":"IFERROR(VLOOKUP(Tabla_SERIEBM_01_6[[#This Row],[IdEstablecimiento]],[1]Establecimientos!A$1:E$175,5,FALSE),0)","v":"04305-RIO HURTADO"},"105413","80401010","2021-09-16T11:09:15",0,null,null,7]
[8,"5",2021,{"$f":"IFERROR(VLOOKUP(Tabla_SERIEBM_01_6[[#This Row],[IdEstablecimiento]],[1]Establecimientos!A$1:E$175,5,FALSE),0)","v":"04101-LA SERENA"},"105402","80106015","2021-09-16T11:05:38",2,null,2,null,2]
[9,"5",2021,{"$f":"IFERROR(VLOOKUP(Tabla_SERIEBM_01_6[[#This Row],[IdEstablecimiento]],[1]Establecimientos!A$1:E$175,5,FALSE),0)","v":"04201-ILLAPEL"},"105496","80302005","2021-10-15T13:20:37",0,null,null,3]
[4,"5",2021,{"$f":"IFERROR(VLOOKUP(Tabla_SERIEBM_01_6[[#This Row],[IdEstablecimiento]],[1]Establecimientos!A$1:E$175,5,FALSE),0)","v":"04105-PAIHUANO"},"105306","80307012","2021-05-13T16:48:36",8,null,8]
[6,"5",2021,{"$f":"IFERROR(VLOOKUP(Tabla_SERIEBM_01_6[[#This Row],[IdEstablecimiento]],[1]Establecimientos!A$1:E$175,5,FALSE),0)","v":"04105-PAIHUANO"},"105306","82001015","2021-07-19T12:01:03",2,null,2,null,2]
[7,"5",2021,{"$f":"IFERROR(VLOOKUP(Tabla_SERIEBM_01_6[[#This Row],[IdEstablecimiento]],[1]Establecimientos!A$1:E$175,5,FALSE),0)","v":"04102-COQUIMBO"},"200494","80302048","2021-08-17T09:51:12",0,null,null,49]
[6,"5",2021,{"$f":"IFERROR(VLOOKUP(Tabla_SERIEBM_01_6[[#This Row],[IdEstablecimiento]],[1]Establecimientos!A$1:E$175,5,FALSE),0)","v":"04101-LA SERENA"},"105826","81901022","2021-07-19T15:08:42",12,12,null,null,12]
[8,"5",2021,{"$f":"IFERROR(VLOOKUP(Tabla_SERIEBM_01_6[[#This Row],[IdEstablecimiento]],[1]Establecimientos!A$1:E$175,5,FALSE),0)","v":"04302-COMBARBALÁ"},"105465","18010100","2021-09-16T11:38:27",18,0,18]
[12,"5",2021,{"$f":"IFERROR(VLOOKUP(Tabla_SERIEBM_01_6[[#This Row],[IdEstablecimiento]],[1]Establecimientos!A$1:E$175,5,FALSE),0)","v":"04101-LA SERENA"},"105301","80306042","2022-01-13T12:23:03",0,null,null,37]
[12,"5",2021,{"$f":"IFERROR(VLOOKUP(Tabla_SERIEBM_01_6[[#This Row],[IdEstablecimiento]],[1]Establecimientos!A$1:E$175,5,FALSE),0)","v":"04101-LA SERENA"},"105301","80106002","2022-01-13T12:23:03",173,0,173,0,140,0]
[12,"5",2021,{"$f":"IFERROR(VLOOKUP(Tabla_SERIEBM_01_6[[#This Row],[IdEstablecimiento]],[1]Establecimientos!A$1:E$175,5,FALSE),0)","v":"04101-LA SERENA"},"105302","80302040","2022-01-13T12:24:07",0,null,null,49]
[12,"5",2021,{"$f":"IFERROR(VLOOKUP(Tabla_SERIEBM_01_6[[#This Row],[IdEstablecimiento]],[1]Establecimientos!A$1:E$175,5,FALSE),0)","v":"04101-LA SERENA"},"105302","18070300","2022-01-13T12:24:07",7,7,0]
[12,"5",2021,{"$f":"IFERROR(VLOOKUP(Tabla_SERIEBM_01_6[[#This Row],[IdEstablecimiento]],[1]Establecimientos!A$1:E$175,5,FALSE),0)","v":"04101-LA SERENA"},"105313","80301041","2022-01-13T12:25:29",0,null,null,187]
[12,"5",2021,{"$f":"IFERROR(VLOOKUP(Tabla_SERIEBM_01_6[[#This Row],[IdEstablecimiento]],[1]Establecimientos!A$1:E$175,5,FALSE),0)","v":"04101-LA SERENA"},"105313","80302032","2022-01-13T12:25:29",0,null,null,784]
[12,"5",2021,{"$f":"IFERROR(VLOOKUP(Tabla_SERIEBM_01_6[[#This Row],[IdEstablecimiento]],[1]Establecimientos!A$1:E$175,5,FALSE),0)","v":"04101-LA SERENA"},"105313","80500008","2022-01-13T12:25:29",29,null,29,null,29,0]
[12,"5",2021,{"$f":"IFERROR(VLOOKUP(Tabla_SERIEBM_01_6[[#This Row],[IdEstablecimiento]],[1]Establecimientos!A$1:E$175,5,FALSE),0)","v":"04101-LA SERENA"},"105313","18050100","2022-01-13T12:25:29",282,0,282]
[12,"5",2021,{"$f":"IFERROR(VLOOKUP(Tabla_SERIEBM_01_6[[#This Row],[IdEstablecimiento]],[1]Establecimientos!A$1:E$175,5,FALSE),0)","v":"04101-LA SERENA"},"105319","81701001","2022-01-13T12:26:20",62,null,62,0,62]
[12,"5",2021,{"$f":"IFERROR(VLOOKUP(Tabla_SERIEBM_01_6[[#This Row],[IdEstablecimiento]],[1]Establecimientos!A$1:E$175,5,FALSE),0)","v":"04101-LA SERENA"},"105319","18400600","2022-01-13T12:26:20",4]
[12,"5",2021,{"$f":"IFERROR(VLOOKUP(Tabla_SERIEBM_01_6[[#This Row],[IdEstablecimiento]],[1]Establecimientos!A$1:E$175,5,FALSE),0)","v":"04101-LA SERENA"},"105325","80301059","2022-01-13T12:29:38",0,null,null,220]
[12,"5",2021,{"$f":"IFERROR(VLOOKUP(Tabla_SERIEBM_01_6[[#This Row],[IdEstablecimiento]],[1]Establecimientos!A$1:E$175,5,FALSE),0)","v":"04101-LA SERENA"},"105325","80306169","2022-01-13T12:29:38",0,null,null,34]
[12,"5",2021,{"$f":"IFERROR(VLOOKUP(Tabla_SERIEBM_01_6[[#This Row],[IdEstablecimiento]],[1]Establecimientos!A$1:E$175,5,FALSE),0)","v":"04101-LA SERENA"},"105400","80301041","2022-01-13T12:30:22",0,null,null,12]
[12,"5",2021,{"$f":"IFERROR(VLOOKUP(Tabla_SERIEBM_01_6[[#This Row],[IdEstablecimiento]],[1]Establecimientos!A$1:E$175,5,FALSE),0)","v":"04101-LA SERENA"},"105400","80500011","2022-01-13T12:30:22",1,null,1,null,1]
[12,"5",2021,{"$f":"IFERROR(VLOOKUP(Tabla_SERIEBM_01_6[[#This Row],[IdEstablecimiento]],[1]Establecimientos!A$1:E$175,5,FALSE),0)","v":"04101-LA SERENA"},"105401","80302005","2022-01-13T12:30:58",0,null,null,11]
[12,"5",2021,{"$f":"IFERROR(VLOOKUP(Tabla_SERIEBM_01_6[[#This Row],[IdEstablecimiento]],[1]Establecimientos!A$1:E$175,5,FALSE),0)","v":"04101-LA SERENA"},"105401","80106005","2022-01-13T12:30:58",8,null,8,null,8]
[12,"5",2021,{"$f":"IFERROR(VLOOKUP(Tabla_SERIEBM_01_6[[#This Row],[IdEstablecimiento]],[1]Establecimientos!A$1:E$175,5,FALSE),0)","v":"04101-LA SERENA"},"105499","80301041","2022-01-13T12:36:56",0,null,null,6]
[12,"5",2021,{"$f":"IFERROR(VLOOKUP(Tabla_SERIEBM_01_6[[#This Row],[IdEstablecimiento]],[1]Establecimientos!A$1:E$175,5,FALSE),0)","v":"04101-LA SERENA"},"105700","80301086","2022-01-13T12:38:12",0,null,null,2]
[12,"5",2021,{"$f":"IFERROR(VLOOKUP(Tabla_SERIEBM_01_6[[#This Row],[IdEstablecimiento]],[1]Establecimientos!A$1:E$175,5,FALSE),0)","v":"04101-LA SERENA"},"105700","80302067","2022-01-13T12:38:12",0,null,null,82]
[12,"5",2021,{"$f":"IFERROR(VLOOKUP(Tabla_SERIEBM_01_6[[#This Row],[IdEstablecimiento]],[1]Establecimientos!A$1:E$175,5,FALSE),0)","v":"04101-LA SERENA"},"105701","80301086","2022-01-13T12:47:42",0,null,null,33]
[12,"5",2021,{"$f":"IFERROR(VLOOKUP(Tabla_SERIEBM_01_6[[#This Row],[IdEstablecimiento]],[1]Establecimientos!A$1:E$175,5,FALSE),0)","v":"04101-LA SERENA"},"105701","80106008","2022-01-13T12:47:42",0,{"$nulls":3},6]
[12,"5",2021,{"$f":"IFERROR(VLOOKUP(Tabla_SERIEBM_01_6[[#This Row],[IdEstablecimiento]],[1]Establecimientos!A$1:E$175,5,FALSE),0)","v":"04101-LA SERENA"},"105702","80106017","2022-01-13T12:48:32",23,null,23,null,null,23]
[12,"5",2021,{"$f":"IFERROR(VLOOKUP(Tabla_SERIEBM_01_6[[#This Row],[IdEstablecimiento]],[1]Establecimientos!A$1:E$175,5,FALSE),0)","v":"04101-LA SERENA"},"200402","81701009","2022-01-13T12:51:42",12,null,12,null,12]
[12,"5",2021,{"$f":"IFERROR(VLOOKUP(Tabla_SERIEBM_01_6[[#This Row],[IdEstablecimiento]],[1]Establecimientos!A$1:E$175,5,FALSE),0)","v":"04101-LA SERENA"},"105802","18030000","2022-01-13T12:52:33",6,6,0]
[12,"5",2021,{"$f":"IFERROR(VLOOKUP(Tabla_SERIEBM_01_6[[#This Row],[IdEstablecimiento]],[1]Establecimientos!A$1:E$175,5,FALSE),0)","v":"04101-LA SERENA"},"105801","80106002","2022-01-13T12:53:16",16,16,null,null,16]
[12,"5",2021,{"$f":"IFERROR(VLOOKUP(Tabla_SERIEBM_01_6[[#This Row],[IdEstablecimiento]],[1]Establecimientos!A$1:E$175,5,FALSE),0)","v":"04101-LA SERENA"},"105825","80106015","2022-01-13T12:58:31",27,27,null,null,27]
[12,"5",2021,{"$f":"IFERROR(VLOOKUP(Tabla_SERIEBM_01_6[[#This Row],[IdEstablecimiento]],[1]Establecimientos!A$1:E$175,5,FALSE),0)","v":"04101-LA SERENA"},"105826","80401042","2022-01-13T12:59:20",17,17]
[12,"5",2021,{"$f":"IFERROR(VLOOKUP(Tabla_SERIEBM_01_6[[#This Row],[IdEstablecimiento]],[1]Establecimientos!A$1:E$175,5,FALSE),0)","v":"04101-LA SERENA"},"105826","80500017","2022-01-13T12:59:20",72,72,0,0,72,0]
[12,"5",2021,{"$f":"IFERROR(VLOOKUP(Tabla_SERIEBM_01_6[[#This Row],[IdEstablecimiento]],[1]Establecimientos!A$1:E$175,5,FALSE),0)","v":"04101-LA SERENA"},"200105","18400700","2022-01-13T13:00:00",338]
[12,"5",2021,{"$f":"IFERROR(VLOOKUP(Tabla_SERIEBM_01_6[[#This Row],[IdEstablecimiento]],[1]Establecimientos!A$1:E$175,5,FALSE),0)","v":"04104-LA HIGUERA"},"200740","18050100","2022-01-13T13:03:34",6,6,0]
[12,"5",2021,{"$f":"IFERROR(VLOOKUP(Tabla_SERIEBM_01_6[[#This Row],[IdEstablecimiento]],[1]Establecimientos!A$1:E$175,5,FALSE),0)","v":"04102-COQUIMBO"},"105303","80301038","2022-01-13T15:04:38",0,null,null,201]
[12,"5",2021,{"$f":"IFERROR(VLOOKUP(Tabla_SERIEBM_01_6[[#This Row],[IdEstablecimiento]],[1]Establecimientos!A$1:E$175,5,FALSE),0)","v":"04102-COQUIMBO"},"105303","80306169","2022-01-13T15:04:38",0,null,null,36]
[12,"5",2021,{"$f":"IFERROR(VLOOKUP(Tabla_SERIEBM_01_6[[#This Row],[IdEstablecimiento]],[1]Establecimientos!A$1:E$175,5,FALSE),0)","v":"04102-COQUIMBO"},"105303","80500009","2022-01-13T15:04:38",9,null,9,null,9]
[12,"5",2021,{"$f":"IFERROR(VLOOKUP(Tabla_SERIEBM_01_6[[#This Row],[IdEstablecimiento]],[1]Establecimientos!A$1:E$175,5,FALSE),0)","v":"04102-COQUIMBO"},"105303","18400900","2022-01-13T15:04:38",91,6,85]
[12,"5",2021,{"$f":"IFERROR(VLOOKUP(Tabla_SERIEBM_01_6[[#This Row],[IdEstablecimiento]],[1]Establecimientos!A$1:E$175,5,FALSE),0)","v":"04102-COQUIMBO"},"105304","80301087","2022-01-13T15:05:21",0,null,null,10]
[12,"5",2021,{"$f":"IFERROR(VLOOKUP(Tabla_SERIEBM_01_6[[#This Row],[IdEstablecimiento]],[1]Establecimientos!A$1:E$175,5,FALSE),0)","v":"04102-COQUIMBO"},"105304","80302040","2022-01-13T15:05:21",0,null,null,39]
[12,"5",2021,{"$f":"IFERROR(VLOOKUP(Tabla_SERIEBM_01_6[[#This Row],[IdEstablecimiento]],[1]Establecimientos!A$1:E$175,5,FALSE),0)","v":"04102-COQUIMBO"},"105304","80106023","2022-01-13T15:05:21",104,null,104,null,104]
[12,"5",2021,{"$f":"IFERROR(VLOOKUP(Tabla_SERIEBM_01_6[[#This Row],[IdEstablecimiento]],[1]Establecimientos!A$1:E$175,5,FALSE),0)","v":"04102-COQUIMBO"},"105304","80500008","2022-01-13T15:05:21",5,null,5,null,5]
[12,"5",2021,{"$f":"IFERROR(VLOOKUP(Tabla_SERIEBM_01_6[[#This Row],[IdEstablecimiento]],[1]Establecimientos!A$1:E$175,5,FALSE),0)","v":"04102-COQUIMBO"},"105305","80301038","2022-01-13T15:06:00",0,null,null,40]
[12,"5",2021,{"$f":"IFERROR(VLOOKUP(Tabla_SERIEBM_01_6[[#This Row],[IdEstablecimiento]],[1]Establecimientos!A$1:E$175,5,FALSE),0)","v":"04102-COQUIMBO"},"105305","80302040","2022-01-13T15:06:00",0,null,null,5]
[12,"5",2021,{"$f":"IFERROR(VLOOKUP(Tabla_SERIEBM_01_6[[#This Row],[IdEstablecimiento]],[1]Establecimientos!A$1:E$175,5,FALSE),0)","v":"04102-COQUIMBO"},"105305","81701001","2022-01-13T15:06:00",220,null,220,null,220,220]
[12,"5",2021,{"$f":"IFERROR(VLOOKUP(Tabla_SERIEBM_01_6[[#This Row],[IdEstablecimiento]],[1]Establecimientos!A$1:E$175,5,FALSE),0)","v":"04102-COQUIMBO"},"105305","18070300","2022-01-13T15:06:00",13,8,5]
[12,"5",2021,{"$f":"IFERROR(VLOOKUP(Tabla_SERIEBM_01_6[[#This Row],[IdEstablecimiento]],[1]Establecimientos!A$1:E$175,5,FALSE),0)","v":"04102-COQUIMBO"},"105321","80301085","2022-01-13T15:06:30",0,null,null,7]
[12,"5",2021,{"$f":"IFERROR(VLOOKUP(Tabla_SERIEBM_01_6[[#This Row],[IdEstablecimiento]],[1]Establecimientos!A$1:E$175,5,FALSE),0)","v":"04102-COQUIMBO"},"105321","80302032","2022-01-13T15:06:30",0,null,null,110]
[12,"5",2021,{"$f":"IFERROR(VLOOKUP(Tabla_SERIEBM_01_6[[#This Row],[IdEstablecimiento]],[1]Establecimientos!A$1:E$175,5,FALSE),0)","v":"04102-COQUIMBO"},"105321","80106015","2022-01-13T15:06:30",38,23,15,null,38]
[12,"5",2021,{"$f":"IFERROR(VLOOKUP(Tabla_SERIEBM_01_6[[#This Row],[IdEstablecimiento]],[1]Establecimientos!A$1:E$175,5,FALSE),0)","v":"04102-COQUIMBO"},"105323","80302057","2022-01-13T15:07:10",0,null,null,188]
[12,"5",2021,{"$f":"IFERROR(VLOOKUP(Tabla_SERIEBM_01_6[[#This Row],[IdEstablecimiento]],[1]Establecimientos!A$1:E$175,5,FALSE),0)","v":"04102-COQUIMBO"},"105323","80306169","2022-01-13T15:07:10",0,null,null,51]
[12,"5",2021,{"$f":"IFERROR(VLOOKUP(Tabla_SERIEBM_01_6[[#This Row],[IdEstablecimiento]],[1]Establecimientos!A$1:E$175,5,FALSE),0)","v":"04102-COQUIMBO"},"105323","18020500","2022-01-13T15:07:10",139,0,139]
[12,"5",2021,{"$f":"IFERROR(VLOOKUP(Tabla_SERIEBM_01_6[[#This Row],[IdEstablecimiento]],[1]Establecimientos!A$1:E$175,5,FALSE),0)","v":"04102-COQUIMBO"},"105405","80302064","2022-01-13T15:08:18",0,null,null,72]
[12,"5",2021,{"$f":"IFERROR(VLOOKUP(Tabla_SERIEBM_01_6[[#This Row],[IdEstablecimiento]],[1]Establecimientos!A$1:E$175,5,FALSE),0)","v":"04102-COQUIMBO"},"105405","80302024","2022-01-13T15:08:18",0,null,null,5]
[12,"5",2021,{"$f":"IFERROR(VLOOKUP(Tabla_SERIEBM_01_6[[#This Row],[IdEstablecimiento]],[1]Establecimientos!A$1:E$175,5,FALSE),0)","v":"04102-COQUIMBO"},"200273","80301034","2022-01-13T15:10:12",0,null,null,5]
[12,"5",2021,{"$f":"IFERROR(VLOOKUP(Tabla_SERIEBM_01_6[[#This Row],[IdEstablecimiento]],[1]Establecimientos!A$1:E$175,5,FALSE),0)","v":"04102-COQUIMBO"},"200273","80306169","2022-01-13T15:10:12",0,null,null,10]
[12,"5",2021,{"$f":"IFERROR(VLOOKUP(Tabla_SERIEBM_01_6[[#This Row],[IdEstablecimiento]],[1]Establecimientos!A$1:E$175,5,FALSE),0)","v":"04102-COQUIMBO"},"200494","80302045","2022-01-13T15:10:44",0,null,null,7]
[12,"5",2021,{"$f":"IFERROR(VLOOKUP(Tabla_SERIEBM_01_6[[#This Row],[IdEstablecimiento]],[1]Establecimientos!A$1:E$175,5,FALSE),0)","v":"04102-COQUIMBO"},"200494","80302067","2022-01-13T15:10:44",0,null,null,311]
[12,"5",2021,{"$f":"IFERROR(VLOOKUP(Tabla_SERIEBM_01_6[[#This Row],[IdEstablecimiento]],[1]Establecimientos!A$1:E$175,5,FALSE),0)","v":"04102-COQUIMBO"},"200494","80306002","2022-01-13T15:10:44",0,null,null,8]
[12,"5",2021,{"$f":"IFERROR(VLOOKUP(Tabla_SERIEBM_01_6[[#This Row],[IdEstablecimiento]],[1]Establecimientos!A$1:E$175,5,FALSE),0)","v":"04102-COQUIMBO"},"200494","18020900","2022-01-13T15:10:44",2,0,2]
[12,"5",2021,{"$f":"IFERROR(VLOOKUP(Tabla_SERIEBM_01_6[[#This Row],[IdEstablecimiento]],[1]Establecimientos!A$1:E$175,5,FALSE),0)","v":"04102-COQUIMBO"},"200499","80301085","2022-01-13T15:11:19",0,null,null,2]
[12,"5",2021,{"$f":"IFERROR(VLOOKUP(Tabla_SERIEBM_01_6[[#This Row],[IdEstablecimiento]],[1]Establecimientos!A$1:E$175,5,FALSE),0)","v":"04102-COQUIMBO"},"200499","80302040","2022-01-13T15:11:19",0,null,null,10]
[12,"5",2021,{"$f":"IFERROR(VLOOKUP(Tabla_SERIEBM_01_6[[#This Row],[IdEstablecimiento]],[1]Establecimientos!A$1:E$175,5,FALSE),0)","v":"04102-COQUIMBO"},"200499","80401009","2022-01-13T15:11:19",0,null,null,38]
[12,"5",2021,{"$f":"IFERROR(VLOOKUP(Tabla_SERIEBM_01_6[[#This Row],[IdEstablecimiento]],[1]Establecimientos!A$1:E$175,5,FALSE),0)","v":"04102-COQUIMBO"},"200499","80307012","2022-01-13T15:11:19",3,null,3]
[12,"5",2021,{"$f":"IFERROR(VLOOKUP(Tabla_SERIEBM_01_6[[#This Row],[IdEstablecimiento]],[1]Establecimientos!A$1:E$175,5,FALSE),0)","v":"04102-COQUIMBO"},"105804","81602222","2022-01-14T10:23:25",18,18,null,null,18]
[12,"5",2021,{"$f":"IFERROR(VLOOKUP(Tabla_SERIEBM_01_6[[#This Row],[IdEstablecimiento]],[1]Establecimientos!A$1:E$175,5,FALSE),0)","v":"04102-COQUIMBO"},"105804","80106013","2022-01-14T10:23:25",15,15,null,5,10]
[12,"5",2021,{"$f":"IFERROR(VLOOKUP(Tabla_SERIEBM_01_6[[#This Row],[IdEstablecimiento]],[1]Establecimientos!A$1:E$175,5,FALSE),0)","v":"04102-COQUIMBO"},"105805","81602222","2022-01-13T15:14:26",2,2,null,2]
[12,"5",2021,{"$f":"IFERROR(VLOOKUP(Tabla_SERIEBM_01_6[[#This Row],[IdEstablecimiento]],[1]Establecimientos!A$1:E$175,5,FALSE),0)","v":"04102-COQUIMBO"},"105805","80106012","2022-01-13T15:14:26",1,1,null,0,1]
[12,"5",2021,{"$f":"IFERROR(VLOOKUP(Tabla_SERIEBM_01_6[[#This Row],[IdEstablecimiento]],[1]Establecimientos!A$1:E$175,5,FALSE),0)","v":"04102-COQUIMBO"},"105823","18400400","2022-01-13T15:17:09",6,6,0]
[12,"5",2021,{"$f":"IFERROR(VLOOKUP(Tabla_SERIEBM_01_6[[#This Row],[IdEstablecimiento]],[1]Establecimientos!A$1:E$175,5,FALSE),0)","v":"04106-VICUÑA"},"105467","80301083","2022-01-13T15:21:34",0,null,null,3]
[12,"5",2021,{"$f":"IFERROR(VLOOKUP(Tabla_SERIEBM_01_6[[#This Row],[IdEstablecimiento]],[1]Establecimientos!A$1:E$175,5,FALSE),0)","v":"04106-VICUÑA"},"105467","80106023","2022-01-13T15:21:34",8,null,8,null,8]
[12,"5",2021,{"$f":"IFERROR(VLOOKUP(Tabla_SERIEBM_01_6[[#This Row],[IdEstablecimiento]],[1]Establecimientos!A$1:E$175,5,FALSE),0)","v":"04106-VICUÑA"},"105468","80301034","2022-01-13T15:22:32",0,null,null,1]
[12,"5",2021,{"$f":"IFERROR(VLOOKUP(Tabla_SERIEBM_01_6[[#This Row],[IdEstablecimiento]],[1]Establecimientos!A$1:E$175,5,FALSE),0)","v":"04106-VICUÑA"},"105468","80106014","2022-01-13T15:22:32",44,null,44,null,44]
[12,"5",2021,{"$f":"IFERROR(VLOOKUP(Tabla_SERIEBM_01_6[[#This Row],[IdEstablecimiento]],[1]Establecimientos!A$1:E$175,5,FALSE),0)","v":"04106-VICUÑA"},"105469","80106013","2022-01-13T15:24:49",1,null,1,null,1]
[12,"5",2021,{"$f":"IFERROR(VLOOKUP(Tabla_SERIEBM_01_6[[#This Row],[IdEstablecimiento]],[1]Establecimientos!A$1:E$175,5,FALSE),0)","v":"04106-VICUÑA"},"105471","80301041","2022-01-13T15:26:12",0,null,null,24]
[12,"5",2021,{"$f":"IFERROR(VLOOKUP(Tabla_SERIEBM_01_6[[#This Row],[IdEstablecimiento]],[1]Establecimientos!A$1:E$175,5,FALSE),0)","v":"04106-VICUÑA"},"105471","80106017","2022-01-13T15:26:12",14,null,14,null,14]
[12,"5",2021,{"$f":"IFERROR(VLOOKUP(Tabla_SERIEBM_01_6[[#This Row],[IdEstablecimiento]],[1]Establecimientos!A$1:E$175,5,FALSE),0)","v":"04106-VICUÑA"},"105472","80302057","2022-01-13T15:28:22",0,null,null,30]
[12,"5",2021,{"$f":"IFERROR(VLOOKUP(Tabla_SERIEBM_01_6[[#This Row],[IdEstablecimiento]],[1]Establecimientos!A$1:E$175,5,FALSE),0)","v":"04106-VICUÑA"},"105472","80106014","2022-01-13T15:28:22",41,null,41,null,41]
[12,"5",2021,{"$f":"IFERROR(VLOOKUP(Tabla_SERIEBM_01_6[[#This Row],[IdEstablecimiento]],[1]Establecimientos!A$1:E$175,5,FALSE),0)","v":"04106-VICUÑA"},"105473","80106017","2022-01-13T15:29:04",3,null,3,null,3]
[12,"5",2021,{"$f":"IFERROR(VLOOKUP(Tabla_SERIEBM_01_6[[#This Row],[IdEstablecimiento]],[1]Establecimientos!A$1:E$175,5,FALSE),0)","v":"04106-VICUÑA"},"105474","80309022","2022-01-13T15:31:44",0,null,null,3]
[12,"5",2021,{"$f":"IFERROR(VLOOKUP(Tabla_SERIEBM_01_6[[#This Row],[IdEstablecimiento]],[1]Establecimientos!A$1:E$175,5,FALSE),0)","v":"04106-VICUÑA"},"105474","18050100","2022-01-13T15:31:44",8,0,8]
[12,"5",2021,{"$f":"IFERROR(VLOOKUP(Tabla_SERIEBM_01_6[[#This Row],[IdEstablecimiento]],[1]Establecimientos!A$1:E$175,5,FALSE),0)","v":"04106-VICUÑA"},"200538","80303026","2022-01-13T15:34:40",0,null,null,44]
[12,"5",2021,{"$f":"IFERROR(VLOOKUP(Tabla_SERIEBM_01_6[[#This Row],[IdEstablecimiento]],[1]Establecimientos!A$1:E$175,5,FALSE),0)","v":"04106-VICUÑA"},"105509","80306011","2022-01-13T15:33:25",0,null,null,6]
[12,"5",2021,{"$f":"IFERROR(VLOOKUP(Tabla_SERIEBM_01_6[[#This Row],[IdEstablecimiento]],[1]Establecimientos!A$1:E$175,5,FALSE),0)","v":"04106-VICUÑA"},"200538","18090000","2022-01-13T15:34:40",28,0,28]
[12,"5",2021,{"$f":"IFERROR(VLOOKUP(Tabla_SERIEBM_01_6[[#This Row],[IdEstablecimiento]],[1]Establecimientos!A$1:E$175,5,FALSE),0)","v":"04105-PAIHUANO"},"105306","80301041","2022-01-13T15:35:22",0,null,null,69]
[12,"5",2021,{"$f":"IFERROR(VLOOKUP(Tabla_SERIEBM_01_6[[#This Row],[IdEstablecimiento]],[1]Establecimientos!A$1:E$175,5,FALSE),0)","v":"04105-PAIHUANO"},"105306","80302032","2022-01-13T15:35:22",0,null,null,125]
[12,"5",2021,{"$f":"IFERROR(VLOOKUP(Tabla_SERIEBM_01_6[[#This Row],[IdEstablecimiento]],[1]Establecimientos!A$1:E$175,5,FALSE),0)","v":"04105-PAIHUANO"},"105306","80106002","2022-01-13T15:35:22",163,null,163,null,163]
[12,"5",2021,{"$f":"IFERROR(VLOOKUP(Tabla_SERIEBM_01_6[[#This Row],[IdEstablecimiento]],[1]Establecimientos!A$1:E$175,5,FALSE),0)","v":"04105-PAIHUANO"},"105476","18400700","2022-01-13T15:36:48",25]
[12,"5",2021,{"$f":"IFERROR(VLOOKUP(Tabla_SERIEBM_01_6[[#This Row],[IdEstablecimiento]],[1]Establecimientos!A$1:E$175,5,FALSE),0)","v":"04105-PAIHUANO"},"105477","18400700","2022-01-13T15:37:28",470]
[12,"5",2021,{"$f":"IFERROR(VLOOKUP(Tabla_SERIEBM_01_6[[#This Row],[IdEstablecimiento]],[1]Establecimientos!A$1:E$175,5,FALSE),0)","v":"04301-OVALLE"},"105315","80106023","2022-01-13T15:39:57",23,null,23,null,23]
[12,"5",2021,{"$f":"IFERROR(VLOOKUP(Tabla_SERIEBM_01_6[[#This Row],[IdEstablecimiento]],[1]Establecimientos!A$1:E$175,5,FALSE),0)","v":"04301-OVALLE"},"105322","80303026","2022-01-13T15:41:39",1244,null,1244]
[12,"5",2021,{"$f":"IFERROR(VLOOKUP(Tabla_SERIEBM_01_6[[#This Row],[IdEstablecimiento]],[1]Establecimientos!A$1:E$175,5,FALSE),0)","v":"04301-OVALLE"},"105322","80302032","2022-01-13T15:41:39",3891,null,3891]
[12,"5",2021,{"$f":"IFERROR(VLOOKUP(Tabla_SERIEBM_01_6[[#This Row],[IdEstablecimiento]],[1]Establecimientos!A$1:E$175,5,FALSE),0)","v":"04301-OVALLE"},"105322","80306056","2022-01-13T15:41:39",3,null,3]
[12,"5",2021,{"$f":"IFERROR(VLOOKUP(Tabla_SERIEBM_01_6[[#This Row],[IdEstablecimiento]],[1]Establecimientos!A$1:E$175,5,FALSE),0)","v":"04301-OVALLE"},"105322","80307011","2022-01-13T15:41:39",837,null,837]
[12,"5",2021,{"$f":"IFERROR(VLOOKUP(Tabla_SERIEBM_01_6[[#This Row],[IdEstablecimiento]],[1]Establecimientos!A$1:E$175,5,FALSE),0)","v":"04301-OVALLE"},"105324","80106017","2022-01-13T15:42:12",70,null,70,null,70]
[12,"5",2021,{"$f":"IFERROR(VLOOKUP(Tabla_SERIEBM_01_6[[#This Row],[IdEstablecimiento]],[1]Establecimientos!A$1:E$175,5,FALSE),0)","v":"04301-OVALLE"},"200569","81901019","2022-01-13T15:42:56",1,null,1,null,1]
[12,"5",2021,{"$f":"IFERROR(VLOOKUP(Tabla_SERIEBM_01_6[[#This Row],[IdEstablecimiento]],[1]Establecimientos!A$1:E$175,5,FALSE),0)","v":"04301-OVALLE"},"105416","80106023","2022-01-13T15:44:07",24,24]
[12,"5",2021,{"$f":"IFERROR(VLOOKUP(Tabla_SERIEBM_01_6[[#This Row],[IdEstablecimiento]],[1]Establecimientos!A$1:E$175,5,FALSE),0)","v":"04301-OVALLE"},"200569","18020500","2022-01-13T15:42:56",299,0,299]
[12,"5",2021,{"$f":"IFERROR(VLOOKUP(Tabla_SERIEBM_01_6[[#This Row],[IdEstablecimiento]],[1]Establecimientos!A$1:E$175,5,FALSE),0)","v":"04301-OVALLE"},"105415","80106002","2022-01-13T15:43:32",30,null,30,null,30]
[12,"5",2021,{"$f":"IFERROR(VLOOKUP(Tabla_SERIEBM_01_6[[#This Row],[IdEstablecimiento]],[1]Establecimientos!A$1:E$175,5,FALSE),0)","v":"04301-OVALLE"},"105723","80307011","2022-01-13T15:51:02",92,null,92]
[12,"5",2021,{"$f":"IFERROR(VLOOKUP(Tabla_SERIEBM_01_6[[#This Row],[IdEstablecimiento]],[1]Establecimientos!A$1:E$175,5,FALSE),0)","v":"04301-OVALLE"},"105817","80106017","2022-01-13T15:51:52",11,11]
[12,"5",2021,{"$f":"IFERROR(VLOOKUP(Tabla_SERIEBM_01_6[[#This Row],[IdEstablecimiento]],[1]Establecimientos!A$1:E$175,5,FALSE),0)","v":"04301-OVALLE"},"200367","80106014","2022-01-13T15:53:43",66,null,66,null,66]
[12,"5",2021,{"$f":"IFERROR(VLOOKUP(Tabla_SERIEBM_01_6[[#This Row],[IdEstablecimiento]],[1]Establecimientos!A$1:E$175,5,FALSE),0)","v":"04301-OVALLE"},"200721","18020500","2022-01-13T15:54:18",24,24,0]
[12,"5",2021,{"$f":"IFERROR(VLOOKUP(Tabla_SERIEBM_01_6[[#This Row],[IdEstablecimiento]],[1]Establecimientos!A$1:E$175,5,FALSE),0)","v":"04301-OVALLE"},"200742","81701001","2022-01-13T15:55:21",13,13,null,null,13]
[12,"5",2021,{"$f":"IFERROR(VLOOKUP(Tabla_SERIEBM_01_6[[#This Row],[IdEstablecimiento]],[1]Establecimientos!A$1:E$175,5,FALSE),0)","v":"04301-OVALLE"},"200742","18700100","2022-01-13T15:55:21",15,4,9,2]
[12,"5",2021,{"$f":"IFERROR(VLOOKUP(Tabla_SERIEBM_01_6[[#This Row],[IdEstablecimiento]],[1]Establecimientos!A$1:E$175,5,FALSE),0)","v":"04305-RIO HURTADO"},"105310","18700100","2022-01-13T15:55:56",413,6,405,2,0]
[12,"5",2021,{"$f":"IFERROR(VLOOKUP(Tabla_SERIEBM_01_6[[#This Row],[IdEstablecimiento]],[1]Establecimientos!A$1:E$175,5,FALSE),0)","v":"04305-RIO HURTADO"},"105411","81701001","2022-01-13T15:57:43",3,null,3,null,3]
[12,"5",2021,{"$f":"IFERROR(VLOOKUP(Tabla_SERIEBM_01_6[[#This Row],[IdEstablecimiento]],[1]Establecimientos!A$1:E$175,5,FALSE),0)","v":"04305-RIO HURTADO"},"105413","81701009","2022-01-13T15:58:14",2,null,2,null,2]
[12,"5",2021,{"$f":"IFERROR(VLOOKUP(Tabla_SERIEBM_01_6[[#This Row],[IdEstablecimiento]],[1]Establecimientos!A$1:E$175,5,FALSE),0)","v":"04303-MONTE PATRIA"},"105307","80302076","2022-01-13T16:00:12",393,null,393]
[12,"5",2021,{"$f":"IFERROR(VLOOKUP(Tabla_SERIEBM_01_6[[#This Row],[IdEstablecimiento]],[1]Establecimientos!A$1:E$175,5,FALSE),0)","v":"04303-MONTE PATRIA"},"105307","80302023","2022-01-13T16:00:12",707,null,707]
[12,"5",2021,{"$f":"IFERROR(VLOOKUP(Tabla_SERIEBM_01_6[[#This Row],[IdEstablecimiento]],[1]Establecimientos!A$1:E$175,5,FALSE),0)","v":"04303-MONTE PATRIA"},"105307","80309016","2022-01-13T16:00:12",61,null,61]
[12,"5",2021,{"$f":"IFERROR(VLOOKUP(Tabla_SERIEBM_01_6[[#This Row],[IdEstablecimiento]],[1]Establecimientos!A$1:E$175,5,FALSE),0)","v":"04303-MONTE PATRIA"},"105307","18020700","2022-01-13T16:00:12",4,0,4]
[12,"5",2021,{"$f":"IFERROR(VLOOKUP(Tabla_SERIEBM_01_6[[#This Row],[IdEstablecimiento]],[1]Establecimientos!A$1:E$175,5,FALSE),0)","v":"04303-MONTE PATRIA"},"105311","81901022","2022-01-13T16:00:48",6,null,6,null,6]
[12,"5",2021,{"$f":"IFERROR(VLOOKUP(Tabla_SERIEBM_01_6[[#This Row],[IdEstablecimiento]],[1]Establecimientos!A$1:E$175,5,FALSE),0)","v":"04303-MONTE PATRIA"},"105311","18090000","2022-01-13T16:00:48",19,0,19]
[12,"5",2021,{"$f":"IFERROR(VLOOKUP(Tabla_SERIEBM_01_6[[#This Row],[IdEstablecimiento]],[1]Establecimientos!A$1:E$175,5,FALSE),0)","v":"04303-MONTE PATRIA"},"105312","80106014","2022-01-13T16:01:13",233,null,233,null,233]
[12,"5",2021,{"$f":"IFERROR(VLOOKUP(Tabla_SERIEBM_01_6[[#This Row],[IdEstablecimiento]],[1]Establecimientos!A$1:E$175,5,FALSE),0)","v":"04303-MONTE PATRIA"},"105318","80106022","2022-01-13T16:01:38",1,1,0,null,1]
[12,"5",2021,{"$f":"IFERROR(VLOOKUP(Tabla_SERIEBM_01_6[[#This Row],[IdEstablecimiento]],[1]Establecimientos!A$1:E$175,5,FALSE),0)","v":"04303-MONTE PATRIA"},"105318","18090200","2022-01-13T16:01:38",7]
[12,"5",2021,{"$f":"IFERROR(VLOOKUP(Tabla_SERIEBM_01_6[[#This Row],[IdEstablecimiento]],[1]Establecimientos!A$1:E$175,5,FALSE),0)","v":"04303-MONTE PATRIA"},"105425","80106002","2022-01-13T16:02:13",17,null,17,null,17]
[12,"5",2021,{"$f":"IFERROR(VLOOKUP(Tabla_SERIEBM_01_6[[#This Row],[IdEstablecimiento]],[1]Establecimientos!A$1:E$175,5,FALSE),0)","v":"04303-MONTE PATRIA"},"105428","80307011","2022-01-13T16:03:13",54,null,54]
[12,"5",2021,{"$f":"IFERROR(VLOOKUP(Tabla_SERIEBM_01_6[[#This Row],[IdEstablecimiento]],[1]Establecimientos!A$1:E$175,5,FALSE),0)","v":"04303-MONTE PATRIA"},"105431","81701009","2022-01-13T16:04:29",23,null,23,null,23]
[12,"5",2021,{"$f":"IFERROR(VLOOKUP(Tabla_SERIEBM_01_6[[#This Row],[IdEstablecimiento]],[1]Establecimientos!A$1:E$175,5,FALSE),0)","v":"04303-MONTE PATRIA"},"105435","80106014","2022-01-13T16:05:35",69,null,69,null,69]
[12,"5",2021,{"$f":"IFERROR(VLOOKUP(Tabla_SERIEBM_01_6[[#This Row],[IdEstablecimiento]],[1]Establecimientos!A$1:E$175,5,FALSE),0)","v":"04303-MONTE PATRIA"},"105489","80307011","2022-01-13T16:06:54",14,null,14]
[12,"5",2021,{"$f":"IFERROR(VLOOKUP(Tabla_SERIEBM_01_6[[#This Row],[IdEstablecimiento]],[1]Establecimientos!A$1:E$175,5,FALSE),0)","v":"04304-PUNITAQUI"},"105440","18020300","2022-01-13T16:10:34",3,0,3]
[12,"5",2021,{"$f":"IFERROR(VLOOKUP(Tabla_SERIEBM_01_6[[#This Row],[IdEstablecimiento]],[1]Establecimientos!A$1:E$175,5,FALSE),0)","v":"04304-PUNITAQUI"},"105508","80302057","2022-01-13T16:13:23",0,null,null,2]
[12,"5",2021,{"$f":"IFERROR(VLOOKUP(Tabla_SERIEBM_01_6[[#This Row],[IdEstablecimiento]],[1]Establecimientos!A$1:E$175,5,FALSE),0)","v":"04302-COMBARBALÁ"},"105434","80106014","2022-01-13T16:15:41",91,null,91,null,91]
[12,"5",2021,{"$f":"IFERROR(VLOOKUP(Tabla_SERIEBM_01_6[[#This Row],[IdEstablecimiento]],[1]Establecimientos!A$1:E$175,5,FALSE),0)","v":"04304-PUNITAQUI"},"105440","81707030","2022-01-13T16:10:34",3,null,3,null,3]
[12,"5",2021,{"$f":"IFERROR(VLOOKUP(Tabla_SERIEBM_01_6[[#This Row],[IdEstablecimiento]],[1]Establecimientos!A$1:E$175,5,FALSE),0)","v":"04302-COMBARBALÁ"},"105459","18700100","2022-01-13T16:16:48",22,1,18,3]
[12,"5",2021,{"$f":"IFERROR(VLOOKUP(Tabla_SERIEBM_01_6[[#This Row],[IdEstablecimiento]],[1]Establecimientos!A$1:E$175,5,FALSE),0)","v":"04302-COMBARBALÁ"},"105462","80106022","2022-01-13T16:19:01",2,null,2,null,2]
[12,"5",2021,{"$f":"IFERROR(VLOOKUP(Tabla_SERIEBM_01_6[[#This Row],[IdEstablecimiento]],[1]Establecimientos!A$1:E$175,5,FALSE),0)","v":"04302-COMBARBALÁ"},"105463","80106023","2022-01-13T16:20:11",10,null,10,null,10]
[12,"5",2021,{"$f":"IFERROR(VLOOKUP(Tabla_SERIEBM_01_6[[#This Row],[IdEstablecimiento]],[1]Establecimientos!A$1:E$175,5,FALSE),0)","v":"04302-COMBARBALÁ"},"105465","18400900","2022-01-13T16:21:21",1,1]
[12,"5",2021,{"$f":"IFERROR(VLOOKUP(Tabla_SERIEBM_01_6[[#This Row],[IdEstablecimiento]],[1]Establecimientos!A$1:E$175,5,FALSE),0)","v":"04302-COMBARBALÁ"},"105460","18020500","2022-01-13T16:24:59",6,0,6]
[12,"5",2021,{"$f":"IFERROR(VLOOKUP(Tabla_SERIEBM_01_6[[#This Row],[IdEstablecimiento]],[1]Establecimientos!A$1:E$175,5,FALSE),0)","v":"04201-ILLAPEL"},"105443","80302034","2022-01-13T16:26:58",0,null,null,13]
[12,"5",2021,{"$f":"IFERROR(VLOOKUP(Tabla_SERIEBM_01_6[[#This Row],[IdEstablecimiento]],[1]Establecimientos!A$1:E$175,5,FALSE),0)","v":"04201-ILLAPEL"},"105445","80106002","2022-01-13T16:27:16",2,null,2,null,2]
[12,"5",2021,{"$f":"IFERROR(VLOOKUP(Tabla_SERIEBM_01_6[[#This Row],[IdEstablecimiento]],[1]Establecimientos!A$1:E$175,5,FALSE),0)","v":"04201-ILLAPEL"},"105445","18090000","2022-01-13T16:27:16",2,0,2]
[12,"5",2021,{"$f":"IFERROR(VLOOKUP(Tabla_SERIEBM_01_6[[#This Row],[IdEstablecimiento]],[1]Establecimientos!A$1:E$175,5,FALSE),0)","v":"04201-ILLAPEL"},"105486","80309023","2022-01-13T16:33:31",0,null,null,5]
[12,"5",2021,{"$f":"IFERROR(VLOOKUP(Tabla_SERIEBM_01_6[[#This Row],[IdEstablecimiento]],[1]Establecimientos!A$1:E$175,5,FALSE),0)","v":"04201-ILLAPEL"},"105486","80106023","2022-01-13T16:33:31",2,null,2,null,2]
[12,"5",2021,{"$f":"IFERROR(VLOOKUP(Tabla_SERIEBM_01_6[[#This Row],[IdEstablecimiento]],[1]Establecimientos!A$1:E$175,5,FALSE),0)","v":"04201-ILLAPEL"},"105446","80302005","2022-01-13T16:28:25",0,null,null,1]
[12,"5",2021,{"$f":"IFERROR(VLOOKUP(Tabla_SERIEBM_01_6[[#This Row],[IdEstablecimiento]],[1]Establecimientos!A$1:E$175,5,FALSE),0)","v":"04201-ILLAPEL"},"105447","18700100","2022-01-13T16:29:34",17,0,17,0]
[12,"5",2021,{"$f":"IFERROR(VLOOKUP(Tabla_SERIEBM_01_6[[#This Row],[IdEstablecimiento]],[1]Establecimientos!A$1:E$175,5,FALSE),0)","v":"04201-ILLAPEL"},"105448","80302047","2022-01-13T16:30:53",0,null,null,21]
[12,"5",2021,{"$f":"IFERROR(VLOOKUP(Tabla_SERIEBM_01_6[[#This Row],[IdEstablecimiento]],[1]Establecimientos!A$1:E$175,5,FALSE),0)","v":"04201-ILLAPEL"},"105496","80106013","2022-01-13T16:34:41",3,null,3,null,3]
[12,"5",2021,{"$f":"IFERROR(VLOOKUP(Tabla_SERIEBM_01_6[[#This Row],[IdEstablecimiento]],[1]Establecimientos!A$1:E$175,5,FALSE),0)","v":"04201-ILLAPEL"},"105487","80306011","2022-01-13T16:34:45",0,null,null,2]
[12,"5",2021,{"$f":"IFERROR(VLOOKUP(Tabla_SERIEBM_01_6[[#This Row],[IdEstablecimiento]],[1]Establecimientos!A$1:E$175,5,FALSE),0)","v":"04201-ILLAPEL"},"105487","80106015","2022-01-13T16:34:45",18,null,18,null,18]
[12,"5",2021,{"$f":"IFERROR(VLOOKUP(Tabla_SERIEBM_01_6[[#This Row],[IdEstablecimiento]],[1]Establecimientos!A$1:E$175,5,FALSE),0)","v":"04201-ILLAPEL"},"105504","80302032","2022-01-13T16:36:06",0,null,null,1]
[12,"5",2021,{"$f":"IFERROR(VLOOKUP(Tabla_SERIEBM_01_6[[#This Row],[IdEstablecimiento]],[1]Establecimientos!A$1:E$175,5,FALSE),0)","v":"04201-ILLAPEL"},"105504","80302034","2022-01-13T16:36:06",0,null,null,10]
[12,"5",2021,{"$f":"IFERROR(VLOOKUP(Tabla_SERIEBM_01_6[[#This Row],[IdEstablecimiento]],[1]Establecimientos!A$1:E$175,5,FALSE),0)","v":"04204-SALAMANCA"},"105457","80106022","2022-01-13T16:38:13",2,null,2]
[12,"5",2021,{"$f":"IFERROR(VLOOKUP(Tabla_SERIEBM_01_6[[#This Row],[IdEstablecimiento]],[1]Establecimientos!A$1:E$175,5,FALSE),0)","v":"04204-SALAMANCA"},"105456","18700100","2022-01-13T16:38:15",18,1,15,2]
[12,"5",2021,{"$f":"IFERROR(VLOOKUP(Tabla_SERIEBM_01_6[[#This Row],[IdEstablecimiento]],[1]Establecimientos!A$1:E$175,5,FALSE),0)","v":"04204-SALAMANCA"},"105491","18700100","2022-01-13T16:39:17",71,null,67,4]
[12,"5",2021,{"$f":"IFERROR(VLOOKUP(Tabla_SERIEBM_01_6[[#This Row],[IdEstablecimiento]],[1]Establecimientos!A$1:E$175,5,FALSE),0)","v":"04204-SALAMANCA"},"105458","18400900","2022-01-13T16:39:18",7,1,6]
[12,"5",2021,{"$f":"IFERROR(VLOOKUP(Tabla_SERIEBM_01_6[[#This Row],[IdEstablecimiento]],[1]Establecimientos!A$1:E$175,5,FALSE),0)","v":"04204-SALAMANCA"},"105492","18020500","2022-01-13T16:40:21",3,0,3]
[12,"5",2021,{"$f":"IFERROR(VLOOKUP(Tabla_SERIEBM_01_6[[#This Row],[IdEstablecimiento]],[1]Establecimientos!A$1:E$175,5,FALSE),0)","v":"04203-LOS VILOS"},"105479","80302057","2022-01-13T16:41:41",0,null,null,30]
[12,"5",2021,{"$f":"IFERROR(VLOOKUP(Tabla_SERIEBM_01_6[[#This Row],[IdEstablecimiento]],[1]Establecimientos!A$1:E$175,5,FALSE),0)","v":"04203-LOS VILOS"},"105481","80302057","2022-01-13T16:42:53",0,null,null,23]
[12,"5",2021,{"$f":"IFERROR(VLOOKUP(Tabla_SERIEBM_01_6[[#This Row],[IdEstablecimiento]],[1]Establecimientos!A$1:E$175,5,FALSE),0)","v":"04203-LOS VILOS"},"105480","80301045","2022-01-13T16:44:48",0,null,null,22]
[12,"5",2021,{"$f":"IFERROR(VLOOKUP(Tabla_SERIEBM_01_6[[#This Row],[IdEstablecimiento]],[1]Establecimientos!A$1:E$175,5,FALSE),0)","v":"04203-LOS VILOS"},"105480","80302034","2022-01-13T16:44:48",0,null,null,25]
[12,"5",2021,{"$f":"IFERROR(VLOOKUP(Tabla_SERIEBM_01_6[[#This Row],[IdEstablecimiento]],[1]Establecimientos!A$1:E$175,5,FALSE),0)","v":"04202-CANELA"},"105309","80302051","2022-01-13T16:46:03",0,null,null,1]
[12,"5",2021,{"$f":"IFERROR(VLOOKUP(Tabla_SERIEBM_01_6[[#This Row],[IdEstablecimiento]],[1]Establecimientos!A$1:E$175,5,FALSE),0)","v":"04202-CANELA"},"105309","80302060","2022-01-13T16:46:03",0,null,null,16]
[12,"5",2021,{"$f":"IFERROR(VLOOKUP(Tabla_SERIEBM_01_6[[#This Row],[IdEstablecimiento]],[1]Establecimientos!A$1:E$175,5,FALSE),0)","v":"04202-CANELA"},"105309","80302026","2022-01-13T16:46:03",0,null,null,2]
[12,"5",2021,{"$f":"IFERROR(VLOOKUP(Tabla_SERIEBM_01_6[[#This Row],[IdEstablecimiento]],[1]Establecimientos!A$1:E$175,5,FALSE),0)","v":"04202-CANELA"},"105309","80306079","2022-01-13T16:46:03",0,null,null,5]
[12,"5",2021,{"$f":"IFERROR(VLOOKUP(Tabla_SERIEBM_01_6[[#This Row],[IdEstablecimiento]],[1]Establecimientos!A$1:E$175,5,FALSE),0)","v":"04202-CANELA"},"105483","80106002","2022-01-13T16:48:17",5,5,null,null,5]
[12,"5",2021,{"$f":"IFERROR(VLOOKUP(Tabla_SERIEBM_01_6[[#This Row],[IdEstablecimiento]],[1]Establecimientos!A$1:E$175,5,FALSE),0)","v":"04202-CANELA"},"105484","81901019","2022-01-13T16:50:06",1,1,null,null,1]
[12,"5",2021,{"$f":"IFERROR(VLOOKUP(Tabla_SERIEBM_01_6[[#This Row],[IdEstablecimiento]],[1]Establecimientos!A$1:E$175,5,FALSE),0)","v":"04202-CANELA"},"105488","81701009","2022-01-13T16:50:39",3,3,null,null,3]
[12,"5",2021,{"$f":"IFERROR(VLOOKUP(Tabla_SERIEBM_01_6[[#This Row],[IdEstablecimiento]],[1]Establecimientos!A$1:E$175,5,FALSE),0)","v":"04202-CANELA"},"105493","18050100","2022-01-13T16:50:46",2,2,0]
[12,"5",2021,{"$f":"IFERROR(VLOOKUP(Tabla_SERIEBM_01_6[[#This Row],[IdEstablecimiento]],[1]Establecimientos!A$1:E$175,5,FALSE),0)","v":"04202-CANELA"},"105498","81602221","2022-01-13T16:52:25",1,1,null,null,1]
[12,"5",2021,{"$f":"IFERROR(VLOOKUP(Tabla_SERIEBM_01_6[[#This Row],[IdEstablecimiento]],[1]Establecimientos!A$1:E$175,5,FALSE),0)","v":"04101-LA SERENA"},"105819","82106004","2022-01-13T17:17:25",24,24,null,null,24]
[12,"5",2021,{"$f":"IFERROR(VLOOKUP(Tabla_SERIEBM_01_6[[#This Row],[IdEstablecimiento]],[1]Establecimientos!A$1:E$175,5,FALSE),0)","v":"04101-LA SERENA"},"105819","80500017","2022-01-13T17:17:25",326,326,null,null,326]
[12,"5",2021,{"$f":"IFERROR(VLOOKUP(Tabla_SERIEBM_01_6[[#This Row],[IdEstablecimiento]],[1]Establecimientos!A$1:E$175,5,FALSE),0)","v":"04101-LA SERENA"},"105402","80301041","2022-01-14T08:31:50",0,null,null,6]
[12,"5",2021,{"$f":"IFERROR(VLOOKUP(Tabla_SERIEBM_01_6[[#This Row],[IdEstablecimiento]],[1]Establecimientos!A$1:E$175,5,FALSE),0)","v":"04101-LA SERENA"},"105402","80106002","2022-01-14T08:31:50",19,null,19,null,19]
[12,"5",2021,{"$f":"IFERROR(VLOOKUP(Tabla_SERIEBM_01_6[[#This Row],[IdEstablecimiento]],[1]Establecimientos!A$1:E$175,5,FALSE),0)","v":"04303-MONTE PATRIA"},"200720","80401051","2022-01-14T08:35:54",9,9,null,3]
[12,"5",2021,{"$f":"IFERROR(VLOOKUP(Tabla_SERIEBM_01_6[[#This Row],[IdEstablecimiento]],[1]Establecimientos!A$1:E$175,5,FALSE),0)","v":"04303-MONTE PATRIA"},"200720","80106014","2022-01-14T08:35:54",706,706,null,null,706]
[12,"5",2021,{"$f":"IFERROR(VLOOKUP(Tabla_SERIEBM_01_6[[#This Row],[IdEstablecimiento]],[1]Establecimientos!A$1:E$175,5,FALSE),0)","v":"04201-ILLAPEL"},"105326","80305070","2022-01-14T08:44:53",0,null,null,4]
[12,"5",2021,{"$f":"IFERROR(VLOOKUP(Tabla_SERIEBM_01_6[[#This Row],[IdEstablecimiento]],[1]Establecimientos!A$1:E$175,5,FALSE),0)","v":"04201-ILLAPEL"},"105326","80106023","2022-01-14T08:44:53",17,null,17]
[12,"5",2021,{"$f":"IFERROR(VLOOKUP(Tabla_SERIEBM_01_6[[#This Row],[IdEstablecimiento]],[1]Establecimientos!A$1:E$175,5,FALSE),0)","v":"04201-ILLAPEL"},"200366","80301059","2022-01-14T08:49:27",0,null,null,10]
[12,"5",2021,{"$f":"IFERROR(VLOOKUP(Tabla_SERIEBM_01_6[[#This Row],[IdEstablecimiento]],[1]Establecimientos!A$1:E$175,5,FALSE),0)","v":"04201-ILLAPEL"},"200366","80306007","2022-01-14T08:49:27",0,null,null,1]
[12,"5",2021,{"$f":"IFERROR(VLOOKUP(Tabla_SERIEBM_01_6[[#This Row],[IdEstablecimiento]],[1]Establecimientos!A$1:E$175,5,FALSE),0)","v":"04102-COQUIMBO"},"200607","80302047","2022-01-14T09:42:22",0,null,null,328]
[12,"5",2021,{"$f":"IFERROR(VLOOKUP(Tabla_SERIEBM_01_6[[#This Row],[IdEstablecimiento]],[1]Establecimientos!A$1:E$175,5,FALSE),0)","v":"04102-COQUIMBO"},"200607","80302064","2022-01-14T09:42:22",0,null,null,233]
[12,"5",2021,{"$f":"IFERROR(VLOOKUP(Tabla_SERIEBM_01_6[[#This Row],[IdEstablecimiento]],[1]Establecimientos!A$1:E$175,5,FALSE),0)","v":"04102-COQUIMBO"},"200607","80306042","2022-01-14T09:42:22",0,null,null,218]
[12,"5",2021,{"$f":"IFERROR(VLOOKUP(Tabla_SERIEBM_01_6[[#This Row],[IdEstablecimiento]],[1]Establecimientos!A$1:E$175,5,FALSE),0)","v":"04102-COQUIMBO"},"200607","80404003","2022-01-14T09:42:22",0,null,null,18]
[12,"5",2021,{"$f":"IFERROR(VLOOKUP(Tabla_SERIEBM_01_6[[#This Row],[IdEstablecimiento]],[1]Establecimientos!A$1:E$175,5,FALSE),0)","v":"04102-COQUIMBO"},"200848","80106021","2022-01-14T09:42:56",1,1,null,null,1]
[12,"5",2021,{"$f":"IFERROR(VLOOKUP(Tabla_SERIEBM_01_6[[#This Row],[IdEstablecimiento]],[1]Establecimientos!A$1:E$175,5,FALSE),0)","v":0},"200928","80106013","2022-01-14T09:43:45",3,3,null,null,3]
[12,"5",2021,{"$f":"IFERROR(VLOOKUP(Tabla_SERIEBM_01_6[[#This Row],[IdEstablecimiento]],[1]Establecimientos!A$1:E$175,5,FALSE),0)","v":"04201-ILLAPEL"},"105444","80306011","2022-01-14T09:44:31",0,null,null,1]
[5,"5",2021,{"$f":"IFERROR(VLOOKUP(Tabla_SERIEBM_01_6[[#This Row],[IdEstablecimiento]],[1]Establecimientos!A$1:E$175,5,FALSE),0)","v":"04104-LA HIGUERA"},"200740","80106007","2022-01-14T10:20:55",2,2,null,null,2]
[5,"5",2021,{"$f":"IFERROR(VLOOKUP(Tabla_SERIEBM_01_6[[#This Row],[IdEstablecimiento]],[1]Establecimientos!A$1:E$175,5,FALSE),0)","v":"04104-LA HIGUERA"},"200740","18050200","2022-01-14T10:20:55",14,14,0]
[12,"5",2021,{"$f":"IFERROR(VLOOKUP(Tabla_SERIEBM_01_6[[#This Row],[IdEstablecimiento]],[1]Establecimientos!A$1:E$175,5,FALSE),0)","v":"04204-SALAMANCA"},"105453","18050100","2022-01-14T10:22:00",63,0,63]
[12,"5",2021,{"$f":"IFERROR(VLOOKUP(Tabla_SERIEBM_01_6[[#This Row],[IdEstablecimiento]],[1]Establecimientos!A$1:E$175,5,FALSE),0)","v":"04102-COQUIMBO"},"105804","80500011","2022-01-14T10:23:25",19,19,null,null,19]
[12,"5",2021,{"$f":"IFERROR(VLOOKUP(Tabla_SERIEBM_01_6[[#This Row],[IdEstablecimiento]],[1]Establecimientos!A$1:E$175,5,FALSE),0)","v":"04301-OVALLE"},"105822","80307012","2022-01-14T10:24:05",6,6]
[12,"5",2021,{"$f":"IFERROR(VLOOKUP(Tabla_SERIEBM_01_6[[#This Row],[IdEstablecimiento]],[1]Establecimientos!A$1:E$175,5,FALSE),0)","v":"04301-OVALLE"},"105822","18050100","2022-01-14T10:24:05",82,82,0]
[12,"5",2021,{"$f":"IFERROR(VLOOKUP(Tabla_SERIEBM_01_6[[#This Row],[IdEstablecimiento]],[1]Establecimientos!A$1:E$175,5,FALSE),0)","v":"04202-CANELA"},"105809","80500011","2022-01-14T11:27:01",18,18,null,null,18]
[12,"5",2021,{"$f":"IFERROR(VLOOKUP(Tabla_SERIEBM_01_6[[#This Row],[IdEstablecimiento]],[1]Establecimientos!A$1:E$175,5,FALSE),0)","v":"04101-LA SERENA"},"105300","80306011","2022-01-13T12:21:56",0,null,null,45]
[11,"5",2021,{"$f":"IFERROR(VLOOKUP(Tabla_SERIEBM_01_6[[#This Row],[IdEstablecimiento]],[1]Establecimientos!A$1:E$175,5,FALSE),0)","v":"04101-LA SERENA"},"105300","18700100","2021-12-17T07:55:06",3121,100,2723,298]
[5,"5",2021,{"$f":"IFERROR(VLOOKUP(Tabla_SERIEBM_01_6[[#This Row],[IdEstablecimiento]],[1]Establecimientos!A$1:E$175,5,FALSE),0)","v":"04301-OVALLE"},"105822","80401051","2021-06-11T14:23:03",17,17]
[1,"5",2021,{"$f":"IFERROR(VLOOKUP(Tabla_SERIEBM_01_6[[#This Row],[IdEstablecimiento]],[1]Establecimientos!A$1:E$175,5,FALSE),0)","v":"04102-COQUIMBO"},"105321","18090200","2021-02-18T03:28:35",3]
[5,"5",2021,{"$f":"IFERROR(VLOOKUP(Tabla_SERIEBM_01_6[[#This Row],[IdEstablecimiento]],[1]Establecimientos!A$1:E$175,5,FALSE),0)","v":"04203-LOS VILOS"},"105479","80302032","2021-10-19T08:43:28",0,null,null,8]
[8,"5",2021,{"$f":"IFERROR(VLOOKUP(Tabla_SERIEBM_01_6[[#This Row],[IdEstablecimiento]],[1]Establecimientos!A$1:E$175,5,FALSE),0)","v":"04301-OVALLE"},"200569","18090200","2021-09-16T13:29:21",69]
[8,"5",2021,{"$f":"IFERROR(VLOOKUP(Tabla_SERIEBM_01_6[[#This Row],[IdEstablecimiento]],[1]Establecimientos!A$1:E$175,5,FALSE),0)","v":"04303-MONTE PATRIA"},"105489","81701009","2021-09-16T11:56:00",20,null,20,null,20]
[1,"5",2021,{"$f":"IFERROR(VLOOKUP(Tabla_SERIEBM_01_6[[#This Row],[IdEstablecimiento]],[1]Establecimientos!A$1:E$175,5,FALSE),0)","v":"04301-OVALLE"},"105817","80106014","2021-02-18T05:54:41",402,402]
[6,"5",2021,{"$f":"IFERROR(VLOOKUP(Tabla_SERIEBM_01_6[[#This Row],[IdEstablecimiento]],[1]Establecimientos!A$1:E$175,5,FALSE),0)","v":"04301-OVALLE"},"105324","81601115","2021-07-19T12:09:30",3,null,3,null,3]
[5,"5",2021,{"$f":"IFERROR(VLOOKUP(Tabla_SERIEBM_01_6[[#This Row],[IdEstablecimiento]],[1]Establecimientos!A$1:E$175,5,FALSE),0)","v":"04102-COQUIMBO"},"105321","80302005","2021-06-11T09:52:29",0,null,null,158]
[1,"5",2021,{"$f":"IFERROR(VLOOKUP(Tabla_SERIEBM_01_6[[#This Row],[IdEstablecimiento]],[1]Establecimientos!A$1:E$175,5,FALSE),0)","v":"04303-MONTE PATRIA"},"105431","80106017","2021-02-18T03:47:51",8,null,8,null,8]
[6,"5",2021,{"$f":"IFERROR(VLOOKUP(Tabla_SERIEBM_01_6[[#This Row],[IdEstablecimiento]],[1]Establecimientos!A$1:E$175,5,FALSE),0)","v":"04102-COQUIMBO"},"105823","80106014","2021-07-19T15:07:32",1580,1580,null,null,1580]
[5,"5",2021,{"$f":"IFERROR(VLOOKUP(Tabla_SERIEBM_01_6[[#This Row],[IdEstablecimiento]],[1]Establecimientos!A$1:E$175,5,FALSE),0)","v":"04301-OVALLE"},"105415","80106013","2021-06-11T10:02:31",3,null,3,null,3]
[8,"5",2021,{"$f":"IFERROR(VLOOKUP(Tabla_SERIEBM_01_6[[#This Row],[IdEstablecimiento]],[1]Establecimientos!A$1:E$175,5,FALSE),0)","v":"04102-COQUIMBO"},"105323","81602203","2021-11-15T12:47:33",6,null,6,6]
[7,"5",2021,{"$f":"IFERROR(VLOOKUP(Tabla_SERIEBM_01_6[[#This Row],[IdEstablecimiento]],[1]Establecimientos!A$1:E$175,5,FALSE),0)","v":"04105-PAIHUANO"},"105306","80106014","2021-08-17T04:54:09",76,null,76,null,76]
[10,"5",2021,{"$f":"IFERROR(VLOOKUP(Tabla_SERIEBM_01_6[[#This Row],[IdEstablecimiento]],[1]Establecimientos!A$1:E$175,5,FALSE),0)","v":"04204-SALAMANCA"},"105453","80106022","2021-11-15T10:32:45",1,null,1]
[9,"5",2021,{"$f":"IFERROR(VLOOKUP(Tabla_SERIEBM_01_6[[#This Row],[IdEstablecimiento]],[1]Establecimientos!A$1:E$175,5,FALSE),0)","v":"04204-SALAMANCA"},"105458","80106015","2021-10-15T13:06:03",4,null,4]
[9,"5",2021,{"$f":"IFERROR(VLOOKUP(Tabla_SERIEBM_01_6[[#This Row],[IdEstablecimiento]],[1]Establecimientos!A$1:E$175,5,FALSE),0)","v":"04301-OVALLE"},"105510","18090000","2021-10-15T13:26:35",5,0,5]
[7,"5",2021,{"$f":"IFERROR(VLOOKUP(Tabla_SERIEBM_01_6[[#This Row],[IdEstablecimiento]],[1]Establecimientos!A$1:E$175,5,FALSE),0)","v":"04101-LA SERENA"},"105819","80401028","2021-08-17T09:38:03",2,2]
[6,"5",2021,{"$f":"IFERROR(VLOOKUP(Tabla_SERIEBM_01_6[[#This Row],[IdEstablecimiento]],[1]Establecimientos!A$1:E$175,5,FALSE),0)","v":0},"200928","81602222","2021-07-19T15:23:32",4,4,null,4]
[5,"5",2021,{"$f":"IFERROR(VLOOKUP(Tabla_SERIEBM_01_6[[#This Row],[IdEstablecimiento]],[1]Establecimientos!A$1:E$175,5,FALSE),0)","v":"04201-ILLAPEL"},"105443","80307011","2021-06-11T11:38:37",0,null,null,38]
[7,"5",2021,{"$f":"IFERROR(VLOOKUP(Tabla_SERIEBM_01_6[[#This Row],[IdEstablecimiento]],[1]Establecimientos!A$1:E$175,5,FALSE),0)","v":"04101-LA SERENA"},"105819","80106017","2021-08-17T09:38:03",15,15,null,null,15]
[4,"5",2021,{"$f":"IFERROR(VLOOKUP(Tabla_SERIEBM_01_6[[#This Row],[IdEstablecimiento]],[1]Establecimientos!A$1:E$175,5,FALSE),0)","v":"04102-COQUIMBO"},"105323","80106010","2021-08-17T10:23:38",2,null,2,2]
[4,"5",2021,{"$f":"IFERROR(VLOOKUP(Tabla_SERIEBM_01_6[[#This Row],[IdEstablecimiento]],[1]Establecimientos!A$1:E$175,5,FALSE),0)","v":"04303-MONTE PATRIA"},"105425","81701009","2021-05-13T17:19:27",17,null,17,null,17]
[9,"5",2021,{"$f":"IFERROR(VLOOKUP(Tabla_SERIEBM_01_6[[#This Row],[IdEstablecimiento]],[1]Establecimientos!A$1:E$175,5,FALSE),0)","v":"04301-OVALLE"},"200721","80309023","2021-10-15T13:40:51",33,33]
[6,"5",2021,{"$f":"IFERROR(VLOOKUP(Tabla_SERIEBM_01_6[[#This Row],[IdEstablecimiento]],[1]Establecimientos!A$1:E$175,5,FALSE),0)","v":"04106-VICUÑA"},"105474","18020500","2021-07-19T14:30:44",2,0,2]
[8,"5",2021,{"$f":"IFERROR(VLOOKUP(Tabla_SERIEBM_01_6[[#This Row],[IdEstablecimiento]],[1]Establecimientos!A$1:E$175,5,FALSE),0)","v":"04104-LA HIGUERA"},"105314","81602222","2021-09-16T10:55:15",6,null,6,null,6]
[6,"5",2021,{"$f":"IFERROR(VLOOKUP(Tabla_SERIEBM_01_6[[#This Row],[IdEstablecimiento]],[1]Establecimientos!A$1:E$175,5,FALSE),0)","v":"04101-LA SERENA"},"105701","80301038","2021-07-19T14:52:48",0,null,null,3]
[5,"5",2021,{"$f":"IFERROR(VLOOKUP(Tabla_SERIEBM_01_6[[#This Row],[IdEstablecimiento]],[1]Establecimientos!A$1:E$175,5,FALSE),0)","v":"04301-OVALLE"},"200721","18020500","2021-06-11T14:33:23",23,23,0]
[5,"5",2021,{"$f":"IFERROR(VLOOKUP(Tabla_SERIEBM_01_6[[#This Row],[IdEstablecimiento]],[1]Establecimientos!A$1:E$175,5,FALSE),0)","v":"04305-RIO HURTADO"},"105413","18050100","2021-06-11T10:01:30",5,0,5]
[7,"5",2021,{"$f":"IFERROR(VLOOKUP(Tabla_SERIEBM_01_6[[#This Row],[IdEstablecimiento]],[1]Establecimientos!A$1:E$175,5,FALSE),0)","v":"04101-LA SERENA"},"105400","80106014","2021-08-17T05:17:13",645,null,645,null,645]
[4,"5",2021,{"$f":"IFERROR(VLOOKUP(Tabla_SERIEBM_01_6[[#This Row],[IdEstablecimiento]],[1]Establecimientos!A$1:E$175,5,FALSE),0)","v":"04106-VICUÑA"},"105471","80302008","2021-05-14T10:05:26",0,null,null,1]
[5,"5",2021,{"$f":"IFERROR(VLOOKUP(Tabla_SERIEBM_01_6[[#This Row],[IdEstablecimiento]],[1]Establecimientos!A$1:E$175,5,FALSE),0)","v":"04305-RIO HURTADO"},"105411","80301041","2021-06-11T10:01:01",0,null,null,5]
[4,"5",2021,{"$f":"IFERROR(VLOOKUP(Tabla_SERIEBM_01_6[[#This Row],[IdEstablecimiento]],[1]Establecimientos!A$1:E$175,5,FALSE),0)","v":"04303-MONTE PATRIA"},"105430","80500011","2021-05-13T17:20:44",28,null,28,null,28]
[5,"5",2021,{"$f":"IFERROR(VLOOKUP(Tabla_SERIEBM_01_6[[#This Row],[IdEstablecimiento]],[1]Establecimientos!A$1:E$175,5,FALSE),0)","v":"04102-COQUIMBO"},"105803","80106015","2021-06-11T14:11:27",130,130,null,null,130]
[8,"5",2021,{"$f":"IFERROR(VLOOKUP(Tabla_SERIEBM_01_6[[#This Row],[IdEstablecimiento]],[1]Establecimientos!A$1:E$175,5,FALSE),0)","v":"04104-LA HIGUERA"},"105314","80307011","2021-09-16T10:55:15",340,null,340]
[4,"5",2021,{"$f":"IFERROR(VLOOKUP(Tabla_SERIEBM_01_6[[#This Row],[IdEstablecimiento]],[1]Establecimientos!A$1:E$175,5,FALSE),0)","v":"04101-LA SERENA"},"105301","81602221","2021-05-13T16:39:53",4,null,4,4]
[7,"5",2021,{"$f":"IFERROR(VLOOKUP(Tabla_SERIEBM_01_6[[#This Row],[IdEstablecimiento]],[1]Establecimientos!A$1:E$175,5,FALSE),0)","v":"04101-LA SERENA"},"105401","80301038","2021-08-17T05:18:00",0,null,null,9]
[5,"5",2021,{"$f":"IFERROR(VLOOKUP(Tabla_SERIEBM_01_6[[#This Row],[IdEstablecimiento]],[1]Establecimientos!A$1:E$175,5,FALSE),0)","v":"04305-RIO HURTADO"},"105503","80302023","2021-06-11T14:01:19",0,null,null,16]
[6,"5",2021,{"$f":"IFERROR(VLOOKUP(Tabla_SERIEBM_01_6[[#This Row],[IdEstablecimiento]],[1]Establecimientos!A$1:E$175,5,FALSE),0)","v":"04303-MONTE PATRIA"},"105311","81901019","2021-08-17T10:12:59",9,null,9,null,9]
[4,"5",2021,{"$f":"IFERROR(VLOOKUP(Tabla_SERIEBM_01_6[[#This Row],[IdEstablecimiento]],[1]Establecimientos!A$1:E$175,5,FALSE),0)","v":"04102-COQUIMBO"},"200607","80404003","2021-05-14T11:16:57",0,null,null,14]
[5,"5",2021,{"$f":"IFERROR(VLOOKUP(Tabla_SERIEBM_01_6[[#This Row],[IdEstablecimiento]],[1]Establecimientos!A$1:E$175,5,FALSE),0)","v":"04303-MONTE PATRIA"},"105307","80302048","2021-06-11T09:46:14",114,null,114]
[1,"5",2021,{"$f":"IFERROR(VLOOKUP(Tabla_SERIEBM_01_6[[#This Row],[IdEstablecimiento]],[1]Establecimientos!A$1:E$175,5,FALSE),0)","v":"04102-COQUIMBO"},"200499","80307012","2021-02-18T06:02:07",16,null,16]
[8,"5",2021,{"$f":"IFERROR(VLOOKUP(Tabla_SERIEBM_01_6[[#This Row],[IdEstablecimiento]],[1]Establecimientos!A$1:E$175,5,FALSE),0)","v":"04101-LA SERENA"},"105325","80303026","2021-10-18T08:58:32",0,null,null,103]
[4,"5",2021,{"$f":"IFERROR(VLOOKUP(Tabla_SERIEBM_01_6[[#This Row],[IdEstablecimiento]],[1]Establecimientos!A$1:E$175,5,FALSE),0)","v":"04101-LA SERENA"},"105319","81602223","2021-05-13T17:00:30",2,null,2,2]
[1,"5",2021,{"$f":"IFERROR(VLOOKUP(Tabla_SERIEBM_01_6[[#This Row],[IdEstablecimiento]],[1]Establecimientos!A$1:E$175,5,FALSE),0)","v":"04203-LOS VILOS"},"105479","80302075","2021-05-14T12:01:39",0,null,null,12]
[8,"5",2021,{"$f":"IFERROR(VLOOKUP(Tabla_SERIEBM_01_6[[#This Row],[IdEstablecimiento]],[1]Establecimientos!A$1:E$175,5,FALSE),0)","v":"04303-MONTE PATRIA"},"105435","81701009","2021-09-16T11:19:09",17,null,17,null,17]
[6,"5",2021,{"$f":"IFERROR(VLOOKUP(Tabla_SERIEBM_01_6[[#This Row],[IdEstablecimiento]],[1]Establecimientos!A$1:E$175,5,FALSE),0)","v":"04105-PAIHUANO"},"105477","18020500","2021-07-19T14:34:07",45,0,45]
[5,"5",2021,{"$f":"IFERROR(VLOOKUP(Tabla_SERIEBM_01_6[[#This Row],[IdEstablecimiento]],[1]Establecimientos!A$1:E$175,5,FALSE),0)","v":"04101-LA SERENA"},"105701","80306042","2021-06-11T14:08:21",0,null,null,7]
[5,"5",2021,{"$f":"IFERROR(VLOOKUP(Tabla_SERIEBM_01_6[[#This Row],[IdEstablecimiento]],[1]Establecimientos!A$1:E$175,5,FALSE),0)","v":"04204-SALAMANCA"},"105501","80106002","2021-06-11T14:00:50",34,null,34]
[9,"5",2021,{"$f":"IFERROR(VLOOKUP(Tabla_SERIEBM_01_6[[#This Row],[IdEstablecimiento]],[1]Establecimientos!A$1:E$175,5,FALSE),0)","v":"04101-LA SERENA"},"105700","80302064","2021-10-15T13:27:27",0,null,null,52]
[7,"5",2021,{"$f":"IFERROR(VLOOKUP(Tabla_SERIEBM_01_6[[#This Row],[IdEstablecimiento]],[1]Establecimientos!A$1:E$175,5,FALSE),0)","v":"04102-COQUIMBO"},"200273","80301045","2021-08-17T09:42:59",0,null,null,21]
[4,"5",2021,{"$f":"IFERROR(VLOOKUP(Tabla_SERIEBM_01_6[[#This Row],[IdEstablecimiento]],[1]Establecimientos!A$1:E$175,5,FALSE),0)","v":"04301-OVALLE"},"105322","18050300","2021-05-13T17:01:26",177,0,177]
[10,"5",2021,{"$f":"IFERROR(VLOOKUP(Tabla_SERIEBM_01_6[[#This Row],[IdEstablecimiento]],[1]Establecimientos!A$1:E$175,5,FALSE),0)","v":"04302-COMBARBALÁ"},"105461","80301041","2021-11-15T10:36:28",0,null,null,11]
[5,"5",2021,{"$f":"IFERROR(VLOOKUP(Tabla_SERIEBM_01_6[[#This Row],[IdEstablecimiento]],[1]Establecimientos!A$1:E$175,5,FALSE),0)","v":"04301-OVALLE"},"105417","80106014","2021-06-11T10:03:28",13,null,13]
[5,"5",2021,{"$f":"IFERROR(VLOOKUP(Tabla_SERIEBM_01_6[[#This Row],[IdEstablecimiento]],[1]Establecimientos!A$1:E$175,5,FALSE),0)","v":"04106-VICUÑA"},"105473","80309010","2021-06-11T12:02:01",0,null,null,9]
[4,"5",2021,{"$f":"IFERROR(VLOOKUP(Tabla_SERIEBM_01_6[[#This Row],[IdEstablecimiento]],[1]Establecimientos!A$1:E$175,5,FALSE),0)","v":"04102-COQUIMBO"},"105321","80106020","2021-05-13T17:01:01",2,2,null,null,1]
[1,"5",2021,{"$f":"IFERROR(VLOOKUP(Tabla_SERIEBM_01_6[[#This Row],[IdEstablecimiento]],[1]Establecimientos!A$1:E$175,5,FALSE),0)","v":"04105-PAIHUANO"},"105306","80306042","2021-02-18T03:20:52",0,null,null,17]
[7,"5",2021,{"$f":"IFERROR(VLOOKUP(Tabla_SERIEBM_01_6[[#This Row],[IdEstablecimiento]],[1]Establecimientos!A$1:E$175,5,FALSE),0)","v":"04101-LA SERENA"},"105819","18700100","2021-08-17T09:38:03",456,108,305,43]
[1,"5",2021,{"$f":"IFERROR(VLOOKUP(Tabla_SERIEBM_01_6[[#This Row],[IdEstablecimiento]],[1]Establecimientos!A$1:E$175,5,FALSE),0)","v":"04303-MONTE PATRIA"},"200720","80401059","2021-02-18T06:04:39",27,27]
[6,"5",2021,{"$f":"IFERROR(VLOOKUP(Tabla_SERIEBM_01_6[[#This Row],[IdEstablecimiento]],[1]Establecimientos!A$1:E$175,5,FALSE),0)","v":"04102-COQUIMBO"},"105305","80307012","2021-08-17T10:11:59",41,null,41]
[1,"5",2021,{"$f":"IFERROR(VLOOKUP(Tabla_SERIEBM_01_6[[#This Row],[IdEstablecimiento]],[1]Establecimientos!A$1:E$175,5,FALSE),0)","v":"04303-MONTE PATRIA"},"200720","81901022","2021-02-18T06:04:39",6,6,null,null,6]
[5,"5",2021,{"$f":"IFERROR(VLOOKUP(Tabla_SERIEBM_01_6[[#This Row],[IdEstablecimiento]],[1]Establecimientos!A$1:E$175,5,FALSE),0)","v":"04102-COQUIMBO"},"105304","80302064","2021-06-11T09:44:50",0,null,null,199]
[10,"5",2021,{"$f":"IFERROR(VLOOKUP(Tabla_SERIEBM_01_6[[#This Row],[IdEstablecimiento]],[1]Establecimientos!A$1:E$175,5,FALSE),0)","v":"04302-COMBARBALÁ"},"105461","80302023","2021-11-15T10:36:28",0,null,null,11]
[6,"5",2021,{"$f":"IFERROR(VLOOKUP(Tabla_SERIEBM_01_6[[#This Row],[IdEstablecimiento]],[1]Establecimientos!A$1:E$175,5,FALSE),0)","v":"04204-SALAMANCA"},"105454","18090000","2021-07-19T14:12:07",14,0,14]
[7,"5",2021,{"$f":"IFERROR(VLOOKUP(Tabla_SERIEBM_01_6[[#This Row],[IdEstablecimiento]],[1]Establecimientos!A$1:E$175,5,FALSE),0)","v":"04305-RIO HURTADO"},"105409","80500011","2021-08-17T05:48:44",2,null,2,null,2]
[8,"5",2021,{"$f":"IFERROR(VLOOKUP(Tabla_SERIEBM_01_6[[#This Row],[IdEstablecimiento]],[1]Establecimientos!A$1:E$175,5,FALSE),0)","v":"04101-LA SERENA"},"105300","80302047","2021-09-16T10:46:28",0,null,null,211]
[1,"5",2021,{"$f":"IFERROR(VLOOKUP(Tabla_SERIEBM_01_6[[#This Row],[IdEstablecimiento]],[1]Establecimientos!A$1:E$175,5,FALSE),0)","v":"04101-LA SERENA"},"105325","18050100","2021-02-18T03:30:24",214,0,214]
[7,"5",2021,{"$f":"IFERROR(VLOOKUP(Tabla_SERIEBM_01_6[[#This Row],[IdEstablecimiento]],[1]Establecimientos!A$1:E$175,5,FALSE),0)","v":"04102-COQUIMBO"},"105804","81707030","2021-08-17T09:23:55",17,17,null,17]
[8,"5",2021,{"$f":"IFERROR(VLOOKUP(Tabla_SERIEBM_01_6[[#This Row],[IdEstablecimiento]],[1]Establecimientos!A$1:E$175,5,FALSE),0)","v":"04102-COQUIMBO"},"200607","80301038","2021-09-16T13:31:26",0,null,null,75]
[1,"5",2021,{"$f":"IFERROR(VLOOKUP(Tabla_SERIEBM_01_6[[#This Row],[IdEstablecimiento]],[1]Establecimientos!A$1:E$175,5,FALSE),0)","v":"04105-PAIHUANO"},"105476","18030000","2021-02-18T04:40:46",1,0,1]
[6,"5",2021,{"$f":"IFERROR(VLOOKUP(Tabla_SERIEBM_01_6[[#This Row],[IdEstablecimiento]],[1]Establecimientos!A$1:E$175,5,FALSE),0)","v":"04301-OVALLE"},"105324","80307012","2021-07-19T12:09:30",4,null,4]
[6,"5",2021,{"$f":"IFERROR(VLOOKUP(Tabla_SERIEBM_01_6[[#This Row],[IdEstablecimiento]],[1]Establecimientos!A$1:E$175,5,FALSE),0)","v":"04106-VICUÑA"},"200538","18020500","2021-07-19T15:14:20",58,0,58]
[7,"5",2021,{"$f":"IFERROR(VLOOKUP(Tabla_SERIEBM_01_6[[#This Row],[IdEstablecimiento]],[1]Establecimientos!A$1:E$175,5,FALSE),0)","v":"04303-MONTE PATRIA"},"105307","80401151","2021-08-17T04:54:59",10,null,10,10]
[1,"5",2021,{"$f":"IFERROR(VLOOKUP(Tabla_SERIEBM_01_6[[#This Row],[IdEstablecimiento]],[1]Establecimientos!A$1:E$175,5,FALSE),0)","v":"04102-COQUIMBO"},"105303","18020700","2021-02-18T03:19:23",3,0,3]
[6,"5",2021,{"$f":"IFERROR(VLOOKUP(Tabla_SERIEBM_01_6[[#This Row],[IdEstablecimiento]],[1]Establecimientos!A$1:E$175,5,FALSE),0)","v":"04101-LA SERENA"},"105301","81701001","2021-07-19T11:57:08",128,10,118,0,128,0]
[7,"5",2021,{"$f":"IFERROR(VLOOKUP(Tabla_SERIEBM_01_6[[#This Row],[IdEstablecimiento]],[1]Establecimientos!A$1:E$175,5,FALSE),0)","v":"04301-OVALLE"},"105322","18020700","2021-08-17T05:08:02",8,0,8]
[9,"5",2021,{"$f":"IFERROR(VLOOKUP(Tabla_SERIEBM_01_6[[#This Row],[IdEstablecimiento]],[1]Establecimientos!A$1:E$175,5,FALSE),0)","v":"04301-OVALLE"},"105322","80302059","2021-10-15T12:43:24",88,null,88]
[1,"5",2021,{"$f":"IFERROR(VLOOKUP(Tabla_SERIEBM_01_6[[#This Row],[IdEstablecimiento]],[1]Establecimientos!A$1:E$175,5,FALSE),0)","v":"04101-LA SERENA"},"105819","80401055","2021-02-18T05:55:05",10,10]
[4,"5",2021,{"$f":"IFERROR(VLOOKUP(Tabla_SERIEBM_01_6[[#This Row],[IdEstablecimiento]],[1]Establecimientos!A$1:E$175,5,FALSE),0)","v":"04303-MONTE PATRIA"},"200720","80401053","2021-05-14T11:17:36",1,1]
[6,"5",2021,{"$f":"IFERROR(VLOOKUP(Tabla_SERIEBM_01_6[[#This Row],[IdEstablecimiento]],[1]Establecimientos!A$1:E$175,5,FALSE),0)","v":"04303-MONTE PATRIA"},"105435","80106008","2021-08-17T10:17:56",1,null,1,null,1]
[7,"5",2021,{"$f":"IFERROR(VLOOKUP(Tabla_SERIEBM_01_6[[#This Row],[IdEstablecimiento]],[1]Establecimientos!A$1:E$175,5,FALSE),0)","v":"04303-MONTE PATRIA"},"105427","80106015","2021-08-17T06:03:18",1,null,1,null,1]
[7,"5",2021,{"$f":"IFERROR(VLOOKUP(Tabla_SERIEBM_01_6[[#This Row],[IdEstablecimiento]],[1]Establecimientos!A$1:E$175,5,FALSE),0)","v":"04101-LA SERENA"},"105400","80302040","2021-08-17T05:17:13",0,null,null,39]
[6,"5",2021,{"$f":"IFERROR(VLOOKUP(Tabla_SERIEBM_01_6[[#This Row],[IdEstablecimiento]],[1]Establecimientos!A$1:E$175,5,FALSE),0)","v":"04202-CANELA"},"105309","80301011","2021-07-19T12:03:10",0,null,null,17]
[7,"5",2021,{"$f":"IFERROR(VLOOKUP(Tabla_SERIEBM_01_6[[#This Row],[IdEstablecimiento]],[1]Establecimientos!A$1:E$175,5,FALSE),0)","v":"04101-LA SERENA"},"105499","80106002","2021-08-17T09:07:59",28,null,28,null,28]
[7,"5",2021,{"$f":"IFERROR(VLOOKUP(Tabla_SERIEBM_01_6[[#This Row],[IdEstablecimiento]],[1]Establecimientos!A$1:E$175,5,FALSE),0)","v":"04201-ILLAPEL"},"200366","80301045","2021-08-17T09:45:14",0,null,null,226]
[5,"5",2021,{"$f":"IFERROR(VLOOKUP(Tabla_SERIEBM_01_6[[#This Row],[IdEstablecimiento]],[1]Establecimientos!A$1:E$175,5,FALSE),0)","v":"04201-ILLAPEL"},"105444","80302034","2021-06-11T11:40:05",0,null,null,16]
[4,"5",2021,{"$f":"IFERROR(VLOOKUP(Tabla_SERIEBM_01_6[[#This Row],[IdEstablecimiento]],[1]Establecimientos!A$1:E$175,5,FALSE),0)","v":"04201-ILLAPEL"},"105449","80301045","2021-05-13T17:32:48",0,null,null,5]
[1,"5",2021,{"$f":"IFERROR(VLOOKUP(Tabla_SERIEBM_01_6[[#This Row],[IdEstablecimiento]],[1]Establecimientos!A$1:E$175,5,FALSE),0)","v":"04102-COQUIMBO"},"200273","80301086","2021-02-18T05:58:38",0,null,null,6]
[8,"5",2021,{"$f":"IFERROR(VLOOKUP(Tabla_SERIEBM_01_6[[#This Row],[IdEstablecimiento]],[1]Establecimientos!A$1:E$175,5,FALSE),0)","v":"04102-COQUIMBO"},"105305","18050200","2021-11-15T12:47:09",7,0,7]
[8,"5",2021,{"$f":"IFERROR(VLOOKUP(Tabla_SERIEBM_01_6[[#This Row],[IdEstablecimiento]],[1]Establecimientos!A$1:E$175,5,FALSE),0)","v":"04102-COQUIMBO"},"105304","80303027","2021-09-20T08:25:29",0,null,null,2]
[6,"5",2021,{"$f":"IFERROR(VLOOKUP(Tabla_SERIEBM_01_6[[#This Row],[IdEstablecimiento]],[1]Establecimientos!A$1:E$175,5,FALSE),0)","v":"04301-OVALLE"},"105817","80106017","2021-07-19T14:58:11",19,19,null,null,19]
[1,"5",2021,{"$f":"IFERROR(VLOOKUP(Tabla_SERIEBM_01_6[[#This Row],[IdEstablecimiento]],[1]Establecimientos!A$1:E$175,5,FALSE),0)","v":"04105-PAIHUANO"},"105477","80106013","2021-02-18T04:41:08",1,null,1,null,1]
[5,"5",2021,{"$f":"IFERROR(VLOOKUP(Tabla_SERIEBM_01_6[[#This Row],[IdEstablecimiento]],[1]Establecimientos!A$1:E$175,5,FALSE),0)","v":"04305-RIO HURTADO"},"105503","18400900","2021-06-11T14:01:19",6,null,6]
[4,"5",2021,{"$f":"IFERROR(VLOOKUP(Tabla_SERIEBM_01_6[[#This Row],[IdEstablecimiento]],[1]Establecimientos!A$1:E$175,5,FALSE),0)","v":"04106-VICUÑA"},"105468","18050100","2021-05-13T17:41:37",16,0,16]
[5,"5",2021,{"$f":"IFERROR(VLOOKUP(Tabla_SERIEBM_01_6[[#This Row],[IdEstablecimiento]],[1]Establecimientos!A$1:E$175,5,FALSE),0)","v":"04202-CANELA"},"105450","80106017","2021-06-11T11:45:55",13,null,13,null,13]
[6,"5",2021,{"$f":"IFERROR(VLOOKUP(Tabla_SERIEBM_01_6[[#This Row],[IdEstablecimiento]],[1]Establecimientos!A$1:E$175,5,FALSE),0)","v":"04204-SALAMANCA"},"105492","80106010","2021-07-19T14:43:01",1,null,1]
[6,"5",2021,{"$f":"IFERROR(VLOOKUP(Tabla_SERIEBM_01_6[[#This Row],[IdEstablecimiento]],[1]Establecimientos!A$1:E$175,5,FALSE),0)","v":"04102-COQUIMBO"},"105321","80301041","2021-08-17T10:14:24",0,null,null,52]
[5,"5",2021,{"$f":"IFERROR(VLOOKUP(Tabla_SERIEBM_01_6[[#This Row],[IdEstablecimiento]],[1]Establecimientos!A$1:E$175,5,FALSE),0)","v":"04305-RIO HURTADO"},"105409","80301045","2021-06-11T10:00:06",0,null,null,19]
[7,"5",2021,{"$f":"IFERROR(VLOOKUP(Tabla_SERIEBM_01_6[[#This Row],[IdEstablecimiento]],[1]Establecimientos!A$1:E$175,5,FALSE),0)","v":"04302-COMBARBALÁ"},"105459","18400900","2021-08-17T06:39:26",4,1,3]
[5,"5",2021,{"$f":"IFERROR(VLOOKUP(Tabla_SERIEBM_01_6[[#This Row],[IdEstablecimiento]],[1]Establecimientos!A$1:E$175,5,FALSE),0)","v":"04102-COQUIMBO"},"105303","80302023","2021-06-11T09:41:14",0,null,null,246]
[7,"5",2021,{"$f":"IFERROR(VLOOKUP(Tabla_SERIEBM_01_6[[#This Row],[IdEstablecimiento]],[1]Establecimientos!A$1:E$175,5,FALSE),0)","v":"04106-VICUÑA"},"105468","18090000","2021-08-17T06:48:05",3,0,3]
[8,"5",2021,{"$f":"IFERROR(VLOOKUP(Tabla_SERIEBM_01_6[[#This Row],[IdEstablecimiento]],[1]Establecimientos!A$1:E$175,5,FALSE),0)","v":"04301-OVALLE"},"105322","80301059","2021-09-16T11:02:29",55,null,55]
[4,"5",2021,{"$f":"IFERROR(VLOOKUP(Tabla_SERIEBM_01_6[[#This Row],[IdEstablecimiento]],[1]Establecimientos!A$1:E$175,5,FALSE),0)","v":"04305-RIO HURTADO"},"105310","80401010","2021-05-13T16:50:15",2,null,2,2]
[5,"5",2021,{"$f":"IFERROR(VLOOKUP(Tabla_SERIEBM_01_6[[#This Row],[IdEstablecimiento]],[1]Establecimientos!A$1:E$175,5,FALSE),0)","v":"04102-COQUIMBO"},"200607","80306042","2021-06-11T14:32:06",0,null,null,92]
[8,"5",2021,{"$f":"IFERROR(VLOOKUP(Tabla_SERIEBM_01_6[[#This Row],[IdEstablecimiento]],[1]Establecimientos!A$1:E$175,5,FALSE),0)","v":"04101-LA SERENA"},"105825","80106015","2021-09-16T13:18:33",13,13,0,0,13,0]
[6,"5",2021,{"$f":"IFERROR(VLOOKUP(Tabla_SERIEBM_01_6[[#This Row],[IdEstablecimiento]],[1]Establecimientos!A$1:E$175,5,FALSE),0)","v":"04102-COQUIMBO"},"105303","80302067","2021-07-19T11:59:06",0,null,null,337]
[5,"5",2021,{"$f":"IFERROR(VLOOKUP(Tabla_SERIEBM_01_6[[#This Row],[IdEstablecimiento]],[1]Establecimientos!A$1:E$175,5,FALSE),0)","v":"04102-COQUIMBO"},"200499","80404002","2021-06-11T14:30:22",13,null,13]
[5,"5",2021,{"$f":"IFERROR(VLOOKUP(Tabla_SERIEBM_01_6[[#This Row],[IdEstablecimiento]],[1]Establecimientos!A$1:E$175,5,FALSE),0)","v":"04101-LA SERENA"},"105701","80301059","2021-06-11T14:08:21",0,null,null,1]
[8,"5",2021,{"$f":"IFERROR(VLOOKUP(Tabla_SERIEBM_01_6[[#This Row],[IdEstablecimiento]],[1]Establecimientos!A$1:E$175,5,FALSE),0)","v":"04102-COQUIMBO"},"200499","80302067","2021-09-16T13:27:00",0,null,null,69]
[11,"5",2021,{"$f":"IFERROR(VLOOKUP(Tabla_SERIEBM_01_6[[#This Row],[IdEstablecimiento]],[1]Establecimientos!A$1:E$175,5,FALSE),0)","v":"04102-COQUIMBO"},"105321","18030000","2021-12-17T08:07:57",2,0,2]
[6,"5",2021,{"$f":"IFERROR(VLOOKUP(Tabla_SERIEBM_01_6[[#This Row],[IdEstablecimiento]],[1]Establecimientos!A$1:E$175,5,FALSE),0)","v":"04305-RIO HURTADO"},"105411","80301041","2021-07-19T12:26:31",0,null,null,1]
[8,"5",2021,{"$f":"IFERROR(VLOOKUP(Tabla_SERIEBM_01_6[[#This Row],[IdEstablecimiento]],[1]Establecimientos!A$1:E$175,5,FALSE),0)","v":"04302-COMBARBALÁ"},"105466","80302023","2021-09-16T11:39:06",18,null,18,18]
[8,"5",2021,{"$f":"IFERROR(VLOOKUP(Tabla_SERIEBM_01_6[[#This Row],[IdEstablecimiento]],[1]Establecimientos!A$1:E$175,5,FALSE),0)","v":"04106-VICUÑA"},"105467","80302047","2021-09-16T11:39:35",0,null,null,35]
[5,"5",2021,{"$f":"IFERROR(VLOOKUP(Tabla_SERIEBM_01_6[[#This Row],[IdEstablecimiento]],[1]Establecimientos!A$1:E$175,5,FALSE),0)","v":"04102-COQUIMBO"},"105305","81801023","2021-06-11T09:45:20",2,null,2,null,2]
[6,"5",2021,{"$f":"IFERROR(VLOOKUP(Tabla_SERIEBM_01_6[[#This Row],[IdEstablecimiento]],[1]Establecimientos!A$1:E$175,5,FALSE),0)","v":"04301-OVALLE"},"105507","80106017","2021-07-19T14:49:29",8,null,8]
[7,"5",2021,{"$f":"IFERROR(VLOOKUP(Tabla_SERIEBM_01_6[[#This Row],[IdEstablecimiento]],[1]Establecimientos!A$1:E$175,5,FALSE),0)","v":"04201-ILLAPEL"},"105443","80302057","2021-08-17T06:26:00",0,null,null,69]
[8,"5",2021,{"$f":"IFERROR(VLOOKUP(Tabla_SERIEBM_01_6[[#This Row],[IdEstablecimiento]],[1]Establecimientos!A$1:E$175,5,FALSE),0)","v":"04301-OVALLE"},"105417","18090000","2021-09-16T11:11:05",6,0,6]
[1,"5",2021,{"$f":"IFERROR(VLOOKUP(Tabla_SERIEBM_01_6[[#This Row],[IdEstablecimiento]],[1]Establecimientos!A$1:E$175,5,FALSE),0)","v":"04304-PUNITAQUI"},"105308","80500011","2021-02-18T03:21:39",3,null,3,null,3]
[11,"5",2021,{"$f":"IFERROR(VLOOKUP(Tabla_SERIEBM_01_6[[#This Row],[IdEstablecimiento]],[1]Establecimientos!A$1:E$175,5,FALSE),0)","v":"04102-COQUIMBO"},"105405","80308005","2021-12-17T08:12:18",0,null,null,1]
[11,"5",2021,{"$f":"IFERROR(VLOOKUP(Tabla_SERIEBM_01_6[[#This Row],[IdEstablecimiento]],[1]Establecimientos!A$1:E$175,5,FALSE),0)","v":"04102-COQUIMBO"},"105405","80307011","2021-12-17T08:12:18",95,null,95]
[6,"5",2021,{"$f":"IFERROR(VLOOKUP(Tabla_SERIEBM_01_6[[#This Row],[IdEstablecimiento]],[1]Establecimientos!A$1:E$175,5,FALSE),0)","v":"04102-COQUIMBO"},"105303","80302057","2021-07-19T11:59:06",0,null,null,216]
[6,"5",2021,{"$f":"IFERROR(VLOOKUP(Tabla_SERIEBM_01_6[[#This Row],[IdEstablecimiento]],[1]Establecimientos!A$1:E$175,5,FALSE),0)","v":"04102-COQUIMBO"},"105303","80309028","2021-07-19T11:59:06",0,null,null,1]
[1,"5",2021,{"$f":"IFERROR(VLOOKUP(Tabla_SERIEBM_01_6[[#This Row],[IdEstablecimiento]],[1]Establecimientos!A$1:E$175,5,FALSE),0)","v":"04303-MONTE PATRIA"},"105307","80302067","2021-02-18T03:21:17",12,null,12]
[8,"5",2021,{"$f":"IFERROR(VLOOKUP(Tabla_SERIEBM_01_6[[#This Row],[IdEstablecimiento]],[1]Establecimientos!A$1:E$175,5,FALSE),0)","v":"04106-VICUÑA"},"105470","80307011","2021-09-16T11:40:56",0,null,null,6]
[9,"5",2021,{"$f":"IFERROR(VLOOKUP(Tabla_SERIEBM_01_6[[#This Row],[IdEstablecimiento]],[1]Establecimientos!A$1:E$175,5,FALSE),0)","v":"04301-OVALLE"},"105322","18020500","2021-10-15T12:43:24",169,0,169]
[9,"5",2021,{"$f":"IFERROR(VLOOKUP(Tabla_SERIEBM_01_6[[#This Row],[IdEstablecimiento]],[1]Establecimientos!A$1:E$175,5,FALSE),0)","v":"04305-RIO HURTADO"},"105310","80500009","2021-10-15T12:36:12",1,null,1,null,1]
[1,"5",2021,{"$f":"IFERROR(VLOOKUP(Tabla_SERIEBM_01_6[[#This Row],[IdEstablecimiento]],[1]Establecimientos!A$1:E$175,5,FALSE),0)","v":"04203-LOS VILOS"},"105481","80309013","2021-05-14T12:03:43",0,null,null,8]
[6,"5",2021,{"$f":"IFERROR(VLOOKUP(Tabla_SERIEBM_01_6[[#This Row],[IdEstablecimiento]],[1]Establecimientos!A$1:E$175,5,FALSE),0)","v":"04102-COQUIMBO"},"105321","80302068","2021-08-17T10:14:24",0,null,null,133]
[4,"5",2021,{"$f":"IFERROR(VLOOKUP(Tabla_SERIEBM_01_6[[#This Row],[IdEstablecimiento]],[1]Establecimientos!A$1:E$175,5,FALSE),0)","v":"04201-ILLAPEL"},"105445","80309010","2021-05-13T17:31:00",0,null,null,15]
[1,"5",2021,{"$f":"IFERROR(VLOOKUP(Tabla_SERIEBM_01_6[[#This Row],[IdEstablecimiento]],[1]Establecimientos!A$1:E$175,5,FALSE),0)","v":"04102-COQUIMBO"},"105323","80301036","2021-02-18T03:29:29",0,null,null,84]
[1,"5",2021,{"$f":"IFERROR(VLOOKUP(Tabla_SERIEBM_01_6[[#This Row],[IdEstablecimiento]],[1]Establecimientos!A$1:E$175,5,FALSE),0)","v":"04303-MONTE PATRIA"},"105311","18050100","2021-02-18T03:23:37",103,0,103]
[9,"5",2021,{"$f":"IFERROR(VLOOKUP(Tabla_SERIEBM_01_6[[#This Row],[IdEstablecimiento]],[1]Establecimientos!A$1:E$175,5,FALSE),0)","v":"04302-COMBARBALÁ"},"105459","80302023","2021-10-15T13:06:26",0,null,null,11]
[1,"5",2021,{"$f":"IFERROR(VLOOKUP(Tabla_SERIEBM_01_6[[#This Row],[IdEstablecimiento]],[1]Establecimientos!A$1:E$175,5,FALSE),0)","v":"04303-MONTE PATRIA"},"105311","18400900","2021-02-18T03:23:37",3,1,2]
[9,"5",2021,{"$f":"IFERROR(VLOOKUP(Tabla_SERIEBM_01_6[[#This Row],[IdEstablecimiento]],[1]Establecimientos!A$1:E$175,5,FALSE),0)","v":"04302-COMBARBALÁ"},"105459","80106015","2021-10-15T13:06:26",1,null,1,null,1]
[9,"5",2021,{"$f":"IFERROR(VLOOKUP(Tabla_SERIEBM_01_6[[#This Row],[IdEstablecimiento]],[1]Establecimientos!A$1:E$175,5,FALSE),0)","v":"04303-MONTE PATRIA"},"200720","80401009","2021-10-15T13:40:24",17,17]
[7,"5",2021,{"$f":"IFERROR(VLOOKUP(Tabla_SERIEBM_01_6[[#This Row],[IdEstablecimiento]],[1]Establecimientos!A$1:E$175,5,FALSE),0)","v":"04204-SALAMANCA"},"105452","80306059","2021-08-17T06:34:48",0,null,null,4]
[1,"5",2021,{"$f":"IFERROR(VLOOKUP(Tabla_SERIEBM_01_6[[#This Row],[IdEstablecimiento]],[1]Establecimientos!A$1:E$175,5,FALSE),0)","v":"04105-PAIHUANO"},"105306","80302047","2021-02-18T03:20:52",0,null,null,90]
[6,"5",2021,{"$f":"IFERROR(VLOOKUP(Tabla_SERIEBM_01_6[[#This Row],[IdEstablecimiento]],[1]Establecimientos!A$1:E$175,5,FALSE),0)","v":"04102-COQUIMBO"},"200273","80301085","2021-07-19T15:10:39",0,null,null,1]
[6,"5",2021,{"$f":"IFERROR(VLOOKUP(Tabla_SERIEBM_01_6[[#This Row],[IdEstablecimiento]],[1]Establecimientos!A$1:E$175,5,FALSE),0)","v":"04104-LA HIGUERA"},"200740","18020500","2021-07-19T15:20:31",74,74,0]
[6,"5",2021,{"$f":"IFERROR(VLOOKUP(Tabla_SERIEBM_01_6[[#This Row],[IdEstablecimiento]],[1]Establecimientos!A$1:E$175,5,FALSE),0)","v":"04101-LA SERENA"},"105301","80500011","2021-07-19T11:57:08",109,null,109,0,109]
[5,"5",2021,{"$f":"IFERROR(VLOOKUP(Tabla_SERIEBM_01_6[[#This Row],[IdEstablecimiento]],[1]Establecimientos!A$1:E$175,5,FALSE),0)","v":"04303-MONTE PATRIA"},"200720","80106014","2021-06-11T14:32:43",797,797,null,null,797]
[7,"5",2021,{"$f":"IFERROR(VLOOKUP(Tabla_SERIEBM_01_6[[#This Row],[IdEstablecimiento]],[1]Establecimientos!A$1:E$175,5,FALSE),0)","v":"04202-CANELA"},"105309","18030000","2021-08-17T04:56:46",4,0,4]
[4,"5",2021,{"$f":"IFERROR(VLOOKUP(Tabla_SERIEBM_01_6[[#This Row],[IdEstablecimiento]],[1]Establecimientos!A$1:E$175,5,FALSE),0)","v":"04204-SALAMANCA"},"105492","18050100","2021-05-14T10:19:51",7,0,7]
[9,"5",2021,{"$f":"IFERROR(VLOOKUP(Tabla_SERIEBM_01_6[[#This Row],[IdEstablecimiento]],[1]Establecimientos!A$1:E$175,5,FALSE),0)","v":"04102-COQUIMBO"},"105321","80302067","2021-10-15T12:42:58",0,null,null,134]
[9,"5",2021,{"$f":"IFERROR(VLOOKUP(Tabla_SERIEBM_01_6[[#This Row],[IdEstablecimiento]],[1]Establecimientos!A$1:E$175,5,FALSE),0)","v":"04102-COQUIMBO"},"105321","81602222","2021-10-15T12:42:58",12,12,null,6,6]
[5,"5",2021,{"$f":"IFERROR(VLOOKUP(Tabla_SERIEBM_01_6[[#This Row],[IdEstablecimiento]],[1]Establecimientos!A$1:E$175,5,FALSE),0)","v":"04102-COQUIMBO"},"200499","80305019","2021-06-11T14:30:22",0,null,null,10]
[5,"5",2021,{"$f":"IFERROR(VLOOKUP(Tabla_SERIEBM_01_6[[#This Row],[IdEstablecimiento]],[1]Establecimientos!A$1:E$175,5,FALSE),0)","v":"04201-ILLAPEL"},"105496","80307011","2021-06-11T12:22:37",0,null,null,19]
[4,"5",2021,{"$f":"IFERROR(VLOOKUP(Tabla_SERIEBM_01_6[[#This Row],[IdEstablecimiento]],[1]Establecimientos!A$1:E$175,5,FALSE),0)","v":"04102-COQUIMBO"},"105321","81301025","2021-05-13T17:01:01",2,2,null,null,2]
[6,"5",2021,{"$f":"IFERROR(VLOOKUP(Tabla_SERIEBM_01_6[[#This Row],[IdEstablecimiento]],[1]Establecimientos!A$1:E$175,5,FALSE),0)","v":"04201-ILLAPEL"},"200366","80106017","2021-07-19T15:11:14",33,null,33]
[5,"5",2021,{"$f":"IFERROR(VLOOKUP(Tabla_SERIEBM_01_6[[#This Row],[IdEstablecimiento]],[1]Establecimientos!A$1:E$175,5,FALSE),0)","v":"04101-LA SERENA"},"105401","80302064","2021-06-11T09:57:53",0,null,null,2]
[7,"5",2021,{"$f":"IFERROR(VLOOKUP(Tabla_SERIEBM_01_6[[#This Row],[IdEstablecimiento]],[1]Establecimientos!A$1:E$175,5,FALSE),0)","v":"04106-VICUÑA"},"105474","18020500","2021-08-17T06:55:08",2,0,2]
[1,"5",2021,{"$f":"IFERROR(VLOOKUP(Tabla_SERIEBM_01_6[[#This Row],[IdEstablecimiento]],[1]Establecimientos!A$1:E$175,5,FALSE),0)","v":"04202-CANELA"},"105309","80302040","2021-02-18T03:22:03",0,null,null,1]
[9,"5",2021,{"$f":"IFERROR(VLOOKUP(Tabla_SERIEBM_01_6[[#This Row],[IdEstablecimiento]],[1]Establecimientos!A$1:E$175,5,FALSE),0)","v":"04106-VICUÑA"},"105468","80500011","2021-10-15T13:09:52",1,null,1,null,1]
[7,"5",2021,{"$f":"IFERROR(VLOOKUP(Tabla_SERIEBM_01_6[[#This Row],[IdEstablecimiento]],[1]Establecimientos!A$1:E$175,5,FALSE),0)","v":"04301-OVALLE"},"105437","18050100","2021-08-17T06:21:23",6,0,6]
[6,"5",2021,{"$f":"IFERROR(VLOOKUP(Tabla_SERIEBM_01_6[[#This Row],[IdEstablecimiento]],[1]Establecimientos!A$1:E$175,5,FALSE),0)","v":"04202-CANELA"},"105482","80106013","2021-07-19T14:36:40",1,1,null,null,1]
[9,"5",2021,{"$f":"IFERROR(VLOOKUP(Tabla_SERIEBM_01_6[[#This Row],[IdEstablecimiento]],[1]Establecimientos!A$1:E$175,5,FALSE),0)","v":"04101-LA SERENA"},"105319","18090000","2021-10-15T12:42:30",96,0,96]
[4,"5",2021,{"$f":"IFERROR(VLOOKUP(Tabla_SERIEBM_01_6[[#This Row],[IdEstablecimiento]],[1]Establecimientos!A$1:E$175,5,FALSE),0)","v":"04303-MONTE PATRIA"},"105307","80309014","2021-05-13T16:49:01",10,null,10]
[5,"5",2021,{"$f":"IFERROR(VLOOKUP(Tabla_SERIEBM_01_6[[#This Row],[IdEstablecimiento]],[1]Establecimientos!A$1:E$175,5,FALSE),0)","v":"04106-VICUÑA"},"105472","80106007","2021-06-11T12:01:31",1,null,1,null,1]
[6,"5",2021,{"$f":"IFERROR(VLOOKUP(Tabla_SERIEBM_01_6[[#This Row],[IdEstablecimiento]],[1]Establecimientos!A$1:E$175,5,FALSE),0)","v":"04201-ILLAPEL"},"200366","18040200","2021-07-19T15:11:14",41,1,40]
[8,"5",2021,{"$f":"IFERROR(VLOOKUP(Tabla_SERIEBM_01_6[[#This Row],[IdEstablecimiento]],[1]Establecimientos!A$1:E$175,5,FALSE),0)","v":"04202-CANELA"},"105309","80301045","2021-09-16T10:51:18",0,null,null,219]
[1,"5",2021,{"$f":"IFERROR(VLOOKUP(Tabla_SERIEBM_01_6[[#This Row],[IdEstablecimiento]],[1]Establecimientos!A$1:E$175,5,FALSE),0)","v":"04102-COQUIMBO"},"105304","80302067","2021-05-14T12:00:09",0,null,null,117]
[6,"5",2021,{"$f":"IFERROR(VLOOKUP(Tabla_SERIEBM_01_6[[#This Row],[IdEstablecimiento]],[1]Establecimientos!A$1:E$175,5,FALSE),0)","v":"04301-OVALLE"},"105822","18011001","2021-07-19T15:07:02",546,546,0]
[9,"5",2021,{"$f":"IFERROR(VLOOKUP(Tabla_SERIEBM_01_6[[#This Row],[IdEstablecimiento]],[1]Establecimientos!A$1:E$175,5,FALSE),0)","v":"04201-ILLAPEL"},"105326","18020400","2021-10-15T12:46:31",9,0,9]
[7,"5",2021,{"$f":"IFERROR(VLOOKUP(Tabla_SERIEBM_01_6[[#This Row],[IdEstablecimiento]],[1]Establecimientos!A$1:E$175,5,FALSE),0)","v":"04301-OVALLE"},"200569","80106022","2021-08-17T09:53:04",2,null,2,null,2]
[1,"5",2021,{"$f":"IFERROR(VLOOKUP(Tabla_SERIEBM_01_6[[#This Row],[IdEstablecimiento]],[1]Establecimientos!A$1:E$175,5,FALSE),0)","v":"04101-LA SERENA"},"105301","80307012","2021-05-14T11:59:40",2,null,2]
[4,"5",2021,{"$f":"IFERROR(VLOOKUP(Tabla_SERIEBM_01_6[[#This Row],[IdEstablecimiento]],[1]Establecimientos!A$1:E$175,5,FALSE),0)","v":"04204-SALAMANCA"},"105457","18400900","2021-05-13T17:36:30",3,null,3]
[9,"5",2021,{"$f":"IFERROR(VLOOKUP(Tabla_SERIEBM_01_6[[#This Row],[IdEstablecimiento]],[1]Establecimientos!A$1:E$175,5,FALSE),0)","v":"04101-LA SERENA"},"105400","80106013","2021-10-15T12:46:59",1,null,1,null,1]
[9,"5",2021,{"$f":"IFERROR(VLOOKUP(Tabla_SERIEBM_01_6[[#This Row],[IdEstablecimiento]],[1]Establecimientos!A$1:E$175,5,FALSE),0)","v":"04106-VICUÑA"},"105469","80302057","2021-10-15T13:10:14",0,null,null,1]
[9,"5",2021,{"$f":"IFERROR(VLOOKUP(Tabla_SERIEBM_01_6[[#This Row],[IdEstablecimiento]],[1]Establecimientos!A$1:E$175,5,FALSE),0)","v":"04106-VICUÑA"},"105469","80302076","2021-10-15T13:10:14",0,null,null,2]
[9,"5",2021,{"$f":"IFERROR(VLOOKUP(Tabla_SERIEBM_01_6[[#This Row],[IdEstablecimiento]],[1]Establecimientos!A$1:E$175,5,FALSE),0)","v":"04106-VICUÑA"},"105469","80303024","2021-10-15T13:10:14",0,null,null,11]
[9,"5",2021,{"$f":"IFERROR(VLOOKUP(Tabla_SERIEBM_01_6[[#This Row],[IdEstablecimiento]],[1]Establecimientos!A$1:E$175,5,FALSE),0)","v":"04106-VICUÑA"},"105469","80303026","2021-10-15T13:10:14",0,null,null,4]
[9,"5",2021,{"$f":"IFERROR(VLOOKUP(Tabla_SERIEBM_01_6[[#This Row],[IdEstablecimiento]],[1]Establecimientos!A$1:E$175,5,FALSE),0)","v":"04106-VICUÑA"},"105469","80301034","2021-10-15T13:10:14",0,null,null,1]
[9,"5",2021,{"$f":"IFERROR(VLOOKUP(Tabla_SERIEBM_01_6[[#This Row],[IdEstablecimiento]],[1]Establecimientos!A$1:E$175,5,FALSE),0)","v":"04101-LA SERENA"},"105325","80106023","2021-10-15T12:44:38",48,null,48,null,48]
[9,"5",2021,{"$f":"IFERROR(VLOOKUP(Tabla_SERIEBM_01_6[[#This Row],[IdEstablecimiento]],[1]Establecimientos!A$1:E$175,5,FALSE),0)","v":"04101-LA SERENA"},"105325","80307011","2021-10-15T12:44:38",406,null,406,406]
[9,"5",2021,{"$f":"IFERROR(VLOOKUP(Tabla_SERIEBM_01_6[[#This Row],[IdEstablecimiento]],[1]Establecimientos!A$1:E$175,5,FALSE),0)","v":"04101-LA SERENA"},"105325","80307012","2021-10-15T12:44:38",6,null,6,6]
[9,"5",2021,{"$f":"IFERROR(VLOOKUP(Tabla_SERIEBM_01_6[[#This Row],[IdEstablecimiento]],[1]Establecimientos!A$1:E$175,5,FALSE),0)","v":"04101-LA SERENA"},"105325","80500008","2021-10-15T12:44:38",9,null,9,null,9]
[9,"5",2021,{"$f":"IFERROR(VLOOKUP(Tabla_SERIEBM_01_6[[#This Row],[IdEstablecimiento]],[1]Establecimientos!A$1:E$175,5,FALSE),0)","v":"04101-LA SERENA"},"105325","80500009","2021-10-15T12:44:38",14,null,14,null,14]
[8,"5",2021,{"$f":"IFERROR(VLOOKUP(Tabla_SERIEBM_01_6[[#This Row],[IdEstablecimiento]],[1]Establecimientos!A$1:E$175,5,FALSE),0)","v":"04102-COQUIMBO"},"105805","80500011","2021-11-15T12:48:10",452,452,null,390,62,0]
[8,"5",2021,{"$f":"IFERROR(VLOOKUP(Tabla_SERIEBM_01_6[[#This Row],[IdEstablecimiento]],[1]Establecimientos!A$1:E$175,5,FALSE),0)","v":"04102-COQUIMBO"},"105805","80500016","2021-11-15T12:48:10",6,6,null,6]
[9,"5",2021,{"$f":"IFERROR(VLOOKUP(Tabla_SERIEBM_01_6[[#This Row],[IdEstablecimiento]],[1]Establecimientos!A$1:E$175,5,FALSE),0)","v":"04101-LA SERENA"},"105325","18700250","2021-10-15T12:44:38",14,null,14]
[9,"5",2021,{"$f":"IFERROR(VLOOKUP(Tabla_SERIEBM_01_6[[#This Row],[IdEstablecimiento]],[1]Establecimientos!A$1:E$175,5,FALSE),0)","v":"04101-LA SERENA"},"105325","18700270","2021-10-15T12:44:38",35,null,35]
[5,"5",2021,{"$f":"IFERROR(VLOOKUP(Tabla_SERIEBM_01_6[[#This Row],[IdEstablecimiento]],[1]Establecimientos!A$1:E$175,5,FALSE),0)","v":"04305-RIO HURTADO"},"105409","18050100","2021-06-11T10:00:06",2,2,0]
[5,"5",2021,{"$f":"IFERROR(VLOOKUP(Tabla_SERIEBM_01_6[[#This Row],[IdEstablecimiento]],[1]Establecimientos!A$1:E$175,5,FALSE),0)","v":"04305-RIO HURTADO"},"105410","80302047","2021-06-11T10:00:34",0,null,null,18]
[5,"5",2021,{"$f":"IFERROR(VLOOKUP(Tabla_SERIEBM_01_6[[#This Row],[IdEstablecimiento]],[1]Establecimientos!A$1:E$175,5,FALSE),0)","v":"04305-RIO HURTADO"},"105410","80302076","2021-06-11T10:00:34",0,null,null,6]
[5,"5",2021,{"$f":"IFERROR(VLOOKUP(Tabla_SERIEBM_01_6[[#This Row],[IdEstablecimiento]],[1]Establecimientos!A$1:E$175,5,FALSE),0)","v":"04305-RIO HURTADO"},"105410","80303024","2021-06-11T10:00:34",0,null,null,2]
[5,"5",2021,{"$f":"IFERROR(VLOOKUP(Tabla_SERIEBM_01_6[[#This Row],[IdEstablecimiento]],[1]Establecimientos!A$1:E$175,5,FALSE),0)","v":"04305-RIO HURTADO"},"105410","80303026","2021-06-11T10:00:34",0,null,null,2]
[5,"5",2021,{"$f":"IFERROR(VLOOKUP(Tabla_SERIEBM_01_6[[#This Row],[IdEstablecimiento]],[1]Establecimientos!A$1:E$175,5,FALSE),0)","v":"04305-RIO HURTADO"},"105410","80301041","2021-06-11T10:00:34",0,null,null,9]
[5,"5",2021,{"$f":"IFERROR(VLOOKUP(Tabla_SERIEBM_01_6[[#This Row],[IdEstablecimiento]],[1]Establecimientos!A$1:E$175,5,FALSE),0)","v":"04305-RIO HURTADO"},"105410","80301045","2021-06-11T10:00:34",0,null,null,6]
[5,"5",2021,{"$f":"IFERROR(VLOOKUP(Tabla_SERIEBM_01_6[[#This Row],[IdEstablecimiento]],[1]Establecimientos!A$1:E$175,5,FALSE),0)","v":"04305-RIO HURTADO"},"105410","80301059","2021-06-11T10:00:34",0,null,null,1]
[5,"5",2021,{"$f":"IFERROR(VLOOKUP(Tabla_SERIEBM_01_6[[#This Row],[IdEstablecimiento]],[1]Establecimientos!A$1:E$175,5,FALSE),0)","v":"04305-RIO HURTADO"},"105410","80301086","2021-06-11T10:00:34",0,null,null,1]
[5,"5",2021,{"$f":"IFERROR(VLOOKUP(Tabla_SERIEBM_01_6[[#This Row],[IdEstablecimiento]],[1]Establecimientos!A$1:E$175,5,FALSE),0)","v":"04305-RIO HURTADO"},"105410","80302005","2021-06-11T10:00:34",0,null,null,4]
[5,"5",2021,{"$f":"IFERROR(VLOOKUP(Tabla_SERIEBM_01_6[[#This Row],[IdEstablecimiento]],[1]Establecimientos!A$1:E$175,5,FALSE),0)","v":"04305-RIO HURTADO"},"105410","80302067","2021-06-11T10:00:34",0,null,null,8]
[5,"5",2021,{"$f":"IFERROR(VLOOKUP(Tabla_SERIEBM_01_6[[#This Row],[IdEstablecimiento]],[1]Establecimientos!A$1:E$175,5,FALSE),0)","v":"04305-RIO HURTADO"},"105410","80302023","2021-06-11T10:00:34",0,null,null,11]
[5,"5",2021,{"$f":"IFERROR(VLOOKUP(Tabla_SERIEBM_01_6[[#This Row],[IdEstablecimiento]],[1]Establecimientos!A$1:E$175,5,FALSE),0)","v":"04305-RIO HURTADO"},"105410","80302032","2021-06-11T10:00:34",0,null,null,8]
[5,"5",2021,{"$f":"IFERROR(VLOOKUP(Tabla_SERIEBM_01_6[[#This Row],[IdEstablecimiento]],[1]Establecimientos!A$1:E$175,5,FALSE),0)","v":"04305-RIO HURTADO"},"105410","80302034","2021-06-11T10:00:34",0,null,null,10]
[5,"5",2021,{"$f":"IFERROR(VLOOKUP(Tabla_SERIEBM_01_6[[#This Row],[IdEstablecimiento]],[1]Establecimientos!A$1:E$175,5,FALSE),0)","v":"04305-RIO HURTADO"},"105410","80306011","2021-06-11T10:00:34",0,null,null,1]
[1,"5",2021,{"$f":"IFERROR(VLOOKUP(Tabla_SERIEBM_01_6[[#This Row],[IdEstablecimiento]],[1]Establecimientos!A$1:E$175,5,FALSE),0)","v":"04303-MONTE PATRIA"},"200720","18030000","2021-02-18T06:04:39",24,24,0]
[3,"5",2021,{"$f":"IFERROR(VLOOKUP(Tabla_SERIEBM_01_6[[#This Row],[IdEstablecimiento]],[1]Establecimientos!A$1:E$175,5,FALSE),0)","v":"04102-COQUIMBO"},"105304","18400900","2021-11-08T10:16:49",14,9,5]
[3,"5",2021,{"$f":"IFERROR(VLOOKUP(Tabla_SERIEBM_01_6[[#This Row],[IdEstablecimiento]],[1]Establecimientos!A$1:E$175,5,FALSE),0)","v":"04102-COQUIMBO"},"105304","18700100","2021-11-08T10:16:49",1030,79,869,82,0]
[3,"5",2021,{"$f":"IFERROR(VLOOKUP(Tabla_SERIEBM_01_6[[#This Row],[IdEstablecimiento]],[1]Establecimientos!A$1:E$175,5,FALSE),0)","v":"04102-COQUIMBO"},"105304","18700110","2021-11-08T10:16:49",1,0,1,0,0,0,1]
[3,"5",2021,{"$f":"IFERROR(VLOOKUP(Tabla_SERIEBM_01_6[[#This Row],[IdEstablecimiento]],[1]Establecimientos!A$1:E$175,5,FALSE),0)","v":"04102-COQUIMBO"},"105305","80302047","2021-11-08T10:17:13",0,null,null,475]
[3,"5",2021,{"$f":"IFERROR(VLOOKUP(Tabla_SERIEBM_01_6[[#This Row],[IdEstablecimiento]],[1]Establecimientos!A$1:E$175,5,FALSE),0)","v":"04102-COQUIMBO"},"105305","80302048","2021-11-08T10:17:13",0,null,null,37]
[3,"5",2021,{"$f":"IFERROR(VLOOKUP(Tabla_SERIEBM_01_6[[#This Row],[IdEstablecimiento]],[1]Establecimientos!A$1:E$175,5,FALSE),0)","v":"04102-COQUIMBO"},"105305","80302057","2021-11-08T10:17:13",0,null,null,348]
[3,"5",2021,{"$f":"IFERROR(VLOOKUP(Tabla_SERIEBM_01_6[[#This Row],[IdEstablecimiento]],[1]Establecimientos!A$1:E$175,5,FALSE),0)","v":"04102-COQUIMBO"},"105305","80302060","2021-11-08T10:17:13",0,null,null,12]
[3,"5",2021,{"$f":"IFERROR(VLOOKUP(Tabla_SERIEBM_01_6[[#This Row],[IdEstablecimiento]],[1]Establecimientos!A$1:E$175,5,FALSE),0)","v":"04102-COQUIMBO"},"105305","80302076","2021-11-08T10:17:13",0,null,null,42]
[3,"5",2021,{"$f":"IFERROR(VLOOKUP(Tabla_SERIEBM_01_6[[#This Row],[IdEstablecimiento]],[1]Establecimientos!A$1:E$175,5,FALSE),0)","v":"04102-COQUIMBO"},"105305","80302063","2021-11-08T10:17:13",0,null,null,111]
[3,"5",2021,{"$f":"IFERROR(VLOOKUP(Tabla_SERIEBM_01_6[[#This Row],[IdEstablecimiento]],[1]Establecimientos!A$1:E$175,5,FALSE),0)","v":"04102-COQUIMBO"},"105305","80302064","2021-11-08T10:17:13",0,null,null,343]
[3,"5",2021,{"$f":"IFERROR(VLOOKUP(Tabla_SERIEBM_01_6[[#This Row],[IdEstablecimiento]],[1]Establecimientos!A$1:E$175,5,FALSE),0)","v":"04102-COQUIMBO"},"105305","80303024","2021-11-08T10:17:13",0,null,null,392]
[3,"5",2021,{"$f":"IFERROR(VLOOKUP(Tabla_SERIEBM_01_6[[#This Row],[IdEstablecimiento]],[1]Establecimientos!A$1:E$175,5,FALSE),0)","v":"04102-COQUIMBO"},"105305","80303026","2021-11-08T10:17:13",0,null,null,115]
[3,"5",2021,{"$f":"IFERROR(VLOOKUP(Tabla_SERIEBM_01_6[[#This Row],[IdEstablecimiento]],[1]Establecimientos!A$1:E$175,5,FALSE),0)","v":"04102-COQUIMBO"},"105305","80303027","2021-11-08T10:17:13",0,null,null,8]
[3,"5",2021,{"$f":"IFERROR(VLOOKUP(Tabla_SERIEBM_01_6[[#This Row],[IdEstablecimiento]],[1]Establecimientos!A$1:E$175,5,FALSE),0)","v":"04102-COQUIMBO"},"105305","80301015","2021-11-08T10:17:13",9,null,9]
[3,"5",2021,{"$f":"IFERROR(VLOOKUP(Tabla_SERIEBM_01_6[[#This Row],[IdEstablecimiento]],[1]Establecimientos!A$1:E$175,5,FALSE),0)","v":"04102-COQUIMBO"},"105305","80301034","2021-11-08T10:17:13",7,null,7]
[3,"5",2021,{"$f":"IFERROR(VLOOKUP(Tabla_SERIEBM_01_6[[#This Row],[IdEstablecimiento]],[1]Establecimientos!A$1:E$175,5,FALSE),0)","v":"04102-COQUIMBO"},"105305","80301036","2021-11-08T10:17:13",0,null,null,63]
[3,"5",2021,{"$f":"IFERROR(VLOOKUP(Tabla_SERIEBM_01_6[[#This Row],[IdEstablecimiento]],[1]Establecimientos!A$1:E$175,5,FALSE),0)","v":"04101-LA SERENA"},"105819","80401058","2021-11-08T13:09:01",1,1]
[3,"5",2021,{"$f":"IFERROR(VLOOKUP(Tabla_SERIEBM_01_6[[#This Row],[IdEstablecimiento]],[1]Establecimientos!A$1:E$175,5,FALSE),0)","v":"04101-LA SERENA"},"105819","80401059","2021-11-08T13:09:01",45,45]
[3,"5",2021,{"$f":"IFERROR(VLOOKUP(Tabla_SERIEBM_01_6[[#This Row],[IdEstablecimiento]],[1]Establecimientos!A$1:E$175,5,FALSE),0)","v":"04101-LA SERENA"},"105819","80401060","2021-11-08T13:09:01",80,80]
[3,"5",2021,{"$f":"IFERROR(VLOOKUP(Tabla_SERIEBM_01_6[[#This Row],[IdEstablecimiento]],[1]Establecimientos!A$1:E$175,5,FALSE),0)","v":"04101-LA SERENA"},"105819","80401062","2021-11-08T13:09:01",6,6]
[3,"5",2021,{"$f":"IFERROR(VLOOKUP(Tabla_SERIEBM_01_6[[#This Row],[IdEstablecimiento]],[1]Establecimientos!A$1:E$175,5,FALSE),0)","v":"04101-LA SERENA"},"105819","81301025","2021-11-08T13:09:01",3,3,null,3]
[3,"5",2021,{"$f":"IFERROR(VLOOKUP(Tabla_SERIEBM_01_6[[#This Row],[IdEstablecimiento]],[1]Establecimientos!A$1:E$175,5,FALSE),0)","v":"04101-LA SERENA"},"105819","81301026","2021-11-08T13:09:01",1,1,null,null,1]
[3,"5",2021,{"$f":"IFERROR(VLOOKUP(Tabla_SERIEBM_01_6[[#This Row],[IdEstablecimiento]],[1]Establecimientos!A$1:E$175,5,FALSE),0)","v":"04101-LA SERENA"},"105819","81301030","2021-11-08T13:09:01",1,1,null,1]
[3,"5",2021,{"$f":"IFERROR(VLOOKUP(Tabla_SERIEBM_01_6[[#This Row],[IdEstablecimiento]],[1]Establecimientos!A$1:E$175,5,FALSE),0)","v":"04101-LA SERENA"},"105819","81701001","2021-11-08T13:09:01",140,140,null,null,121,19]
[3,"5",2021,{"$f":"IFERROR(VLOOKUP(Tabla_SERIEBM_01_6[[#This Row],[IdEstablecimiento]],[1]Establecimientos!A$1:E$175,5,FALSE),0)","v":"04101-LA SERENA"},"105819","81901019","2021-11-08T13:09:01",26,26,null,null,26]
[3,"5",2021,{"$f":"IFERROR(VLOOKUP(Tabla_SERIEBM_01_6[[#This Row],[IdEstablecimiento]],[1]Establecimientos!A$1:E$175,5,FALSE),0)","v":"04101-LA SERENA"},"105819","81901022","2021-11-08T13:09:01",10,10,null,null,10]
[3,"5",2021,{"$f":"IFERROR(VLOOKUP(Tabla_SERIEBM_01_6[[#This Row],[IdEstablecimiento]],[1]Establecimientos!A$1:E$175,5,FALSE),0)","v":"04101-LA SERENA"},"105819","82101001","2021-11-08T13:09:01",1,1,null,1]
[3,"5",2021,{"$f":"IFERROR(VLOOKUP(Tabla_SERIEBM_01_6[[#This Row],[IdEstablecimiento]],[1]Establecimientos!A$1:E$175,5,FALSE),0)","v":"04101-LA SERENA"},"105819","82106006","2021-11-08T13:09:01",35,35,null,null,35]
[3,"5",2021,{"$f":"IFERROR(VLOOKUP(Tabla_SERIEBM_01_6[[#This Row],[IdEstablecimiento]],[1]Establecimientos!A$1:E$175,5,FALSE),0)","v":"04101-LA SERENA"},"105819","82106004","2021-11-08T13:09:01",25,25,null,null,25]
[3,"5",2021,{"$f":"IFERROR(VLOOKUP(Tabla_SERIEBM_01_6[[#This Row],[IdEstablecimiento]],[1]Establecimientos!A$1:E$175,5,FALSE),0)","v":"04101-LA SERENA"},"105819","82107003","2021-11-08T13:09:01",66,66,null,null,66]
[3,"5",2021,{"$f":"IFERROR(VLOOKUP(Tabla_SERIEBM_01_6[[#This Row],[IdEstablecimiento]],[1]Establecimientos!A$1:E$175,5,FALSE),0)","v":"04101-LA SERENA"},"105819","81602221","2021-11-08T13:09:01",10,10,null,10]
[3,"5",2021,{"$f":"IFERROR(VLOOKUP(Tabla_SERIEBM_01_6[[#This Row],[IdEstablecimiento]],[1]Establecimientos!A$1:E$175,5,FALSE),0)","v":"04101-LA SERENA"},"105819","81602222","2021-11-08T13:09:01",44,44,null,44]
[3,"5",2021,{"$f":"IFERROR(VLOOKUP(Tabla_SERIEBM_01_6[[#This Row],[IdEstablecimiento]],[1]Establecimientos!A$1:E$175,5,FALSE),0)","v":"04101-LA SERENA"},"105819","81602225","2021-11-08T13:09:01",15,15,null,15]
[3,"5",2021,{"$f":"IFERROR(VLOOKUP(Tabla_SERIEBM_01_6[[#This Row],[IdEstablecimiento]],[1]Establecimientos!A$1:E$175,5,FALSE),0)","v":"04101-LA SERENA"},"105819","80106002","2021-11-08T13:09:01",116,116,null,null,116]
[3,"5",2021,{"$f":"IFERROR(VLOOKUP(Tabla_SERIEBM_01_6[[#This Row],[IdEstablecimiento]],[1]Establecimientos!A$1:E$175,5,FALSE),0)","v":"04101-LA SERENA"},"105819","80106017","2021-11-08T13:09:01",16,16,null,null,16]
[3,"5",2021,{"$f":"IFERROR(VLOOKUP(Tabla_SERIEBM_01_6[[#This Row],[IdEstablecimiento]],[1]Establecimientos!A$1:E$175,5,FALSE),0)","v":"04101-LA SERENA"},"105819","80106008","2021-11-08T13:09:01",1,1,null,null,1]
[3,"5",2021,{"$f":"IFERROR(VLOOKUP(Tabla_SERIEBM_01_6[[#This Row],[IdEstablecimiento]],[1]Establecimientos!A$1:E$175,5,FALSE),0)","v":"04101-LA SERENA"},"105819","80106010","2021-11-08T13:09:01",2,2,null,2]
[3,"5",2021,{"$f":"IFERROR(VLOOKUP(Tabla_SERIEBM_01_6[[#This Row],[IdEstablecimiento]],[1]Establecimientos!A$1:E$175,5,FALSE),0)","v":"04101-LA SERENA"},"105819","80106013","2021-11-08T13:09:01",11,11,null,null,11]
[3,"5",2021,{"$f":"IFERROR(VLOOKUP(Tabla_SERIEBM_01_6[[#This Row],[IdEstablecimiento]],[1]Establecimientos!A$1:E$175,5,FALSE),0)","v":"04101-LA SERENA"},"105819","80106014","2021-11-08T13:09:01",559,559,null,null,559]
[3,"5",2021,{"$f":"IFERROR(VLOOKUP(Tabla_SERIEBM_01_6[[#This Row],[IdEstablecimiento]],[1]Establecimientos!A$1:E$175,5,FALSE),0)","v":"04101-LA SERENA"},"105819","80106015","2021-11-08T13:09:01",574,574,null,null,574]
[3,"5",2021,{"$f":"IFERROR(VLOOKUP(Tabla_SERIEBM_01_6[[#This Row],[IdEstablecimiento]],[1]Establecimientos!A$1:E$175,5,FALSE),0)","v":"04102-COQUIMBO"},"105305","80301038","2021-11-08T10:17:13",0,null,null,60]
[3,"5",2021,{"$f":"IFERROR(VLOOKUP(Tabla_SERIEBM_01_6[[#This Row],[IdEstablecimiento]],[1]Establecimientos!A$1:E$175,5,FALSE),0)","v":"04102-COQUIMBO"},"105305","80301041","2021-11-08T10:17:13",0,null,null,224]
[3,"5",2021,{"$f":"IFERROR(VLOOKUP(Tabla_SERIEBM_01_6[[#This Row],[IdEstablecimiento]],[1]Establecimientos!A$1:E$175,5,FALSE),0)","v":"04102-COQUIMBO"},"105305","80301045","2021-11-08T10:17:13",0,null,null,335]
[3,"5",2021,{"$f":"IFERROR(VLOOKUP(Tabla_SERIEBM_01_6[[#This Row],[IdEstablecimiento]],[1]Establecimientos!A$1:E$175,5,FALSE),0)","v":"04102-COQUIMBO"},"105305","80301059","2021-11-08T10:17:13",0,null,null,6]
[3,"5",2021,{"$f":"IFERROR(VLOOKUP(Tabla_SERIEBM_01_6[[#This Row],[IdEstablecimiento]],[1]Establecimientos!A$1:E$175,5,FALSE),0)","v":"04202-CANELA"},"105309","81901019","2021-11-08T10:18:57",1,null,1,null,1]
[3,"5",2021,{"$f":"IFERROR(VLOOKUP(Tabla_SERIEBM_01_6[[#This Row],[IdEstablecimiento]],[1]Establecimientos!A$1:E$175,5,FALSE),0)","v":"04202-CANELA"},"105309","82001015","2021-11-08T10:18:57",1,null,1,null,1]
[3,"5",2021,{"$f":"IFERROR(VLOOKUP(Tabla_SERIEBM_01_6[[#This Row],[IdEstablecimiento]],[1]Establecimientos!A$1:E$175,5,FALSE),0)","v":"04202-CANELA"},"105309","81602221","2021-11-08T10:18:57",4,null,4,null,4]
[3,"5",2021,{"$f":"IFERROR(VLOOKUP(Tabla_SERIEBM_01_6[[#This Row],[IdEstablecimiento]],[1]Establecimientos!A$1:E$175,5,FALSE),0)","v":"04202-CANELA"},"105309","80106002","2021-11-08T10:18:57",91,null,91,null,91]
[3,"5",2021,{"$f":"IFERROR(VLOOKUP(Tabla_SERIEBM_01_6[[#This Row],[IdEstablecimiento]],[1]Establecimientos!A$1:E$175,5,FALSE),0)","v":"04202-CANELA"},"105309","80106005","2021-11-08T10:18:57",59,null,59,null,59]
[3,"5",2021,{"$f":"IFERROR(VLOOKUP(Tabla_SERIEBM_01_6[[#This Row],[IdEstablecimiento]],[1]Establecimientos!A$1:E$175,5,FALSE),0)","v":"04202-CANELA"},"105309","80106006","2021-11-08T10:18:57",5,null,5,null,5]
[3,"5",2021,{"$f":"IFERROR(VLOOKUP(Tabla_SERIEBM_01_6[[#This Row],[IdEstablecimiento]],[1]Establecimientos!A$1:E$175,5,FALSE),0)","v":"04202-CANELA"},"105309","80106017","2021-11-08T10:18:57",39,null,39,null,39]
[3,"5",2021,{"$f":"IFERROR(VLOOKUP(Tabla_SERIEBM_01_6[[#This Row],[IdEstablecimiento]],[1]Establecimientos!A$1:E$175,5,FALSE),0)","v":"04202-CANELA"},"105309","80106013","2021-11-08T10:18:57",3,null,3,null,3]
[3,"5",2021,{"$f":"IFERROR(VLOOKUP(Tabla_SERIEBM_01_6[[#This Row],[IdEstablecimiento]],[1]Establecimientos!A$1:E$175,5,FALSE),0)","v":"04202-CANELA"},"105309","80106014","2021-11-08T10:18:57",265,null,265,null,265]
[3,"5",2021,{"$f":"IFERROR(VLOOKUP(Tabla_SERIEBM_01_6[[#This Row],[IdEstablecimiento]],[1]Establecimientos!A$1:E$175,5,FALSE),0)","v":"04202-CANELA"},"105309","80106015","2021-11-08T10:18:57",62,null,62,null,62]
[3,"5",2021,{"$f":"IFERROR(VLOOKUP(Tabla_SERIEBM_01_6[[#This Row],[IdEstablecimiento]],[1]Establecimientos!A$1:E$175,5,FALSE),0)","v":"04202-CANELA"},"105309","80307011","2021-11-08T10:18:57",0,null,null,354]
[3,"5",2021,{"$f":"IFERROR(VLOOKUP(Tabla_SERIEBM_01_6[[#This Row],[IdEstablecimiento]],[1]Establecimientos!A$1:E$175,5,FALSE),0)","v":"04202-CANELA"},"105309","80307012","2021-11-08T10:18:57",0,null,null,1]
[3,"5",2021,{"$f":"IFERROR(VLOOKUP(Tabla_SERIEBM_01_6[[#This Row],[IdEstablecimiento]],[1]Establecimientos!A$1:E$175,5,FALSE),0)","v":"04202-CANELA"},"105309","80500008","2021-11-08T10:18:57",1,null,1,null,1]
[3,"5",2021,{"$f":"IFERROR(VLOOKUP(Tabla_SERIEBM_01_6[[#This Row],[IdEstablecimiento]],[1]Establecimientos!A$1:E$175,5,FALSE),0)","v":"04201-ILLAPEL"},"105445","18700100","2021-11-08T12:15:53",19,0,16,3]
[3,"5",2021,{"$f":"IFERROR(VLOOKUP(Tabla_SERIEBM_01_6[[#This Row],[IdEstablecimiento]],[1]Establecimientos!A$1:E$175,5,FALSE),0)","v":"04201-ILLAPEL"},"105446","80302047","2021-11-08T12:16:36",0,null,null,2]
[3,"5",2021,{"$f":"IFERROR(VLOOKUP(Tabla_SERIEBM_01_6[[#This Row],[IdEstablecimiento]],[1]Establecimientos!A$1:E$175,5,FALSE),0)","v":"04201-ILLAPEL"},"105446","80302057","2021-11-08T12:16:36",0,null,null,2]
[3,"5",2021,{"$f":"IFERROR(VLOOKUP(Tabla_SERIEBM_01_6[[#This Row],[IdEstablecimiento]],[1]Establecimientos!A$1:E$175,5,FALSE),0)","v":"04201-ILLAPEL"},"105446","80301041","2021-11-08T12:16:36",0,null,null,1]
[3,"5",2021,{"$f":"IFERROR(VLOOKUP(Tabla_SERIEBM_01_6[[#This Row],[IdEstablecimiento]],[1]Establecimientos!A$1:E$175,5,FALSE),0)","v":"04201-ILLAPEL"},"105446","80301045","2021-11-08T12:16:36",0,null,null,2]
[3,"5",2021,{"$f":"IFERROR(VLOOKUP(Tabla_SERIEBM_01_6[[#This Row],[IdEstablecimiento]],[1]Establecimientos!A$1:E$175,5,FALSE),0)","v":"04201-ILLAPEL"},"105446","80302005","2021-11-08T12:16:36",0,null,null,2]
[3,"5",2021,{"$f":"IFERROR(VLOOKUP(Tabla_SERIEBM_01_6[[#This Row],[IdEstablecimiento]],[1]Establecimientos!A$1:E$175,5,FALSE),0)","v":"04201-ILLAPEL"},"105446","80302034","2021-11-08T12:16:36",0,null,null,2]
[3,"5",2021,{"$f":"IFERROR(VLOOKUP(Tabla_SERIEBM_01_6[[#This Row],[IdEstablecimiento]],[1]Establecimientos!A$1:E$175,5,FALSE),0)","v":"04201-ILLAPEL"},"105446","80306011","2021-11-08T12:16:36",0,null,null,1]
[3,"5",2021,{"$f":"IFERROR(VLOOKUP(Tabla_SERIEBM_01_6[[#This Row],[IdEstablecimiento]],[1]Establecimientos!A$1:E$175,5,FALSE),0)","v":"04201-ILLAPEL"},"105446","80309010","2021-11-08T12:16:36",0,null,null,2]
[3,"5",2021,{"$f":"IFERROR(VLOOKUP(Tabla_SERIEBM_01_6[[#This Row],[IdEstablecimiento]],[1]Establecimientos!A$1:E$175,5,FALSE),0)","v":"04201-ILLAPEL"},"105446","80309022","2021-11-08T12:16:36",0,null,null,1]
[3,"5",2021,{"$f":"IFERROR(VLOOKUP(Tabla_SERIEBM_01_6[[#This Row],[IdEstablecimiento]],[1]Establecimientos!A$1:E$175,5,FALSE),0)","v":"04201-ILLAPEL"},"105446","81701009","2021-11-08T12:16:36",1,null,1,null,1]
[3,"5",2021,{"$f":"IFERROR(VLOOKUP(Tabla_SERIEBM_01_6[[#This Row],[IdEstablecimiento]],[1]Establecimientos!A$1:E$175,5,FALSE),0)","v":"04201-ILLAPEL"},"105446","81602231","2021-11-08T12:16:36",1,null,1,null,1]
[3,"5",2021,{"$f":"IFERROR(VLOOKUP(Tabla_SERIEBM_01_6[[#This Row],[IdEstablecimiento]],[1]Establecimientos!A$1:E$175,5,FALSE),0)","v":"04201-ILLAPEL"},"105446","80106002","2021-11-08T12:16:36",8,null,8,null,8]
[3,"5",2021,{"$f":"IFERROR(VLOOKUP(Tabla_SERIEBM_01_6[[#This Row],[IdEstablecimiento]],[1]Establecimientos!A$1:E$175,5,FALSE),0)","v":"04201-ILLAPEL"},"105446","80106013","2021-11-08T12:16:36",2,null,2,null,2]
[3,"5",2021,{"$f":"IFERROR(VLOOKUP(Tabla_SERIEBM_01_6[[#This Row],[IdEstablecimiento]],[1]Establecimientos!A$1:E$175,5,FALSE),0)","v":"04201-ILLAPEL"},"105446","80106014","2021-11-08T12:16:36",18,null,18,null,18]
[3,"5",2021,{"$f":"IFERROR(VLOOKUP(Tabla_SERIEBM_01_6[[#This Row],[IdEstablecimiento]],[1]Establecimientos!A$1:E$175,5,FALSE),0)","v":"04201-ILLAPEL"},"105446","80106023","2021-11-08T12:16:36",2,null,2,null,2]
[3,"5",2021,{"$f":"IFERROR(VLOOKUP(Tabla_SERIEBM_01_6[[#This Row],[IdEstablecimiento]],[1]Establecimientos!A$1:E$175,5,FALSE),0)","v":"04201-ILLAPEL"},"105446","80307011","2021-11-08T12:16:36",0,null,null,1]
[3,"5",2021,{"$f":"IFERROR(VLOOKUP(Tabla_SERIEBM_01_6[[#This Row],[IdEstablecimiento]],[1]Establecimientos!A$1:E$175,5,FALSE),0)","v":"04106-VICUÑA"},"105469","80309022","2021-11-08T12:27:33",0,null,null,5]
[3,"5",2021,{"$f":"IFERROR(VLOOKUP(Tabla_SERIEBM_01_6[[#This Row],[IdEstablecimiento]],[1]Establecimientos!A$1:E$175,5,FALSE),0)","v":"04106-VICUÑA"},"105469","80309024","2021-11-08T12:27:33",0,null,null,1]
[3,"5",2021,{"$f":"IFERROR(VLOOKUP(Tabla_SERIEBM_01_6[[#This Row],[IdEstablecimiento]],[1]Establecimientos!A$1:E$175,5,FALSE),0)","v":"04106-VICUÑA"},"105469","81701009","2021-11-08T12:27:33",4,null,4,null,4]
[3,"5",2021,{"$f":"IFERROR(VLOOKUP(Tabla_SERIEBM_01_6[[#This Row],[IdEstablecimiento]],[1]Establecimientos!A$1:E$175,5,FALSE),0)","v":"04106-VICUÑA"},"105469","80106002","2021-11-08T12:27:33",14,null,14,null,14]
[3,"5",2021,{"$f":"IFERROR(VLOOKUP(Tabla_SERIEBM_01_6[[#This Row],[IdEstablecimiento]],[1]Establecimientos!A$1:E$175,5,FALSE),0)","v":"04106-VICUÑA"},"105469","80106017","2021-11-08T12:27:33",1,null,1,null,1]
[3,"5",2021,{"$f":"IFERROR(VLOOKUP(Tabla_SERIEBM_01_6[[#This Row],[IdEstablecimiento]],[1]Establecimientos!A$1:E$175,5,FALSE),0)","v":"04106-VICUÑA"},"105469","80106014","2021-11-08T12:27:33",14,null,14,null,14]
[3,"5",2021,{"$f":"IFERROR(VLOOKUP(Tabla_SERIEBM_01_6[[#This Row],[IdEstablecimiento]],[1]Establecimientos!A$1:E$175,5,FALSE),0)","v":"04106-VICUÑA"},"105469","80307011","2021-11-08T12:27:33",0,null,null,17]
[3,"5",2021,{"$f":"IFERROR(VLOOKUP(Tabla_SERIEBM_01_6[[#This Row],[IdEstablecimiento]],[1]Establecimientos!A$1:E$175,5,FALSE),0)","v":"04106-VICUÑA"},"105469","80500011","2021-11-08T12:27:33",2,null,2,null,2]
[3,"5",2021,{"$f":"IFERROR(VLOOKUP(Tabla_SERIEBM_01_6[[#This Row],[IdEstablecimiento]],[1]Establecimientos!A$1:E$175,5,FALSE),0)","v":"04106-VICUÑA"},"105469","18020500","2021-11-08T12:27:33",4,0,4]
[3,"5",2021,{"$f":"IFERROR(VLOOKUP(Tabla_SERIEBM_01_6[[#This Row],[IdEstablecimiento]],[1]Establecimientos!A$1:E$175,5,FALSE),0)","v":"04106-VICUÑA"},"105469","18050100","2021-11-08T12:27:33",14,0,14]
[3,"5",2021,{"$f":"IFERROR(VLOOKUP(Tabla_SERIEBM_01_6[[#This Row],[IdEstablecimiento]],[1]Establecimientos!A$1:E$175,5,FALSE),0)","v":"04106-VICUÑA"},"105469","18400900","2021-11-08T12:27:33",4,1,3]
[3,"5",2021,{"$f":"IFERROR(VLOOKUP(Tabla_SERIEBM_01_6[[#This Row],[IdEstablecimiento]],[1]Establecimientos!A$1:E$175,5,FALSE),0)","v":"04106-VICUÑA"},"105470","80302047","2021-11-08T12:27:59",0,null,null,2]
[3,"5",2021,{"$f":"IFERROR(VLOOKUP(Tabla_SERIEBM_01_6[[#This Row],[IdEstablecimiento]],[1]Establecimientos!A$1:E$175,5,FALSE),0)","v":"04106-VICUÑA"},"105470","80302057","2021-11-08T12:27:59",0,null,null,2]
[3,"5",2021,{"$f":"IFERROR(VLOOKUP(Tabla_SERIEBM_01_6[[#This Row],[IdEstablecimiento]],[1]Establecimientos!A$1:E$175,5,FALSE),0)","v":"04106-VICUÑA"},"105470","80302076","2021-11-08T12:27:59",0,null,null,2]
[3,"5",2021,{"$f":"IFERROR(VLOOKUP(Tabla_SERIEBM_01_6[[#This Row],[IdEstablecimiento]],[1]Establecimientos!A$1:E$175,5,FALSE),0)","v":"04106-VICUÑA"},"105470","80303024","2021-11-08T12:27:59",0,null,null,2]
[3,"5",2021,{"$f":"IFERROR(VLOOKUP(Tabla_SERIEBM_01_6[[#This Row],[IdEstablecimiento]],[1]Establecimientos!A$1:E$175,5,FALSE),0)","v":"04106-VICUÑA"},"105470","80303026","2021-11-08T12:27:59",0,null,null,1]
[3,"5",2021,{"$f":"IFERROR(VLOOKUP(Tabla_SERIEBM_01_6[[#This Row],[IdEstablecimiento]],[1]Establecimientos!A$1:E$175,5,FALSE),0)","v":"04106-VICUÑA"},"105470","80301041","2021-11-08T12:27:59",0,null,null,2]
[3,"5",2021,{"$f":"IFERROR(VLOOKUP(Tabla_SERIEBM_01_6[[#This Row],[IdEstablecimiento]],[1]Establecimientos!A$1:E$175,5,FALSE),0)","v":"04106-VICUÑA"},"105470","80301045","2021-11-08T12:27:59",0,null,null,2]
[3,"5",2021,{"$f":"IFERROR(VLOOKUP(Tabla_SERIEBM_01_6[[#This Row],[IdEstablecimiento]],[1]Establecimientos!A$1:E$175,5,FALSE),0)","v":"04106-VICUÑA"},"105470","80301086","2021-11-08T12:27:59",0,null,null,1]
[3,"5",2021,{"$f":"IFERROR(VLOOKUP(Tabla_SERIEBM_01_6[[#This Row],[IdEstablecimiento]],[1]Establecimientos!A$1:E$175,5,FALSE),0)","v":"04106-VICUÑA"},"105470","80302005","2021-11-08T12:27:59",0,null,null,1]
[3,"5",2021,{"$f":"IFERROR(VLOOKUP(Tabla_SERIEBM_01_6[[#This Row],[IdEstablecimiento]],[1]Establecimientos!A$1:E$175,5,FALSE),0)","v":"04106-VICUÑA"},"105470","80302023","2021-11-08T12:27:59",0,null,null,2]
[3,"5",2021,{"$f":"IFERROR(VLOOKUP(Tabla_SERIEBM_01_6[[#This Row],[IdEstablecimiento]],[1]Establecimientos!A$1:E$175,5,FALSE),0)","v":"04106-VICUÑA"},"105470","80302032","2021-11-08T12:27:59",0,null,null,2]
[3,"5",2021,{"$f":"IFERROR(VLOOKUP(Tabla_SERIEBM_01_6[[#This Row],[IdEstablecimiento]],[1]Establecimientos!A$1:E$175,5,FALSE),0)","v":"04106-VICUÑA"},"105470","80302034","2021-11-08T12:27:59",0,null,null,2]
[3,"5",2021,{"$f":"IFERROR(VLOOKUP(Tabla_SERIEBM_01_6[[#This Row],[IdEstablecimiento]],[1]Establecimientos!A$1:E$175,5,FALSE),0)","v":"04106-VICUÑA"},"105470","80309010","2021-11-08T12:27:59",0,null,null,2]
[3,"5",2021,{"$f":"IFERROR(VLOOKUP(Tabla_SERIEBM_01_6[[#This Row],[IdEstablecimiento]],[1]Establecimientos!A$1:E$175,5,FALSE),0)","v":"04106-VICUÑA"},"105470","80309013","2021-11-08T12:27:59",0,null,null,2]
[3,"5",2021,{"$f":"IFERROR(VLOOKUP(Tabla_SERIEBM_01_6[[#This Row],[IdEstablecimiento]],[1]Establecimientos!A$1:E$175,5,FALSE),0)","v":"04106-VICUÑA"},"105470","80309022","2021-11-08T12:27:59",0,null,null,1]
[3,"5",2021,{"$f":"IFERROR(VLOOKUP(Tabla_SERIEBM_01_6[[#This Row],[IdEstablecimiento]],[1]Establecimientos!A$1:E$175,5,FALSE),0)","v":"04106-VICUÑA"},"105470","80309024","2021-11-08T12:27:59",0,null,null,2]
[3,"5",2021,{"$f":"IFERROR(VLOOKUP(Tabla_SERIEBM_01_6[[#This Row],[IdEstablecimiento]],[1]Establecimientos!A$1:E$175,5,FALSE),0)","v":"04106-VICUÑA"},"105470","81701009","2021-11-08T12:27:59",9,null,9,null,9]
[3,"5",2021,{"$f":"IFERROR(VLOOKUP(Tabla_SERIEBM_01_6[[#This Row],[IdEstablecimiento]],[1]Establecimientos!A$1:E$175,5,FALSE),0)","v":"04106-VICUÑA"},"105470","80106002","2021-11-08T12:27:59",20,null,20,null,20]
[3,"5",2021,{"$f":"IFERROR(VLOOKUP(Tabla_SERIEBM_01_6[[#This Row],[IdEstablecimiento]],[1]Establecimientos!A$1:E$175,5,FALSE),0)","v":"04106-VICUÑA"},"105470","80106006","2021-11-08T12:27:59",1,null,1,null,1]
[3,"5",2021,{"$f":"IFERROR(VLOOKUP(Tabla_SERIEBM_01_6[[#This Row],[IdEstablecimiento]],[1]Establecimientos!A$1:E$175,5,FALSE),0)","v":"04106-VICUÑA"},"105470","80106014","2021-11-08T12:27:59",33,null,33,null,33]
[3,"5",2021,{"$f":"IFERROR(VLOOKUP(Tabla_SERIEBM_01_6[[#This Row],[IdEstablecimiento]],[1]Establecimientos!A$1:E$175,5,FALSE),0)","v":"04106-VICUÑA"},"105470","80106023","2021-11-08T12:27:59",10,null,10,null,10]
[3,"5",2021,{"$f":"IFERROR(VLOOKUP(Tabla_SERIEBM_01_6[[#This Row],[IdEstablecimiento]],[1]Establecimientos!A$1:E$175,5,FALSE),0)","v":"04106-VICUÑA"},"105470","80307011","2021-11-08T12:27:59",0,null,null,2]
[3,"5",2021,{"$f":"IFERROR(VLOOKUP(Tabla_SERIEBM_01_6[[#This Row],[IdEstablecimiento]],[1]Establecimientos!A$1:E$175,5,FALSE),0)","v":"04106-VICUÑA"},"105470","80500011","2021-11-08T12:27:59",14,null,14,null,14]
[3,"5",2021,{"$f":"IFERROR(VLOOKUP(Tabla_SERIEBM_01_6[[#This Row],[IdEstablecimiento]],[1]Establecimientos!A$1:E$175,5,FALSE),0)","v":"04106-VICUÑA"},"105470","18020500","2021-11-08T12:27:59",9,0,9]
[3,"5",2021,{"$f":"IFERROR(VLOOKUP(Tabla_SERIEBM_01_6[[#This Row],[IdEstablecimiento]],[1]Establecimientos!A$1:E$175,5,FALSE),0)","v":"04106-VICUÑA"},"105470","18090000","2021-11-08T12:27:59",10,0,10]
[3,"5",2021,{"$f":"IFERROR(VLOOKUP(Tabla_SERIEBM_01_6[[#This Row],[IdEstablecimiento]],[1]Establecimientos!A$1:E$175,5,FALSE),0)","v":"04106-VICUÑA"},"105470","18050100","2021-11-08T12:27:59",20,0,20]
[3,"5",2021,{"$f":"IFERROR(VLOOKUP(Tabla_SERIEBM_01_6[[#This Row],[IdEstablecimiento]],[1]Establecimientos!A$1:E$175,5,FALSE),0)","v":"04106-VICUÑA"},"105470","18050300","2021-11-08T12:27:59",1,0,1]
[3,"5",2021,{"$f":"IFERROR(VLOOKUP(Tabla_SERIEBM_01_6[[#This Row],[IdEstablecimiento]],[1]Establecimientos!A$1:E$175,5,FALSE),0)","v":"04106-VICUÑA"},"105470","18400900","2021-11-08T12:27:59",3,1,2]
[3,"5",2021,{"$f":"IFERROR(VLOOKUP(Tabla_SERIEBM_01_6[[#This Row],[IdEstablecimiento]],[1]Establecimientos!A$1:E$175,5,FALSE),0)","v":"04106-VICUÑA"},"105471","80302047","2021-11-08T12:28:24",0,null,null,36]
[3,"5",2021,{"$f":"IFERROR(VLOOKUP(Tabla_SERIEBM_01_6[[#This Row],[IdEstablecimiento]],[1]Establecimientos!A$1:E$175,5,FALSE),0)","v":"04106-VICUÑA"},"105471","80302057","2021-11-08T12:28:24",0,null,null,1]
[3,"5",2021,{"$f":"IFERROR(VLOOKUP(Tabla_SERIEBM_01_6[[#This Row],[IdEstablecimiento]],[1]Establecimientos!A$1:E$175,5,FALSE),0)","v":"04106-VICUÑA"},"105471","80302076","2021-11-08T12:28:24",0,null,null,7]
[3,"5",2021,{"$f":"IFERROR(VLOOKUP(Tabla_SERIEBM_01_6[[#This Row],[IdEstablecimiento]],[1]Establecimientos!A$1:E$175,5,FALSE),0)","v":"04106-VICUÑA"},"105471","80303024","2021-11-08T12:28:24",0,null,null,10]
[3,"5",2021,{"$f":"IFERROR(VLOOKUP(Tabla_SERIEBM_01_6[[#This Row],[IdEstablecimiento]],[1]Establecimientos!A$1:E$175,5,FALSE),0)","v":"04106-VICUÑA"},"105471","80301041","2021-11-08T12:28:24",0,null,null,15]
[3,"5",2021,{"$f":"IFERROR(VLOOKUP(Tabla_SERIEBM_01_6[[#This Row],[IdEstablecimiento]],[1]Establecimientos!A$1:E$175,5,FALSE),0)","v":"04106-VICUÑA"},"105471","80301045","2021-11-08T12:28:24",0,null,null,34]
[3,"5",2021,{"$f":"IFERROR(VLOOKUP(Tabla_SERIEBM_01_6[[#This Row],[IdEstablecimiento]],[1]Establecimientos!A$1:E$175,5,FALSE),0)","v":"04106-VICUÑA"},"105471","80302067","2021-11-08T12:28:24",0,null,null,1]
[3,"5",2021,{"$f":"IFERROR(VLOOKUP(Tabla_SERIEBM_01_6[[#This Row],[IdEstablecimiento]],[1]Establecimientos!A$1:E$175,5,FALSE),0)","v":"04106-VICUÑA"},"105471","80302023","2021-11-08T12:28:24",0,null,null,32]
[3,"5",2021,{"$f":"IFERROR(VLOOKUP(Tabla_SERIEBM_01_6[[#This Row],[IdEstablecimiento]],[1]Establecimientos!A$1:E$175,5,FALSE),0)","v":"04106-VICUÑA"},"105471","80302032","2021-11-08T12:28:24",0,null,null,26]
[3,"5",2021,{"$f":"IFERROR(VLOOKUP(Tabla_SERIEBM_01_6[[#This Row],[IdEstablecimiento]],[1]Establecimientos!A$1:E$175,5,FALSE),0)","v":"04106-VICUÑA"},"105471","80302034","2021-11-08T12:28:24",0,null,null,34]
[3,"5",2021,{"$f":"IFERROR(VLOOKUP(Tabla_SERIEBM_01_6[[#This Row],[IdEstablecimiento]],[1]Establecimientos!A$1:E$175,5,FALSE),0)","v":"04106-VICUÑA"},"105471","80305019","2021-11-08T12:28:24",0,null,null,1]
[3,"5",2021,{"$f":"IFERROR(VLOOKUP(Tabla_SERIEBM_01_6[[#This Row],[IdEstablecimiento]],[1]Establecimientos!A$1:E$175,5,FALSE),0)","v":"04106-VICUÑA"},"105471","80306011","2021-11-08T12:28:24",0,null,null,6]
[3,"5",2021,{"$f":"IFERROR(VLOOKUP(Tabla_SERIEBM_01_6[[#This Row],[IdEstablecimiento]],[1]Establecimientos!A$1:E$175,5,FALSE),0)","v":"04106-VICUÑA"},"105471","80306042","2021-11-08T12:28:24",0,null,null,1]
[3,"5",2021,{"$f":"IFERROR(VLOOKUP(Tabla_SERIEBM_01_6[[#This Row],[IdEstablecimiento]],[1]Establecimientos!A$1:E$175,5,FALSE),0)","v":"04106-VICUÑA"},"105471","80309010","2021-11-08T12:28:24",0,null,null,12]
[3,"5",2021,{"$f":"IFERROR(VLOOKUP(Tabla_SERIEBM_01_6[[#This Row],[IdEstablecimiento]],[1]Establecimientos!A$1:E$175,5,FALSE),0)","v":"04106-VICUÑA"},"105471","80309013","2021-11-08T12:28:24",0,null,null,18]
[3,"5",2021,{"$f":"IFERROR(VLOOKUP(Tabla_SERIEBM_01_6[[#This Row],[IdEstablecimiento]],[1]Establecimientos!A$1:E$175,5,FALSE),0)","v":"04106-VICUÑA"},"105471","80309022","2021-11-08T12:28:24",0,null,null,20]
[3,"5",2021,{"$f":"IFERROR(VLOOKUP(Tabla_SERIEBM_01_6[[#This Row],[IdEstablecimiento]],[1]Establecimientos!A$1:E$175,5,FALSE),0)","v":"04106-VICUÑA"},"105471","80309024","2021-11-08T12:28:24",0,null,null,6]
[3,"5",2021,{"$f":"IFERROR(VLOOKUP(Tabla_SERIEBM_01_6[[#This Row],[IdEstablecimiento]],[1]Establecimientos!A$1:E$175,5,FALSE),0)","v":"04106-VICUÑA"},"105471","81701001","2021-11-08T12:28:24",8,null,8,null,8]
[3,"5",2021,{"$f":"IFERROR(VLOOKUP(Tabla_SERIEBM_01_6[[#This Row],[IdEstablecimiento]],[1]Establecimientos!A$1:E$175,5,FALSE),0)","v":"04106-VICUÑA"},"105471","81701009","2021-11-08T12:28:24",16,null,16,null,16]
[3,"5",2021,{"$f":"IFERROR(VLOOKUP(Tabla_SERIEBM_01_6[[#This Row],[IdEstablecimiento]],[1]Establecimientos!A$1:E$175,5,FALSE),0)","v":"04106-VICUÑA"},"105471","81602222","2021-11-08T12:28:24",2,null,2,null,2]
[3,"5",2021,{"$f":"IFERROR(VLOOKUP(Tabla_SERIEBM_01_6[[#This Row],[IdEstablecimiento]],[1]Establecimientos!A$1:E$175,5,FALSE),0)","v":"04106-VICUÑA"},"105471","80106002","2021-11-08T12:28:24",20,null,20,null,20]
[3,"5",2021,{"$f":"IFERROR(VLOOKUP(Tabla_SERIEBM_01_6[[#This Row],[IdEstablecimiento]],[1]Establecimientos!A$1:E$175,5,FALSE),0)","v":"04106-VICUÑA"},"105471","80106017","2021-11-08T12:28:24",1,null,1,null,1]
[3,"5",2021,{"$f":"IFERROR(VLOOKUP(Tabla_SERIEBM_01_6[[#This Row],[IdEstablecimiento]],[1]Establecimientos!A$1:E$175,5,FALSE),0)","v":"04106-VICUÑA"},"105471","80106013","2021-11-08T12:28:24",1,null,1,null,1]
[3,"5",2021,{"$f":"IFERROR(VLOOKUP(Tabla_SERIEBM_01_6[[#This Row],[IdEstablecimiento]],[1]Establecimientos!A$1:E$175,5,FALSE),0)","v":"04101-LA SERENA"},"105499","80309028","2021-11-08T12:44:34",0,null,null,3]
[3,"5",2021,{"$f":"IFERROR(VLOOKUP(Tabla_SERIEBM_01_6[[#This Row],[IdEstablecimiento]],[1]Establecimientos!A$1:E$175,5,FALSE),0)","v":"04101-LA SERENA"},"105499","80106002","2021-11-08T12:44:34",26,null,26,null,26]
[3,"5",2021,{"$f":"IFERROR(VLOOKUP(Tabla_SERIEBM_01_6[[#This Row],[IdEstablecimiento]],[1]Establecimientos!A$1:E$175,5,FALSE),0)","v":"04101-LA SERENA"},"105499","80106017","2021-11-08T12:44:34",19,null,19,null,19]
[3,"5",2021,{"$f":"IFERROR(VLOOKUP(Tabla_SERIEBM_01_6[[#This Row],[IdEstablecimiento]],[1]Establecimientos!A$1:E$175,5,FALSE),0)","v":"04101-LA SERENA"},"105499","80106014","2021-11-08T12:44:34",37,null,37,null,37]
[3,"5",2021,{"$f":"IFERROR(VLOOKUP(Tabla_SERIEBM_01_6[[#This Row],[IdEstablecimiento]],[1]Establecimientos!A$1:E$175,5,FALSE),0)","v":"04101-LA SERENA"},"105499","80307011","2021-11-08T12:44:34",7,null,7]
[3,"5",2021,{"$f":"IFERROR(VLOOKUP(Tabla_SERIEBM_01_6[[#This Row],[IdEstablecimiento]],[1]Establecimientos!A$1:E$175,5,FALSE),0)","v":"04101-LA SERENA"},"105499","18050100","2021-11-08T12:44:34",26,0,26]
[3,"5",2021,{"$f":"IFERROR(VLOOKUP(Tabla_SERIEBM_01_6[[#This Row],[IdEstablecimiento]],[1]Establecimientos!A$1:E$175,5,FALSE),0)","v":"04104-LA HIGUERA"},"105500","81701009","2021-11-08T12:45:44",13,13,null,null,13]
[3,"5",2021,{"$f":"IFERROR(VLOOKUP(Tabla_SERIEBM_01_6[[#This Row],[IdEstablecimiento]],[1]Establecimientos!A$1:E$175,5,FALSE),0)","v":"04104-LA HIGUERA"},"105500","80106002","2021-11-08T12:45:44",6,6,null,null,6]
[3,"5",2021,{"$f":"IFERROR(VLOOKUP(Tabla_SERIEBM_01_6[[#This Row],[IdEstablecimiento]],[1]Establecimientos!A$1:E$175,5,FALSE),0)","v":"04104-LA HIGUERA"},"105500","80106017","2021-11-08T12:45:44",1,1,null,null,1]
[3,"5",2021,{"$f":"IFERROR(VLOOKUP(Tabla_SERIEBM_01_6[[#This Row],[IdEstablecimiento]],[1]Establecimientos!A$1:E$175,5,FALSE),0)","v":"04104-LA HIGUERA"},"105500","80106014","2021-11-08T12:45:44",31,31,null,null,31]
[3,"5",2021,{"$f":"IFERROR(VLOOKUP(Tabla_SERIEBM_01_6[[#This Row],[IdEstablecimiento]],[1]Establecimientos!A$1:E$175,5,FALSE),0)","v":"04104-LA HIGUERA"},"105500","80106015","2021-11-08T12:45:44",12,12,null,null,12]
[3,"5",2021,{"$f":"IFERROR(VLOOKUP(Tabla_SERIEBM_01_6[[#This Row],[IdEstablecimiento]],[1]Establecimientos!A$1:E$175,5,FALSE),0)","v":"04104-LA HIGUERA"},"105500","80106020","2021-11-08T12:45:44",1,1,null,null,1]
[3,"5",2021,{"$f":"IFERROR(VLOOKUP(Tabla_SERIEBM_01_6[[#This Row],[IdEstablecimiento]],[1]Establecimientos!A$1:E$175,5,FALSE),0)","v":"04104-LA HIGUERA"},"105500","80307011","2021-11-08T12:45:44",5,null,5]
[3,"5",2021,{"$f":"IFERROR(VLOOKUP(Tabla_SERIEBM_01_6[[#This Row],[IdEstablecimiento]],[1]Establecimientos!A$1:E$175,5,FALSE),0)","v":"04104-LA HIGUERA"},"105500","80500011","2021-11-08T12:45:44",21,21,null,null,21]
[3,"5",2021,{"$f":"IFERROR(VLOOKUP(Tabla_SERIEBM_01_6[[#This Row],[IdEstablecimiento]],[1]Establecimientos!A$1:E$175,5,FALSE),0)","v":"04104-LA HIGUERA"},"105500","18020500","2021-11-08T12:45:44",13,13,0]
[3,"5",2021,{"$f":"IFERROR(VLOOKUP(Tabla_SERIEBM_01_6[[#This Row],[IdEstablecimiento]],[1]Establecimientos!A$1:E$175,5,FALSE),0)","v":"04104-LA HIGUERA"},"105500","18050100","2021-11-08T12:45:44",6,6,0]
[3,"5",2021,{"$f":"IFERROR(VLOOKUP(Tabla_SERIEBM_01_6[[#This Row],[IdEstablecimiento]],[1]Establecimientos!A$1:E$175,5,FALSE),0)","v":"04204-SALAMANCA"},"105501","81701001","2021-11-08T12:46:10",7,null,7]
[3,"5",2021,{"$f":"IFERROR(VLOOKUP(Tabla_SERIEBM_01_6[[#This Row],[IdEstablecimiento]],[1]Establecimientos!A$1:E$175,5,FALSE),0)","v":"04204-SALAMANCA"},"105501","81602222","2021-11-08T12:46:10",1,null,1]
[3,"5",2021,{"$f":"IFERROR(VLOOKUP(Tabla_SERIEBM_01_6[[#This Row],[IdEstablecimiento]],[1]Establecimientos!A$1:E$175,5,FALSE),0)","v":"04204-SALAMANCA"},"105501","80106002","2021-11-08T12:46:10",31,null,31]
[3,"5",2021,{"$f":"IFERROR(VLOOKUP(Tabla_SERIEBM_01_6[[#This Row],[IdEstablecimiento]],[1]Establecimientos!A$1:E$175,5,FALSE),0)","v":"04204-SALAMANCA"},"105501","80106007","2021-11-08T12:46:10",1,null,1]
[3,"5",2021,{"$f":"IFERROR(VLOOKUP(Tabla_SERIEBM_01_6[[#This Row],[IdEstablecimiento]],[1]Establecimientos!A$1:E$175,5,FALSE),0)","v":"04204-SALAMANCA"},"105501","80106010","2021-11-08T12:46:10",2,null,2]
[3,"5",2021,{"$f":"IFERROR(VLOOKUP(Tabla_SERIEBM_01_6[[#This Row],[IdEstablecimiento]],[1]Establecimientos!A$1:E$175,5,FALSE),0)","v":"04204-SALAMANCA"},"105501","80106015","2021-11-08T12:46:10",2,null,2]
[3,"5",2021,{"$f":"IFERROR(VLOOKUP(Tabla_SERIEBM_01_6[[#This Row],[IdEstablecimiento]],[1]Establecimientos!A$1:E$175,5,FALSE),0)","v":"04204-SALAMANCA"},"105501","80106022","2021-11-08T12:46:10",1,null,1]
[3,"5",2021,{"$f":"IFERROR(VLOOKUP(Tabla_SERIEBM_01_6[[#This Row],[IdEstablecimiento]],[1]Establecimientos!A$1:E$175,5,FALSE),0)","v":"04305-RIO HURTADO"},"105503","80106002","2021-11-08T12:46:33",3,null,3,null,3]
[3,"5",2021,{"$f":"IFERROR(VLOOKUP(Tabla_SERIEBM_01_6[[#This Row],[IdEstablecimiento]],[1]Establecimientos!A$1:E$175,5,FALSE),0)","v":"04305-RIO HURTADO"},"105503","80106014","2021-11-08T12:46:33",6,null,6,null,6]
[3,"5",2021,{"$f":"IFERROR(VLOOKUP(Tabla_SERIEBM_01_6[[#This Row],[IdEstablecimiento]],[1]Establecimientos!A$1:E$175,5,FALSE),0)","v":"04305-RIO HURTADO"},"105503","80307011","2021-11-08T12:46:33",3,null,3]
[3,"5",2021,{"$f":"IFERROR(VLOOKUP(Tabla_SERIEBM_01_6[[#This Row],[IdEstablecimiento]],[1]Establecimientos!A$1:E$175,5,FALSE),0)","v":"04305-RIO HURTADO"},"105503","80307012","2021-11-08T12:46:33",2,null,2]
[3,"5",2021,{"$f":"IFERROR(VLOOKUP(Tabla_SERIEBM_01_6[[#This Row],[IdEstablecimiento]],[1]Establecimientos!A$1:E$175,5,FALSE),0)","v":"04305-RIO HURTADO"},"105503","18050100","2021-11-08T12:46:33",3,0,3]
[3,"5",2021,{"$f":"IFERROR(VLOOKUP(Tabla_SERIEBM_01_6[[#This Row],[IdEstablecimiento]],[1]Establecimientos!A$1:E$175,5,FALSE),0)","v":"04305-RIO HURTADO"},"105503","18400900","2021-11-08T12:46:33",4,null,4]
[3,"5",2021,{"$f":"IFERROR(VLOOKUP(Tabla_SERIEBM_01_6[[#This Row],[IdEstablecimiento]],[1]Establecimientos!A$1:E$175,5,FALSE),0)","v":"04201-ILLAPEL"},"105504","80302047","2021-11-08T12:46:58",0,null,null,6]
[3,"5",2021,{"$f":"IFERROR(VLOOKUP(Tabla_SERIEBM_01_6[[#This Row],[IdEstablecimiento]],[1]Establecimientos!A$1:E$175,5,FALSE),0)","v":"04201-ILLAPEL"},"105504","80302057","2021-11-08T12:46:58",0,null,null,4]
[3,"5",2021,{"$f":"IFERROR(VLOOKUP(Tabla_SERIEBM_01_6[[#This Row],[IdEstablecimiento]],[1]Establecimientos!A$1:E$175,5,FALSE),0)","v":"04201-ILLAPEL"},"105504","80303024","2021-11-08T12:46:58",0,null,null,3]
[3,"5",2021,{"$f":"IFERROR(VLOOKUP(Tabla_SERIEBM_01_6[[#This Row],[IdEstablecimiento]],[1]Establecimientos!A$1:E$175,5,FALSE),0)","v":"04201-ILLAPEL"},"105504","80301036","2021-11-08T12:46:58",0,null,null,1]
[3,"5",2021,{"$f":"IFERROR(VLOOKUP(Tabla_SERIEBM_01_6[[#This Row],[IdEstablecimiento]],[1]Establecimientos!A$1:E$175,5,FALSE),0)","v":"04201-ILLAPEL"},"105504","80301041","2021-11-08T12:46:58",0,null,null,1]
[3,"5",2021,{"$f":"IFERROR(VLOOKUP(Tabla_SERIEBM_01_6[[#This Row],[IdEstablecimiento]],[1]Establecimientos!A$1:E$175,5,FALSE),0)","v":"04201-ILLAPEL"},"105504","80301045","2021-11-08T12:46:58",0,null,null,2]
[5,"5",2021,{"$f":"IFERROR(VLOOKUP(Tabla_SERIEBM_01_6[[#This Row],[IdEstablecimiento]],[1]Establecimientos!A$1:E$175,5,FALSE),0)","v":"04202-CANELA"},"105309","80307012","2021-06-11T09:48:04",0,null,null,3]
[5,"5",2021,{"$f":"IFERROR(VLOOKUP(Tabla_SERIEBM_01_6[[#This Row],[IdEstablecimiento]],[1]Establecimientos!A$1:E$175,5,FALSE),0)","v":"04202-CANELA"},"105309","80500008","2021-06-11T09:48:04",4,null,4,null,4]
[5,"5",2021,{"$f":"IFERROR(VLOOKUP(Tabla_SERIEBM_01_6[[#This Row],[IdEstablecimiento]],[1]Establecimientos!A$1:E$175,5,FALSE),0)","v":"04202-CANELA"},"105309","80500009","2021-06-11T09:48:04",6,null,6,null,6]
[5,"5",2021,{"$f":"IFERROR(VLOOKUP(Tabla_SERIEBM_01_6[[#This Row],[IdEstablecimiento]],[1]Establecimientos!A$1:E$175,5,FALSE),0)","v":"04202-CANELA"},"105309","80500011","2021-06-11T09:48:04",60,null,60,null,60]
[5,"5",2021,{"$f":"IFERROR(VLOOKUP(Tabla_SERIEBM_01_6[[#This Row],[IdEstablecimiento]],[1]Establecimientos!A$1:E$175,5,FALSE),0)","v":"04202-CANELA"},"105309","80500014","2021-06-11T09:48:04",0,{"$nulls":4},1]
[1,"5",2021,{"$f":"IFERROR(VLOOKUP(Tabla_SERIEBM_01_6[[#This Row],[IdEstablecimiento]],[1]Establecimientos!A$1:E$175,5,FALSE),0)","v":"04204-SALAMANCA"},"105452","80302034","2021-02-18T04:06:12",0,null,null,230]
[1,"5",2021,{"$f":"IFERROR(VLOOKUP(Tabla_SERIEBM_01_6[[#This Row],[IdEstablecimiento]],[1]Establecimientos!A$1:E$175,5,FALSE),0)","v":"04204-SALAMANCA"},"105452","80305070","2021-02-18T04:06:12",0,null,null,8]
[5,"5",2021,{"$f":"IFERROR(VLOOKUP(Tabla_SERIEBM_01_6[[#This Row],[IdEstablecimiento]],[1]Establecimientos!A$1:E$175,5,FALSE),0)","v":"04201-ILLAPEL"},"105485","80309022","2021-06-11T12:17:29",0,null,null,25]
[5,"5",2021,{"$f":"IFERROR(VLOOKUP(Tabla_SERIEBM_01_6[[#This Row],[IdEstablecimiento]],[1]Establecimientos!A$1:E$175,5,FALSE),0)","v":"04301-OVALLE"},"105322","18010100","2021-06-11T09:55:00",2571,0,2571]
[5,"5",2021,{"$f":"IFERROR(VLOOKUP(Tabla_SERIEBM_01_6[[#This Row],[IdEstablecimiento]],[1]Establecimientos!A$1:E$175,5,FALSE),0)","v":"04301-OVALLE"},"105322","18010200","2021-06-11T09:55:00",11547,0,11547]
[5,"5",2021,{"$f":"IFERROR(VLOOKUP(Tabla_SERIEBM_01_6[[#This Row],[IdEstablecimiento]],[1]Establecimientos!A$1:E$175,5,FALSE),0)","v":"04301-OVALLE"},"105322","18090100","2021-06-11T09:55:00",1776,0,1776]
[5,"5",2021,{"$f":"IFERROR(VLOOKUP(Tabla_SERIEBM_01_6[[#This Row],[IdEstablecimiento]],[1]Establecimientos!A$1:E$175,5,FALSE),0)","v":"04301-OVALLE"},"105322","18010500","2021-06-11T09:55:00",33,0,33]
[5,"5",2021,{"$f":"IFERROR(VLOOKUP(Tabla_SERIEBM_01_6[[#This Row],[IdEstablecimiento]],[1]Establecimientos!A$1:E$175,5,FALSE),0)","v":"04102-COQUIMBO"},"105323","80302047","2021-06-11T09:55:34",0,null,null,351]
[5,"5",2021,{"$f":"IFERROR(VLOOKUP(Tabla_SERIEBM_01_6[[#This Row],[IdEstablecimiento]],[1]Establecimientos!A$1:E$175,5,FALSE),0)","v":"04102-COQUIMBO"},"105323","80302048","2021-06-11T09:55:34",0,null,null,27]
[5,"5",2021,{"$f":"IFERROR(VLOOKUP(Tabla_SERIEBM_01_6[[#This Row],[IdEstablecimiento]],[1]Establecimientos!A$1:E$175,5,FALSE),0)","v":"04102-COQUIMBO"},"105323","80302057","2021-06-11T09:55:34",0,null,null,188]
[5,"5",2021,{"$f":"IFERROR(VLOOKUP(Tabla_SERIEBM_01_6[[#This Row],[IdEstablecimiento]],[1]Establecimientos!A$1:E$175,5,FALSE),0)","v":"04102-COQUIMBO"},"105323","80302060","2021-06-11T09:55:34",0,null,null,13]
[5,"5",2021,{"$f":"IFERROR(VLOOKUP(Tabla_SERIEBM_01_6[[#This Row],[IdEstablecimiento]],[1]Establecimientos!A$1:E$175,5,FALSE),0)","v":"04102-COQUIMBO"},"105323","80302076","2021-06-11T09:55:34",0,null,null,7]
[5,"5",2021,{"$f":"IFERROR(VLOOKUP(Tabla_SERIEBM_01_6[[#This Row],[IdEstablecimiento]],[1]Establecimientos!A$1:E$175,5,FALSE),0)","v":"04102-COQUIMBO"},"105323","80302063","2021-06-11T09:55:34",0,null,null,192]
[5,"5",2021,{"$f":"IFERROR(VLOOKUP(Tabla_SERIEBM_01_6[[#This Row],[IdEstablecimiento]],[1]Establecimientos!A$1:E$175,5,FALSE),0)","v":"04102-COQUIMBO"},"105323","80302064","2021-06-11T09:55:34",0,null,null,144]
[5,"5",2021,{"$f":"IFERROR(VLOOKUP(Tabla_SERIEBM_01_6[[#This Row],[IdEstablecimiento]],[1]Establecimientos!A$1:E$175,5,FALSE),0)","v":"04102-COQUIMBO"},"105323","80303024","2021-06-11T09:55:34",0,null,null,205]
[2,"5",2021,{"$f":"IFERROR(VLOOKUP(Tabla_SERIEBM_01_6[[#This Row],[IdEstablecimiento]],[1]Establecimientos!A$1:E$175,5,FALSE),0)","v":"04303-MONTE PATRIA"},"105432","81701001","2021-11-09T14:04:14",8,null,8,null,8]
[2,"5",2021,{"$f":"IFERROR(VLOOKUP(Tabla_SERIEBM_01_6[[#This Row],[IdEstablecimiento]],[1]Establecimientos!A$1:E$175,5,FALSE),0)","v":"04303-MONTE PATRIA"},"105432","81701009","2021-11-09T14:04:14",2,null,2,null,2]
[2,"5",2021,{"$f":"IFERROR(VLOOKUP(Tabla_SERIEBM_01_6[[#This Row],[IdEstablecimiento]],[1]Establecimientos!A$1:E$175,5,FALSE),0)","v":"04303-MONTE PATRIA"},"105432","80106002","2021-11-09T14:04:14",63,null,63,null,63]
[2,"5",2021,{"$f":"IFERROR(VLOOKUP(Tabla_SERIEBM_01_6[[#This Row],[IdEstablecimiento]],[1]Establecimientos!A$1:E$175,5,FALSE),0)","v":"04303-MONTE PATRIA"},"105432","80106017","2021-11-09T14:04:14",12,null,12,null,12]
[2,"5",2021,{"$f":"IFERROR(VLOOKUP(Tabla_SERIEBM_01_6[[#This Row],[IdEstablecimiento]],[1]Establecimientos!A$1:E$175,5,FALSE),0)","v":"04303-MONTE PATRIA"},"105432","80106013","2021-11-09T14:04:14",2,null,2,null,2]
[3,"5",2021,{"$f":"IFERROR(VLOOKUP(Tabla_SERIEBM_01_6[[#This Row],[IdEstablecimiento]],[1]Establecimientos!A$1:E$175,5,FALSE),0)","v":"04101-LA SERENA"},"105819","80106020","2021-11-08T13:09:01",56,56,null,null,56]
[3,"5",2021,{"$f":"IFERROR(VLOOKUP(Tabla_SERIEBM_01_6[[#This Row],[IdEstablecimiento]],[1]Establecimientos!A$1:E$175,5,FALSE),0)","v":"04101-LA SERENA"},"105819","80106021","2021-11-08T13:09:01",5,5,null,null,5]
[3,"5",2021,{"$f":"IFERROR(VLOOKUP(Tabla_SERIEBM_01_6[[#This Row],[IdEstablecimiento]],[1]Establecimientos!A$1:E$175,5,FALSE),0)","v":"04101-LA SERENA"},"105819","80106022","2021-11-08T13:09:01",46,46,null,null,46]
[3,"5",2021,{"$f":"IFERROR(VLOOKUP(Tabla_SERIEBM_01_6[[#This Row],[IdEstablecimiento]],[1]Establecimientos!A$1:E$175,5,FALSE),0)","v":"04101-LA SERENA"},"105819","80500011","2021-11-08T13:09:01",489,489,null,null,489]
[3,"5",2021,{"$f":"IFERROR(VLOOKUP(Tabla_SERIEBM_01_6[[#This Row],[IdEstablecimiento]],[1]Establecimientos!A$1:E$175,5,FALSE),0)","v":"04101-LA SERENA"},"105819","80500016","2021-11-08T13:09:01",56,56,null,null,56]
[3,"5",2021,{"$f":"IFERROR(VLOOKUP(Tabla_SERIEBM_01_6[[#This Row],[IdEstablecimiento]],[1]Establecimientos!A$1:E$175,5,FALSE),0)","v":"04101-LA SERENA"},"105819","80500017","2021-11-08T13:09:01",159,159,null,null,159]
[3,"5",2021,{"$f":"IFERROR(VLOOKUP(Tabla_SERIEBM_01_6[[#This Row],[IdEstablecimiento]],[1]Establecimientos!A$1:E$175,5,FALSE),0)","v":"04101-LA SERENA"},"105819","18011001","2021-11-08T13:09:01",517,517,0]
[3,"5",2021,{"$f":"IFERROR(VLOOKUP(Tabla_SERIEBM_01_6[[#This Row],[IdEstablecimiento]],[1]Establecimientos!A$1:E$175,5,FALSE),0)","v":"04101-LA SERENA"},"105819","18020200","2021-11-08T13:09:01",5,5,0]
[3,"5",2021,{"$f":"IFERROR(VLOOKUP(Tabla_SERIEBM_01_6[[#This Row],[IdEstablecimiento]],[1]Establecimientos!A$1:E$175,5,FALSE),0)","v":"04101-LA SERENA"},"105819","18020500","2021-11-08T13:09:01",140,140,0]
[3,"5",2021,{"$f":"IFERROR(VLOOKUP(Tabla_SERIEBM_01_6[[#This Row],[IdEstablecimiento]],[1]Establecimientos!A$1:E$175,5,FALSE),0)","v":"04101-LA SERENA"},"105819","18020700","2021-11-08T13:09:01",36,36,0]
[3,"5",2021,{"$f":"IFERROR(VLOOKUP(Tabla_SERIEBM_01_6[[#This Row],[IdEstablecimiento]],[1]Establecimientos!A$1:E$175,5,FALSE),0)","v":"04301-OVALLE"},"105822","80401051","2021-11-08T13:10:57",17,17]
[3,"5",2021,{"$f":"IFERROR(VLOOKUP(Tabla_SERIEBM_01_6[[#This Row],[IdEstablecimiento]],[1]Establecimientos!A$1:E$175,5,FALSE),0)","v":"04301-OVALLE"},"105822","80401053","2021-11-08T13:10:57",3,3]
[3,"5",2021,{"$f":"IFERROR(VLOOKUP(Tabla_SERIEBM_01_6[[#This Row],[IdEstablecimiento]],[1]Establecimientos!A$1:E$175,5,FALSE),0)","v":"04301-OVALLE"},"105822","80401054","2021-11-08T13:10:57",137,137]
[3,"5",2021,{"$f":"IFERROR(VLOOKUP(Tabla_SERIEBM_01_6[[#This Row],[IdEstablecimiento]],[1]Establecimientos!A$1:E$175,5,FALSE),0)","v":"04301-OVALLE"},"105822","80401055","2021-11-08T13:10:57",5,5]
[3,"5",2021,{"$f":"IFERROR(VLOOKUP(Tabla_SERIEBM_01_6[[#This Row],[IdEstablecimiento]],[1]Establecimientos!A$1:E$175,5,FALSE),0)","v":"04301-OVALLE"},"105822","80401059","2021-11-08T13:10:57",43,43]
[3,"5",2021,{"$f":"IFERROR(VLOOKUP(Tabla_SERIEBM_01_6[[#This Row],[IdEstablecimiento]],[1]Establecimientos!A$1:E$175,5,FALSE),0)","v":"04301-OVALLE"},"105822","80401060","2021-11-08T13:10:57",68,68]
[3,"5",2021,{"$f":"IFERROR(VLOOKUP(Tabla_SERIEBM_01_6[[#This Row],[IdEstablecimiento]],[1]Establecimientos!A$1:E$175,5,FALSE),0)","v":"04301-OVALLE"},"105822","81701001","2021-11-08T13:10:57",120,120,null,null,120]
[3,"5",2021,{"$f":"IFERROR(VLOOKUP(Tabla_SERIEBM_01_6[[#This Row],[IdEstablecimiento]],[1]Establecimientos!A$1:E$175,5,FALSE),0)","v":"04301-OVALLE"},"105822","81701009","2021-11-08T13:10:57",34,34,null,null,34]
[3,"5",2021,{"$f":"IFERROR(VLOOKUP(Tabla_SERIEBM_01_6[[#This Row],[IdEstablecimiento]],[1]Establecimientos!A$1:E$175,5,FALSE),0)","v":"04301-OVALLE"},"105822","81801023","2021-11-08T13:10:57",2,2,null,null,2]
[3,"5",2021,{"$f":"IFERROR(VLOOKUP(Tabla_SERIEBM_01_6[[#This Row],[IdEstablecimiento]],[1]Establecimientos!A$1:E$175,5,FALSE),0)","v":"04301-OVALLE"},"105822","81801042","2021-11-08T13:10:57",1,1,null,null,1]
[3,"5",2021,{"$f":"IFERROR(VLOOKUP(Tabla_SERIEBM_01_6[[#This Row],[IdEstablecimiento]],[1]Establecimientos!A$1:E$175,5,FALSE),0)","v":"04301-OVALLE"},"105822","81901019","2021-11-08T13:10:57",8,8,null,null,8]
[3,"5",2021,{"$f":"IFERROR(VLOOKUP(Tabla_SERIEBM_01_6[[#This Row],[IdEstablecimiento]],[1]Establecimientos!A$1:E$175,5,FALSE),0)","v":"04301-OVALLE"},"105822","80106002","2021-11-08T13:10:57",82,82,null,null,82]
[3,"5",2021,{"$f":"IFERROR(VLOOKUP(Tabla_SERIEBM_01_6[[#This Row],[IdEstablecimiento]],[1]Establecimientos!A$1:E$175,5,FALSE),0)","v":"04301-OVALLE"},"105822","80106017","2021-11-08T13:10:57",2,2,null,null,2]
[3,"5",2021,{"$f":"IFERROR(VLOOKUP(Tabla_SERIEBM_01_6[[#This Row],[IdEstablecimiento]],[1]Establecimientos!A$1:E$175,5,FALSE),0)","v":"04301-OVALLE"},"105822","80106007","2021-11-08T13:10:57",3,3,null,null,3]
[3,"5",2021,{"$f":"IFERROR(VLOOKUP(Tabla_SERIEBM_01_6[[#This Row],[IdEstablecimiento]],[1]Establecimientos!A$1:E$175,5,FALSE),0)","v":"04301-OVALLE"},"105822","80106011","2021-11-08T13:10:57",2,2,null,null,2]
[3,"5",2021,{"$f":"IFERROR(VLOOKUP(Tabla_SERIEBM_01_6[[#This Row],[IdEstablecimiento]],[1]Establecimientos!A$1:E$175,5,FALSE),0)","v":"04301-OVALLE"},"105822","80106013","2021-11-08T13:10:57",16,16,null,null,16]
[3,"5",2021,{"$f":"IFERROR(VLOOKUP(Tabla_SERIEBM_01_6[[#This Row],[IdEstablecimiento]],[1]Establecimientos!A$1:E$175,5,FALSE),0)","v":"04301-OVALLE"},"105822","80106014","2021-11-08T13:10:57",1123,1123,null,null,1123]
[3,"5",2021,{"$f":"IFERROR(VLOOKUP(Tabla_SERIEBM_01_6[[#This Row],[IdEstablecimiento]],[1]Establecimientos!A$1:E$175,5,FALSE),0)","v":"04102-COQUIMBO"},"200499","18700310","2021-11-08T13:18:03",1,null,1]
[3,"5",2021,{"$f":"IFERROR(VLOOKUP(Tabla_SERIEBM_01_6[[#This Row],[IdEstablecimiento]],[1]Establecimientos!A$1:E$175,5,FALSE),0)","v":"04102-COQUIMBO"},"200499","18700350","2021-11-08T13:18:03",8,null,8]
[3,"5",2021,{"$f":"IFERROR(VLOOKUP(Tabla_SERIEBM_01_6[[#This Row],[IdEstablecimiento]],[1]Establecimientos!A$1:E$175,5,FALSE),0)","v":"04102-COQUIMBO"},"200499","18400600","2021-11-08T13:18:03",8]
[3,"5",2021,{"$f":"IFERROR(VLOOKUP(Tabla_SERIEBM_01_6[[#This Row],[IdEstablecimiento]],[1]Establecimientos!A$1:E$175,5,FALSE),0)","v":"04102-COQUIMBO"},"200499","18020300","2021-11-08T13:18:03",18,0,18]
[3,"5",2021,{"$f":"IFERROR(VLOOKUP(Tabla_SERIEBM_01_6[[#This Row],[IdEstablecimiento]],[1]Establecimientos!A$1:E$175,5,FALSE),0)","v":"04102-COQUIMBO"},"200499","18020500","2021-11-08T13:18:03",185,18,167]
[3,"5",2021,{"$f":"IFERROR(VLOOKUP(Tabla_SERIEBM_01_6[[#This Row],[IdEstablecimiento]],[1]Establecimientos!A$1:E$175,5,FALSE),0)","v":"04102-COQUIMBO"},"200499","18030000","2021-11-08T13:18:03",6,0,6]
[3,"5",2021,{"$f":"IFERROR(VLOOKUP(Tabla_SERIEBM_01_6[[#This Row],[IdEstablecimiento]],[1]Establecimientos!A$1:E$175,5,FALSE),0)","v":"04102-COQUIMBO"},"200499","18040200","2021-11-08T13:18:03",6,null,6]
[3,"5",2021,{"$f":"IFERROR(VLOOKUP(Tabla_SERIEBM_01_6[[#This Row],[IdEstablecimiento]],[1]Establecimientos!A$1:E$175,5,FALSE),0)","v":"04102-COQUIMBO"},"200499","18090000","2021-11-08T13:18:03",13,0,13]
[3,"5",2021,{"$f":"IFERROR(VLOOKUP(Tabla_SERIEBM_01_6[[#This Row],[IdEstablecimiento]],[1]Establecimientos!A$1:E$175,5,FALSE),0)","v":"04102-COQUIMBO"},"200499","18050100","2021-11-08T13:18:03",84,21,63]
[3,"5",2021,{"$f":"IFERROR(VLOOKUP(Tabla_SERIEBM_01_6[[#This Row],[IdEstablecimiento]],[1]Establecimientos!A$1:E$175,5,FALSE),0)","v":"04102-COQUIMBO"},"200499","18400700","2021-11-08T13:18:03",314]
[3,"5",2021,{"$f":"IFERROR(VLOOKUP(Tabla_SERIEBM_01_6[[#This Row],[IdEstablecimiento]],[1]Establecimientos!A$1:E$175,5,FALSE),0)","v":"04102-COQUIMBO"},"200499","18070300","2021-11-08T13:18:03",1,{"$nulls":5},1]
[3,"5",2021,{"$f":"IFERROR(VLOOKUP(Tabla_SERIEBM_01_6[[#This Row],[IdEstablecimiento]],[1]Establecimientos!A$1:E$175,5,FALSE),0)","v":"04102-COQUIMBO"},"200499","18400900","2021-11-08T13:18:03",44,14,30]
[3,"5",2021,{"$f":"IFERROR(VLOOKUP(Tabla_SERIEBM_01_6[[#This Row],[IdEstablecimiento]],[1]Establecimientos!A$1:E$175,5,FALSE),0)","v":"04102-COQUIMBO"},"200499","18090200","2021-11-08T13:18:03",33]
[3,"5",2021,{"$f":"IFERROR(VLOOKUP(Tabla_SERIEBM_01_6[[#This Row],[IdEstablecimiento]],[1]Establecimientos!A$1:E$175,5,FALSE),0)","v":"04102-COQUIMBO"},"200499","18700100","2021-11-08T13:18:03",701,12,396,293]
[3,"5",2021,{"$f":"IFERROR(VLOOKUP(Tabla_SERIEBM_01_6[[#This Row],[IdEstablecimiento]],[1]Establecimientos!A$1:E$175,5,FALSE),0)","v":"04102-COQUIMBO"},"200499","18010100","2021-11-08T13:18:03",7,0,7]
[3,"5",2021,{"$f":"IFERROR(VLOOKUP(Tabla_SERIEBM_01_6[[#This Row],[IdEstablecimiento]],[1]Establecimientos!A$1:E$175,5,FALSE),0)","v":"04106-VICUÑA"},"200538","80302047","2021-11-08T13:18:28",0,null,null,128]
[3,"5",2021,{"$f":"IFERROR(VLOOKUP(Tabla_SERIEBM_01_6[[#This Row],[IdEstablecimiento]],[1]Establecimientos!A$1:E$175,5,FALSE),0)","v":"04106-VICUÑA"},"200538","80302048","2021-11-08T13:18:28",0,null,null,3]
[3,"5",2021,{"$f":"IFERROR(VLOOKUP(Tabla_SERIEBM_01_6[[#This Row],[IdEstablecimiento]],[1]Establecimientos!A$1:E$175,5,FALSE),0)","v":"04106-VICUÑA"},"200538","80302057","2021-11-08T13:18:28",0,null,null,11]
[3,"5",2021,{"$f":"IFERROR(VLOOKUP(Tabla_SERIEBM_01_6[[#This Row],[IdEstablecimiento]],[1]Establecimientos!A$1:E$175,5,FALSE),0)","v":"04106-VICUÑA"},"200538","80302076","2021-11-08T13:18:28",0,null,null,38]
[3,"5",2021,{"$f":"IFERROR(VLOOKUP(Tabla_SERIEBM_01_6[[#This Row],[IdEstablecimiento]],[1]Establecimientos!A$1:E$175,5,FALSE),0)","v":"04106-VICUÑA"},"200538","80302063","2021-11-08T13:18:28",0,null,null,13]
[3,"5",2021,{"$f":"IFERROR(VLOOKUP(Tabla_SERIEBM_01_6[[#This Row],[IdEstablecimiento]],[1]Establecimientos!A$1:E$175,5,FALSE),0)","v":"04106-VICUÑA"},"200538","80303024","2021-11-08T13:18:28",0,null,null,58]
[3,"5",2021,{"$f":"IFERROR(VLOOKUP(Tabla_SERIEBM_01_6[[#This Row],[IdEstablecimiento]],[1]Establecimientos!A$1:E$175,5,FALSE),0)","v":"04106-VICUÑA"},"200538","80303026","2021-11-08T13:18:28",0,null,null,13]
[3,"5",2021,{"$f":"IFERROR(VLOOKUP(Tabla_SERIEBM_01_6[[#This Row],[IdEstablecimiento]],[1]Establecimientos!A$1:E$175,5,FALSE),0)","v":"04106-VICUÑA"},"200538","80301034","2021-11-08T13:18:28",0,null,null,11]
[3,"5",2021,{"$f":"IFERROR(VLOOKUP(Tabla_SERIEBM_01_6[[#This Row],[IdEstablecimiento]],[1]Establecimientos!A$1:E$175,5,FALSE),0)","v":"04106-VICUÑA"},"200538","80301036","2021-11-08T13:18:28",0,null,null,2]
[3,"5",2021,{"$f":"IFERROR(VLOOKUP(Tabla_SERIEBM_01_6[[#This Row],[IdEstablecimiento]],[1]Establecimientos!A$1:E$175,5,FALSE),0)","v":"04106-VICUÑA"},"200538","80301038","2021-11-08T13:18:28",0,null,null,4]
[3,"5",2021,{"$f":"IFERROR(VLOOKUP(Tabla_SERIEBM_01_6[[#This Row],[IdEstablecimiento]],[1]Establecimientos!A$1:E$175,5,FALSE),0)","v":"04106-VICUÑA"},"200538","80301041","2021-11-08T13:18:28",0,null,null,46]
[3,"5",2021,{"$f":"IFERROR(VLOOKUP(Tabla_SERIEBM_01_6[[#This Row],[IdEstablecimiento]],[1]Establecimientos!A$1:E$175,5,FALSE),0)","v":"04106-VICUÑA"},"200538","80301045","2021-11-08T13:18:28",0,null,null,80]
[3,"5",2021,{"$f":"IFERROR(VLOOKUP(Tabla_SERIEBM_01_6[[#This Row],[IdEstablecimiento]],[1]Establecimientos!A$1:E$175,5,FALSE),0)","v":"04106-VICUÑA"},"200538","80301085","2021-11-08T13:18:28",0,null,null,9]
[3,"5",2021,{"$f":"IFERROR(VLOOKUP(Tabla_SERIEBM_01_6[[#This Row],[IdEstablecimiento]],[1]Establecimientos!A$1:E$175,5,FALSE),0)","v":"04106-VICUÑA"},"200538","80302005","2021-11-08T13:18:28",0,null,null,3]
[3,"5",2021,{"$f":"IFERROR(VLOOKUP(Tabla_SERIEBM_01_6[[#This Row],[IdEstablecimiento]],[1]Establecimientos!A$1:E$175,5,FALSE),0)","v":"04106-VICUÑA"},"200538","80302067","2021-11-08T13:18:28",0,null,null,8]
[3,"5",2021,{"$f":"IFERROR(VLOOKUP(Tabla_SERIEBM_01_6[[#This Row],[IdEstablecimiento]],[1]Establecimientos!A$1:E$175,5,FALSE),0)","v":"04106-VICUÑA"},"200538","80302023","2021-11-08T13:18:28",0,null,null,89]
[3,"5",2021,{"$f":"IFERROR(VLOOKUP(Tabla_SERIEBM_01_6[[#This Row],[IdEstablecimiento]],[1]Establecimientos!A$1:E$175,5,FALSE),0)","v":"04106-VICUÑA"},"200538","80302032","2021-11-08T13:18:28",0,null,null,34]
[3,"5",2021,{"$f":"IFERROR(VLOOKUP(Tabla_SERIEBM_01_6[[#This Row],[IdEstablecimiento]],[1]Establecimientos!A$1:E$175,5,FALSE),0)","v":"04106-VICUÑA"},"200538","80302034","2021-11-08T13:18:28",0,null,null,109]
[3,"5",2021,{"$f":"IFERROR(VLOOKUP(Tabla_SERIEBM_01_6[[#This Row],[IdEstablecimiento]],[1]Establecimientos!A$1:E$175,5,FALSE),0)","v":"04106-VICUÑA"},"200538","80305019","2021-11-08T13:18:28",0,null,null,1]
[3,"5",2021,{"$f":"IFERROR(VLOOKUP(Tabla_SERIEBM_01_6[[#This Row],[IdEstablecimiento]],[1]Establecimientos!A$1:E$175,5,FALSE),0)","v":"04106-VICUÑA"},"200538","80305030","2021-11-08T13:18:28",0,null,null,2]
[3,"5",2021,{"$f":"IFERROR(VLOOKUP(Tabla_SERIEBM_01_6[[#This Row],[IdEstablecimiento]],[1]Establecimientos!A$1:E$175,5,FALSE),0)","v":"04106-VICUÑA"},"200538","80306011","2021-11-08T13:18:28",0,null,null,29]
[3,"5",2021,{"$f":"IFERROR(VLOOKUP(Tabla_SERIEBM_01_6[[#This Row],[IdEstablecimiento]],[1]Establecimientos!A$1:E$175,5,FALSE),0)","v":"04106-VICUÑA"},"200538","80306042","2021-11-08T13:18:28",0,null,null,15]
[3,"5",2021,{"$f":"IFERROR(VLOOKUP(Tabla_SERIEBM_01_6[[#This Row],[IdEstablecimiento]],[1]Establecimientos!A$1:E$175,5,FALSE),0)","v":"04106-VICUÑA"},"200538","80306061","2021-11-08T13:18:28",0,null,null,9]
[3,"5",2021,{"$f":"IFERROR(VLOOKUP(Tabla_SERIEBM_01_6[[#This Row],[IdEstablecimiento]],[1]Establecimientos!A$1:E$175,5,FALSE),0)","v":"04106-VICUÑA"},"200538","80309013","2021-11-08T13:18:28",0,null,null,65]
[3,"5",2021,{"$f":"IFERROR(VLOOKUP(Tabla_SERIEBM_01_6[[#This Row],[IdEstablecimiento]],[1]Establecimientos!A$1:E$175,5,FALSE),0)","v":"04106-VICUÑA"},"200538","80309014","2021-11-08T13:18:28",0,null,null,4]
[3,"5",2021,{"$f":"IFERROR(VLOOKUP(Tabla_SERIEBM_01_6[[#This Row],[IdEstablecimiento]],[1]Establecimientos!A$1:E$175,5,FALSE),0)","v":"04106-VICUÑA"},"200538","80309022","2021-11-08T13:18:28",0,null,null,14]
[3,"5",2021,{"$f":"IFERROR(VLOOKUP(Tabla_SERIEBM_01_6[[#This Row],[IdEstablecimiento]],[1]Establecimientos!A$1:E$175,5,FALSE),0)","v":"04106-VICUÑA"},"200538","80309024","2021-11-08T13:18:28",0,null,null,81]
[3,"5",2021,{"$f":"IFERROR(VLOOKUP(Tabla_SERIEBM_01_6[[#This Row],[IdEstablecimiento]],[1]Establecimientos!A$1:E$175,5,FALSE),0)","v":"04106-VICUÑA"},"200538","81701009","2021-11-08T13:18:28",36,null,36,null,36]
[3,"5",2021,{"$f":"IFERROR(VLOOKUP(Tabla_SERIEBM_01_6[[#This Row],[IdEstablecimiento]],[1]Establecimientos!A$1:E$175,5,FALSE),0)","v":"04106-VICUÑA"},"200538","80106002","2021-11-08T13:18:28",53,null,53,null,53]
[3,"5",2021,{"$f":"IFERROR(VLOOKUP(Tabla_SERIEBM_01_6[[#This Row],[IdEstablecimiento]],[1]Establecimientos!A$1:E$175,5,FALSE),0)","v":"04106-VICUÑA"},"200538","80106017","2021-11-08T13:18:28",70,null,70,null,70]
[3,"5",2021,{"$f":"IFERROR(VLOOKUP(Tabla_SERIEBM_01_6[[#This Row],[IdEstablecimiento]],[1]Establecimientos!A$1:E$175,5,FALSE),0)","v":"04106-VICUÑA"},"200538","80106014","2021-11-08T13:18:28",58,null,58,null,58]
[3,"5",2021,{"$f":"IFERROR(VLOOKUP(Tabla_SERIEBM_01_6[[#This Row],[IdEstablecimiento]],[1]Establecimientos!A$1:E$175,5,FALSE),0)","v":"04106-VICUÑA"},"200538","80106023","2021-11-08T13:18:28",42,null,42,null,42]
[3,"5",2021,{"$f":"IFERROR(VLOOKUP(Tabla_SERIEBM_01_6[[#This Row],[IdEstablecimiento]],[1]Establecimientos!A$1:E$175,5,FALSE),0)","v":"04106-VICUÑA"},"200538","80307011","2021-11-08T13:18:28",0,null,null,190]
[3,"5",2021,{"$f":"IFERROR(VLOOKUP(Tabla_SERIEBM_01_6[[#This Row],[IdEstablecimiento]],[1]Establecimientos!A$1:E$175,5,FALSE),0)","v":"04106-VICUÑA"},"200538","80307012","2021-11-08T13:18:28",0,null,null,3]
[3,"5",2021,{"$f":"IFERROR(VLOOKUP(Tabla_SERIEBM_01_6[[#This Row],[IdEstablecimiento]],[1]Establecimientos!A$1:E$175,5,FALSE),0)","v":"04106-VICUÑA"},"200538","80500011","2021-11-08T13:18:28",16,null,16,null,16]
[3,"5",2021,{"$f":"IFERROR(VLOOKUP(Tabla_SERIEBM_01_6[[#This Row],[IdEstablecimiento]],[1]Establecimientos!A$1:E$175,5,FALSE),0)","v":"04106-VICUÑA"},"200538","18020500","2021-11-08T13:18:28",36,0,36]
[3,"5",2021,{"$f":"IFERROR(VLOOKUP(Tabla_SERIEBM_01_6[[#This Row],[IdEstablecimiento]],[1]Establecimientos!A$1:E$175,5,FALSE),0)","v":"04106-VICUÑA"},"200538","18090000","2021-11-08T13:18:28",42,0,42]
[3,"5",2021,{"$f":"IFERROR(VLOOKUP(Tabla_SERIEBM_01_6[[#This Row],[IdEstablecimiento]],[1]Establecimientos!A$1:E$175,5,FALSE),0)","v":"04106-VICUÑA"},"200538","18050100","2021-11-08T13:18:28",53,0,53]
[3,"5",2021,{"$f":"IFERROR(VLOOKUP(Tabla_SERIEBM_01_6[[#This Row],[IdEstablecimiento]],[1]Establecimientos!A$1:E$175,5,FALSE),0)","v":"04106-VICUÑA"},"200538","18400900","2021-11-08T13:18:28",2,1,1]
[3,"5",2021,{"$f":"IFERROR(VLOOKUP(Tabla_SERIEBM_01_6[[#This Row],[IdEstablecimiento]],[1]Establecimientos!A$1:E$175,5,FALSE),0)","v":"04301-OVALLE"},"200569","81701001","2021-11-08T13:18:57",138,null,138,null,138]
[3,"5",2021,{"$f":"IFERROR(VLOOKUP(Tabla_SERIEBM_01_6[[#This Row],[IdEstablecimiento]],[1]Establecimientos!A$1:E$175,5,FALSE),0)","v":"04301-OVALLE"},"200569","81701009","2021-11-08T13:18:57",45,null,45,null,45]
[3,"5",2021,{"$f":"IFERROR(VLOOKUP(Tabla_SERIEBM_01_6[[#This Row],[IdEstablecimiento]],[1]Establecimientos!A$1:E$175,5,FALSE),0)","v":"04301-OVALLE"},"200569","80106002","2021-11-08T13:18:57",185,null,185,null,185]
[3,"5",2021,{"$f":"IFERROR(VLOOKUP(Tabla_SERIEBM_01_6[[#This Row],[IdEstablecimiento]],[1]Establecimientos!A$1:E$175,5,FALSE),0)","v":"04301-OVALLE"},"200569","80106017","2021-11-08T13:18:57",132,null,132,null,132]
[3,"5",2021,{"$f":"IFERROR(VLOOKUP(Tabla_SERIEBM_01_6[[#This Row],[IdEstablecimiento]],[1]Establecimientos!A$1:E$175,5,FALSE),0)","v":"04301-OVALLE"},"200569","80106015","2021-11-08T13:18:57",181,null,181,null,181]
[3,"5",2021,{"$f":"IFERROR(VLOOKUP(Tabla_SERIEBM_01_6[[#This Row],[IdEstablecimiento]],[1]Establecimientos!A$1:E$175,5,FALSE),0)","v":"04301-OVALLE"},"200569","80106020","2021-11-08T13:18:57",5,null,5,null,5]
[3,"5",2021,{"$f":"IFERROR(VLOOKUP(Tabla_SERIEBM_01_6[[#This Row],[IdEstablecimiento]],[1]Establecimientos!A$1:E$175,5,FALSE),0)","v":"04301-OVALLE"},"200569","80106022","2021-11-08T13:18:57",3,null,3,null,3]
[3,"5",2021,{"$f":"IFERROR(VLOOKUP(Tabla_SERIEBM_01_6[[#This Row],[IdEstablecimiento]],[1]Establecimientos!A$1:E$175,5,FALSE),0)","v":"04301-OVALLE"},"200569","80106023","2021-11-08T13:18:57",23,null,23,null,23]
[3,"5",2021,{"$f":"IFERROR(VLOOKUP(Tabla_SERIEBM_01_6[[#This Row],[IdEstablecimiento]],[1]Establecimientos!A$1:E$175,5,FALSE),0)","v":"04301-OVALLE"},"200569","80307011","2021-11-08T13:18:57",545,null,545]
[3,"5",2021,{"$f":"IFERROR(VLOOKUP(Tabla_SERIEBM_01_6[[#This Row],[IdEstablecimiento]],[1]Establecimientos!A$1:E$175,5,FALSE),0)","v":"04301-OVALLE"},"200569","80307012","2021-11-08T13:18:57",19,null,19]
[3,"5",2021,{"$f":"IFERROR(VLOOKUP(Tabla_SERIEBM_01_6[[#This Row],[IdEstablecimiento]],[1]Establecimientos!A$1:E$175,5,FALSE),0)","v":"04301-OVALLE"},"200569","18020500","2021-11-08T13:18:57",183,0,183]
[3,"5",2021,{"$f":"IFERROR(VLOOKUP(Tabla_SERIEBM_01_6[[#This Row],[IdEstablecimiento]],[1]Establecimientos!A$1:E$175,5,FALSE),0)","v":"04301-OVALLE"},"200569","18090000","2021-11-08T13:18:57",23,0,23]
[3,"5",2021,{"$f":"IFERROR(VLOOKUP(Tabla_SERIEBM_01_6[[#This Row],[IdEstablecimiento]],[1]Establecimientos!A$1:E$175,5,FALSE),0)","v":"04301-OVALLE"},"200569","18050100","2021-11-08T13:18:57",185,0,185]
[3,"5",2021,{"$f":"IFERROR(VLOOKUP(Tabla_SERIEBM_01_6[[#This Row],[IdEstablecimiento]],[1]Establecimientos!A$1:E$175,5,FALSE),0)","v":"04301-OVALLE"},"200569","18090200","2021-11-08T13:18:57",45]
[3,"5",2021,{"$f":"IFERROR(VLOOKUP(Tabla_SERIEBM_01_6[[#This Row],[IdEstablecimiento]],[1]Establecimientos!A$1:E$175,5,FALSE),0)","v":"04102-COQUIMBO"},"105303","80106023","2021-11-08T10:16:26",101,null,101,null,101]
[3,"5",2021,{"$f":"IFERROR(VLOOKUP(Tabla_SERIEBM_01_6[[#This Row],[IdEstablecimiento]],[1]Establecimientos!A$1:E$175,5,FALSE),0)","v":"04102-COQUIMBO"},"105303","80307011","2021-11-08T10:16:26",586,null,586]
[3,"5",2021,{"$f":"IFERROR(VLOOKUP(Tabla_SERIEBM_01_6[[#This Row],[IdEstablecimiento]],[1]Establecimientos!A$1:E$175,5,FALSE),0)","v":"04102-COQUIMBO"},"105303","80307012","2021-11-08T10:16:26",20,null,20]
[3,"5",2021,{"$f":"IFERROR(VLOOKUP(Tabla_SERIEBM_01_6[[#This Row],[IdEstablecimiento]],[1]Establecimientos!A$1:E$175,5,FALSE),0)","v":"04102-COQUIMBO"},"105303","80500008","2021-11-08T10:16:26",27,null,27,null,27]
[3,"5",2021,{"$f":"IFERROR(VLOOKUP(Tabla_SERIEBM_01_6[[#This Row],[IdEstablecimiento]],[1]Establecimientos!A$1:E$175,5,FALSE),0)","v":"04102-COQUIMBO"},"105303","80500009","2021-11-08T10:16:26",16,null,16,null,16]
[3,"5",2021,{"$f":"IFERROR(VLOOKUP(Tabla_SERIEBM_01_6[[#This Row],[IdEstablecimiento]],[1]Establecimientos!A$1:E$175,5,FALSE),0)","v":"04102-COQUIMBO"},"105303","80500011","2021-11-08T10:16:26",90,null,90,null,90]
[3,"5",2021,{"$f":"IFERROR(VLOOKUP(Tabla_SERIEBM_01_6[[#This Row],[IdEstablecimiento]],[1]Establecimientos!A$1:E$175,5,FALSE),0)","v":"04102-COQUIMBO"},"105303","80500014","2021-11-08T10:16:26",17,null,17,null,17]
[3,"5",2021,{"$f":"IFERROR(VLOOKUP(Tabla_SERIEBM_01_6[[#This Row],[IdEstablecimiento]],[1]Establecimientos!A$1:E$175,5,FALSE),0)","v":"04102-COQUIMBO"},"105303","18010601","2021-11-08T10:16:26",30,0,30]
[3,"5",2021,{"$f":"IFERROR(VLOOKUP(Tabla_SERIEBM_01_6[[#This Row],[IdEstablecimiento]],[1]Establecimientos!A$1:E$175,5,FALSE),0)","v":"04102-COQUIMBO"},"105303","18700270","2021-11-08T10:16:26",19,null,19]
[3,"5",2021,{"$f":"IFERROR(VLOOKUP(Tabla_SERIEBM_01_6[[#This Row],[IdEstablecimiento]],[1]Establecimientos!A$1:E$175,5,FALSE),0)","v":"04102-COQUIMBO"},"105303","18020500","2021-11-08T10:16:26",1,0,1]
[3,"5",2021,{"$f":"IFERROR(VLOOKUP(Tabla_SERIEBM_01_6[[#This Row],[IdEstablecimiento]],[1]Establecimientos!A$1:E$175,5,FALSE),0)","v":"04102-COQUIMBO"},"105303","18020900","2021-11-08T10:16:26",1,0,1]
[3,"5",2021,{"$f":"IFERROR(VLOOKUP(Tabla_SERIEBM_01_6[[#This Row],[IdEstablecimiento]],[1]Establecimientos!A$1:E$175,5,FALSE),0)","v":"04102-COQUIMBO"},"105303","18030000","2021-11-08T10:16:26",12,0,12]
[3,"5",2021,{"$f":"IFERROR(VLOOKUP(Tabla_SERIEBM_01_6[[#This Row],[IdEstablecimiento]],[1]Establecimientos!A$1:E$175,5,FALSE),0)","v":"04102-COQUIMBO"},"105303","18040200","2021-11-08T10:16:26",12,1,11]
[3,"5",2021,{"$f":"IFERROR(VLOOKUP(Tabla_SERIEBM_01_6[[#This Row],[IdEstablecimiento]],[1]Establecimientos!A$1:E$175,5,FALSE),0)","v":"04102-COQUIMBO"},"105303","18090000","2021-11-08T10:16:26",101,0,101]
[3,"5",2021,{"$f":"IFERROR(VLOOKUP(Tabla_SERIEBM_01_6[[#This Row],[IdEstablecimiento]],[1]Establecimientos!A$1:E$175,5,FALSE),0)","v":"04102-COQUIMBO"},"105303","18050100","2021-11-08T10:16:26",548,0,548]
[3,"5",2021,{"$f":"IFERROR(VLOOKUP(Tabla_SERIEBM_01_6[[#This Row],[IdEstablecimiento]],[1]Establecimientos!A$1:E$175,5,FALSE),0)","v":"04102-COQUIMBO"},"105303","18070300","2021-11-08T10:16:26",8,3,5]
[3,"5",2021,{"$f":"IFERROR(VLOOKUP(Tabla_SERIEBM_01_6[[#This Row],[IdEstablecimiento]],[1]Establecimientos!A$1:E$175,5,FALSE),0)","v":"04102-COQUIMBO"},"105303","18700100","2021-11-08T10:16:26",1178,45,1063,70]
[2,"5",2021,{"$f":"IFERROR(VLOOKUP(Tabla_SERIEBM_01_6[[#This Row],[IdEstablecimiento]],[1]Establecimientos!A$1:E$175,5,FALSE),0)","v":"04102-COQUIMBO"},"105305","80302067","2021-11-09T13:39:03",0,null,null,266]
[2,"5",2021,{"$f":"IFERROR(VLOOKUP(Tabla_SERIEBM_01_6[[#This Row],[IdEstablecimiento]],[1]Establecimientos!A$1:E$175,5,FALSE),0)","v":"04102-COQUIMBO"},"105305","80302068","2021-11-09T13:39:03",0,null,null,259]
[2,"5",2021,{"$f":"IFERROR(VLOOKUP(Tabla_SERIEBM_01_6[[#This Row],[IdEstablecimiento]],[1]Establecimientos!A$1:E$175,5,FALSE),0)","v":"04102-COQUIMBO"},"105305","80302023","2021-11-09T13:39:03",0,null,null,279]
[2,"5",2021,{"$f":"IFERROR(VLOOKUP(Tabla_SERIEBM_01_6[[#This Row],[IdEstablecimiento]],[1]Establecimientos!A$1:E$175,5,FALSE),0)","v":"04102-COQUIMBO"},"105305","80302024","2021-11-09T13:39:03",0,null,null,1]
[2,"5",2021,{"$f":"IFERROR(VLOOKUP(Tabla_SERIEBM_01_6[[#This Row],[IdEstablecimiento]],[1]Establecimientos!A$1:E$175,5,FALSE),0)","v":"04102-COQUIMBO"},"105305","80302026","2021-11-09T13:39:03",0,null,null,4]
[2,"5",2021,{"$f":"IFERROR(VLOOKUP(Tabla_SERIEBM_01_6[[#This Row],[IdEstablecimiento]],[1]Establecimientos!A$1:E$175,5,FALSE),0)","v":"04102-COQUIMBO"},"105305","80302032","2021-11-09T13:39:03",0,null,null,215]
[2,"5",2021,{"$f":"IFERROR(VLOOKUP(Tabla_SERIEBM_01_6[[#This Row],[IdEstablecimiento]],[1]Establecimientos!A$1:E$175,5,FALSE),0)","v":"04102-COQUIMBO"},"105305","80302034","2021-11-09T13:39:03",0,null,null,92]
[2,"5",2021,{"$f":"IFERROR(VLOOKUP(Tabla_SERIEBM_01_6[[#This Row],[IdEstablecimiento]],[1]Establecimientos!A$1:E$175,5,FALSE),0)","v":"04102-COQUIMBO"},"105305","80302035","2021-11-09T13:39:03",0,null,null,4]
[2,"5",2021,{"$f":"IFERROR(VLOOKUP(Tabla_SERIEBM_01_6[[#This Row],[IdEstablecimiento]],[1]Establecimientos!A$1:E$175,5,FALSE),0)","v":"04102-COQUIMBO"},"105305","80302040","2021-11-09T13:39:03",0,null,null,6]
[2,"5",2021,{"$f":"IFERROR(VLOOKUP(Tabla_SERIEBM_01_6[[#This Row],[IdEstablecimiento]],[1]Establecimientos!A$1:E$175,5,FALSE),0)","v":"04102-COQUIMBO"},"105305","80305019","2021-11-09T13:39:03",0,null,null,3]
[9,"5",2021,{"$f":"IFERROR(VLOOKUP(Tabla_SERIEBM_01_6[[#This Row],[IdEstablecimiento]],[1]Establecimientos!A$1:E$175,5,FALSE),0)","v":"04102-COQUIMBO"},"105321","80302048","2021-10-15T12:42:58",0,null,null,8]
[9,"5",2021,{"$f":"IFERROR(VLOOKUP(Tabla_SERIEBM_01_6[[#This Row],[IdEstablecimiento]],[1]Establecimientos!A$1:E$175,5,FALSE),0)","v":"04102-COQUIMBO"},"105321","80302057","2021-10-15T12:42:58",0,null,null,104]
[9,"5",2021,{"$f":"IFERROR(VLOOKUP(Tabla_SERIEBM_01_6[[#This Row],[IdEstablecimiento]],[1]Establecimientos!A$1:E$175,5,FALSE),0)","v":"04102-COQUIMBO"},"105321","80302060","2021-10-15T12:42:58",0,null,null,6]
[9,"5",2021,{"$f":"IFERROR(VLOOKUP(Tabla_SERIEBM_01_6[[#This Row],[IdEstablecimiento]],[1]Establecimientos!A$1:E$175,5,FALSE),0)","v":"04102-COQUIMBO"},"105321","80302076","2021-10-15T12:42:58",0,null,null,1]
[9,"5",2021,{"$f":"IFERROR(VLOOKUP(Tabla_SERIEBM_01_6[[#This Row],[IdEstablecimiento]],[1]Establecimientos!A$1:E$175,5,FALSE),0)","v":"04102-COQUIMBO"},"105321","80302063","2021-10-15T12:42:58",0,null,null,122]
[9,"5",2021,{"$f":"IFERROR(VLOOKUP(Tabla_SERIEBM_01_6[[#This Row],[IdEstablecimiento]],[1]Establecimientos!A$1:E$175,5,FALSE),0)","v":"04102-COQUIMBO"},"105321","80302064","2021-10-15T12:42:58",0,null,null,114]
[9,"5",2021,{"$f":"IFERROR(VLOOKUP(Tabla_SERIEBM_01_6[[#This Row],[IdEstablecimiento]],[1]Establecimientos!A$1:E$175,5,FALSE),0)","v":"04102-COQUIMBO"},"105321","80303024","2021-10-15T12:42:58",0,null,null,86]
[9,"5",2021,{"$f":"IFERROR(VLOOKUP(Tabla_SERIEBM_01_6[[#This Row],[IdEstablecimiento]],[1]Establecimientos!A$1:E$175,5,FALSE),0)","v":"04102-COQUIMBO"},"105321","80303026","2021-10-15T12:42:58",0,null,null,10]
[9,"5",2021,{"$f":"IFERROR(VLOOKUP(Tabla_SERIEBM_01_6[[#This Row],[IdEstablecimiento]],[1]Establecimientos!A$1:E$175,5,FALSE),0)","v":"04102-COQUIMBO"},"105321","80301015","2021-10-15T12:42:58",0,null,null,5]
[9,"5",2021,{"$f":"IFERROR(VLOOKUP(Tabla_SERIEBM_01_6[[#This Row],[IdEstablecimiento]],[1]Establecimientos!A$1:E$175,5,FALSE),0)","v":"04102-COQUIMBO"},"105321","80301034","2021-10-15T12:42:58",0,null,null,4]
[9,"5",2021,{"$f":"IFERROR(VLOOKUP(Tabla_SERIEBM_01_6[[#This Row],[IdEstablecimiento]],[1]Establecimientos!A$1:E$175,5,FALSE),0)","v":"04102-COQUIMBO"},"105321","80301036","2021-10-15T12:42:58",0,null,null,67]
[2,"5",2021,{"$f":"IFERROR(VLOOKUP(Tabla_SERIEBM_01_6[[#This Row],[IdEstablecimiento]],[1]Establecimientos!A$1:E$175,5,FALSE),0)","v":"04201-ILLAPEL"},"105487","80106014","2021-11-09T14:54:09",297,null,297,null,297]
[2,"5",2021,{"$f":"IFERROR(VLOOKUP(Tabla_SERIEBM_01_6[[#This Row],[IdEstablecimiento]],[1]Establecimientos!A$1:E$175,5,FALSE),0)","v":"04201-ILLAPEL"},"105487","80106015","2021-11-09T14:54:09",19,null,19,null,19]
[2,"5",2021,{"$f":"IFERROR(VLOOKUP(Tabla_SERIEBM_01_6[[#This Row],[IdEstablecimiento]],[1]Establecimientos!A$1:E$175,5,FALSE),0)","v":"04201-ILLAPEL"},"105487","80106023","2021-11-09T14:54:09",14,null,14,null,14]
[2,"5",2021,{"$f":"IFERROR(VLOOKUP(Tabla_SERIEBM_01_6[[#This Row],[IdEstablecimiento]],[1]Establecimientos!A$1:E$175,5,FALSE),0)","v":"04201-ILLAPEL"},"105487","80307011","2021-11-09T14:54:09",0,null,null,65]
[2,"5",2021,{"$f":"IFERROR(VLOOKUP(Tabla_SERIEBM_01_6[[#This Row],[IdEstablecimiento]],[1]Establecimientos!A$1:E$175,5,FALSE),0)","v":"04201-ILLAPEL"},"105487","80500011","2021-11-09T14:54:09",7,null,7,null,7]
[2,"5",2021,{"$f":"IFERROR(VLOOKUP(Tabla_SERIEBM_01_6[[#This Row],[IdEstablecimiento]],[1]Establecimientos!A$1:E$175,5,FALSE),0)","v":"04201-ILLAPEL"},"105487","18020500","2021-11-09T14:54:09",38,0,38]
[2,"5",2021,{"$f":"IFERROR(VLOOKUP(Tabla_SERIEBM_01_6[[#This Row],[IdEstablecimiento]],[1]Establecimientos!A$1:E$175,5,FALSE),0)","v":"04201-ILLAPEL"},"105487","18030000","2021-11-09T14:54:09",1,0,1]
[2,"5",2021,{"$f":"IFERROR(VLOOKUP(Tabla_SERIEBM_01_6[[#This Row],[IdEstablecimiento]],[1]Establecimientos!A$1:E$175,5,FALSE),0)","v":"04201-ILLAPEL"},"105487","18040200","2021-11-09T14:54:09",1,null,1]
[2,"5",2021,{"$f":"IFERROR(VLOOKUP(Tabla_SERIEBM_01_6[[#This Row],[IdEstablecimiento]],[1]Establecimientos!A$1:E$175,5,FALSE),0)","v":"04201-ILLAPEL"},"105487","18090000","2021-11-09T14:54:09",14,0,14]
[2,"5",2021,{"$f":"IFERROR(VLOOKUP(Tabla_SERIEBM_01_6[[#This Row],[IdEstablecimiento]],[1]Establecimientos!A$1:E$175,5,FALSE),0)","v":"04201-ILLAPEL"},"105487","18050100","2021-11-09T14:54:09",76,0,76]
[2,"5",2021,{"$f":"IFERROR(VLOOKUP(Tabla_SERIEBM_01_6[[#This Row],[IdEstablecimiento]],[1]Establecimientos!A$1:E$175,5,FALSE),0)","v":"04201-ILLAPEL"},"105487","18700100","2021-11-09T14:54:09",83,8,67,8]
[2,"5",2021,{"$f":"IFERROR(VLOOKUP(Tabla_SERIEBM_01_6[[#This Row],[IdEstablecimiento]],[1]Establecimientos!A$1:E$175,5,FALSE),0)","v":"04202-CANELA"},"105488","81701009","2021-11-09T14:54:30",8,null,8,null,8]
[2,"5",2021,{"$f":"IFERROR(VLOOKUP(Tabla_SERIEBM_01_6[[#This Row],[IdEstablecimiento]],[1]Establecimientos!A$1:E$175,5,FALSE),0)","v":"04202-CANELA"},"105488","80106005","2021-11-09T14:54:30",1,null,1,null,1]
[2,"5",2021,{"$f":"IFERROR(VLOOKUP(Tabla_SERIEBM_01_6[[#This Row],[IdEstablecimiento]],[1]Establecimientos!A$1:E$175,5,FALSE),0)","v":"04202-CANELA"},"105488","80106010","2021-11-09T14:54:30",1,null,1,null,1]
[2,"5",2021,{"$f":"IFERROR(VLOOKUP(Tabla_SERIEBM_01_6[[#This Row],[IdEstablecimiento]],[1]Establecimientos!A$1:E$175,5,FALSE),0)","v":"04202-CANELA"},"105488","80106013","2021-11-09T14:54:30",3,null,3,null,3]
[2,"5",2021,{"$f":"IFERROR(VLOOKUP(Tabla_SERIEBM_01_6[[#This Row],[IdEstablecimiento]],[1]Establecimientos!A$1:E$175,5,FALSE),0)","v":"04202-CANELA"},"105488","80106014","2021-11-09T14:54:30",20,null,20,null,20]
[2,"5",2021,{"$f":"IFERROR(VLOOKUP(Tabla_SERIEBM_01_6[[#This Row],[IdEstablecimiento]],[1]Establecimientos!A$1:E$175,5,FALSE),0)","v":"04202-CANELA"},"105488","80106015","2021-11-09T14:54:30",1,null,1,null,1]
[2,"5",2021,{"$f":"IFERROR(VLOOKUP(Tabla_SERIEBM_01_6[[#This Row],[IdEstablecimiento]],[1]Establecimientos!A$1:E$175,5,FALSE),0)","v":"04302-COMBARBALÁ"},"105463","18020900","2021-11-09T14:32:00",1,0,1]
[2,"5",2021,{"$f":"IFERROR(VLOOKUP(Tabla_SERIEBM_01_6[[#This Row],[IdEstablecimiento]],[1]Establecimientos!A$1:E$175,5,FALSE),0)","v":"04302-COMBARBALÁ"},"105463","18090000","2021-11-09T14:32:00",8,0,8]
[2,"5",2021,{"$f":"IFERROR(VLOOKUP(Tabla_SERIEBM_01_6[[#This Row],[IdEstablecimiento]],[1]Establecimientos!A$1:E$175,5,FALSE),0)","v":"04302-COMBARBALÁ"},"105463","18050100","2021-11-09T14:32:00",35,0,35]
[2,"5",2021,{"$f":"IFERROR(VLOOKUP(Tabla_SERIEBM_01_6[[#This Row],[IdEstablecimiento]],[1]Establecimientos!A$1:E$175,5,FALSE),0)","v":"04302-COMBARBALÁ"},"105463","18070300","2021-11-09T14:32:00",3,2,{"$nulls":3},1]
[2,"5",2021,{"$f":"IFERROR(VLOOKUP(Tabla_SERIEBM_01_6[[#This Row],[IdEstablecimiento]],[1]Establecimientos!A$1:E$175,5,FALSE),0)","v":"04302-COMBARBALÁ"},"105463","18400900","2021-11-09T14:32:00",3,null,3]
[2,"5",2021,{"$f":"IFERROR(VLOOKUP(Tabla_SERIEBM_01_6[[#This Row],[IdEstablecimiento]],[1]Establecimientos!A$1:E$175,5,FALSE),0)","v":"04302-COMBARBALÁ"},"105464","80301041","2021-11-09T14:36:23",0,null,null,2]
[2,"5",2021,{"$f":"IFERROR(VLOOKUP(Tabla_SERIEBM_01_6[[#This Row],[IdEstablecimiento]],[1]Establecimientos!A$1:E$175,5,FALSE),0)","v":"04302-COMBARBALÁ"},"105464","80309013","2021-11-09T14:36:23",0,null,null,3]
[2,"5",2021,{"$f":"IFERROR(VLOOKUP(Tabla_SERIEBM_01_6[[#This Row],[IdEstablecimiento]],[1]Establecimientos!A$1:E$175,5,FALSE),0)","v":"04302-COMBARBALÁ"},"105464","80106002","2021-11-09T14:36:23",18,null,18,null,18]
[2,"5",2021,{"$f":"IFERROR(VLOOKUP(Tabla_SERIEBM_01_6[[#This Row],[IdEstablecimiento]],[1]Establecimientos!A$1:E$175,5,FALSE),0)","v":"04302-COMBARBALÁ"},"105464","80106008","2021-11-09T14:36:23",1,null,1,null,1]
[2,"5",2021,{"$f":"IFERROR(VLOOKUP(Tabla_SERIEBM_01_6[[#This Row],[IdEstablecimiento]],[1]Establecimientos!A$1:E$175,5,FALSE),0)","v":"04302-COMBARBALÁ"},"105464","80106014","2021-11-09T14:36:23",63,null,63,null,63]
[2,"5",2021,{"$f":"IFERROR(VLOOKUP(Tabla_SERIEBM_01_6[[#This Row],[IdEstablecimiento]],[1]Establecimientos!A$1:E$175,5,FALSE),0)","v":"04302-COMBARBALÁ"},"105464","80307011","2021-11-09T14:36:23",2,null,2]
[2,"5",2021,{"$f":"IFERROR(VLOOKUP(Tabla_SERIEBM_01_6[[#This Row],[IdEstablecimiento]],[1]Establecimientos!A$1:E$175,5,FALSE),0)","v":"04302-COMBARBALÁ"},"105464","18050100","2021-11-09T14:36:23",18,0,18]
[2,"5",2021,{"$f":"IFERROR(VLOOKUP(Tabla_SERIEBM_01_6[[#This Row],[IdEstablecimiento]],[1]Establecimientos!A$1:E$175,5,FALSE),0)","v":"04302-COMBARBALÁ"},"105465","80301041","2021-11-09T14:37:47",0,null,null,3]
[2,"5",2021,{"$f":"IFERROR(VLOOKUP(Tabla_SERIEBM_01_6[[#This Row],[IdEstablecimiento]],[1]Establecimientos!A$1:E$175,5,FALSE),0)","v":"04302-COMBARBALÁ"},"105465","80106002","2021-11-09T14:37:47",5,null,5,null,5]
[2,"5",2021,{"$f":"IFERROR(VLOOKUP(Tabla_SERIEBM_01_6[[#This Row],[IdEstablecimiento]],[1]Establecimientos!A$1:E$175,5,FALSE),0)","v":"04302-COMBARBALÁ"},"105465","80106014","2021-11-09T14:37:47",11,null,11,null,11]
[2,"5",2021,{"$f":"IFERROR(VLOOKUP(Tabla_SERIEBM_01_6[[#This Row],[IdEstablecimiento]],[1]Establecimientos!A$1:E$175,5,FALSE),0)","v":"04302-COMBARBALÁ"},"105465","80106015","2021-11-09T14:37:47",1,null,1,null,1]
[2,"5",2021,{"$f":"IFERROR(VLOOKUP(Tabla_SERIEBM_01_6[[#This Row],[IdEstablecimiento]],[1]Establecimientos!A$1:E$175,5,FALSE),0)","v":"04302-COMBARBALÁ"},"105465","80307011","2021-11-09T14:37:47",3,null,3]
[2,"5",2021,{"$f":"IFERROR(VLOOKUP(Tabla_SERIEBM_01_6[[#This Row],[IdEstablecimiento]],[1]Establecimientos!A$1:E$175,5,FALSE),0)","v":"04302-COMBARBALÁ"},"105462","18090000","2021-11-09T14:31:28",18,0,18]
[2,"5",2021,{"$f":"IFERROR(VLOOKUP(Tabla_SERIEBM_01_6[[#This Row],[IdEstablecimiento]],[1]Establecimientos!A$1:E$175,5,FALSE),0)","v":"04302-COMBARBALÁ"},"105462","18050100","2021-11-09T14:31:28",12,0,12]
[2,"5",2021,{"$f":"IFERROR(VLOOKUP(Tabla_SERIEBM_01_6[[#This Row],[IdEstablecimiento]],[1]Establecimientos!A$1:E$175,5,FALSE),0)","v":"04302-COMBARBALÁ"},"105462","18070300","2021-11-09T14:31:28",2,{"$nulls":4},2]
[2,"5",2021,{"$f":"IFERROR(VLOOKUP(Tabla_SERIEBM_01_6[[#This Row],[IdEstablecimiento]],[1]Establecimientos!A$1:E$175,5,FALSE),0)","v":"04302-COMBARBALÁ"},"105462","18400900","2021-11-09T14:31:28",1,null,1]
[2,"5",2021,{"$f":"IFERROR(VLOOKUP(Tabla_SERIEBM_01_6[[#This Row],[IdEstablecimiento]],[1]Establecimientos!A$1:E$175,5,FALSE),0)","v":"04302-COMBARBALÁ"},"105463","80301041","2021-11-09T14:32:00",0,null,null,2]
[2,"5",2021,{"$f":"IFERROR(VLOOKUP(Tabla_SERIEBM_01_6[[#This Row],[IdEstablecimiento]],[1]Establecimientos!A$1:E$175,5,FALSE),0)","v":"04302-COMBARBALÁ"},"105463","80309013","2021-11-09T14:32:00",0,null,null,2]
[2,"5",2021,{"$f":"IFERROR(VLOOKUP(Tabla_SERIEBM_01_6[[#This Row],[IdEstablecimiento]],[1]Establecimientos!A$1:E$175,5,FALSE),0)","v":"04302-COMBARBALÁ"},"105463","82001015","2021-11-09T14:32:00",1,null,1,null,1]
[2,"5",2021,{"$f":"IFERROR(VLOOKUP(Tabla_SERIEBM_01_6[[#This Row],[IdEstablecimiento]],[1]Establecimientos!A$1:E$175,5,FALSE),0)","v":"04302-COMBARBALÁ"},"105463","80106002","2021-11-09T14:32:00",35,null,35,null,35]
[2,"5",2021,{"$f":"IFERROR(VLOOKUP(Tabla_SERIEBM_01_6[[#This Row],[IdEstablecimiento]],[1]Establecimientos!A$1:E$175,5,FALSE),0)","v":"04302-COMBARBALÁ"},"105465","18050100","2021-11-09T14:37:47",5,0,5]
[2,"5",2021,{"$f":"IFERROR(VLOOKUP(Tabla_SERIEBM_01_6[[#This Row],[IdEstablecimiento]],[1]Establecimientos!A$1:E$175,5,FALSE),0)","v":"04302-COMBARBALÁ"},"105465","18400900","2021-11-09T14:37:47",5,1,4]
[2,"5",2021,{"$f":"IFERROR(VLOOKUP(Tabla_SERIEBM_01_6[[#This Row],[IdEstablecimiento]],[1]Establecimientos!A$1:E$175,5,FALSE),0)","v":"04302-COMBARBALÁ"},"105466","80106002","2021-11-09T14:38:10",1,null,1,null,1]
[2,"5",2021,{"$f":"IFERROR(VLOOKUP(Tabla_SERIEBM_01_6[[#This Row],[IdEstablecimiento]],[1]Establecimientos!A$1:E$175,5,FALSE),0)","v":"04302-COMBARBALÁ"},"105466","80106014","2021-11-09T14:38:10",9,null,9,null,9]
[2,"5",2021,{"$f":"IFERROR(VLOOKUP(Tabla_SERIEBM_01_6[[#This Row],[IdEstablecimiento]],[1]Establecimientos!A$1:E$175,5,FALSE),0)","v":"04302-COMBARBALÁ"},"105466","18050100","2021-11-09T14:38:10",1,0,1]
[2,"5",2021,{"$f":"IFERROR(VLOOKUP(Tabla_SERIEBM_01_6[[#This Row],[IdEstablecimiento]],[1]Establecimientos!A$1:E$175,5,FALSE),0)","v":"04302-COMBARBALÁ"},"105466","18400900","2021-11-09T14:38:10",3,1,2]
[2,"5",2021,{"$f":"IFERROR(VLOOKUP(Tabla_SERIEBM_01_6[[#This Row],[IdEstablecimiento]],[1]Establecimientos!A$1:E$175,5,FALSE),0)","v":"04106-VICUÑA"},"105467","80302047","2021-11-09T14:38:33",0,null,null,15]
[2,"5",2021,{"$f":"IFERROR(VLOOKUP(Tabla_SERIEBM_01_6[[#This Row],[IdEstablecimiento]],[1]Establecimientos!A$1:E$175,5,FALSE),0)","v":"04106-VICUÑA"},"105467","80302057","2021-11-09T14:38:33",0,null,null,18]
[2,"5",2021,{"$f":"IFERROR(VLOOKUP(Tabla_SERIEBM_01_6[[#This Row],[IdEstablecimiento]],[1]Establecimientos!A$1:E$175,5,FALSE),0)","v":"04106-VICUÑA"},"105467","80302076","2021-11-09T14:38:33",0,null,null,12]
[2,"5",2021,{"$f":"IFERROR(VLOOKUP(Tabla_SERIEBM_01_6[[#This Row],[IdEstablecimiento]],[1]Establecimientos!A$1:E$175,5,FALSE),0)","v":"04202-CANELA"},"105488","18020500","2021-11-09T14:54:30",8,0,8]
[2,"5",2021,{"$f":"IFERROR(VLOOKUP(Tabla_SERIEBM_01_6[[#This Row],[IdEstablecimiento]],[1]Establecimientos!A$1:E$175,5,FALSE),0)","v":"04202-CANELA"},"105488","18050200","2021-11-09T14:54:30",1,0,1]
[2,"5",2021,{"$f":"IFERROR(VLOOKUP(Tabla_SERIEBM_01_6[[#This Row],[IdEstablecimiento]],[1]Establecimientos!A$1:E$175,5,FALSE),0)","v":"04303-MONTE PATRIA"},"105489","81701001","2021-11-09T14:54:52",8,null,8,null,8]
[2,"5",2021,{"$f":"IFERROR(VLOOKUP(Tabla_SERIEBM_01_6[[#This Row],[IdEstablecimiento]],[1]Establecimientos!A$1:E$175,5,FALSE),0)","v":"04303-MONTE PATRIA"},"105489","81701009","2021-11-09T14:54:52",17,null,17,null,17]
[2,"5",2021,{"$f":"IFERROR(VLOOKUP(Tabla_SERIEBM_01_6[[#This Row],[IdEstablecimiento]],[1]Establecimientos!A$1:E$175,5,FALSE),0)","v":"04303-MONTE PATRIA"},"105489","81602222","2021-11-09T14:54:52",2,null,2,null,2]
[2,"5",2021,{"$f":"IFERROR(VLOOKUP(Tabla_SERIEBM_01_6[[#This Row],[IdEstablecimiento]],[1]Establecimientos!A$1:E$175,5,FALSE),0)","v":"04303-MONTE PATRIA"},"105489","80106002","2021-11-09T14:54:52",10,null,10,null,10]
[2,"5",2021,{"$f":"IFERROR(VLOOKUP(Tabla_SERIEBM_01_6[[#This Row],[IdEstablecimiento]],[1]Establecimientos!A$1:E$175,5,FALSE),0)","v":"04303-MONTE PATRIA"},"105489","80106013","2021-11-09T14:54:52",6,null,6,null,6]
[2,"5",2021,{"$f":"IFERROR(VLOOKUP(Tabla_SERIEBM_01_6[[#This Row],[IdEstablecimiento]],[1]Establecimientos!A$1:E$175,5,FALSE),0)","v":"04303-MONTE PATRIA"},"105489","80106014","2021-11-09T14:54:52",25,null,25,null,25]
[2,"5",2021,{"$f":"IFERROR(VLOOKUP(Tabla_SERIEBM_01_6[[#This Row],[IdEstablecimiento]],[1]Establecimientos!A$1:E$175,5,FALSE),0)","v":"04303-MONTE PATRIA"},"105489","80106015","2021-11-09T14:54:52",2,null,2,null,2]
[2,"5",2021,{"$f":"IFERROR(VLOOKUP(Tabla_SERIEBM_01_6[[#This Row],[IdEstablecimiento]],[1]Establecimientos!A$1:E$175,5,FALSE),0)","v":"04303-MONTE PATRIA"},"105489","80106020","2021-11-09T14:54:52",2,null,2,null,2]
[2,"5",2021,{"$f":"IFERROR(VLOOKUP(Tabla_SERIEBM_01_6[[#This Row],[IdEstablecimiento]],[1]Establecimientos!A$1:E$175,5,FALSE),0)","v":"04303-MONTE PATRIA"},"105489","80307011","2021-11-09T14:54:52",14,null,14]
[2,"5",2021,{"$f":"IFERROR(VLOOKUP(Tabla_SERIEBM_01_6[[#This Row],[IdEstablecimiento]],[1]Establecimientos!A$1:E$175,5,FALSE),0)","v":"04303-MONTE PATRIA"},"105489","80307012","2021-11-09T14:54:52",1,null,1]
[2,"5",2021,{"$f":"IFERROR(VLOOKUP(Tabla_SERIEBM_01_6[[#This Row],[IdEstablecimiento]],[1]Establecimientos!A$1:E$175,5,FALSE),0)","v":"04303-MONTE PATRIA"},"105489","80500011","2021-11-09T14:54:52",8,null,8,null,8]
[2,"5",2021,{"$f":"IFERROR(VLOOKUP(Tabla_SERIEBM_01_6[[#This Row],[IdEstablecimiento]],[1]Establecimientos!A$1:E$175,5,FALSE),0)","v":"04303-MONTE PATRIA"},"105489","18020500","2021-11-09T14:54:52",25,0,25]
[2,"5",2021,{"$f":"IFERROR(VLOOKUP(Tabla_SERIEBM_01_6[[#This Row],[IdEstablecimiento]],[1]Establecimientos!A$1:E$175,5,FALSE),0)","v":"04303-MONTE PATRIA"},"105489","18030000","2021-11-09T14:54:52",2,0,2]
[2,"5",2021,{"$f":"IFERROR(VLOOKUP(Tabla_SERIEBM_01_6[[#This Row],[IdEstablecimiento]],[1]Establecimientos!A$1:E$175,5,FALSE),0)","v":"04303-MONTE PATRIA"},"105489","18040200","2021-11-09T14:54:52",2,null,2]
[2,"5",2021,{"$f":"IFERROR(VLOOKUP(Tabla_SERIEBM_01_6[[#This Row],[IdEstablecimiento]],[1]Establecimientos!A$1:E$175,5,FALSE),0)","v":"04303-MONTE PATRIA"},"105489","18050100","2021-11-09T14:54:52",10,0,10]
[2,"5",2021,{"$f":"IFERROR(VLOOKUP(Tabla_SERIEBM_01_6[[#This Row],[IdEstablecimiento]],[1]Establecimientos!A$1:E$175,5,FALSE),0)","v":"04302-COMBARBALÁ"},"105490","80106017","2021-11-09T14:55:14",8,null,8,null,8]
[2,"5",2021,{"$f":"IFERROR(VLOOKUP(Tabla_SERIEBM_01_6[[#This Row],[IdEstablecimiento]],[1]Establecimientos!A$1:E$175,5,FALSE),0)","v":"04302-COMBARBALÁ"},"105490","80106008","2021-11-09T14:55:14",1,null,1,null,1]
[2,"5",2021,{"$f":"IFERROR(VLOOKUP(Tabla_SERIEBM_01_6[[#This Row],[IdEstablecimiento]],[1]Establecimientos!A$1:E$175,5,FALSE),0)","v":"04302-COMBARBALÁ"},"105490","80106014","2021-11-09T14:55:14",14,null,14,null,14]
[2,"5",2021,{"$f":"IFERROR(VLOOKUP(Tabla_SERIEBM_01_6[[#This Row],[IdEstablecimiento]],[1]Establecimientos!A$1:E$175,5,FALSE),0)","v":"04302-COMBARBALÁ"},"105490","80500009","2021-11-09T14:55:14",1,null,1,null,1]
[2,"5",2021,{"$f":"IFERROR(VLOOKUP(Tabla_SERIEBM_01_6[[#This Row],[IdEstablecimiento]],[1]Establecimientos!A$1:E$175,5,FALSE),0)","v":"04302-COMBARBALÁ"},"105490","18400900","2021-11-09T14:55:14",4,2,2]
[2,"5",2021,{"$f":"IFERROR(VLOOKUP(Tabla_SERIEBM_01_6[[#This Row],[IdEstablecimiento]],[1]Establecimientos!A$1:E$175,5,FALSE),0)","v":"04204-SALAMANCA"},"105491","81701001","2021-11-09T14:56:13",10,null,10]
[2,"5",2021,{"$f":"IFERROR(VLOOKUP(Tabla_SERIEBM_01_6[[#This Row],[IdEstablecimiento]],[1]Establecimientos!A$1:E$175,5,FALSE),0)","v":"04204-SALAMANCA"},"105491","81602222","2021-11-09T14:56:13",1,null,1]
[2,"5",2021,{"$f":"IFERROR(VLOOKUP(Tabla_SERIEBM_01_6[[#This Row],[IdEstablecimiento]],[1]Establecimientos!A$1:E$175,5,FALSE),0)","v":"04204-SALAMANCA"},"105491","80106002","2021-11-09T14:56:13",53,null,53]
[2,"5",2021,{"$f":"IFERROR(VLOOKUP(Tabla_SERIEBM_01_6[[#This Row],[IdEstablecimiento]],[1]Establecimientos!A$1:E$175,5,FALSE),0)","v":"04204-SALAMANCA"},"105491","80106007","2021-11-09T14:56:13",1,null,1]
[2,"5",2021,{"$f":"IFERROR(VLOOKUP(Tabla_SERIEBM_01_6[[#This Row],[IdEstablecimiento]],[1]Establecimientos!A$1:E$175,5,FALSE),0)","v":"04204-SALAMANCA"},"105491","80106008","2021-11-09T14:56:13",2,null,2]
[2,"5",2021,{"$f":"IFERROR(VLOOKUP(Tabla_SERIEBM_01_6[[#This Row],[IdEstablecimiento]],[1]Establecimientos!A$1:E$175,5,FALSE),0)","v":"04202-CANELA"},"105498","80106014","2021-11-09T14:58:22",6,null,6,null,6]
[2,"5",2021,{"$f":"IFERROR(VLOOKUP(Tabla_SERIEBM_01_6[[#This Row],[IdEstablecimiento]],[1]Establecimientos!A$1:E$175,5,FALSE),0)","v":"04202-CANELA"},"105498","80106015","2021-11-09T14:58:22",2,null,2,null,2]
[2,"5",2021,{"$f":"IFERROR(VLOOKUP(Tabla_SERIEBM_01_6[[#This Row],[IdEstablecimiento]],[1]Establecimientos!A$1:E$175,5,FALSE),0)","v":"04202-CANELA"},"105498","80500011","2021-11-09T14:58:22",3,null,3,null,3]
[2,"5",2021,{"$f":"IFERROR(VLOOKUP(Tabla_SERIEBM_01_6[[#This Row],[IdEstablecimiento]],[1]Establecimientos!A$1:E$175,5,FALSE),0)","v":"04202-CANELA"},"105498","18030000","2021-11-09T14:58:22",1,0,1]
[2,"5",2021,{"$f":"IFERROR(VLOOKUP(Tabla_SERIEBM_01_6[[#This Row],[IdEstablecimiento]],[1]Establecimientos!A$1:E$175,5,FALSE),0)","v":"04202-CANELA"},"105498","18040200","2021-11-09T14:58:22",1,null,1]
[2,"5",2021,{"$f":"IFERROR(VLOOKUP(Tabla_SERIEBM_01_6[[#This Row],[IdEstablecimiento]],[1]Establecimientos!A$1:E$175,5,FALSE),0)","v":"04202-CANELA"},"105498","18050100","2021-11-09T14:58:22",2,0,2]
[2,"5",2021,{"$f":"IFERROR(VLOOKUP(Tabla_SERIEBM_01_6[[#This Row],[IdEstablecimiento]],[1]Establecimientos!A$1:E$175,5,FALSE),0)","v":"04101-LA SERENA"},"105499","80302047","2021-11-09T14:58:43",0,null,null,8]
[2,"5",2021,{"$f":"IFERROR(VLOOKUP(Tabla_SERIEBM_01_6[[#This Row],[IdEstablecimiento]],[1]Establecimientos!A$1:E$175,5,FALSE),0)","v":"04101-LA SERENA"},"105499","80302064","2021-11-09T14:58:43",0,null,null,7]
[2,"5",2021,{"$f":"IFERROR(VLOOKUP(Tabla_SERIEBM_01_6[[#This Row],[IdEstablecimiento]],[1]Establecimientos!A$1:E$175,5,FALSE),0)","v":"04101-LA SERENA"},"105499","80303024","2021-11-09T14:58:43",0,null,null,6]
[2,"5",2021,{"$f":"IFERROR(VLOOKUP(Tabla_SERIEBM_01_6[[#This Row],[IdEstablecimiento]],[1]Establecimientos!A$1:E$175,5,FALSE),0)","v":"04101-LA SERENA"},"105499","80303026","2021-11-09T14:58:43",0,null,null,4]
[2,"5",2021,{"$f":"IFERROR(VLOOKUP(Tabla_SERIEBM_01_6[[#This Row],[IdEstablecimiento]],[1]Establecimientos!A$1:E$175,5,FALSE),0)","v":"04101-LA SERENA"},"105499","80301034","2021-11-09T14:58:43",0,null,null,4]
[2,"5",2021,{"$f":"IFERROR(VLOOKUP(Tabla_SERIEBM_01_6[[#This Row],[IdEstablecimiento]],[1]Establecimientos!A$1:E$175,5,FALSE),0)","v":"04101-LA SERENA"},"105499","80301035","2021-11-09T14:58:43",0,null,null,4]
[2,"5",2021,{"$f":"IFERROR(VLOOKUP(Tabla_SERIEBM_01_6[[#This Row],[IdEstablecimiento]],[1]Establecimientos!A$1:E$175,5,FALSE),0)","v":"04101-LA SERENA"},"105499","80301041","2021-11-09T14:58:43",0,null,null,5]
[2,"5",2021,{"$f":"IFERROR(VLOOKUP(Tabla_SERIEBM_01_6[[#This Row],[IdEstablecimiento]],[1]Establecimientos!A$1:E$175,5,FALSE),0)","v":"04101-LA SERENA"},"105499","80301045","2021-11-09T14:58:43",0,null,null,3]
[2,"5",2021,{"$f":"IFERROR(VLOOKUP(Tabla_SERIEBM_01_6[[#This Row],[IdEstablecimiento]],[1]Establecimientos!A$1:E$175,5,FALSE),0)","v":"04101-LA SERENA"},"105499","80301086","2021-11-09T14:58:43",0,null,null,3]
[2,"5",2021,{"$f":"IFERROR(VLOOKUP(Tabla_SERIEBM_01_6[[#This Row],[IdEstablecimiento]],[1]Establecimientos!A$1:E$175,5,FALSE),0)","v":"04101-LA SERENA"},"105499","80302005","2021-11-09T14:58:43",0,null,null,8]
[2,"5",2021,{"$f":"IFERROR(VLOOKUP(Tabla_SERIEBM_01_6[[#This Row],[IdEstablecimiento]],[1]Establecimientos!A$1:E$175,5,FALSE),0)","v":"04101-LA SERENA"},"105499","80302012","2021-11-09T14:58:43",0,null,null,2]
[2,"5",2021,{"$f":"IFERROR(VLOOKUP(Tabla_SERIEBM_01_6[[#This Row],[IdEstablecimiento]],[1]Establecimientos!A$1:E$175,5,FALSE),0)","v":"04101-LA SERENA"},"105499","80302067","2021-11-09T14:58:43",0,null,null,10]
[2,"5",2021,{"$f":"IFERROR(VLOOKUP(Tabla_SERIEBM_01_6[[#This Row],[IdEstablecimiento]],[1]Establecimientos!A$1:E$175,5,FALSE),0)","v":"04101-LA SERENA"},"105499","80302068","2021-11-09T14:58:43",0,null,null,10]
[2,"5",2021,{"$f":"IFERROR(VLOOKUP(Tabla_SERIEBM_01_6[[#This Row],[IdEstablecimiento]],[1]Establecimientos!A$1:E$175,5,FALSE),0)","v":"04101-LA SERENA"},"105499","80302023","2021-11-09T14:58:43",0,null,null,10]
[2,"5",2021,{"$f":"IFERROR(VLOOKUP(Tabla_SERIEBM_01_6[[#This Row],[IdEstablecimiento]],[1]Establecimientos!A$1:E$175,5,FALSE),0)","v":"04101-LA SERENA"},"105499","80302032","2021-11-09T14:58:43",0,null,null,9]
[2,"5",2021,{"$f":"IFERROR(VLOOKUP(Tabla_SERIEBM_01_6[[#This Row],[IdEstablecimiento]],[1]Establecimientos!A$1:E$175,5,FALSE),0)","v":"04101-LA SERENA"},"105499","80302040","2021-11-09T14:58:43",0,null,null,5]
[2,"5",2021,{"$f":"IFERROR(VLOOKUP(Tabla_SERIEBM_01_6[[#This Row],[IdEstablecimiento]],[1]Establecimientos!A$1:E$175,5,FALSE),0)","v":"04101-LA SERENA"},"105499","80309013","2021-11-09T14:58:43",0,null,null,1]
[2,"5",2021,{"$f":"IFERROR(VLOOKUP(Tabla_SERIEBM_01_6[[#This Row],[IdEstablecimiento]],[1]Establecimientos!A$1:E$175,5,FALSE),0)","v":"04101-LA SERENA"},"105499","80309022","2021-11-09T14:58:43",0,null,null,5]
[2,"5",2021,{"$f":"IFERROR(VLOOKUP(Tabla_SERIEBM_01_6[[#This Row],[IdEstablecimiento]],[1]Establecimientos!A$1:E$175,5,FALSE),0)","v":"04101-LA SERENA"},"105802","81602222","2021-11-09T15:06:00",6,6,null,6]
[2,"5",2021,{"$f":"IFERROR(VLOOKUP(Tabla_SERIEBM_01_6[[#This Row],[IdEstablecimiento]],[1]Establecimientos!A$1:E$175,5,FALSE),0)","v":"04101-LA SERENA"},"105802","80106002","2021-11-09T15:06:00",31,31,null,null,31]
[2,"5",2021,{"$f":"IFERROR(VLOOKUP(Tabla_SERIEBM_01_6[[#This Row],[IdEstablecimiento]],[1]Establecimientos!A$1:E$175,5,FALSE),0)","v":"04101-LA SERENA"},"105802","80106017","2021-11-09T15:06:00",4,4,null,null,4]
[2,"5",2021,{"$f":"IFERROR(VLOOKUP(Tabla_SERIEBM_01_6[[#This Row],[IdEstablecimiento]],[1]Establecimientos!A$1:E$175,5,FALSE),0)","v":"04101-LA SERENA"},"105802","80106007","2021-11-09T15:06:00",4,4,null,4]
[2,"5",2021,{"$f":"IFERROR(VLOOKUP(Tabla_SERIEBM_01_6[[#This Row],[IdEstablecimiento]],[1]Establecimientos!A$1:E$175,5,FALSE),0)","v":"04101-LA SERENA"},"105802","80106013","2021-11-09T15:06:00",6,6,null,null,6]
[2,"5",2021,{"$f":"IFERROR(VLOOKUP(Tabla_SERIEBM_01_6[[#This Row],[IdEstablecimiento]],[1]Establecimientos!A$1:E$175,5,FALSE),0)","v":"04101-LA SERENA"},"105802","80106014","2021-11-09T15:06:00",396,396,null,null,396]
[2,"5",2021,{"$f":"IFERROR(VLOOKUP(Tabla_SERIEBM_01_6[[#This Row],[IdEstablecimiento]],[1]Establecimientos!A$1:E$175,5,FALSE),0)","v":"04101-LA SERENA"},"105802","80106015","2021-11-09T15:06:00",76,76,null,null,76]
[2,"5",2021,{"$f":"IFERROR(VLOOKUP(Tabla_SERIEBM_01_6[[#This Row],[IdEstablecimiento]],[1]Establecimientos!A$1:E$175,5,FALSE),0)","v":"04101-LA SERENA"},"105802","80106022","2021-11-09T15:06:00",1,1,null,null,1]
[2,"5",2021,{"$f":"IFERROR(VLOOKUP(Tabla_SERIEBM_01_6[[#This Row],[IdEstablecimiento]],[1]Establecimientos!A$1:E$175,5,FALSE),0)","v":"04101-LA SERENA"},"105802","80500011","2021-11-09T15:06:00",496,496,null,null,496]
[2,"5",2021,{"$f":"IFERROR(VLOOKUP(Tabla_SERIEBM_01_6[[#This Row],[IdEstablecimiento]],[1]Establecimientos!A$1:E$175,5,FALSE),0)","v":"04101-LA SERENA"},"105802","18020500","2021-11-09T15:06:00",16,16,0]
[2,"5",2021,{"$f":"IFERROR(VLOOKUP(Tabla_SERIEBM_01_6[[#This Row],[IdEstablecimiento]],[1]Establecimientos!A$1:E$175,5,FALSE),0)","v":"04101-LA SERENA"},"105802","18030000","2021-11-09T15:06:00",6,6,0]
[2,"5",2021,{"$f":"IFERROR(VLOOKUP(Tabla_SERIEBM_01_6[[#This Row],[IdEstablecimiento]],[1]Establecimientos!A$1:E$175,5,FALSE),0)","v":"04101-LA SERENA"},"105802","18040100","2021-11-09T15:06:00",6,2,4]
[2,"5",2021,{"$f":"IFERROR(VLOOKUP(Tabla_SERIEBM_01_6[[#This Row],[IdEstablecimiento]],[1]Establecimientos!A$1:E$175,5,FALSE),0)","v":"04101-LA SERENA"},"105802","18050100","2021-11-09T15:06:00",31,31,0]
[2,"5",2021,{"$f":"IFERROR(VLOOKUP(Tabla_SERIEBM_01_6[[#This Row],[IdEstablecimiento]],[1]Establecimientos!A$1:E$175,5,FALSE),0)","v":"04101-LA SERENA"},"105802","18400700","2021-11-09T15:06:00",2651]
[2,"5",2021,{"$f":"IFERROR(VLOOKUP(Tabla_SERIEBM_01_6[[#This Row],[IdEstablecimiento]],[1]Establecimientos!A$1:E$175,5,FALSE),0)","v":"04102-COQUIMBO"},"105803","81701001","2021-11-09T15:06:22",48,48,null,null,48,48]
[2,"5",2021,{"$f":"IFERROR(VLOOKUP(Tabla_SERIEBM_01_6[[#This Row],[IdEstablecimiento]],[1]Establecimientos!A$1:E$175,5,FALSE),0)","v":"04102-COQUIMBO"},"105803","81707030","2021-11-09T15:06:22",2,2,null,2]
[2,"5",2021,{"$f":"IFERROR(VLOOKUP(Tabla_SERIEBM_01_6[[#This Row],[IdEstablecimiento]],[1]Establecimientos!A$1:E$175,5,FALSE),0)","v":"04102-COQUIMBO"},"105803","80106002","2021-11-09T15:06:22",2,2,null,1,1]
[2,"5",2021,{"$f":"IFERROR(VLOOKUP(Tabla_SERIEBM_01_6[[#This Row],[IdEstablecimiento]],[1]Establecimientos!A$1:E$175,5,FALSE),0)","v":"04102-COQUIMBO"},"105803","80106017","2021-11-09T15:06:22",5,5,null,1,4]
[2,"5",2021,{"$f":"IFERROR(VLOOKUP(Tabla_SERIEBM_01_6[[#This Row],[IdEstablecimiento]],[1]Establecimientos!A$1:E$175,5,FALSE),0)","v":"04102-COQUIMBO"},"105803","80106008","2021-11-09T15:06:22",2,2,null,2]
[2,"5",2021,{"$f":"IFERROR(VLOOKUP(Tabla_SERIEBM_01_6[[#This Row],[IdEstablecimiento]],[1]Establecimientos!A$1:E$175,5,FALSE),0)","v":"04102-COQUIMBO"},"105803","80106010","2021-11-09T15:06:22",2,2,null,2]
[2,"5",2021,{"$f":"IFERROR(VLOOKUP(Tabla_SERIEBM_01_6[[#This Row],[IdEstablecimiento]],[1]Establecimientos!A$1:E$175,5,FALSE),0)","v":"04102-COQUIMBO"},"105803","80106013","2021-11-09T15:06:22",4,4,null,4]
[2,"5",2021,{"$f":"IFERROR(VLOOKUP(Tabla_SERIEBM_01_6[[#This Row],[IdEstablecimiento]],[1]Establecimientos!A$1:E$175,5,FALSE),0)","v":"04102-COQUIMBO"},"105803","80106015","2021-11-09T15:06:22",90,90,null,90]
[2,"5",2021,{"$f":"IFERROR(VLOOKUP(Tabla_SERIEBM_01_6[[#This Row],[IdEstablecimiento]],[1]Establecimientos!A$1:E$175,5,FALSE),0)","v":"04102-COQUIMBO"},"105803","80106020","2021-11-09T15:06:22",6,6,null,6]
[2,"5",2021,{"$f":"IFERROR(VLOOKUP(Tabla_SERIEBM_01_6[[#This Row],[IdEstablecimiento]],[1]Establecimientos!A$1:E$175,5,FALSE),0)","v":"04102-COQUIMBO"},"105803","80106022","2021-11-09T15:06:22",3,3,null,2,1]
[2,"5",2021,{"$f":"IFERROR(VLOOKUP(Tabla_SERIEBM_01_6[[#This Row],[IdEstablecimiento]],[1]Establecimientos!A$1:E$175,5,FALSE),0)","v":"04102-COQUIMBO"},"105803","80500011","2021-11-09T15:06:22",10,10,null,null,10]
[2,"5",2021,{"$f":"IFERROR(VLOOKUP(Tabla_SERIEBM_01_6[[#This Row],[IdEstablecimiento]],[1]Establecimientos!A$1:E$175,5,FALSE),0)","v":"04102-COQUIMBO"},"105803","18020300","2021-11-09T15:06:22",2,2,0]
[2,"5",2021,{"$f":"IFERROR(VLOOKUP(Tabla_SERIEBM_01_6[[#This Row],[IdEstablecimiento]],[1]Establecimientos!A$1:E$175,5,FALSE),0)","v":"04102-COQUIMBO"},"105803","18020500","2021-11-09T15:06:22",48,48,0]
[2,"5",2021,{"$f":"IFERROR(VLOOKUP(Tabla_SERIEBM_01_6[[#This Row],[IdEstablecimiento]],[1]Establecimientos!A$1:E$175,5,FALSE),0)","v":"04102-COQUIMBO"},"105803","18050100","2021-11-09T15:06:22",2,2,0]
[10,"5",2021,{"$f":"IFERROR(VLOOKUP(Tabla_SERIEBM_01_6[[#This Row],[IdEstablecimiento]],[1]Establecimientos!A$1:E$175,5,FALSE),0)","v":"04106-VICUÑA"},"105467","18030000","2022-01-11T11:03:08",1,0,1]
[10,"5",2021,{"$f":"IFERROR(VLOOKUP(Tabla_SERIEBM_01_6[[#This Row],[IdEstablecimiento]],[1]Establecimientos!A$1:E$175,5,FALSE),0)","v":"04106-VICUÑA"},"105467","18040200","2022-01-11T11:03:08",1,null,1]
[10,"5",2021,{"$f":"IFERROR(VLOOKUP(Tabla_SERIEBM_01_6[[#This Row],[IdEstablecimiento]],[1]Establecimientos!A$1:E$175,5,FALSE),0)","v":"04106-VICUÑA"},"105467","18050100","2022-01-11T11:03:08",13,0,13]
[12,"5",2021,{"$f":"IFERROR(VLOOKUP(Tabla_SERIEBM_01_6[[#This Row],[IdEstablecimiento]],[1]Establecimientos!A$1:E$175,5,FALSE),0)","v":"04101-LA SERENA"},"105301","80301034","2022-01-13T12:23:03",0,null,null,20]
[12,"5",2021,{"$f":"IFERROR(VLOOKUP(Tabla_SERIEBM_01_6[[#This Row],[IdEstablecimiento]],[1]Establecimientos!A$1:E$175,5,FALSE),0)","v":"04101-LA SERENA"},"105301","80301036","2022-01-13T12:23:03",0,null,null,207]
[12,"5",2021,{"$f":"IFERROR(VLOOKUP(Tabla_SERIEBM_01_6[[#This Row],[IdEstablecimiento]],[1]Establecimientos!A$1:E$175,5,FALSE),0)","v":"04101-LA SERENA"},"105301","80301038","2022-01-13T12:23:03",0,null,null,207]
[12,"5",2021,{"$f":"IFERROR(VLOOKUP(Tabla_SERIEBM_01_6[[#This Row],[IdEstablecimiento]],[1]Establecimientos!A$1:E$175,5,FALSE),0)","v":"04101-LA SERENA"},"105301","80301041","2022-01-13T12:23:03",0,null,null,145]
[12,"5",2021,{"$f":"IFERROR(VLOOKUP(Tabla_SERIEBM_01_6[[#This Row],[IdEstablecimiento]],[1]Establecimientos!A$1:E$175,5,FALSE),0)","v":"04101-LA SERENA"},"105301","80301045","2022-01-13T12:23:03",0,null,null,50]
[12,"5",2021,{"$f":"IFERROR(VLOOKUP(Tabla_SERIEBM_01_6[[#This Row],[IdEstablecimiento]],[1]Establecimientos!A$1:E$175,5,FALSE),0)","v":"04101-LA SERENA"},"105301","80301086","2022-01-13T12:23:03",0,null,null,4]
[12,"5",2021,{"$f":"IFERROR(VLOOKUP(Tabla_SERIEBM_01_6[[#This Row],[IdEstablecimiento]],[1]Establecimientos!A$1:E$175,5,FALSE),0)","v":"04101-LA SERENA"},"105301","80301087","2022-01-13T12:23:03",0,null,null,12]
[12,"5",2021,{"$f":"IFERROR(VLOOKUP(Tabla_SERIEBM_01_6[[#This Row],[IdEstablecimiento]],[1]Establecimientos!A$1:E$175,5,FALSE),0)","v":"04101-LA SERENA"},"105301","80302005","2022-01-13T12:23:03",0,null,null,30]

{"sheet":"BM18","index":2,"n_rows":131,"n_cols":23,"rows_kept":131,"merged":[[10,1,11,3],[10,4,11,4],[10,5,11,5],[10,6,11,6],[12,2,12,3],[13,2,13,3],[14,2,14,3],[15,2,15,3],[16,2,16,3],[17,2,17,3],[18,2,18,3],[19,2,19,3],[20,2,20,3],[21,2,21,3],[22,2,22,3],[23,2,23,3],[24,2,24,3],[25,2,25,3],[26,2,26,3],[27,2,27,3],[28,2,28,3],[29,1,42,1],[29,2,30,2],[31,2,32,2],[33,2,34,2],[35,2,36,2],[37,2,38,2],[39,2,40,2],[41,2,42,2],[46,1,47,1],[46,2,47,2],[46,3,47,3],[46,4,47,4],[60,1,61,2],[60,3,61,3],[60,4,61,4],[60,5,61,5],[62,1,62,2],[69,1,70,2],[69,3,70,3],[69,4,70,4],[69,5,70,5],[71,1,71,2],[72,1,72,2],[73,1,73,2],[74,1,74,2],[76,1,77,2],[76,3,77,3],[78,1,78,2],[80,1,81,1],[80,2,81,2],[80,3,80,8],[86,1,86,2],[87,1,89,1],[91,1,92,1],[91,2,92,2],[91,3,91,5],[91,6,92,6],[95,1,96,1],[95,2,96,2],[95,3,95,5],[95,6,96,6],[95,7,96,7],[95,8,96,8]]}
{"$rows_empty":7}
[{"$nulls":3},"REM-B18.   ACTIVIDADES DE APOYO DIAGNOSTICO y TERAPEUTICO"]
[{"$nulls":3},"         (USO EXCLUSIVO DE ESTABLECIMIENTOS MUNICIPALES)"]
[null,"SECCIÓN A: EXÁMENES DE DIAGNOSTICO"]
[null,"EXÁMENES",null,null,"TOTAL","SAPU/SAR/SUR","NO SAPU/ NO SUR"]
[{"$nulls":5},"Total","Total"]
[null,"TOTAL EXÁMENES LABORATORIO",null,null,{"$f":"SUM(F13:G13)","v":{"v":387166,"d":"387,166"}},{"$f":"SUM(F14:F16,F18:F19,F24:F25)","v":938},{"$f":"SUM(G14:G16,G18:G19,G24:G25)","v":{"v":386228,"d":"386,228"}}]
["18010100","I  ","HEMATOLÓGICOS",null,{"$f":"IFERROR(VLOOKUP($A14,Filtro!$A$4:$AY$344,2,FALSE),0)","v":{"v":62547,"d":"62,547"}},{"$f":"IFERROR(VLOOKUP($A14,Filtro!$A$4:$AY$344,3,FALSE),0)","v":0},{"$f":"IFERROR(VLOOKUP($A14,Filtro!$A$4:$AY$344,4,FALSE),0)","v":{"v":62547,"d":"62,547"}}]
["18010200","II  ","BIOQUÍMICOS",null,{"$f":"IFERROR(VLOOKUP($A15,Filtro!$A$4:$AY$344,2,FALSE),0)","v":{"v":204427,"d":"204,427"}},{"$f":"IFERROR(VLOOKUP($A15,Filtro!$A$4:$AY$344,3,FALSE),0)","v":79},{"$f":"IFERROR(VLOOKUP($A15,Filtro!$A$4:$AY$344,4,FALSE),0)","v":{"v":204348,"d":"204,348"}}]
["18090100","III","HORMONALES",null,{"$f":"IFERROR(VLOOKUP($A16,Filtro!$A$4:$AY$344,2,FALSE),0)","v":{"v":36565,"d":"36,565"}},{"$f":"IFERROR(VLOOKUP($A16,Filtro!$A$4:$AY$344,3,FALSE),0)","v":0},{"$f":"IFERROR(VLOOKUP($A16,Filtro!$A$4:$AY$344,4,FALSE),0)","v":{"v":36565,"d":"36,565"}}]
[null,"IV","GENÉTICA",null,{"$f":"IFERROR(VLOOKUP($A17,Filtro!$A$4:$AY$344,2,FALSE),0)","v":0},{"$f":"IFERROR(VLOOKUP($A17,Filtro!$A$4:$AY$344,3,FALSE),0)","v":0},{"$f":"IFERROR(VLOOKUP($A17,Filtro!$A$4:$AY$344,4,FALSE),0)","v":0}]
["18010500","V","INMUNOLÓGICOS",null,{"$f":"IFERROR(VLOOKUP($A18,Filtro!$A$4:$AY$344,2,FALSE),0)","v":{"v":2537,"d":"2,537"}},{"$f":"IFERROR(VLOOKUP($A18,Filtro!$A$4:$AY$344,3,FALSE),0)","v":0},{"$f":"IFERROR(VLOOKUP($A18,Filtro!$A$4:$AY$344,4,FALSE),0)","v":{"v":2537,"d":"2,537"}}]
["18010601","VI  ","MICROBIOLÓGICOS",null,{"$f":"IFERROR(VLOOKUP($A19,Filtro!$A$4:$AY$344,2,FALSE),0)","v":{"v":15367,"d":"15,367"}},{"$f":"IFERROR(VLOOKUP($A19,Filtro!$A$4:$AY$344,3,FALSE),0)","v":0},{"$f":"IFERROR(VLOOKUP($A19,Filtro!$A$4:$AY$344,4,FALSE),0)","v":{"v":15367,"d":"15,367"}}]
[null,null,"a)   BACTERIAS Y HONGOS",null,{"$f":"IFERROR(VLOOKUP($A20,Filtro!$A$4:$AY$344,2,FALSE),0)","v":0},{"$f":"IFERROR(VLOOKUP($A20,Filtro!$A$4:$AY$344,3,FALSE),0)","v":0},{"$f":"IFERROR(VLOOKUP($A20,Filtro!$A$4:$AY$344,4,FALSE),0)","v":0}]
[null,null,"b)   PARÁSITOS",null,{"$f":"IFERROR(VLOOKUP($A21,Filtro!$A$4:$AY$344,2,FALSE),0)","v":0},{"$f":"IFERROR(VLOOKUP($A21,Filtro!$A$4:$AY$344,3,FALSE),0)","v":0},{"$f":"IFERROR(VLOOKUP($A21,Filtro!$A$4:$AY$344,4,FALSE),0)","v":0}]
[null,null,"c)   VIRUS",null,{"$f":"IFERROR(VLOOKUP($A22,Filtro!$A$4:$AY$344,2,FALSE),0)","v":0},{"$f":"IFERROR(VLOOKUP($A22,Filtro!$A$4:$AY$344,3,FALSE),0)","v":0},{"$f":"IFERROR(VLOOKUP($A22,Filtro!$A$4:$AY$344,4,FALSE),0)","v":0}]
[null,"VII","PROCEDIMIENTO O DETERMINACIÓN DIRECTA C/PACIENTE",null,{"$f":"IFERROR(VLOOKUP($A23,Filtro!$A$4:$AY$344,2,FALSE),0)","v":0},{"$f":"IFERROR(VLOOKUP($A23,Filtro!$A$4:$AY$344,3,FALSE),0)","v":0},{"$f":"IFERROR(VLOOKUP($A23,Filtro!$A$4:$AY$344,4,FALSE),0)","v":0}]
["18010800","VIII  ","EX.  DE DEPOSICIONES EXUDADOS. SECREC. Y OTROS LIQ.  ",null,{"$f":"IFERROR(VLOOKUP($A24,Filtro!$A$4:$AY$344,2,FALSE),0)","v":429},{"$f":"IFERROR(VLOOKUP($A24,Filtro!$A$4:$AY$344,3,FALSE),0)","v":0},{"$f":"IFERROR(VLOOKUP($A24,Filtro!$A$4:$AY$344,4,FALSE),0)","v":429}]
["18010900","IX   ","ORINA",null,{"$f":"IFERROR(VLOOKUP($A25,Filtro!$A$4:$AY$344,2,FALSE),0)","v":{"v":65294,"d":"65,294"}},{"$f":"IFERROR(VLOOKUP($A25,Filtro!$A$4:$AY$344,3,FALSE),0)","v":859},{"$f":"IFERROR(VLOOKUP($A25,Filtro!$A$4:$AY$344,4,FALSE),0)","v":{"v":64435,"d":"64,435"}}]
[null,"TOTAL EXÁMENES IMAGENOLOGIA",null,null,{"$f":"SUM(F26:G26)","v":{"v":27283,"d":"27,283"}},{"$f":"SUM(F27+F28+F44)","v":{"v":25643,"d":"25,643"}},{"$f":"SUM(G27+G28+G44)","v":{"v":1640,"d":"1,640"}}]
["18011001","a)","EX. RADIOLÓGICOS SIMPLES",null,{"$f":"IFERROR(VLOOKUP($A27,Filtro!$A$4:$AY$344,2,FALSE),0)","v":{"v":26501,"d":"26,501"}},{"$f":"IFERROR(VLOOKUP($A27,Filtro!$A$4:$AY$344,3,FALSE),0)","v":{"v":25643,"d":"25,643"}},{"$f":"IFERROR(VLOOKUP($A27,Filtro!$A$4:$AY$344,4,FALSE),0)","v":858}]
["18011002",null," Ecotomografias",null,{"$f":"IFERROR(VLOOKUP($A28,Filtro!$A$4:$AY$344,2,FALSE),0)","v":597},{"$f":"IFERROR(VLOOKUP($A28,Filtro!$A$4:$AY$344,3,FALSE),0)","v":0},{"$f":"IFERROR(VLOOKUP($A28,Filtro!$A$4:$AY$344,4,FALSE),0)","v":597}]
["18400500",null," Ecotomografias abdominal ",null,{"$f":"IFERROR(VLOOKUP($A29,Filtro!$A$4:$AY$344,2,FALSE),0)","v":35},{"$f":"IFERROR(VLOOKUP($A29,Filtro!$A$4:$AY$344,3,FALSE),0)","v":0},{"$f":"IFERROR(VLOOKUP($A29,Filtro!$A$4:$AY$344,4,FALSE),0)","v":35}]
["18700240",null,"Ecografías Obstetricas Primer Trimestre (<11 semanas)","Médico",{"$f":"IFERROR(VLOOKUP($A30,Filtro!$A$4:$AY$344,2,FALSE),0)","v":97},{"$f":"IFERROR(VLOOKUP($A30,Filtro!$A$4:$AY$344,3,FALSE),0)","v":0},{"$f":"IFERROR(VLOOKUP($A30,Filtro!$A$4:$AY$344,4,FALSE),0)","v":86}]
["18700250",null,null,"Matrona",{"$f":"IFERROR(VLOOKUP($A31,Filtro!$A$4:$AY$344,2,FALSE),0)","v":453},{"$f":"IFERROR(VLOOKUP($A31,Filtro!$A$4:$AY$344,3,FALSE),0)","v":0},{"$f":"IFERROR(VLOOKUP($A31,Filtro!$A$4:$AY$344,4,FALSE),0)","v":453}]
["18700260",null,"Ecografias Obstétricas Primer Trimestre (11 - 14 semanas)","Médico",{"$f":"IFERROR(VLOOKUP($A32,Filtro!$A$4:$AY$344,2,FALSE),0)","v":86},{"$f":"IFERROR(VLOOKUP($A32,Filtro!$A$4:$AY$344,3,FALSE),0)","v":0},{"$f":"IFERROR(VLOOKUP($A32,Filtro!$A$4:$AY$344,4,FALSE),0)","v":76}]
["18700270",null,null,"Matrona",{"$f":"IFERROR(VLOOKUP($A33,Filtro!$A$4:$AY$344,2,FALSE),0)","v":{"v":1140,"d":"1,140"}},{"$f":"IFERROR(VLOOKUP($A33,Filtro!$A$4:$AY$344,3,FALSE),0)","v":0},{"$f":"IFERROR(VLOOKUP($A33,Filtro!$A$4:$AY$344,4,FALSE),0)","v":{"v":1140,"d":"1,140"}}]
["18700280",null,"Ecografias Obstétricas Segundo Trimestre (22 - 24 semanas)","Médico",{"$f":"IFERROR(VLOOKUP($A34,Filtro!$A$4:$AY$344,2,FALSE),0)","v":278},{"$f":"IFERROR(VLOOKUP($A34,Filtro!$A$4:$AY$344,3,FALSE),0)","v":0},{"$f":"IFERROR(VLOOKUP($A34,Filtro!$A$4:$AY$344,4,FALSE),0)","v":264}]
["18700290",null,null,"Matrona",{"$f":"IFERROR(VLOOKUP($A35,Filtro!$A$4:$AY$344,2,FALSE),0)","v":114},{"$f":"IFERROR(VLOOKUP($A35,Filtro!$A$4:$AY$344,3,FALSE),0)","v":0},{"$f":"IFERROR(VLOOKUP($A35,Filtro!$A$4:$AY$344,4,FALSE),0)","v":114}]
["18700300",null,"Ecografias Obstétricas Tercer Trimestre (30 - 34 semanas)","Médico",{"$f":"IFERROR(VLOOKUP($A36,Filtro!$A$4:$AY$344,2,FALSE),0)","v":193},{"$f":"IFERROR(VLOOKUP($A36,Filtro!$A$4:$AY$344,3,FALSE),0)","v":0},{"$f":"IFERROR(VLOOKUP($A36,Filtro!$A$4:$AY$344,4,FALSE),0)","v":180}]
["18700310",null,null,"Matrona",{"$f":"IFERROR(VLOOKUP($A37,Filtro!$A$4:$AY$344,2,FALSE),0)","v":83},{"$f":"IFERROR(VLOOKUP($A37,Filtro!$A$4:$AY$344,3,FALSE),0)","v":0},{"$f":"IFERROR(VLOOKUP($A37,Filtro!$A$4:$AY$344,4,FALSE),0)","v":83}]
[null,null,"Total Ecografías Obstétricas por profesional","Médico",{"$f":"IFERROR(VLOOKUP($A38,Filtro!$A$4:$AY$344,2,FALSE),0)","v":0},{"$f":"IFERROR(VLOOKUP($A38,Filtro!$A$4:$AY$344,3,FALSE),0)","v":0},{"$f":"IFERROR(VLOOKUP($A38,Filtro!$A$4:$AY$344,4,FALSE),0)","v":0}]
[{"$nulls":3},"Matrona",{"$f":"IFERROR(VLOOKUP($A39,Filtro!$A$4:$AY$344,2,FALSE),0)","v":0},{"$f":"IFERROR(VLOOKUP($A39,Filtro!$A$4:$AY$344,3,FALSE),0)","v":0},{"$f":"IFERROR(VLOOKUP($A39,Filtro!$A$4:$AY$344,4,FALSE),0)","v":0}]
["18700320",null,"Ecografía de seguimiento DIU (Regulación de la Fertilidad)","Médico",{"$f":"IFERROR(VLOOKUP($A40,Filtro!$A$4:$AY$344,2,FALSE),0)","v":58},{"$f":"IFERROR(VLOOKUP($A40,Filtro!$A$4:$AY$344,3,FALSE),0)","v":0},{"$f":"IFERROR(VLOOKUP($A40,Filtro!$A$4:$AY$344,4,FALSE),0)","v":50}]
["18700330",null,null,"Matrona",{"$f":"IFERROR(VLOOKUP($A41,Filtro!$A$4:$AY$344,2,FALSE),0)","v":137},{"$f":"IFERROR(VLOOKUP($A41,Filtro!$A$4:$AY$344,3,FALSE),0)","v":0},{"$f":"IFERROR(VLOOKUP($A41,Filtro!$A$4:$AY$344,4,FALSE),0)","v":137}]
["18700340",null,"Ecografía Transvaginal (control de Climaterio y Ginecológico)","Médico",{"$f":"IFERROR(VLOOKUP($A42,Filtro!$A$4:$AY$344,2,FALSE),0)","v":123},{"$f":"IFERROR(VLOOKUP($A42,Filtro!$A$4:$AY$344,3,FALSE),0)","v":0},{"$f":"IFERROR(VLOOKUP($A42,Filtro!$A$4:$AY$344,4,FALSE),0)","v":114}]
["18700350",null,null,"Matrona",{"$f":"IFERROR(VLOOKUP($A43,Filtro!$A$4:$AY$344,2,FALSE),0)","v":255},{"$f":"IFERROR(VLOOKUP($A43,Filtro!$A$4:$AY$344,3,FALSE),0)","v":0},{"$f":"IFERROR(VLOOKUP($A43,Filtro!$A$4:$AY$344,4,FALSE),0)","v":255}]
["18400600",null,"Ecografía Obstétricas",null,{"$f":"IFERROR(VLOOKUP($A44,Filtro!$A$4:$AY$344,2,FALSE),0)","v":738},{"$f":"IFERROR(VLOOKUP($A44,Filtro!$A$4:$AY$344,3,FALSE),0)","v":0},{"$f":"IFERROR(VLOOKUP($A44,Filtro!$A$4:$AY$344,4,FALSE),0)","v":185}]
[]
[null,"SECCIÓN B:  PROCEDIMIENTO DE APOYO CLÍNICO Y TERAPÉUTICO"]
[null,"PROCEDIMIENTOS","TOTAL","SAPU/SAR/SUR","NO SAPU/ NO SUR"]
[{"$nulls":3},"Total","Total"]
["18020100","PROC. DE NEUROLOGÍA Y NEUROCIRUGÍA",{"$f":"IFERROR(VLOOKUP($A49,Filtro!$A$4:$AY$344,2,FALSE),0)","v":0},{"$f":"IFERROR(VLOOKUP($A49,Filtro!$A$4:$AY$344,3,FALSE),0)","v":0},{"$f":"IFERROR(VLOOKUP($A49,Filtro!$A$4:$AY$344,4,FALSE),0)","v":0}]
["18400400","PROC. DE OFTALMOLOGÍA",{"$f":"IFERROR(VLOOKUP($A50,Filtro!$A$4:$AY$344,2,FALSE),0)","v":138},{"$f":"IFERROR(VLOOKUP($A50,Filtro!$A$4:$AY$344,3,FALSE),0)","v":96},{"$f":"IFERROR(VLOOKUP($A50,Filtro!$A$4:$AY$344,4,FALSE),0)","v":42}]
["18020200","PROC. DE OTORRINOLARINGOLOGÍA ",{"$f":"IFERROR(VLOOKUP($A51,Filtro!$A$4:$AY$344,2,FALSE),0)","v":272},{"$f":"IFERROR(VLOOKUP($A51,Filtro!$A$4:$AY$344,3,FALSE),0)","v":216},{"$f":"IFERROR(VLOOKUP($A51,Filtro!$A$4:$AY$344,4,FALSE),0)","v":56}]
["18020300","PROC. DE NEUMOLOGÍA",{"$f":"IFERROR(VLOOKUP($A52,Filtro!$A$4:$AY$344,2,FALSE),0)","v":{"v":3668,"d":"3,668"}},{"$f":"IFERROR(VLOOKUP($A52,Filtro!$A$4:$AY$344,3,FALSE),0)","v":{"v":3026,"d":"3,026"}},{"$f":"IFERROR(VLOOKUP($A52,Filtro!$A$4:$AY$344,4,FALSE),0)","v":642}]
["18020400","PROC. DE DERMATOLOGÍA",{"$f":"IFERROR(VLOOKUP($A53,Filtro!$A$4:$AY$344,2,FALSE),0)","v":363},{"$f":"IFERROR(VLOOKUP($A53,Filtro!$A$4:$AY$344,3,FALSE),0)","v":3},{"$f":"IFERROR(VLOOKUP($A53,Filtro!$A$4:$AY$344,4,FALSE),0)","v":360}]
["18020500","PROC. DE CARDIOLOGÍA",{"$f":"IFERROR(VLOOKUP($A54,Filtro!$A$4:$AY$344,2,FALSE),0)","v":{"v":78609,"d":"78,609"}},{"$f":"IFERROR(VLOOKUP($A54,Filtro!$A$4:$AY$344,3,FALSE),0)","v":{"v":17029,"d":"17,029"}},{"$f":"IFERROR(VLOOKUP($A54,Filtro!$A$4:$AY$344,4,FALSE),0)","v":{"v":61580,"d":"61,580"}}]
["18020600","PROC. DE GASTROENTEROLOGÍA",{"$f":"IFERROR(VLOOKUP($A55,Filtro!$A$4:$AY$344,2,FALSE),0)","v":145},{"$f":"IFERROR(VLOOKUP($A55,Filtro!$A$4:$AY$344,3,FALSE),0)","v":102},{"$f":"IFERROR(VLOOKUP($A55,Filtro!$A$4:$AY$344,4,FALSE),0)","v":43}]
["18020700","PROC. DE UROLOGÍA",{"$f":"IFERROR(VLOOKUP($A56,Filtro!$A$4:$AY$344,2,FALSE),0)","v":{"v":1535,"d":"1,535"}},{"$f":"IFERROR(VLOOKUP($A56,Filtro!$A$4:$AY$344,3,FALSE),0)","v":{"v":1039,"d":"1,039"}},{"$f":"IFERROR(VLOOKUP($A56,Filtro!$A$4:$AY$344,4,FALSE),0)","v":496}]
["18020800","PROC. ORTOPEDIA Y TRAUMATOLOGÍA",{"$f":"IFERROR(VLOOKUP($A57,Filtro!$A$4:$AY$344,2,FALSE),0)","v":{"v":1167,"d":"1,167"}},{"$f":"IFERROR(VLOOKUP($A57,Filtro!$A$4:$AY$344,3,FALSE),0)","v":{"v":1157,"d":"1,157"}},{"$f":"IFERROR(VLOOKUP($A57,Filtro!$A$4:$AY$344,4,FALSE),0)","v":10}]
["18020900","PROC. GINECO-OBSTÉTRICOS",{"$f":"IFERROR(VLOOKUP($A58,Filtro!$A$4:$AY$344,2,FALSE),0)","v":945},{"$f":"IFERROR(VLOOKUP($A58,Filtro!$A$4:$AY$344,3,FALSE),0)","v":2},{"$f":"IFERROR(VLOOKUP($A58,Filtro!$A$4:$AY$344,4,FALSE),0)","v":943}]
[null,"TOTAL",{"$f":"SUM(C49:C58)","v":{"v":86842,"d":"86,842"}},{"$f":"SUM(D49:D58)","v":{"v":22670,"d":"22,670"}},{"$f":"SUM(E49:E58)","v":{"v":64172,"d":"64,172"}}]
[null,"SECCIÓN C:  INTERVENCIONES QUIRÚRGICAS MENORES"]
[{"$nulls":3},"TOTAL","SAPU/SAR/SUR","NO SAPU/ NO SUR"]
[{"$nulls":4},"Total"]
["18030000","TOTAL INTERVENCIONES QUIRÚRGICAS MENORES (SUB-GRUPO TEGUMENTOS)",null,{"$f":"IFERROR(VLOOKUP($A63,Filtro!$A$4:$AY$344,2,FALSE),0)","v":{"v":5463,"d":"5,463"}},{"$f":"IFERROR(VLOOKUP($A63,Filtro!$A$4:$AY$344,3,FALSE),0)","v":{"v":2559,"d":"2,559"}},{"$f":"IFERROR(VLOOKUP($A63,Filtro!$A$4:$AY$344,4,FALSE),0)","v":{"v":2904,"d":"2,904"}}]
[null,"SECCIÓN D : INTERVENCIONES QUIRÚRGICAS MENORES POR EDAD"]
[null,"INTERVENCIONES QUIRÚRGICAS","TOTAL","< 15 AÑOS","15 Y + AÑOS"]
[null,"TOTAL",{"$f":"SUM(D66:E66)","v":{"v":5491,"d":"5,491"}},{"$f":"SUM(D67:D68)","v":606},{"$f":"SUM(E67:E68)","v":{"v":4885,"d":"4,885"}},{"$nulls":16},{"$f":"IF(C66=D63,\"\",\"El Total de Intervenciones Quirúrgicas de la Sección C DEBE coincidir con el Total de la Seccion D.\")","v":"El Total de Intervenciones Quirúrgicas de la Sección C DEBE coincidir con el Total de la Seccion D."},{"$f":"IF(C66=D63,0,1)","v":1}]
["18040100","SAPU/SAR",{"$f":"IFERROR(VLOOKUP($A67,Filtro!$A$4:$AY$344,2,FALSE),0)","v":{"v":2559,"d":"2,559"}},{"$f":"IFERROR(VLOOKUP($A67,Filtro!$A$4:$AY$344,3,FALSE),0)","v":389},{"$f":"IFERROR(VLOOKUP($A67,Filtro!$A$4:$AY$344,4,FALSE),0)","v":{"v":2170,"d":"2,170"}},{"$nulls":16},{"$f":"IF(C67=E63,\"\",\" * El Total de Intervenciones Quirúrgicas menores SAPU/SAR debe coincidir con el Total de Intervenciones Quirúrgicas menores SAPU/SAR/SUR de la Sección C. \")","v":""},{"$f":"IF(C67<>#REF!,1,0)","v":{"$error":"#REF!"}}]
["18040200","NO SAPU",{"$f":"IFERROR(VLOOKUP($A68,Filtro!$A$4:$AY$344,2,FALSE),0)","v":{"v":2932,"d":"2,932"}},{"$f":"IFERROR(VLOOKUP($A68,Filtro!$A$4:$AY$344,3,FALSE),0)","v":217},{"$f":"IFERROR(VLOOKUP($A68,Filtro!$A$4:$AY$344,4,FALSE),0)","v":{"v":2715,"d":"2,715"}},{"$nulls":16},{"$f":"IF(C68=F63,\"\",\" * El Total de Intervenciones Quirúrgicas menores NO SAPU debe coincidir con el Total de Intervenciones Quirúrgicas menores NO SAPU/NO SUR de la Sección C. \")","v":" * El Total de Intervenciones Quirúrgicas menores NO SAPU debe coincidir con el Total de Intervenciones Quirúrgicas menores NO SAPU/NO SUR de la Sección C. "},{"$f":"IF(C68<>#REF!,1,0)","v":{"$error":"#REF!"}}]
[null,"SECCIÓN E:  MISCELÁNEOS"]
[null,"MISCELÁNEOS",null,"TOTAL","SAPU/SAR/SUR","NO SAPU/ NO SUR"]
[{"$nulls":4},"Total","Total"]
["18090000","PROCEDIMIENTOS DE PODOLOGIA",null,{"$f":"IFERROR(VLOOKUP($A72,Filtro!$A$4:$AY$344,2,FALSE),0)","v":{"v":19276,"d":"19,276"}},{"$f":"IFERROR(VLOOKUP($A72,Filtro!$A$4:$AY$344,3,FALSE),0)","v":87},{"$f":"IFERROR(VLOOKUP($A72,Filtro!$A$4:$AY$344,4,FALSE),0)","v":{"v":19189,"d":"19,189"}}]
["18050100","CURACIÓN SIMPLE AMBULATORIA",null,{"$f":"IFERROR(VLOOKUP($A73,Filtro!$A$4:$AY$344,2,FALSE),0)","v":{"v":88673,"d":"88,673"}},{"$f":"IFERROR(VLOOKUP($A73,Filtro!$A$4:$AY$344,3,FALSE),0)","v":{"v":10983,"d":"10,983"}},{"$f":"IFERROR(VLOOKUP($A73,Filtro!$A$4:$AY$344,4,FALSE),0)","v":{"v":77690,"d":"77,690"}}]
["18050200","AUTO CUIDADO PACIENTE DID",null,{"$f":"IFERROR(VLOOKUP($A74,Filtro!$A$4:$AY$344,2,FALSE),0)","v":{"v":6133,"d":"6,133"}},{"$f":"IFERROR(VLOOKUP($A74,Filtro!$A$4:$AY$344,3,FALSE),0)","v":{"v":4312,"d":"4,312"}},{"$f":"IFERROR(VLOOKUP($A74,Filtro!$A$4:$AY$344,4,FALSE),0)","v":{"v":1821,"d":"1,821"}}]
["18050300","OXIGENOTERAPIA A DOMICILIO",null,{"$f":"IFERROR(VLOOKUP($A75,Filtro!$A$4:$AY$344,2,FALSE),0)","v":897},{"$f":"IFERROR(VLOOKUP($A75,Filtro!$A$4:$AY$344,3,FALSE),0)","v":152},{"$f":"IFERROR(VLOOKUP($A75,Filtro!$A$4:$AY$344,4,FALSE),0)","v":745}]
[null,"SECCIÓN F: PRESCRIPCIONES ADMINISTRADAS EN URGENCIA APS"]
[null,"ATENCIÓN",null,"TOTAL"]
[]
["18400700","URGENCIA SAPU/SAR",null,{"$f":"IFERROR(VLOOKUP($A79,Filtro!$A$4:$AY$344,2,FALSE),0)","v":{"v":537787,"d":"537,787"}}]
[null,"SECCIÓN G : OTRAS ATENCIONES A PACIENTES AMBULATORIOS"]
[null,"TIPO DE ATENCIÓN","TOTAL","ATENCIONES POR EDAD"]
[{"$nulls":3},"< 1 año","1 - 4 años","5 a 9 años","10 a 19 años","20 a 64 años","65 años y más"]
["18070100","POR TERAPÉUTICA OCUPACIONAL",{"$f":"IFERROR(VLOOKUP($A83,Filtro!$A$4:$AY$344,2,FALSE),0)","v":651},{"$f":"IFERROR(VLOOKUP($A83,Filtro!$A$4:$AY$344,3,FALSE),0)","v":37},{"$f":"IFERROR(VLOOKUP($A83,Filtro!$A$4:$AY$344,4,FALSE),0)","v":174},{"$f":"IFERROR(VLOOKUP($A83,Filtro!$A$4:$AY$344,5,FALSE),0)","v":210},{"$f":"IFERROR(VLOOKUP($A83,Filtro!$A$4:$AY$344,6,FALSE),0)","v":105},{"$f":"IFERROR(VLOOKUP($A83,Filtro!$A$4:$AY$344,7,FALSE),0)","v":35},{"$f":"IFERROR(VLOOKUP($A83,Filtro!$A$4:$AY$344,8,FALSE),0)","v":90}]
["18070300","POR KINESIOLOGO (NO SAPU)",{"$f":"IFERROR(VLOOKUP($A84,Filtro!$A$4:$AY$344,2,FALSE),0)","v":{"v":3658,"d":"3,658"}},{"$f":"IFERROR(VLOOKUP($A84,Filtro!$A$4:$AY$344,3,FALSE),0)","v":241},{"$f":"IFERROR(VLOOKUP($A84,Filtro!$A$4:$AY$344,4,FALSE),0)","v":467},{"$f":"IFERROR(VLOOKUP($A84,Filtro!$A$4:$AY$344,5,FALSE),0)","v":200},{"$f":"IFERROR(VLOOKUP($A84,Filtro!$A$4:$AY$344,6,FALSE),0)","v":281},{"$f":"IFERROR(VLOOKUP($A84,Filtro!$A$4:$AY$344,7,FALSE),0)","v":{"v":1307,"d":"1,307"}},{"$f":"IFERROR(VLOOKUP($A84,Filtro!$A$4:$AY$344,8,FALSE),0)","v":{"v":1162,"d":"1,162"}}]
["18400900","POR EDUCADORA DE PÁRVULO/DIFERENCIAL",{"$f":"IFERROR(VLOOKUP($A85,Filtro!$A$4:$AY$344,2,FALSE),0)","v":{"v":9761,"d":"9,761"}},{"$f":"IFERROR(VLOOKUP($A85,Filtro!$A$4:$AY$344,3,FALSE),0)","v":{"v":2331,"d":"2,331"}},{"$f":"IFERROR(VLOOKUP($A85,Filtro!$A$4:$AY$344,4,FALSE),0)","v":{"v":7430,"d":"7,430"}},{"$f":"IFERROR(VLOOKUP($A85,Filtro!$A$4:$AY$344,5,FALSE),0)","v":0},{"$f":"IFERROR(VLOOKUP($A85,Filtro!$A$4:$AY$344,6,FALSE),0)","v":0},{"$f":"IFERROR(VLOOKUP($A85,Filtro!$A$4:$AY$344,7,FALSE),0)","v":0},{"$f":"IFERROR(VLOOKUP($A85,Filtro!$A$4:$AY$344,8,FALSE),0)","v":0}]
[null,"SECCIÓN H: OTROS TRASLADOS DE PACIENTES"]
[null,"TIPO DE ACCION",null,"TOTAL        ","POR COMPRA \nDE SERVICIO"]
["18090200","TRASLADOS NO DE URGENCIA","AMBULANCIA",{"$f":"IFERROR(VLOOKUP($A88,Filtro!$A$4:$AY$344,2,FALSE),0)","v":{"v":9344,"d":"9,344"}},{"$f":"IFERROR(VLOOKUP($A88,Filtro!$A$4:$AY$344,3,FALSE),0)","v":{"v":1706,"d":"1,706"}}]
["18090300",null,"MARÍTIMO",{"$f":"IFERROR(VLOOKUP($A89,Filtro!$A$4:$AY$344,2,FALSE),0)","v":16},{"$f":"IFERROR(VLOOKUP($A89,Filtro!$A$4:$AY$344,3,FALSE),0)","v":0}]
["18090400",null,"AÉREO",{"$f":"IFERROR(VLOOKUP($A90,Filtro!$A$4:$AY$344,2,FALSE),0)","v":0},{"$f":"IFERROR(VLOOKUP($A90,Filtro!$A$4:$AY$344,3,FALSE),0)","v":0}]
[null,"SECCIÓN I: EXAMENES PESQUISA COVID-19 "]
[null,"TIPO DE EXÁMEN","TOTAL        ","Por grupos etarios",null,null,"POR COMPRA DE SERVICIO"]
[{"$nulls":3},"< 15 años","> 15-64 años","65 y más años"]
["18700100","0306082: Reacción de Polimerasa en Cadena (P.C.R.), virus Influenza, virus Herpes, citomegalovirus, hepatitis C, mycobacteria TBC, SARS CoV -2 c/u (incluye toma muestra hisopado nasofaríngeo).",{"$f":"IFERROR(VLOOKUP($A94,Filtro!$A$4:$AY$344,2,FALSE),0)","v":230200},{"$f":"IFERROR(VLOOKUP($A94,Filtro!$A$4:$AY$344,3,FALSE),0)","v":16898},{"$f":"IFERROR(VLOOKUP($A94,Filtro!$A$4:$AY$344,4,FALSE),0)","v":193403},{"$f":"IFERROR(VLOOKUP($A94,Filtro!$A$4:$AY$344,5,FALSE),0)","v":19899},{"$f":"IFERROR(VLOOKUP($A94,Filtro!$A$4:$AY$344,6,FALSE),0)","v":20037}]
[null,"SECCIÓN J: EXAMENES TEST RAPIDOS COVID-19"]
[null,"Test rápido para detección de anticuerpos CoVID-19","TOTAL        ","Por grupos etarios",null,null,"Informados ","Positivo","Negativo"]
[{"$nulls":3},"< 15 años","> 15-64 años","65 y más años"]
["18700110","OnSite COVID-19 IgG/IgM Rapid Test",{"$f":"IFERROR(VLOOKUP($A98,Filtro!$A$4:$AY$344,2,FALSE),0)","v":57},{"$f":"IFERROR(VLOOKUP($A98,Filtro!$A$4:$AY$344,3,FALSE),0)","v":0},{"$f":"IFERROR(VLOOKUP($A98,Filtro!$A$4:$AY$344,4,FALSE),0)","v":56},{"$f":"IFERROR(VLOOKUP($A98,Filtro!$A$4:$AY$344,5,FALSE),0)","v":1},{"$f":"IFERROR(VLOOKUP($A98,Filtro!$A$4:$AY$344,6,FALSE),0)","v":0},{"$f":"IFERROR(VLOOKUP($A98,Filtro!$A$4:$AY$344,7,FALSE),0)","v":7},{"$f":"IFERROR(VLOOKUP($A98,Filtro!$A$4:$AY$344,8,FALSE),0)","v":11}]
["18700120","DPP® COVID-19 IgM/IgG System",{"$f":"IFERROR(VLOOKUP($A99,Filtro!$A$4:$AY$344,2,FALSE),0)","v":0},{"$f":"IFERROR(VLOOKUP($A99,Filtro!$A$4:$AY$344,3,FALSE),0)","v":0},{"$f":"IFERROR(VLOOKUP($A99,Filtro!$A$4:$AY$344,4,FALSE),0)","v":0},{"$f":"IFERROR(VLOOKUP($A99,Filtro!$A$4:$AY$344,5,FALSE),0)","v":0},{"$f":"IFERROR(VLOOKUP($A99,Filtro!$A$4:$AY$344,6,FALSE),0)","v":0},{"$f":"IFERROR(VLOOKUP($A99,Filtro!$A$4:$AY$344,7,FALSE),0)","v":0},{"$f":"IFERROR(VLOOKUP($A99,Filtro!$A$4:$AY$344,8,FALSE),0)","v":0}]
["18700130","LUMIRATEK COVID-19 (IgG / IgM)",{"$f":"IFERROR(VLOOKUP($A100,Filtro!$A$4:$AY$344,2,FALSE),0)","v":0},{"$f":"IFERROR(VLOOKUP($A100,Filtro!$A$4:$AY$344,3,FALSE),0)","v":0},{"$f":"IFERROR(VLOOKUP($A100,Filtro!$A$4:$AY$344,4,FALSE),0)","v":0},{"$f":"IFERROR(VLOOKUP($A100,Filtro!$A$4:$AY$344,5,FALSE),0)","v":0},{"$f":"IFERROR(VLOOKUP($A100,Filtro!$A$4:$AY$344,6,FALSE),0)","v":0},{"$f":"IFERROR(VLOOKUP($A100,Filtro!$A$4:$AY$344,7,FALSE),0)","v":0},{"$f":"IFERROR(VLOOKUP($A100,Filtro!$A$4:$AY$344,8,FALSE),0)","v":0}]
["18700140","VivaDiag™ COVID19 IgM/IgG Rapid Test",{"$f":"IFERROR(VLOOKUP($A101,Filtro!$A$4:$AY$344,2,FALSE),0)","v":108},{"$f":"IFERROR(VLOOKUP($A101,Filtro!$A$4:$AY$344,3,FALSE),0)","v":13},{"$f":"IFERROR(VLOOKUP($A101,Filtro!$A$4:$AY$344,4,FALSE),0)","v":88},{"$f":"IFERROR(VLOOKUP($A101,Filtro!$A$4:$AY$344,5,FALSE),0)","v":7},{"$f":"IFERROR(VLOOKUP($A101,Filtro!$A$4:$AY$344,6,FALSE),0)","v":105},{"$f":"IFERROR(VLOOKUP($A101,Filtro!$A$4:$AY$344,7,FALSE),0)","v":11},{"$f":"IFERROR(VLOOKUP($A101,Filtro!$A$4:$AY$344,8,FALSE),0)","v":96}]
["18700150","Smart Test Covid19",{"$f":"IFERROR(VLOOKUP($A102,Filtro!$A$4:$AY$344,2,FALSE),0)","v":0},{"$f":"IFERROR(VLOOKUP($A102,Filtro!$A$4:$AY$344,3,FALSE),0)","v":0},{"$f":"IFERROR(VLOOKUP($A102,Filtro!$A$4:$AY$344,4,FALSE),0)","v":0},{"$f":"IFERROR(VLOOKUP($A102,Filtro!$A$4:$AY$344,5,FALSE),0)","v":0},{"$f":"IFERROR(VLOOKUP($A102,Filtro!$A$4:$AY$344,6,FALSE),0)","v":0},{"$f":"IFERROR(VLOOKUP($A102,Filtro!$A$4:$AY$344,7,FALSE),0)","v":0},{"$f":"IFERROR(VLOOKUP($A102,Filtro!$A$4:$AY$344,8,FALSE),0)","v":0}]
["18700160","Cellex qSARS-CoV2 IgG/IgM Cassette Rapid Test kit",{"$f":"IFERROR(VLOOKUP($A103,Filtro!$A$4:$AY$344,2,FALSE),0)","v":0},{"$f":"IFERROR(VLOOKUP($A103,Filtro!$A$4:$AY$344,3,FALSE),0)","v":0},{"$f":"IFERROR(VLOOKUP($A103,Filtro!$A$4:$AY$344,4,FALSE),0)","v":0},{"$f":"IFERROR(VLOOKUP($A103,Filtro!$A$4:$AY$344,5,FALSE),0)","v":0},{"$f":"IFERROR(VLOOKUP($A103,Filtro!$A$4:$AY$344,6,FALSE),0)","v":0},{"$f":"IFERROR(VLOOKUP($A103,Filtro!$A$4:$AY$344,7,FALSE),0)","v":0},{"$f":"IFERROR(VLOOKUP($A103,Filtro!$A$4:$AY$344,8,FALSE),0)","v":0}]
["18700170","CORONAVÍRUS IgG/IgM (COVID19)",{"$f":"IFERROR(VLOOKUP($A104,Filtro!$A$4:$AY$344,2,FALSE),0)","v":3},{"$f":"IFERROR(VLOOKUP($A104,Filtro!$A$4:$AY$344,3,FALSE),0)","v":0},{"$f":"IFERROR(VLOOKUP($A104,Filtro!$A$4:$AY$344,4,FALSE),0)","v":3},{"$f":"IFERROR(VLOOKUP($A104,Filtro!$A$4:$AY$344,5,FALSE),0)","v":0},{"$f":"IFERROR(VLOOKUP($A104,Filtro!$A$4:$AY$344,6,FALSE),0)","v":3},{"$f":"IFERROR(VLOOKUP($A104,Filtro!$A$4:$AY$344,7,FALSE),0)","v":0},{"$f":"IFERROR(VLOOKUP($A104,Filtro!$A$4:$AY$344,8,FALSE),0)","v":3}]
["18700180","COVID-19 IgG/IgM ECO Teste",{"$f":"IFERROR(VLOOKUP($A105,Filtro!$A$4:$AY$344,2,FALSE),0)","v":0},{"$f":"IFERROR(VLOOKUP($A105,Filtro!$A$4:$AY$344,3,FALSE),0)","v":0},{"$f":"IFERROR(VLOOKUP($A105,Filtro!$A$4:$AY$344,4,FALSE),0)","v":0},{"$f":"IFERROR(VLOOKUP($A105,Filtro!$A$4:$AY$344,5,FALSE),0)","v":0},{"$f":"IFERROR(VLOOKUP($A105,Filtro!$A$4:$AY$344,6,FALSE),0)","v":0},{"$f":"IFERROR(VLOOKUP($A105,Filtro!$A$4:$AY$344,7,FALSE),0)","v":0},{"$f":"IFERROR(VLOOKUP($A105,Filtro!$A$4:$AY$344,8,FALSE),0)","v":0}]
["18700190","Anti COVID-19 IgG/IgM Rapid Test",{"$f":"IFERROR(VLOOKUP($A106,Filtro!$A$4:$AY$344,2,FALSE),0)","v":1},{"$f":"IFERROR(VLOOKUP($A106,Filtro!$A$4:$AY$344,3,FALSE),0)","v":0},{"$f":"IFERROR(VLOOKUP($A106,Filtro!$A$4:$AY$344,4,FALSE),0)","v":1},{"$f":"IFERROR(VLOOKUP($A106,Filtro!$A$4:$AY$344,5,FALSE),0)","v":0},{"$f":"IFERROR(VLOOKUP($A106,Filtro!$A$4:$AY$344,6,FALSE),0)","v":1},{"$f":"IFERROR(VLOOKUP($A106,Filtro!$A$4:$AY$344,7,FALSE),0)","v":0},{"$f":"IFERROR(VLOOKUP($A106,Filtro!$A$4:$AY$344,8,FALSE),0)","v":1}]
["18700210","Família Teste Rápido em Cassete 2019-nCoV IgG/IgM",{"$f":"IFERROR(VLOOKUP($A107,Filtro!$A$4:$AY$344,2,FALSE),0)","v":0},{"$f":"IFERROR(VLOOKUP($A107,Filtro!$A$4:$AY$344,3,FALSE),0)","v":0},{"$f":"IFERROR(VLOOKUP($A107,Filtro!$A$4:$AY$344,4,FALSE),0)","v":0},{"$f":"IFERROR(VLOOKUP($A107,Filtro!$A$4:$AY$344,5,FALSE),0)","v":0},{"$f":"IFERROR(VLOOKUP($A107,Filtro!$A$4:$AY$344,6,FALSE),0)","v":0},{"$f":"IFERROR(VLOOKUP($A107,Filtro!$A$4:$AY$344,7,FALSE),0)","v":0},{"$f":"IFERROR(VLOOKUP($A107,Filtro!$A$4:$AY$344,8,FALSE),0)","v":0}]
["18700220","Smart Test Covid19 Vyttra",{"$f":"IFERROR(VLOOKUP($A108,Filtro!$A$4:$AY$344,2,FALSE),0)","v":0},{"$f":"IFERROR(VLOOKUP($A108,Filtro!$A$4:$AY$344,3,FALSE),0)","v":0},{"$f":"IFERROR(VLOOKUP($A108,Filtro!$A$4:$AY$344,4,FALSE),0)","v":0},{"$f":"IFERROR(VLOOKUP($A108,Filtro!$A$4:$AY$344,5,FALSE),0)","v":0},{"$f":"IFERROR(VLOOKUP($A108,Filtro!$A$4:$AY$344,6,FALSE),0)","v":0},{"$f":"IFERROR(VLOOKUP($A108,Filtro!$A$4:$AY$344,7,FALSE),0)","v":0},{"$f":"IFERROR(VLOOKUP($A108,Filtro!$A$4:$AY$344,8,FALSE),0)","v":0}]
["18700230","Lo desconoce",{"$f":"IFERROR(VLOOKUP($A109,Filtro!$A$4:$AY$344,2,FALSE),0)","v":1435},{"$f":"IFERROR(VLOOKUP($A109,Filtro!$A$4:$AY$344,3,FALSE),0)","v":270},{"$f":"IFERROR(VLOOKUP($A109,Filtro!$A$4:$AY$344,4,FALSE),0)","v":1073},{"$f":"IFERROR(VLOOKUP($A109,Filtro!$A$4:$AY$344,5,FALSE),0)","v":92},{"$f":"IFERROR(VLOOKUP($A109,Filtro!$A$4:$AY$344,6,FALSE),0)","v":1429},{"$f":"IFERROR(VLOOKUP($A109,Filtro!$A$4:$AY$344,7,FALSE),0)","v":128},{"$f":"IFERROR(VLOOKUP($A109,Filtro!$A$4:$AY$344,8,FALSE),0)","v":1288}]
[null,"TOTAL",{"$f":"SUM(C98:C109)","v":1604},283,1221,100,1538,146,1399]
[]
[]
[]
[]
[]
["CODIGO ELIMINADO"]
[18700200]
[]
["CODIGOS NUEVOS"]
[18700240]
[18700250]
[18700260]
[18700270]
[18700280]
[18700290]
[18700300]
[18700310]
[18700320]
[18700330]
[18700340]
[18700350]

{"sheet":"BM18A","index":3,"n_rows":615,"n_cols":9,"rows_kept":615,"merged":[[5,1,5,3],[6,2,6,6],[9,1,10,1],[9,2,10,2],[9,3,10,3],[9,4,10,4],[9,5,10,5],[9,6,10,6],[11,1,11,2],[11,3,11,6],[97,1,97,2],[98,1,98,2],[98,3,98,6],[168,1,168,2],[169,1,169,2],[176,1,176,2],[177,1,177,2],[177,3,177,6],[235,1,235,2],[236,1,236,2],[236,3,236,6],[315,1,315,2],[316,1,316,2],[361,1,361,2],[362,1,362,2],[393,1,393,2],[394,1,394,2],[395,1,395,2],[480,1,481,1],[480,2,481,2],[480,3,481,3],[480,4,481,4],[480,5,481,5],[480,6,480,7],[480,8,481,8],[482,1,482,2],[484,1,484,2],[496,1,496,2],[497,1,497,2],[504,1,504,2],[505,1,505,2],[508,1,508,2],[509,1,509,2],[513,1,513,2],[514,1,514,2],[514,3,514,8],[519,1,519,2],[520,1,520,2],[524,1,524,2],[525,1,525,2],[528,1,528,2],[529,1,529,2],[531,1,531,2],[539,1,539,2],[540,1,540,2],[565,1,565,2],[566,1,566,2],[584,1,584,2],[585,1,586,1],[585,2,586,2],[585,3,586,3],[585,4,586,4],[585,5,586,5],[585,6,586,6],[589,1,589,2],[590,1,590,8],[591,1,592,2],[591,3,592,3],[591,4,592,4],[591,5,592,5],[591,6,591,7],[591,8,592,8],[593,1,593,2],[594,1,594,2],[595,1,595,2],[596,1,596,2],[597,1,597,2],[598,1,598,2],[599,1,599,2],[600,1,600,2],[601,1,601,2],[602,1,602,2],[603,1,603,2],[605,1,605,2],[606,1,606,2],[607,1,607,2]]}
[]
[]
[]
[]
[]
[]
[null,null,"REM-18A  -  LIBRO DE PRESTACIONES DE APOYO DIAGNOSTICO y TERAPÉUTICO\n(USO EXCLUSIVO DE ESTABLECIMIENTOS MUNICIPALES)"]
[]
[null,"SECCIÓN A: EXÁMENES DE DIAGNOSTICO"]
[null,"CÓDIGOS","EXÁMENES","TOTAL","SAPU/SAR/SUR","NO SAPU/ NO SUR","COMPRAS DE SERVICIOS"]
[]
[null,"1.- SANGRE HEMATOLOGÍA"]
["80301001","0301001","Acidificación del suero, test de Ham",{"$f":"IFERROR(VLOOKUP($A13,Filtro!$A$4:$AY$344,2,FALSE),0)","v":0},{"$f":"IFERROR(VLOOKUP($A13,Filtro!$A$4:$AY$344,3,FALSE),0)","v":0},{"$f":"IFERROR(VLOOKUP($A13,Filtro!$A$4:$AY$344,4,FALSE),0)","v":0},{"$f":"IFERROR(VLOOKUP($A13,Filtro!$A$4:$AY$344,5,FALSE),0)","v":0}]
["80301002","0301002","Acido fólico o folatos",{"$f":"IFERROR(VLOOKUP($A14,Filtro!$A$4:$AY$344,2,FALSE),0)","v":0},{"$f":"IFERROR(VLOOKUP($A14,Filtro!$A$4:$AY$344,3,FALSE),0)","v":0},{"$f":"IFERROR(VLOOKUP($A14,Filtro!$A$4:$AY$344,4,FALSE),0)","v":0},{"$f":"IFERROR(VLOOKUP($A14,Filtro!$A$4:$AY$344,5,FALSE),0)","v":6}]
["80301003","0301003","Adenograma, esplenograma, mielograma c/u",{"$f":"IFERROR(VLOOKUP($A15,Filtro!$A$4:$AY$344,2,FALSE),0)","v":0},{"$f":"IFERROR(VLOOKUP($A15,Filtro!$A$4:$AY$344,3,FALSE),0)","v":0},{"$f":"IFERROR(VLOOKUP($A15,Filtro!$A$4:$AY$344,4,FALSE),0)","v":0},{"$f":"IFERROR(VLOOKUP($A15,Filtro!$A$4:$AY$344,5,FALSE),0)","v":0}]
["80301004","0301004","Adhesividad plaquetaria",{"$f":"IFERROR(VLOOKUP($A16,Filtro!$A$4:$AY$344,2,FALSE),0)","v":0},{"$f":"IFERROR(VLOOKUP($A16,Filtro!$A$4:$AY$344,3,FALSE),0)","v":0},{"$f":"IFERROR(VLOOKUP($A16,Filtro!$A$4:$AY$344,4,FALSE),0)","v":0},{"$f":"IFERROR(VLOOKUP($A16,Filtro!$A$4:$AY$344,5,FALSE),0)","v":0}]
["80301005","0301005","Aglutininas anti Rho",{"$f":"IFERROR(VLOOKUP($A17,Filtro!$A$4:$AY$344,2,FALSE),0)","v":0},{"$f":"IFERROR(VLOOKUP($A17,Filtro!$A$4:$AY$344,3,FALSE),0)","v":0},{"$f":"IFERROR(VLOOKUP($A17,Filtro!$A$4:$AY$344,4,FALSE),0)","v":0},{"$f":"IFERROR(VLOOKUP($A17,Filtro!$A$4:$AY$344,5,FALSE),0)","v":0}]
["80301006","0301006","Agregación plaquetaria",{"$f":"IFERROR(VLOOKUP($A18,Filtro!$A$4:$AY$344,2,FALSE),0)","v":0},{"$f":"IFERROR(VLOOKUP($A18,Filtro!$A$4:$AY$344,3,FALSE),0)","v":0},{"$f":"IFERROR(VLOOKUP($A18,Filtro!$A$4:$AY$344,4,FALSE),0)","v":0},{"$f":"IFERROR(VLOOKUP($A18,Filtro!$A$4:$AY$344,5,FALSE),0)","v":0}]
["80301007","0301007","Anticoagulantes circulantes o anticoagulante lúpico",{"$f":"IFERROR(VLOOKUP($A19,Filtro!$A$4:$AY$344,2,FALSE),0)","v":0},{"$f":"IFERROR(VLOOKUP($A19,Filtro!$A$4:$AY$344,3,FALSE),0)","v":0},{"$f":"IFERROR(VLOOKUP($A19,Filtro!$A$4:$AY$344,4,FALSE),0)","v":0},{"$f":"IFERROR(VLOOKUP($A19,Filtro!$A$4:$AY$344,5,FALSE),0)","v":0}]
["80301008","0301008","Antitrombina III",{"$f":"IFERROR(VLOOKUP($A20,Filtro!$A$4:$AY$344,2,FALSE),0)","v":0},{"$f":"IFERROR(VLOOKUP($A20,Filtro!$A$4:$AY$344,3,FALSE),0)","v":0},{"$f":"IFERROR(VLOOKUP($A20,Filtro!$A$4:$AY$344,4,FALSE),0)","v":0},{"$f":"IFERROR(VLOOKUP($A20,Filtro!$A$4:$AY$344,5,FALSE),0)","v":0}]
["80301009","0301009","Auto-hemólisis test,  con y sin glucosa",{"$f":"IFERROR(VLOOKUP($A21,Filtro!$A$4:$AY$344,2,FALSE),0)","v":0},{"$f":"IFERROR(VLOOKUP($A21,Filtro!$A$4:$AY$344,3,FALSE),0)","v":0},{"$f":"IFERROR(VLOOKUP($A21,Filtro!$A$4:$AY$344,4,FALSE),0)","v":0},{"$f":"IFERROR(VLOOKUP($A21,Filtro!$A$4:$AY$344,5,FALSE),0)","v":0}]
["80301010","0301010","Células del lupus, cada muestra",{"$f":"IFERROR(VLOOKUP($A22,Filtro!$A$4:$AY$344,2,FALSE),0)","v":0},{"$f":"IFERROR(VLOOKUP($A22,Filtro!$A$4:$AY$344,3,FALSE),0)","v":0},{"$f":"IFERROR(VLOOKUP($A22,Filtro!$A$4:$AY$344,4,FALSE),0)","v":0},{"$f":"IFERROR(VLOOKUP($A22,Filtro!$A$4:$AY$344,5,FALSE),0)","v":0}]
["80301011","0301011","Coagulación, tiempo de",{"$f":"IFERROR(VLOOKUP($A23,Filtro!$A$4:$AY$344,2,FALSE),0)","v":1},{"$f":"IFERROR(VLOOKUP($A23,Filtro!$A$4:$AY$344,3,FALSE),0)","v":0},{"$f":"IFERROR(VLOOKUP($A23,Filtro!$A$4:$AY$344,4,FALSE),0)","v":0},{"$f":"IFERROR(VLOOKUP($A23,Filtro!$A$4:$AY$344,5,FALSE),0)","v":129}]
["80301012","0301012","Coágulo,  tiempo de retracción del",{"$f":"IFERROR(VLOOKUP($A24,Filtro!$A$4:$AY$344,2,FALSE),0)","v":0},{"$f":"IFERROR(VLOOKUP($A24,Filtro!$A$4:$AY$344,3,FALSE),0)","v":0},{"$f":"IFERROR(VLOOKUP($A24,Filtro!$A$4:$AY$344,4,FALSE),0)","v":0},{"$f":"IFERROR(VLOOKUP($A24,Filtro!$A$4:$AY$344,5,FALSE),0)","v":0}]
["80301013","0301013","Coágulo, tiempo de lisis del",{"$f":"IFERROR(VLOOKUP($A25,Filtro!$A$4:$AY$344,2,FALSE),0)","v":0},{"$f":"IFERROR(VLOOKUP($A25,Filtro!$A$4:$AY$344,3,FALSE),0)","v":0},{"$f":"IFERROR(VLOOKUP($A25,Filtro!$A$4:$AY$344,4,FALSE),0)","v":0},{"$f":"IFERROR(VLOOKUP($A25,Filtro!$A$4:$AY$344,5,FALSE),0)","v":0}]
["80301014","0301014","Coombs directo, test de",{"$f":"IFERROR(VLOOKUP($A26,Filtro!$A$4:$AY$344,2,FALSE),0)","v":0},{"$f":"IFERROR(VLOOKUP($A26,Filtro!$A$4:$AY$344,3,FALSE),0)","v":0},{"$f":"IFERROR(VLOOKUP($A26,Filtro!$A$4:$AY$344,4,FALSE),0)","v":0},{"$f":"IFERROR(VLOOKUP($A26,Filtro!$A$4:$AY$344,5,FALSE),0)","v":126}]
["80301015","0301015","Coombs indirecto, prueba de",{"$f":"IFERROR(VLOOKUP($A27,Filtro!$A$4:$AY$344,2,FALSE),0)","v":77},{"$f":"IFERROR(VLOOKUP($A27,Filtro!$A$4:$AY$344,3,FALSE),0)","v":0},{"$f":"IFERROR(VLOOKUP($A27,Filtro!$A$4:$AY$344,4,FALSE),0)","v":77},{"$f":"IFERROR(VLOOKUP($A27,Filtro!$A$4:$AY$344,5,FALSE),0)","v":919}]
["80301016","0301016","Cuerpos de Heinz",{"$f":"IFERROR(VLOOKUP($A28,Filtro!$A$4:$AY$344,2,FALSE),0)","v":0},{"$f":"IFERROR(VLOOKUP($A28,Filtro!$A$4:$AY$344,3,FALSE),0)","v":0},{"$f":"IFERROR(VLOOKUP($A28,Filtro!$A$4:$AY$344,4,FALSE),0)","v":0},{"$f":"IFERROR(VLOOKUP($A28,Filtro!$A$4:$AY$344,5,FALSE),0)","v":0}]
["80301017","0301017","Deshidrogenasa glucosa-6-fosfato en eritrocitos",{"$f":"IFERROR(VLOOKUP($A29,Filtro!$A$4:$AY$344,2,FALSE),0)","v":0},{"$f":"IFERROR(VLOOKUP($A29,Filtro!$A$4:$AY$344,3,FALSE),0)","v":0},{"$f":"IFERROR(VLOOKUP($A29,Filtro!$A$4:$AY$344,4,FALSE),0)","v":0},{"$f":"IFERROR(VLOOKUP($A29,Filtro!$A$4:$AY$344,5,FALSE),0)","v":0}]
["80301020","0301020","Euglobulinas, tiempo de lisis de",{"$f":"IFERROR(VLOOKUP($A30,Filtro!$A$4:$AY$344,2,FALSE),0)","v":0},{"$f":"IFERROR(VLOOKUP($A30,Filtro!$A$4:$AY$344,3,FALSE),0)","v":0},{"$f":"IFERROR(VLOOKUP($A30,Filtro!$A$4:$AY$344,4,FALSE),0)","v":0},{"$f":"IFERROR(VLOOKUP($A30,Filtro!$A$4:$AY$344,5,FALSE),0)","v":0}]
["80301021","0301021","Fibrinógeno",{"$f":"IFERROR(VLOOKUP($A31,Filtro!$A$4:$AY$344,2,FALSE),0)","v":0},{"$f":"IFERROR(VLOOKUP($A31,Filtro!$A$4:$AY$344,3,FALSE),0)","v":0},{"$f":"IFERROR(VLOOKUP($A31,Filtro!$A$4:$AY$344,4,FALSE),0)","v":0},{"$f":"IFERROR(VLOOKUP($A31,Filtro!$A$4:$AY$344,5,FALSE),0)","v":0}]
["80301022","0301022","Test de neutralización plaquetaria",{"$f":"IFERROR(VLOOKUP($A32,Filtro!$A$4:$AY$344,2,FALSE),0)","v":0},{"$f":"IFERROR(VLOOKUP($A32,Filtro!$A$4:$AY$344,3,FALSE),0)","v":0},{"$f":"IFERROR(VLOOKUP($A32,Filtro!$A$4:$AY$344,4,FALSE),0)","v":0},{"$f":"IFERROR(VLOOKUP($A32,Filtro!$A$4:$AY$344,5,FALSE),0)","v":0}]
["80301023","0301023","Factor III plaquetario",{"$f":"IFERROR(VLOOKUP($A33,Filtro!$A$4:$AY$344,2,FALSE),0)","v":0},{"$f":"IFERROR(VLOOKUP($A33,Filtro!$A$4:$AY$344,3,FALSE),0)","v":0},{"$f":"IFERROR(VLOOKUP($A33,Filtro!$A$4:$AY$344,4,FALSE),0)","v":0},{"$f":"IFERROR(VLOOKUP($A33,Filtro!$A$4:$AY$344,5,FALSE),0)","v":0}]
["80301024","0301024","Factor V",{"$f":"IFERROR(VLOOKUP($A34,Filtro!$A$4:$AY$344,2,FALSE),0)","v":0},{"$f":"IFERROR(VLOOKUP($A34,Filtro!$A$4:$AY$344,3,FALSE),0)","v":0},{"$f":"IFERROR(VLOOKUP($A34,Filtro!$A$4:$AY$344,4,FALSE),0)","v":0},{"$f":"IFERROR(VLOOKUP($A34,Filtro!$A$4:$AY$344,5,FALSE),0)","v":0}]
["80301025","0301025","Factores VII, VIII, IX, X, XI, XII, XIII, c/u",{"$f":"IFERROR(VLOOKUP($A35,Filtro!$A$4:$AY$344,2,FALSE),0)","v":0},{"$f":"IFERROR(VLOOKUP($A35,Filtro!$A$4:$AY$344,3,FALSE),0)","v":0},{"$f":"IFERROR(VLOOKUP($A35,Filtro!$A$4:$AY$344,4,FALSE),0)","v":0},{"$f":"IFERROR(VLOOKUP($A35,Filtro!$A$4:$AY$344,5,FALSE),0)","v":0}]
["80301026","0301026","Ferritina",{"$f":"IFERROR(VLOOKUP($A36,Filtro!$A$4:$AY$344,2,FALSE),0)","v":0},{"$f":"IFERROR(VLOOKUP($A36,Filtro!$A$4:$AY$344,3,FALSE),0)","v":0},{"$f":"IFERROR(VLOOKUP($A36,Filtro!$A$4:$AY$344,4,FALSE),0)","v":0},{"$f":"IFERROR(VLOOKUP($A36,Filtro!$A$4:$AY$344,5,FALSE),0)","v":202}]
["80301027","0301027","Fibrinógeno, productos de degradación del",{"$f":"IFERROR(VLOOKUP($A37,Filtro!$A$4:$AY$344,2,FALSE),0)","v":0},{"$f":"IFERROR(VLOOKUP($A37,Filtro!$A$4:$AY$344,3,FALSE),0)","v":0},{"$f":"IFERROR(VLOOKUP($A37,Filtro!$A$4:$AY$344,4,FALSE),0)","v":0},{"$f":"IFERROR(VLOOKUP($A37,Filtro!$A$4:$AY$344,5,FALSE),0)","v":0}]
["80301028","0301028","Fierro sérico",{"$f":"IFERROR(VLOOKUP($A38,Filtro!$A$4:$AY$344,2,FALSE),0)","v":0},{"$f":"IFERROR(VLOOKUP($A38,Filtro!$A$4:$AY$344,3,FALSE),0)","v":0},{"$f":"IFERROR(VLOOKUP($A38,Filtro!$A$4:$AY$344,4,FALSE),0)","v":0},{"$f":"IFERROR(VLOOKUP($A38,Filtro!$A$4:$AY$344,5,FALSE),0)","v":0}]
["80301029","0301029","Fierro, capacidad de fijación del (incluye fierro sérico)",{"$f":"IFERROR(VLOOKUP($A39,Filtro!$A$4:$AY$344,2,FALSE),0)","v":0},{"$f":"IFERROR(VLOOKUP($A39,Filtro!$A$4:$AY$344,3,FALSE),0)","v":0},{"$f":"IFERROR(VLOOKUP($A39,Filtro!$A$4:$AY$344,4,FALSE),0)","v":0},{"$f":"IFERROR(VLOOKUP($A39,Filtro!$A$4:$AY$344,5,FALSE),0)","v":0}]
["80301030","0301030","Fierro, cinética del (cada determinación)",{"$f":"IFERROR(VLOOKUP($A40,Filtro!$A$4:$AY$344,2,FALSE),0)","v":0},{"$f":"IFERROR(VLOOKUP($A40,Filtro!$A$4:$AY$344,3,FALSE),0)","v":0},{"$f":"IFERROR(VLOOKUP($A40,Filtro!$A$4:$AY$344,4,FALSE),0)","v":0},{"$f":"IFERROR(VLOOKUP($A40,Filtro!$A$4:$AY$344,5,FALSE),0)","v":0}]
["80301032","0301032","Gelación por etanol",{"$f":"IFERROR(VLOOKUP($A41,Filtro!$A$4:$AY$344,2,FALSE),0)","v":0},{"$f":"IFERROR(VLOOKUP($A41,Filtro!$A$4:$AY$344,3,FALSE),0)","v":0},{"$f":"IFERROR(VLOOKUP($A41,Filtro!$A$4:$AY$344,4,FALSE),0)","v":0},{"$f":"IFERROR(VLOOKUP($A41,Filtro!$A$4:$AY$344,5,FALSE),0)","v":0}]
["80301033","0301033","Grupos menores. Tipificación o determinación de otros sistemas sanguíneos (Kell, Duffy, Kidd y otros) c/u.",{"$f":"IFERROR(VLOOKUP($A42,Filtro!$A$4:$AY$344,2,FALSE),0)","v":0},{"$f":"IFERROR(VLOOKUP($A42,Filtro!$A$4:$AY$344,3,FALSE),0)","v":0},{"$f":"IFERROR(VLOOKUP($A42,Filtro!$A$4:$AY$344,4,FALSE),0)","v":0},{"$f":"IFERROR(VLOOKUP($A42,Filtro!$A$4:$AY$344,5,FALSE),0)","v":46}]
["80301034","0301034","Grupos sanguíneos AB0 y Rho (incluye estudio de factor Du en Rh negativos)",{"$f":"IFERROR(VLOOKUP($A43,Filtro!$A$4:$AY$344,2,FALSE),0)","v":{"v":1243,"d":"1,243"}},{"$f":"IFERROR(VLOOKUP($A43,Filtro!$A$4:$AY$344,3,FALSE),0)","v":0},{"$f":"IFERROR(VLOOKUP($A43,Filtro!$A$4:$AY$344,4,FALSE),0)","v":{"v":1243,"d":"1,243"}},{"$f":"IFERROR(VLOOKUP($A43,Filtro!$A$4:$AY$344,5,FALSE),0)","v":{"v":2024,"d":"2,024"}}]
["80301035","0301035","Haptoglobina cuantitativa",{"$f":"IFERROR(VLOOKUP($A44,Filtro!$A$4:$AY$344,2,FALSE),0)","v":0},{"$f":"IFERROR(VLOOKUP($A44,Filtro!$A$4:$AY$344,3,FALSE),0)","v":0},{"$f":"IFERROR(VLOOKUP($A44,Filtro!$A$4:$AY$344,4,FALSE),0)","v":0},{"$f":"IFERROR(VLOOKUP($A44,Filtro!$A$4:$AY$344,5,FALSE),0)","v":7}]
["80301036","0301036","Hematocrito (proc. aut.)",{"$f":"IFERROR(VLOOKUP($A45,Filtro!$A$4:$AY$344,2,FALSE),0)","v":{"v":3835,"d":"3,835"}},{"$f":"IFERROR(VLOOKUP($A45,Filtro!$A$4:$AY$344,3,FALSE),0)","v":0},{"$f":"IFERROR(VLOOKUP($A45,Filtro!$A$4:$AY$344,4,FALSE),0)","v":{"v":3746,"d":"3,746"}},{"$f":"IFERROR(VLOOKUP($A45,Filtro!$A$4:$AY$344,5,FALSE),0)","v":{"v":28122,"d":"28,122"}}]
["80301038","0301038","Hemoglobina en sangre total (proc. aut.)",{"$f":"IFERROR(VLOOKUP($A46,Filtro!$A$4:$AY$344,2,FALSE),0)","v":{"v":2297,"d":"2,297"}},{"$f":"IFERROR(VLOOKUP($A46,Filtro!$A$4:$AY$344,3,FALSE),0)","v":0},{"$f":"IFERROR(VLOOKUP($A46,Filtro!$A$4:$AY$344,4,FALSE),0)","v":{"v":2201,"d":"2,201"}},{"$f":"IFERROR(VLOOKUP($A46,Filtro!$A$4:$AY$344,5,FALSE),0)","v":{"v":23518,"d":"23,518"}}]
["80301039","0301039","Hemoglobina fetal cualitativa",{"$f":"IFERROR(VLOOKUP($A47,Filtro!$A$4:$AY$344,2,FALSE),0)","v":0},{"$f":"IFERROR(VLOOKUP($A47,Filtro!$A$4:$AY$344,3,FALSE),0)","v":0},{"$f":"IFERROR(VLOOKUP($A47,Filtro!$A$4:$AY$344,4,FALSE),0)","v":0},{"$f":"IFERROR(VLOOKUP($A47,Filtro!$A$4:$AY$344,5,FALSE),0)","v":104}]
["80301040","0301040","Hemoglobina fetal cuantitativa en eritrocitos",{"$f":"IFERROR(VLOOKUP($A48,Filtro!$A$4:$AY$344,2,FALSE),0)","v":0},{"$f":"IFERROR(VLOOKUP($A48,Filtro!$A$4:$AY$344,3,FALSE),0)","v":0},{"$f":"IFERROR(VLOOKUP($A48,Filtro!$A$4:$AY$344,4,FALSE),0)","v":0},{"$f":"IFERROR(VLOOKUP($A48,Filtro!$A$4:$AY$344,5,FALSE),0)","v":0}]
["80301041","0301041","Hemoglobina glicosilada",{"$f":"IFERROR(VLOOKUP($A49,Filtro!$A$4:$AY$344,2,FALSE),0)","v":{"v":14231,"d":"14,231"}},{"$f":"IFERROR(VLOOKUP($A49,Filtro!$A$4:$AY$344,3,FALSE),0)","v":0},{"$f":"IFERROR(VLOOKUP($A49,Filtro!$A$4:$AY$344,4,FALSE),0)","v":{"v":14191,"d":"14,191"}},{"$f":"IFERROR(VLOOKUP($A49,Filtro!$A$4:$AY$344,5,FALSE),0)","v":{"v":33554,"d":"33,554"}}]
["80301042","0301042","Hemoglobina plasmática",{"$f":"IFERROR(VLOOKUP($A50,Filtro!$A$4:$AY$344,2,FALSE),0)","v":0},{"$f":"IFERROR(VLOOKUP($A50,Filtro!$A$4:$AY$344,3,FALSE),0)","v":0},{"$f":"IFERROR(VLOOKUP($A50,Filtro!$A$4:$AY$344,4,FALSE),0)","v":0},{"$f":"IFERROR(VLOOKUP($A50,Filtro!$A$4:$AY$344,5,FALSE),0)","v":523}]
["80301043","0301043","Hemoglobina termolabil",{"$f":"IFERROR(VLOOKUP($A51,Filtro!$A$4:$AY$344,2,FALSE),0)","v":0},{"$f":"IFERROR(VLOOKUP($A51,Filtro!$A$4:$AY$344,3,FALSE),0)","v":0},{"$f":"IFERROR(VLOOKUP($A51,Filtro!$A$4:$AY$344,4,FALSE),0)","v":0},{"$f":"IFERROR(VLOOKUP($A51,Filtro!$A$4:$AY$344,5,FALSE),0)","v":0}]
["80301044","0301044","Hemoglobina, electroforesis de (incluye Hb. total)",{"$f":"IFERROR(VLOOKUP($A52,Filtro!$A$4:$AY$344,2,FALSE),0)","v":0},{"$f":"IFERROR(VLOOKUP($A52,Filtro!$A$4:$AY$344,3,FALSE),0)","v":0},{"$f":"IFERROR(VLOOKUP($A52,Filtro!$A$4:$AY$344,4,FALSE),0)","v":0},{"$f":"IFERROR(VLOOKUP($A52,Filtro!$A$4:$AY$344,5,FALSE),0)","v":16}]
["80301045","0301045","Hemograma (incluye recuentos de leucocitos y eritrocitos, hemoglobina, hematocrito, fórmula leucocitaria, características de los elementos figurados y velocidad de eritrosedimentación)",{"$f":"IFERROR(VLOOKUP($A53,Filtro!$A$4:$AY$344,2,FALSE),0)","v":{"v":26907,"d":"26,907"}},{"$f":"IFERROR(VLOOKUP($A53,Filtro!$A$4:$AY$344,3,FALSE),0)","v":0},{"$f":"IFERROR(VLOOKUP($A53,Filtro!$A$4:$AY$344,4,FALSE),0)","v":{"v":26836,"d":"26,836"}},{"$f":"IFERROR(VLOOKUP($A53,Filtro!$A$4:$AY$344,5,FALSE),0)","v":{"v":52141,"d":"52,141"}}]
["80301046","0301046","Hemolisinas",{"$f":"IFERROR(VLOOKUP($A54,Filtro!$A$4:$AY$344,2,FALSE),0)","v":0},{"$f":"IFERROR(VLOOKUP($A54,Filtro!$A$4:$AY$344,3,FALSE),0)","v":0},{"$f":"IFERROR(VLOOKUP($A54,Filtro!$A$4:$AY$344,4,FALSE),0)","v":0},{"$f":"IFERROR(VLOOKUP($A54,Filtro!$A$4:$AY$344,5,FALSE),0)","v":0}]
["80301047","0301047","Hemólisis con sucrosa, test de",{"$f":"IFERROR(VLOOKUP($A55,Filtro!$A$4:$AY$344,2,FALSE),0)","v":0},{"$f":"IFERROR(VLOOKUP($A55,Filtro!$A$4:$AY$344,3,FALSE),0)","v":0},{"$f":"IFERROR(VLOOKUP($A55,Filtro!$A$4:$AY$344,4,FALSE),0)","v":0},{"$f":"IFERROR(VLOOKUP($A55,Filtro!$A$4:$AY$344,5,FALSE),0)","v":0}]
["80301048","0301048","Hemosiderina medular",{"$f":"IFERROR(VLOOKUP($A56,Filtro!$A$4:$AY$344,2,FALSE),0)","v":0},{"$f":"IFERROR(VLOOKUP($A56,Filtro!$A$4:$AY$344,3,FALSE),0)","v":0},{"$f":"IFERROR(VLOOKUP($A56,Filtro!$A$4:$AY$344,4,FALSE),0)","v":0},{"$f":"IFERROR(VLOOKUP($A56,Filtro!$A$4:$AY$344,5,FALSE),0)","v":0}]
["80301049","0301049","Heparina, cuantificación de",{"$f":"IFERROR(VLOOKUP($A57,Filtro!$A$4:$AY$344,2,FALSE),0)","v":0},{"$f":"IFERROR(VLOOKUP($A57,Filtro!$A$4:$AY$344,3,FALSE),0)","v":0},{"$f":"IFERROR(VLOOKUP($A57,Filtro!$A$4:$AY$344,4,FALSE),0)","v":0},{"$f":"IFERROR(VLOOKUP($A57,Filtro!$A$4:$AY$344,5,FALSE),0)","v":0}]
["80301050","0301050","Isoinmunización, detección de anticuerpos irregulares (proc. aut.).",{"$f":"IFERROR(VLOOKUP($A58,Filtro!$A$4:$AY$344,2,FALSE),0)","v":0},{"$f":"IFERROR(VLOOKUP($A58,Filtro!$A$4:$AY$344,3,FALSE),0)","v":0},{"$f":"IFERROR(VLOOKUP($A58,Filtro!$A$4:$AY$344,4,FALSE),0)","v":0},{"$f":"IFERROR(VLOOKUP($A58,Filtro!$A$4:$AY$344,5,FALSE),0)","v":0}]
["80301051","0301051","Isoinmunización, detección e identificación de anticuerpos",{"$f":"IFERROR(VLOOKUP($A59,Filtro!$A$4:$AY$344,2,FALSE),0)","v":0},{"$f":"IFERROR(VLOOKUP($A59,Filtro!$A$4:$AY$344,3,FALSE),0)","v":0},{"$f":"IFERROR(VLOOKUP($A59,Filtro!$A$4:$AY$344,4,FALSE),0)","v":0},{"$f":"IFERROR(VLOOKUP($A59,Filtro!$A$4:$AY$344,5,FALSE),0)","v":0}]
["80301052","0301052","Isopropanol, test de",{"$f":"IFERROR(VLOOKUP($A60,Filtro!$A$4:$AY$344,2,FALSE),0)","v":0},{"$f":"IFERROR(VLOOKUP($A60,Filtro!$A$4:$AY$344,3,FALSE),0)","v":0},{"$f":"IFERROR(VLOOKUP($A60,Filtro!$A$4:$AY$344,4,FALSE),0)","v":0},{"$f":"IFERROR(VLOOKUP($A60,Filtro!$A$4:$AY$344,5,FALSE),0)","v":0}]
["80301053","0301053","Metahemalbúmina",{"$f":"IFERROR(VLOOKUP($A61,Filtro!$A$4:$AY$344,2,FALSE),0)","v":0},{"$f":"IFERROR(VLOOKUP($A61,Filtro!$A$4:$AY$344,3,FALSE),0)","v":0},{"$f":"IFERROR(VLOOKUP($A61,Filtro!$A$4:$AY$344,4,FALSE),0)","v":0},{"$f":"IFERROR(VLOOKUP($A61,Filtro!$A$4:$AY$344,5,FALSE),0)","v":0}]
["80301054","0301054","Metahemoglobina",{"$f":"IFERROR(VLOOKUP($A62,Filtro!$A$4:$AY$344,2,FALSE),0)","v":0},{"$f":"IFERROR(VLOOKUP($A62,Filtro!$A$4:$AY$344,3,FALSE),0)","v":0},{"$f":"IFERROR(VLOOKUP($A62,Filtro!$A$4:$AY$344,4,FALSE),0)","v":0},{"$f":"IFERROR(VLOOKUP($A62,Filtro!$A$4:$AY$344,5,FALSE),0)","v":0}]
["80301055","0301055","Muraminidasa en eritrocitos",{"$f":"IFERROR(VLOOKUP($A63,Filtro!$A$4:$AY$344,2,FALSE),0)","v":0},{"$f":"IFERROR(VLOOKUP($A63,Filtro!$A$4:$AY$344,3,FALSE),0)","v":0},{"$f":"IFERROR(VLOOKUP($A63,Filtro!$A$4:$AY$344,4,FALSE),0)","v":0},{"$f":"IFERROR(VLOOKUP($A63,Filtro!$A$4:$AY$344,5,FALSE),0)","v":0}]
["80301056","0301056","Piruvatoquinasa en eritrocitos",{"$f":"IFERROR(VLOOKUP($A64,Filtro!$A$4:$AY$344,2,FALSE),0)","v":0},{"$f":"IFERROR(VLOOKUP($A64,Filtro!$A$4:$AY$344,3,FALSE),0)","v":0},{"$f":"IFERROR(VLOOKUP($A64,Filtro!$A$4:$AY$344,4,FALSE),0)","v":0},{"$f":"IFERROR(VLOOKUP($A64,Filtro!$A$4:$AY$344,5,FALSE),0)","v":0}]
["80301057","0301057","Protamina sulfato, determinación de",{"$f":"IFERROR(VLOOKUP($A65,Filtro!$A$4:$AY$344,2,FALSE),0)","v":0},{"$f":"IFERROR(VLOOKUP($A65,Filtro!$A$4:$AY$344,3,FALSE),0)","v":0},{"$f":"IFERROR(VLOOKUP($A65,Filtro!$A$4:$AY$344,4,FALSE),0)","v":0},{"$f":"IFERROR(VLOOKUP($A65,Filtro!$A$4:$AY$344,5,FALSE),0)","v":0}]
["80301058","0301058","Protoporfirinas en eritrocitos",{"$f":"IFERROR(VLOOKUP($A66,Filtro!$A$4:$AY$344,2,FALSE),0)","v":0},{"$f":"IFERROR(VLOOKUP($A66,Filtro!$A$4:$AY$344,3,FALSE),0)","v":0},{"$f":"IFERROR(VLOOKUP($A66,Filtro!$A$4:$AY$344,4,FALSE),0)","v":0},{"$f":"IFERROR(VLOOKUP($A66,Filtro!$A$4:$AY$344,5,FALSE),0)","v":1}]
["80301059","0301059","Protrombina, tiempo de o consumo de (incluye INR, Relación Internacional Normalizada)",{"$f":"IFERROR(VLOOKUP($A67,Filtro!$A$4:$AY$344,2,FALSE),0)","v":{"v":3265,"d":"3,265"}},{"$f":"IFERROR(VLOOKUP($A67,Filtro!$A$4:$AY$344,3,FALSE),0)","v":0},{"$f":"IFERROR(VLOOKUP($A67,Filtro!$A$4:$AY$344,4,FALSE),0)","v":{"v":3261,"d":"3,261"}},{"$f":"IFERROR(VLOOKUP($A67,Filtro!$A$4:$AY$344,5,FALSE),0)","v":{"v":5242,"d":"5,242"}}]
["80301062","0301062","Recuento de basófilos (absoluto)",{"$f":"IFERROR(VLOOKUP($A68,Filtro!$A$4:$AY$344,2,FALSE),0)","v":0},{"$f":"IFERROR(VLOOKUP($A68,Filtro!$A$4:$AY$344,3,FALSE),0)","v":0},{"$f":"IFERROR(VLOOKUP($A68,Filtro!$A$4:$AY$344,4,FALSE),0)","v":0},{"$f":"IFERROR(VLOOKUP($A68,Filtro!$A$4:$AY$344,5,FALSE),0)","v":0}]
["80301063","0301063","Recuento de eosinófilos (absoluto)",{"$f":"IFERROR(VLOOKUP($A69,Filtro!$A$4:$AY$344,2,FALSE),0)","v":0},{"$f":"IFERROR(VLOOKUP($A69,Filtro!$A$4:$AY$344,3,FALSE),0)","v":0},{"$f":"IFERROR(VLOOKUP($A69,Filtro!$A$4:$AY$344,4,FALSE),0)","v":0},{"$f":"IFERROR(VLOOKUP($A69,Filtro!$A$4:$AY$344,5,FALSE),0)","v":1}]
["80301064","0301064","Recuento de eritrocitos, absoluto (proc. aut.)",{"$f":"IFERROR(VLOOKUP($A70,Filtro!$A$4:$AY$344,2,FALSE),0)","v":0},{"$f":"IFERROR(VLOOKUP($A70,Filtro!$A$4:$AY$344,3,FALSE),0)","v":0},{"$f":"IFERROR(VLOOKUP($A70,Filtro!$A$4:$AY$344,4,FALSE),0)","v":0},{"$f":"IFERROR(VLOOKUP($A70,Filtro!$A$4:$AY$344,5,FALSE),0)","v":0}]
["80301065","0301065","Recuento de leucocitos, absoluto (proc. aut.)",{"$f":"IFERROR(VLOOKUP($A71,Filtro!$A$4:$AY$344,2,FALSE),0)","v":64},{"$f":"IFERROR(VLOOKUP($A71,Filtro!$A$4:$AY$344,3,FALSE),0)","v":0},{"$f":"IFERROR(VLOOKUP($A71,Filtro!$A$4:$AY$344,4,FALSE),0)","v":64},{"$f":"IFERROR(VLOOKUP($A71,Filtro!$A$4:$AY$344,5,FALSE),0)","v":409}]
["80301066","0301066","Recuento de linfocitos (absoluto)",{"$f":"IFERROR(VLOOKUP($A72,Filtro!$A$4:$AY$344,2,FALSE),0)","v":0},{"$f":"IFERROR(VLOOKUP($A72,Filtro!$A$4:$AY$344,3,FALSE),0)","v":0},{"$f":"IFERROR(VLOOKUP($A72,Filtro!$A$4:$AY$344,4,FALSE),0)","v":0},{"$f":"IFERROR(VLOOKUP($A72,Filtro!$A$4:$AY$344,5,FALSE),0)","v":0}]
["80301067","0301067","Recuento de plaquetas (absoluto)",{"$f":"IFERROR(VLOOKUP($A73,Filtro!$A$4:$AY$344,2,FALSE),0)","v":78},{"$f":"IFERROR(VLOOKUP($A73,Filtro!$A$4:$AY$344,3,FALSE),0)","v":0},{"$f":"IFERROR(VLOOKUP($A73,Filtro!$A$4:$AY$344,4,FALSE),0)","v":78},{"$f":"IFERROR(VLOOKUP($A73,Filtro!$A$4:$AY$344,5,FALSE),0)","v":414}]
["80301068","0301068","Recuento de reticulocitos (absoluto o porcentual)",{"$f":"IFERROR(VLOOKUP($A74,Filtro!$A$4:$AY$344,2,FALSE),0)","v":0},{"$f":"IFERROR(VLOOKUP($A74,Filtro!$A$4:$AY$344,3,FALSE),0)","v":0},{"$f":"IFERROR(VLOOKUP($A74,Filtro!$A$4:$AY$344,4,FALSE),0)","v":0},{"$f":"IFERROR(VLOOKUP($A74,Filtro!$A$4:$AY$344,5,FALSE),0)","v":5}]
["80301069","0301069","Recuento diferencial o fórmula leucocitaria (proc. aut.)",{"$f":"IFERROR(VLOOKUP($A75,Filtro!$A$4:$AY$344,2,FALSE),0)","v":0},{"$f":"IFERROR(VLOOKUP($A75,Filtro!$A$4:$AY$344,3,FALSE),0)","v":0},{"$f":"IFERROR(VLOOKUP($A75,Filtro!$A$4:$AY$344,4,FALSE),0)","v":0},{"$f":"IFERROR(VLOOKUP($A75,Filtro!$A$4:$AY$344,5,FALSE),0)","v":0}]
["80301070","0301070","Resistencia globular osmótica",{"$f":"IFERROR(VLOOKUP($A76,Filtro!$A$4:$AY$344,2,FALSE),0)","v":0},{"$f":"IFERROR(VLOOKUP($A76,Filtro!$A$4:$AY$344,3,FALSE),0)","v":0},{"$f":"IFERROR(VLOOKUP($A76,Filtro!$A$4:$AY$344,4,FALSE),0)","v":0},{"$f":"IFERROR(VLOOKUP($A76,Filtro!$A$4:$AY$344,5,FALSE),0)","v":0}]
["80301071","0301071","Sacarosa, prueba de la",{"$f":"IFERROR(VLOOKUP($A77,Filtro!$A$4:$AY$344,2,FALSE),0)","v":0},{"$f":"IFERROR(VLOOKUP($A77,Filtro!$A$4:$AY$344,3,FALSE),0)","v":0},{"$f":"IFERROR(VLOOKUP($A77,Filtro!$A$4:$AY$344,4,FALSE),0)","v":0},{"$f":"IFERROR(VLOOKUP($A77,Filtro!$A$4:$AY$344,5,FALSE),0)","v":0}]
["80301072","0301072","Sangría, tiempo de (Ivy) (no incluye dispositivo asociado )",{"$f":"IFERROR(VLOOKUP($A78,Filtro!$A$4:$AY$344,2,FALSE),0)","v":43},{"$f":"IFERROR(VLOOKUP($A78,Filtro!$A$4:$AY$344,3,FALSE),0)","v":0},{"$f":"IFERROR(VLOOKUP($A78,Filtro!$A$4:$AY$344,4,FALSE),0)","v":43},{"$f":"IFERROR(VLOOKUP($A78,Filtro!$A$4:$AY$344,5,FALSE),0)","v":0}]
["80301074","0301074","Sobrevida del eritrocito (Cr 51 o similar)",{"$f":"IFERROR(VLOOKUP($A79,Filtro!$A$4:$AY$344,2,FALSE),0)","v":0},{"$f":"IFERROR(VLOOKUP($A79,Filtro!$A$4:$AY$344,3,FALSE),0)","v":0},{"$f":"IFERROR(VLOOKUP($A79,Filtro!$A$4:$AY$344,4,FALSE),0)","v":0},{"$f":"IFERROR(VLOOKUP($A79,Filtro!$A$4:$AY$344,5,FALSE),0)","v":0}]
["80301075","0301075","Subgrupo ABO y Rh fenotipo - genotipo Rh, c/u",{"$f":"IFERROR(VLOOKUP($A80,Filtro!$A$4:$AY$344,2,FALSE),0)","v":0},{"$f":"IFERROR(VLOOKUP($A80,Filtro!$A$4:$AY$344,3,FALSE),0)","v":0},{"$f":"IFERROR(VLOOKUP($A80,Filtro!$A$4:$AY$344,4,FALSE),0)","v":0},{"$f":"IFERROR(VLOOKUP($A80,Filtro!$A$4:$AY$344,5,FALSE),0)","v":19}]
["80301076","0301076","Thorn, prueba de (no incluye ACTH)",{"$f":"IFERROR(VLOOKUP($A81,Filtro!$A$4:$AY$344,2,FALSE),0)","v":0},{"$f":"IFERROR(VLOOKUP($A81,Filtro!$A$4:$AY$344,3,FALSE),0)","v":0},{"$f":"IFERROR(VLOOKUP($A81,Filtro!$A$4:$AY$344,4,FALSE),0)","v":0},{"$f":"IFERROR(VLOOKUP($A81,Filtro!$A$4:$AY$344,5,FALSE),0)","v":0}]
["80301077","0301077","Tinción de estearasa",{"$f":"IFERROR(VLOOKUP($A82,Filtro!$A$4:$AY$344,2,FALSE),0)","v":0},{"$f":"IFERROR(VLOOKUP($A82,Filtro!$A$4:$AY$344,3,FALSE),0)","v":0},{"$f":"IFERROR(VLOOKUP($A82,Filtro!$A$4:$AY$344,4,FALSE),0)","v":0},{"$f":"IFERROR(VLOOKUP($A82,Filtro!$A$4:$AY$344,5,FALSE),0)","v":0}]
["80301078","0301078","Tinción de fosfatasas alcalinas o ácidas",{"$f":"IFERROR(VLOOKUP($A83,Filtro!$A$4:$AY$344,2,FALSE),0)","v":0},{"$f":"IFERROR(VLOOKUP($A83,Filtro!$A$4:$AY$344,3,FALSE),0)","v":0},{"$f":"IFERROR(VLOOKUP($A83,Filtro!$A$4:$AY$344,4,FALSE),0)","v":0},{"$f":"IFERROR(VLOOKUP($A83,Filtro!$A$4:$AY$344,5,FALSE),0)","v":2}]
["80301079","0301079","Tinción de glicógeno o PAS",{"$f":"IFERROR(VLOOKUP($A84,Filtro!$A$4:$AY$344,2,FALSE),0)","v":0},{"$f":"IFERROR(VLOOKUP($A84,Filtro!$A$4:$AY$344,3,FALSE),0)","v":0},{"$f":"IFERROR(VLOOKUP($A84,Filtro!$A$4:$AY$344,4,FALSE),0)","v":0},{"$f":"IFERROR(VLOOKUP($A84,Filtro!$A$4:$AY$344,5,FALSE),0)","v":0}]
["80301080","0301080","Tinción de lípidos",{"$f":"IFERROR(VLOOKUP($A85,Filtro!$A$4:$AY$344,2,FALSE),0)","v":0},{"$f":"IFERROR(VLOOKUP($A85,Filtro!$A$4:$AY$344,3,FALSE),0)","v":0},{"$f":"IFERROR(VLOOKUP($A85,Filtro!$A$4:$AY$344,4,FALSE),0)","v":0},{"$f":"IFERROR(VLOOKUP($A85,Filtro!$A$4:$AY$344,5,FALSE),0)","v":0}]
["80301081","0301081","Tinción de peroxidasas",{"$f":"IFERROR(VLOOKUP($A86,Filtro!$A$4:$AY$344,2,FALSE),0)","v":0},{"$f":"IFERROR(VLOOKUP($A86,Filtro!$A$4:$AY$344,3,FALSE),0)","v":0},{"$f":"IFERROR(VLOOKUP($A86,Filtro!$A$4:$AY$344,4,FALSE),0)","v":0},{"$f":"IFERROR(VLOOKUP($A86,Filtro!$A$4:$AY$344,5,FALSE),0)","v":0}]
["80301082","0301082","Transferrina",{"$f":"IFERROR(VLOOKUP($A87,Filtro!$A$4:$AY$344,2,FALSE),0)","v":0},{"$f":"IFERROR(VLOOKUP($A87,Filtro!$A$4:$AY$344,3,FALSE),0)","v":0},{"$f":"IFERROR(VLOOKUP($A87,Filtro!$A$4:$AY$344,4,FALSE),0)","v":0},{"$f":"IFERROR(VLOOKUP($A87,Filtro!$A$4:$AY$344,5,FALSE),0)","v":0}]
["80301083","0301083","Trombina, tiempo de",{"$f":"IFERROR(VLOOKUP($A88,Filtro!$A$4:$AY$344,2,FALSE),0)","v":0},{"$f":"IFERROR(VLOOKUP($A88,Filtro!$A$4:$AY$344,3,FALSE),0)","v":0},{"$f":"IFERROR(VLOOKUP($A88,Filtro!$A$4:$AY$344,4,FALSE),0)","v":0},{"$f":"IFERROR(VLOOKUP($A88,Filtro!$A$4:$AY$344,5,FALSE),0)","v":359}]
["80301085","0301085","Tromboplastina, tiempo parcial de (TTPA, TTPK o similares)",{"$f":"IFERROR(VLOOKUP($A89,Filtro!$A$4:$AY$344,2,FALSE),0)","v":{"v":1101,"d":"1,101"}},{"$f":"IFERROR(VLOOKUP($A89,Filtro!$A$4:$AY$344,3,FALSE),0)","v":0},{"$f":"IFERROR(VLOOKUP($A89,Filtro!$A$4:$AY$344,4,FALSE),0)","v":{"v":1097,"d":"1,097"}},{"$f":"IFERROR(VLOOKUP($A89,Filtro!$A$4:$AY$344,5,FALSE),0)","v":{"v":1738,"d":"1,738"}}]
["80301086","0301086","Velocidad de eritrosedimentación (proc. aut.)",{"$f":"IFERROR(VLOOKUP($A90,Filtro!$A$4:$AY$344,2,FALSE),0)","v":{"v":9712,"d":"9,712"}},{"$f":"IFERROR(VLOOKUP($A90,Filtro!$A$4:$AY$344,3,FALSE),0)","v":0},{"$f":"IFERROR(VLOOKUP($A90,Filtro!$A$4:$AY$344,4,FALSE),0)","v":{"v":9710,"d":"9,710"}},{"$f":"IFERROR(VLOOKUP($A90,Filtro!$A$4:$AY$344,5,FALSE),0)","v":{"v":5926,"d":"5,926"}}]
["80301087","0301087","Vitamina B12, absorción de (Co 57 o similar)",{"$f":"IFERROR(VLOOKUP($A91,Filtro!$A$4:$AY$344,2,FALSE),0)","v":0},{"$f":"IFERROR(VLOOKUP($A91,Filtro!$A$4:$AY$344,3,FALSE),0)","v":0},{"$f":"IFERROR(VLOOKUP($A91,Filtro!$A$4:$AY$344,4,FALSE),0)","v":0},{"$f":"IFERROR(VLOOKUP($A91,Filtro!$A$4:$AY$344,5,FALSE),0)","v":292}]
["80301088","0301088","Volemia (incluye volumen globular total, volumen plasmático total y volumen sanguíneo total)",{"$f":"IFERROR(VLOOKUP($A92,Filtro!$A$4:$AY$344,2,FALSE),0)","v":0},{"$f":"IFERROR(VLOOKUP($A92,Filtro!$A$4:$AY$344,3,FALSE),0)","v":0},{"$f":"IFERROR(VLOOKUP($A92,Filtro!$A$4:$AY$344,4,FALSE),0)","v":0},{"$f":"IFERROR(VLOOKUP($A92,Filtro!$A$4:$AY$344,5,FALSE),0)","v":0}]
["80301089","0301089","Von Willebrand, Ag de (factor VIII Ag.)",{"$f":"IFERROR(VLOOKUP($A93,Filtro!$A$4:$AY$344,2,FALSE),0)","v":0},{"$f":"IFERROR(VLOOKUP($A93,Filtro!$A$4:$AY$344,3,FALSE),0)","v":0},{"$f":"IFERROR(VLOOKUP($A93,Filtro!$A$4:$AY$344,4,FALSE),0)","v":0},{"$f":"IFERROR(VLOOKUP($A93,Filtro!$A$4:$AY$344,5,FALSE),0)","v":0}]
["80301090","0301090","Cofactor de Ristocetina",{"$f":"IFERROR(VLOOKUP($A94,Filtro!$A$4:$AY$344,2,FALSE),0)","v":0},{"$f":"IFERROR(VLOOKUP($A94,Filtro!$A$4:$AY$344,3,FALSE),0)","v":0},{"$f":"IFERROR(VLOOKUP($A94,Filtro!$A$4:$AY$344,4,FALSE),0)","v":0},{"$f":"IFERROR(VLOOKUP($A94,Filtro!$A$4:$AY$344,5,FALSE),0)","v":0}]
["80301091","0301091","Proteína C",{"$f":"IFERROR(VLOOKUP($A95,Filtro!$A$4:$AY$344,2,FALSE),0)","v":0},{"$f":"IFERROR(VLOOKUP($A95,Filtro!$A$4:$AY$344,3,FALSE),0)","v":0},{"$f":"IFERROR(VLOOKUP($A95,Filtro!$A$4:$AY$344,4,FALSE),0)","v":0},{"$f":"IFERROR(VLOOKUP($A95,Filtro!$A$4:$AY$344,5,FALSE),0)","v":0}]
["80301092","0301092","Proteína S",{"$f":"IFERROR(VLOOKUP($A96,Filtro!$A$4:$AY$344,2,FALSE),0)","v":0},{"$f":"IFERROR(VLOOKUP($A96,Filtro!$A$4:$AY$344,3,FALSE),0)","v":0},{"$f":"IFERROR(VLOOKUP($A96,Filtro!$A$4:$AY$344,4,FALSE),0)","v":0},{"$f":"IFERROR(VLOOKUP($A96,Filtro!$A$4:$AY$344,5,FALSE),0)","v":0}]
["80301093","0301093","Resistencia Proteína C",{"$f":"IFERROR(VLOOKUP($A97,Filtro!$A$4:$AY$344,2,FALSE),0)","v":0},{"$f":"IFERROR(VLOOKUP($A97,Filtro!$A$4:$AY$344,3,FALSE),0)","v":0},{"$f":"IFERROR(VLOOKUP($A97,Filtro!$A$4:$AY$344,4,FALSE),0)","v":0},{"$f":"IFERROR(VLOOKUP($A97,Filtro!$A$4:$AY$344,5,FALSE),0)","v":16}]
[null,"TOTAL",null,{"$f":"SUM(D13:D97)","v":{"v":62854,"d":"62,854"}},{"$f":"SUM(E13:E97)","v":0},{"$f":"SUM(F13:F97)","v":{"v":62547,"d":"62,547"}},{"$f":"SUM(G13:G97)","v":{"v":155861,"d":"155,861"}}]
[null,"2.- SANGRE BIOQUÍMICO"]
["80302001","0302001","Acetona cualitativa",{"$f":"IFERROR(VLOOKUP($A100,Filtro!$A$4:$AY$344,2,FALSE),0)","v":0},{"$f":"IFERROR(VLOOKUP($A100,Filtro!$A$4:$AY$344,3,FALSE),0)","v":0},{"$f":"IFERROR(VLOOKUP($A100,Filtro!$A$4:$AY$344,4,FALSE),0)","v":0},{"$f":"IFERROR(VLOOKUP($A100,Filtro!$A$4:$AY$344,5,FALSE),0)","v":0}]
["80302002","0302002","Acido cítrico",{"$f":"IFERROR(VLOOKUP($A101,Filtro!$A$4:$AY$344,2,FALSE),0)","v":0},{"$f":"IFERROR(VLOOKUP($A101,Filtro!$A$4:$AY$344,3,FALSE),0)","v":0},{"$f":"IFERROR(VLOOKUP($A101,Filtro!$A$4:$AY$344,4,FALSE),0)","v":0},{"$f":"IFERROR(VLOOKUP($A101,Filtro!$A$4:$AY$344,5,FALSE),0)","v":0}]
["80302004","0302004","Acido láctico",{"$f":"IFERROR(VLOOKUP($A102,Filtro!$A$4:$AY$344,2,FALSE),0)","v":0},{"$f":"IFERROR(VLOOKUP($A102,Filtro!$A$4:$AY$344,3,FALSE),0)","v":0},{"$f":"IFERROR(VLOOKUP($A102,Filtro!$A$4:$AY$344,4,FALSE),0)","v":0},{"$f":"IFERROR(VLOOKUP($A102,Filtro!$A$4:$AY$344,5,FALSE),0)","v":0}]
["80302005","0302005","Acido úrico, en sangre",{"$f":"IFERROR(VLOOKUP($A103,Filtro!$A$4:$AY$344,2,FALSE),0)","v":{"v":16711,"d":"16,711"}},{"$f":"IFERROR(VLOOKUP($A103,Filtro!$A$4:$AY$344,3,FALSE),0)","v":0},{"$f":"IFERROR(VLOOKUP($A103,Filtro!$A$4:$AY$344,4,FALSE),0)","v":{"v":16618,"d":"16,618"}},{"$f":"IFERROR(VLOOKUP($A103,Filtro!$A$4:$AY$344,5,FALSE),0)","v":{"v":30666,"d":"30,666"}}]
["80302006","0302006","Alcohol etílico",{"$f":"IFERROR(VLOOKUP($A104,Filtro!$A$4:$AY$344,2,FALSE),0)","v":0},{"$f":"IFERROR(VLOOKUP($A104,Filtro!$A$4:$AY$344,3,FALSE),0)","v":0},{"$f":"IFERROR(VLOOKUP($A104,Filtro!$A$4:$AY$344,4,FALSE),0)","v":0},{"$f":"IFERROR(VLOOKUP($A104,Filtro!$A$4:$AY$344,5,FALSE),0)","v":0}]
["80302007","0302007","Aldolasa",{"$f":"IFERROR(VLOOKUP($A105,Filtro!$A$4:$AY$344,2,FALSE),0)","v":0},{"$f":"IFERROR(VLOOKUP($A105,Filtro!$A$4:$AY$344,3,FALSE),0)","v":0},{"$f":"IFERROR(VLOOKUP($A105,Filtro!$A$4:$AY$344,4,FALSE),0)","v":0},{"$f":"IFERROR(VLOOKUP($A105,Filtro!$A$4:$AY$344,5,FALSE),0)","v":0}]
["80302008","0302008","Amilasa, en sangre",{"$f":"IFERROR(VLOOKUP($A106,Filtro!$A$4:$AY$344,2,FALSE),0)","v":0},{"$f":"IFERROR(VLOOKUP($A106,Filtro!$A$4:$AY$344,3,FALSE),0)","v":0},{"$f":"IFERROR(VLOOKUP($A106,Filtro!$A$4:$AY$344,4,FALSE),0)","v":0},{"$f":"IFERROR(VLOOKUP($A106,Filtro!$A$4:$AY$344,5,FALSE),0)","v":54}]
["80302009","0302009","Aminoácidos, cualitativo en sangre",{"$f":"IFERROR(VLOOKUP($A107,Filtro!$A$4:$AY$344,2,FALSE),0)","v":0},{"$f":"IFERROR(VLOOKUP($A107,Filtro!$A$4:$AY$344,3,FALSE),0)","v":0},{"$f":"IFERROR(VLOOKUP($A107,Filtro!$A$4:$AY$344,4,FALSE),0)","v":0},{"$f":"IFERROR(VLOOKUP($A107,Filtro!$A$4:$AY$344,5,FALSE),0)","v":0}]
["80302010","0302010","Amonio",{"$f":"IFERROR(VLOOKUP($A108,Filtro!$A$4:$AY$344,2,FALSE),0)","v":0},{"$f":"IFERROR(VLOOKUP($A108,Filtro!$A$4:$AY$344,3,FALSE),0)","v":0},{"$f":"IFERROR(VLOOKUP($A108,Filtro!$A$4:$AY$344,4,FALSE),0)","v":0},{"$f":"IFERROR(VLOOKUP($A108,Filtro!$A$4:$AY$344,5,FALSE),0)","v":0}]
["80302070","0302070","Apolipoproteínas (A1, B u otras)",{"$f":"IFERROR(VLOOKUP($A109,Filtro!$A$4:$AY$344,2,FALSE),0)","v":0},{"$f":"IFERROR(VLOOKUP($A109,Filtro!$A$4:$AY$344,3,FALSE),0)","v":0},{"$f":"IFERROR(VLOOKUP($A109,Filtro!$A$4:$AY$344,4,FALSE),0)","v":0},{"$f":"IFERROR(VLOOKUP($A109,Filtro!$A$4:$AY$344,5,FALSE),0)","v":0}]
["80302011","0302011","Bicarbonato (proc. aut.)",{"$f":"IFERROR(VLOOKUP($A110,Filtro!$A$4:$AY$344,2,FALSE),0)","v":0},{"$f":"IFERROR(VLOOKUP($A110,Filtro!$A$4:$AY$344,3,FALSE),0)","v":0},{"$f":"IFERROR(VLOOKUP($A110,Filtro!$A$4:$AY$344,4,FALSE),0)","v":0},{"$f":"IFERROR(VLOOKUP($A110,Filtro!$A$4:$AY$344,5,FALSE),0)","v":0}]
["80302012","0302012","Bilirrubina total (proc. aut.)",{"$f":"IFERROR(VLOOKUP($A111,Filtro!$A$4:$AY$344,2,FALSE),0)","v":79},{"$f":"IFERROR(VLOOKUP($A111,Filtro!$A$4:$AY$344,3,FALSE),0)","v":0},{"$f":"IFERROR(VLOOKUP($A111,Filtro!$A$4:$AY$344,4,FALSE),0)","v":79},{"$f":"IFERROR(VLOOKUP($A111,Filtro!$A$4:$AY$344,5,FALSE),0)","v":{"v":1004,"d":"1,004"}}]
["80302013","0302013","Bilirrubina total y conjugada",{"$f":"IFERROR(VLOOKUP($A112,Filtro!$A$4:$AY$344,2,FALSE),0)","v":258},{"$f":"IFERROR(VLOOKUP($A112,Filtro!$A$4:$AY$344,3,FALSE),0)","v":0},{"$f":"IFERROR(VLOOKUP($A112,Filtro!$A$4:$AY$344,4,FALSE),0)","v":214},{"$f":"IFERROR(VLOOKUP($A112,Filtro!$A$4:$AY$344,5,FALSE),0)","v":{"v":7409,"d":"7,409"}}]
["80302014","0302014","Bromosulftaleína, prueba de (incluye medicamento y tomas de muestra)",{"$f":"IFERROR(VLOOKUP($A113,Filtro!$A$4:$AY$344,2,FALSE),0)","v":0},{"$f":"IFERROR(VLOOKUP($A113,Filtro!$A$4:$AY$344,3,FALSE),0)","v":0},{"$f":"IFERROR(VLOOKUP($A113,Filtro!$A$4:$AY$344,4,FALSE),0)","v":0},{"$f":"IFERROR(VLOOKUP($A113,Filtro!$A$4:$AY$344,5,FALSE),0)","v":0}]
["80302015","0302015","Calcio en sangre",{"$f":"IFERROR(VLOOKUP($A114,Filtro!$A$4:$AY$344,2,FALSE),0)","v":0},{"$f":"IFERROR(VLOOKUP($A114,Filtro!$A$4:$AY$344,3,FALSE),0)","v":0},{"$f":"IFERROR(VLOOKUP($A114,Filtro!$A$4:$AY$344,4,FALSE),0)","v":0},{"$f":"IFERROR(VLOOKUP($A114,Filtro!$A$4:$AY$344,5,FALSE),0)","v":384}]
["80302016","0302016","Calcio iónico, incluye proteínas totales",{"$f":"IFERROR(VLOOKUP($A115,Filtro!$A$4:$AY$344,2,FALSE),0)","v":0},{"$f":"IFERROR(VLOOKUP($A115,Filtro!$A$4:$AY$344,3,FALSE),0)","v":0},{"$f":"IFERROR(VLOOKUP($A115,Filtro!$A$4:$AY$344,4,FALSE),0)","v":0},{"$f":"IFERROR(VLOOKUP($A115,Filtro!$A$4:$AY$344,5,FALSE),0)","v":2}]
["80302017","0302017","Caroteno",{"$f":"IFERROR(VLOOKUP($A116,Filtro!$A$4:$AY$344,2,FALSE),0)","v":0},{"$f":"IFERROR(VLOOKUP($A116,Filtro!$A$4:$AY$344,3,FALSE),0)","v":0},{"$f":"IFERROR(VLOOKUP($A116,Filtro!$A$4:$AY$344,4,FALSE),0)","v":0},{"$f":"IFERROR(VLOOKUP($A116,Filtro!$A$4:$AY$344,5,FALSE),0)","v":0}]
["80302018","0302018","Caroteno, prueba de sobrecarga de (incluye tomas de muestra)",{"$f":"IFERROR(VLOOKUP($A117,Filtro!$A$4:$AY$344,2,FALSE),0)","v":0},{"$f":"IFERROR(VLOOKUP($A117,Filtro!$A$4:$AY$344,3,FALSE),0)","v":0},{"$f":"IFERROR(VLOOKUP($A117,Filtro!$A$4:$AY$344,4,FALSE),0)","v":0},{"$f":"IFERROR(VLOOKUP($A117,Filtro!$A$4:$AY$344,5,FALSE),0)","v":0}]
["80302019","0302019","Ceruloplasmina",{"$f":"IFERROR(VLOOKUP($A118,Filtro!$A$4:$AY$344,2,FALSE),0)","v":0},{"$f":"IFERROR(VLOOKUP($A118,Filtro!$A$4:$AY$344,3,FALSE),0)","v":0},{"$f":"IFERROR(VLOOKUP($A118,Filtro!$A$4:$AY$344,4,FALSE),0)","v":0},{"$f":"IFERROR(VLOOKUP($A118,Filtro!$A$4:$AY$344,5,FALSE),0)","v":0}]
["80302020","0302020","Cobre",{"$f":"IFERROR(VLOOKUP($A119,Filtro!$A$4:$AY$344,2,FALSE),0)","v":0},{"$f":"IFERROR(VLOOKUP($A119,Filtro!$A$4:$AY$344,3,FALSE),0)","v":0},{"$f":"IFERROR(VLOOKUP($A119,Filtro!$A$4:$AY$344,4,FALSE),0)","v":0},{"$f":"IFERROR(VLOOKUP($A119,Filtro!$A$4:$AY$344,5,FALSE),0)","v":0}]
["80302067","0302067","Colesterol total (proc. aut.)",{"$f":"IFERROR(VLOOKUP($A120,Filtro!$A$4:$AY$344,2,FALSE),0)","v":{"v":1181,"d":"1,181"}},{"$f":"IFERROR(VLOOKUP($A120,Filtro!$A$4:$AY$344,3,FALSE),0)","v":0},{"$f":"IFERROR(VLOOKUP($A120,Filtro!$A$4:$AY$344,4,FALSE),0)","v":{"v":1033,"d":"1,033"}},{"$f":"IFERROR(VLOOKUP($A120,Filtro!$A$4:$AY$344,5,FALSE),0)","v":{"v":50569,"d":"50,569"}}]
["80302068","0302068","Colesterol HDL (proc. aut.)",{"$f":"IFERROR(VLOOKUP($A121,Filtro!$A$4:$AY$344,2,FALSE),0)","v":382},{"$f":"IFERROR(VLOOKUP($A121,Filtro!$A$4:$AY$344,3,FALSE),0)","v":0},{"$f":"IFERROR(VLOOKUP($A121,Filtro!$A$4:$AY$344,4,FALSE),0)","v":238},{"$f":"IFERROR(VLOOKUP($A121,Filtro!$A$4:$AY$344,5,FALSE),0)","v":{"v":42167,"d":"42,167"}}]
["80302021","0302021","Colinesterasa en plasma o sangre total",{"$f":"IFERROR(VLOOKUP($A122,Filtro!$A$4:$AY$344,2,FALSE),0)","v":0},{"$f":"IFERROR(VLOOKUP($A122,Filtro!$A$4:$AY$344,3,FALSE),0)","v":0},{"$f":"IFERROR(VLOOKUP($A122,Filtro!$A$4:$AY$344,4,FALSE),0)","v":0},{"$f":"IFERROR(VLOOKUP($A122,Filtro!$A$4:$AY$344,5,FALSE),0)","v":0}]
["80302022","0302022","Creatina",{"$f":"IFERROR(VLOOKUP($A123,Filtro!$A$4:$AY$344,2,FALSE),0)","v":0},{"$f":"IFERROR(VLOOKUP($A123,Filtro!$A$4:$AY$344,3,FALSE),0)","v":0},{"$f":"IFERROR(VLOOKUP($A123,Filtro!$A$4:$AY$344,4,FALSE),0)","v":0},{"$f":"IFERROR(VLOOKUP($A123,Filtro!$A$4:$AY$344,5,FALSE),0)","v":931}]
["80302023","0302023","Creatinina en sangre",{"$f":"IFERROR(VLOOKUP($A124,Filtro!$A$4:$AY$344,2,FALSE),0)","v":{"v":26044,"d":"26,044"}},{"$f":"IFERROR(VLOOKUP($A124,Filtro!$A$4:$AY$344,3,FALSE),0)","v":0},{"$f":"IFERROR(VLOOKUP($A124,Filtro!$A$4:$AY$344,4,FALSE),0)","v":{"v":25902,"d":"25,902"}},{"$f":"IFERROR(VLOOKUP($A124,Filtro!$A$4:$AY$344,5,FALSE),0)","v":{"v":64101,"d":"64,101"}}]
["80302024","0302024","Creatinina, depuración de (Clearence) (proc. aut.)",{"$f":"IFERROR(VLOOKUP($A125,Filtro!$A$4:$AY$344,2,FALSE),0)","v":355},{"$f":"IFERROR(VLOOKUP($A125,Filtro!$A$4:$AY$344,3,FALSE),0)","v":0},{"$f":"IFERROR(VLOOKUP($A125,Filtro!$A$4:$AY$344,4,FALSE),0)","v":355},{"$f":"IFERROR(VLOOKUP($A125,Filtro!$A$4:$AY$344,5,FALSE),0)","v":868}]
["80302025","0302025","Creatinquinasa CK - MB  miocárdica",{"$f":"IFERROR(VLOOKUP($A126,Filtro!$A$4:$AY$344,2,FALSE),0)","v":0},{"$f":"IFERROR(VLOOKUP($A126,Filtro!$A$4:$AY$344,3,FALSE),0)","v":0},{"$f":"IFERROR(VLOOKUP($A126,Filtro!$A$4:$AY$344,4,FALSE),0)","v":0},{"$f":"IFERROR(VLOOKUP($A126,Filtro!$A$4:$AY$344,5,FALSE),0)","v":11}]
["80302026","0302026","Creatinquinasa CK - total",{"$f":"IFERROR(VLOOKUP($A127,Filtro!$A$4:$AY$344,2,FALSE),0)","v":0},{"$f":"IFERROR(VLOOKUP($A127,Filtro!$A$4:$AY$344,3,FALSE),0)","v":0},{"$f":"IFERROR(VLOOKUP($A127,Filtro!$A$4:$AY$344,4,FALSE),0)","v":0},{"$f":"IFERROR(VLOOKUP($A127,Filtro!$A$4:$AY$344,5,FALSE),0)","v":62}]
["80302028","0302028","Depuraciones (Clearance) exógenas de Hipurán, Rojo Congo, manitol e inulina, c/u (no incluye medicamento)",{"$f":"IFERROR(VLOOKUP($A128,Filtro!$A$4:$AY$344,2,FALSE),0)","v":0},{"$f":"IFERROR(VLOOKUP($A128,Filtro!$A$4:$AY$344,3,FALSE),0)","v":0},{"$f":"IFERROR(VLOOKUP($A128,Filtro!$A$4:$AY$344,4,FALSE),0)","v":0},{"$f":"IFERROR(VLOOKUP($A128,Filtro!$A$4:$AY$344,5,FALSE),0)","v":0}]
["80302029","0302029","Deshidrogenasa hidroxibutírica (HBDH)",{"$f":"IFERROR(VLOOKUP($A129,Filtro!$A$4:$AY$344,2,FALSE),0)","v":0},{"$f":"IFERROR(VLOOKUP($A129,Filtro!$A$4:$AY$344,3,FALSE),0)","v":0},{"$f":"IFERROR(VLOOKUP($A129,Filtro!$A$4:$AY$344,4,FALSE),0)","v":0},{"$f":"IFERROR(VLOOKUP($A129,Filtro!$A$4:$AY$344,5,FALSE),0)","v":0}]
["80302030","0302030","Deshidrogenasa láctica total (LDH)",{"$f":"IFERROR(VLOOKUP($A130,Filtro!$A$4:$AY$344,2,FALSE),0)","v":0},{"$f":"IFERROR(VLOOKUP($A130,Filtro!$A$4:$AY$344,3,FALSE),0)","v":0},{"$f":"IFERROR(VLOOKUP($A130,Filtro!$A$4:$AY$344,4,FALSE),0)","v":0},{"$f":"IFERROR(VLOOKUP($A130,Filtro!$A$4:$AY$344,5,FALSE),0)","v":134}]
["80302031","0302031","Deshidrogenasa láctica total (LDH), con separación de isoenzimas",{"$f":"IFERROR(VLOOKUP($A131,Filtro!$A$4:$AY$344,2,FALSE),0)","v":0},{"$f":"IFERROR(VLOOKUP($A131,Filtro!$A$4:$AY$344,3,FALSE),0)","v":0},{"$f":"IFERROR(VLOOKUP($A131,Filtro!$A$4:$AY$344,4,FALSE),0)","v":0},{"$f":"IFERROR(VLOOKUP($A131,Filtro!$A$4:$AY$344,5,FALSE),0)","v":0}]
["80302032","0302032","Electrolitos plasmáticos (sodio, potasio, cloro) c/u",{"$f":"IFERROR(VLOOKUP($A132,Filtro!$A$4:$AY$344,2,FALSE),0)","v":{"v":46938,"d":"46,938"}},{"$f":"IFERROR(VLOOKUP($A132,Filtro!$A$4:$AY$344,3,FALSE),0)","v":0},{"$f":"IFERROR(VLOOKUP($A132,Filtro!$A$4:$AY$344,4,FALSE),0)","v":{"v":46841,"d":"46,841"}},{"$f":"IFERROR(VLOOKUP($A132,Filtro!$A$4:$AY$344,5,FALSE),0)","v":{"v":53862,"d":"53,862"}}]
["80302033","0302033","Enzima convertidora de angiotensina I",{"$f":"IFERROR(VLOOKUP($A133,Filtro!$A$4:$AY$344,2,FALSE),0)","v":0},{"$f":"IFERROR(VLOOKUP($A133,Filtro!$A$4:$AY$344,3,FALSE),0)","v":0},{"$f":"IFERROR(VLOOKUP($A133,Filtro!$A$4:$AY$344,4,FALSE),0)","v":0},{"$f":"IFERROR(VLOOKUP($A133,Filtro!$A$4:$AY$344,5,FALSE),0)","v":21}]
["80302034","0302034","Perfil Lipídico (incluye: colesterol total, HDL, LDL, VLDL y triglicéridos) ",{"$f":"IFERROR(VLOOKUP($A134,Filtro!$A$4:$AY$344,2,FALSE),0)","v":{"v":34858,"d":"34,858"}},{"$f":"IFERROR(VLOOKUP($A134,Filtro!$A$4:$AY$344,3,FALSE),0)","v":0},{"$f":"IFERROR(VLOOKUP($A134,Filtro!$A$4:$AY$344,4,FALSE),0)","v":{"v":34851,"d":"34,851"}},{"$f":"IFERROR(VLOOKUP($A134,Filtro!$A$4:$AY$344,5,FALSE),0)","v":{"v":39310,"d":"39,310"}}]
["80302035","0302035","Fármacos y/o drogas; niveles plasmáticos de (alcohol, anorexígenos, antiarrítmicos, antibióticos, antidepresivos, antiepilépticos, antihistamínicos, antiinflamatorios y analgésicos, estimulantes respiratorios, tranquilizantes mayores y menores, etc.) c/u",{"$f":"IFERROR(VLOOKUP($A135,Filtro!$A$4:$AY$344,2,FALSE),0)","v":0},{"$f":"IFERROR(VLOOKUP($A135,Filtro!$A$4:$AY$344,3,FALSE),0)","v":0},{"$f":"IFERROR(VLOOKUP($A135,Filtro!$A$4:$AY$344,4,FALSE),0)","v":0},{"$f":"IFERROR(VLOOKUP($A135,Filtro!$A$4:$AY$344,5,FALSE),0)","v":129}]
["80302036","0302036","Fenilalanina",{"$f":"IFERROR(VLOOKUP($A136,Filtro!$A$4:$AY$344,2,FALSE),0)","v":0},{"$f":"IFERROR(VLOOKUP($A136,Filtro!$A$4:$AY$344,3,FALSE),0)","v":0},{"$f":"IFERROR(VLOOKUP($A136,Filtro!$A$4:$AY$344,4,FALSE),0)","v":0},{"$f":"IFERROR(VLOOKUP($A136,Filtro!$A$4:$AY$344,5,FALSE),0)","v":0}]
["80302037","0302037","Fosfatasas ácidas totales",{"$f":"IFERROR(VLOOKUP($A137,Filtro!$A$4:$AY$344,2,FALSE),0)","v":0},{"$f":"IFERROR(VLOOKUP($A137,Filtro!$A$4:$AY$344,3,FALSE),0)","v":0},{"$f":"IFERROR(VLOOKUP($A137,Filtro!$A$4:$AY$344,4,FALSE),0)","v":0},{"$f":"IFERROR(VLOOKUP($A137,Filtro!$A$4:$AY$344,5,FALSE),0)","v":2}]
["80302038","0302038","Fosfatasas ácidas totales y fracción prostática",{"$f":"IFERROR(VLOOKUP($A138,Filtro!$A$4:$AY$344,2,FALSE),0)","v":0},{"$f":"IFERROR(VLOOKUP($A138,Filtro!$A$4:$AY$344,3,FALSE),0)","v":0},{"$f":"IFERROR(VLOOKUP($A138,Filtro!$A$4:$AY$344,4,FALSE),0)","v":0},{"$f":"IFERROR(VLOOKUP($A138,Filtro!$A$4:$AY$344,5,FALSE),0)","v":0}]
["80302039","0302039","Fosfatasas alcalinas con separación de isoenzimas hepáticas, intestinales, óseas c/u",{"$f":"IFERROR(VLOOKUP($A139,Filtro!$A$4:$AY$344,2,FALSE),0)","v":0},{"$f":"IFERROR(VLOOKUP($A139,Filtro!$A$4:$AY$344,3,FALSE),0)","v":0},{"$f":"IFERROR(VLOOKUP($A139,Filtro!$A$4:$AY$344,4,FALSE),0)","v":0},{"$f":"IFERROR(VLOOKUP($A139,Filtro!$A$4:$AY$344,5,FALSE),0)","v":0}]
["80302040","0302040","Fosfatasas alcalinas totales",{"$f":"IFERROR(VLOOKUP($A140,Filtro!$A$4:$AY$344,2,FALSE),0)","v":242},{"$f":"IFERROR(VLOOKUP($A140,Filtro!$A$4:$AY$344,3,FALSE),0)","v":0},{"$f":"IFERROR(VLOOKUP($A140,Filtro!$A$4:$AY$344,4,FALSE),0)","v":221},{"$f":"IFERROR(VLOOKUP($A140,Filtro!$A$4:$AY$344,5,FALSE),0)","v":{"v":6941,"d":"6,941"}}]
["80302041","0302041","Fosfolípidos",{"$f":"IFERROR(VLOOKUP($A141,Filtro!$A$4:$AY$344,2,FALSE),0)","v":0},{"$f":"IFERROR(VLOOKUP($A141,Filtro!$A$4:$AY$344,3,FALSE),0)","v":0},{"$f":"IFERROR(VLOOKUP($A141,Filtro!$A$4:$AY$344,4,FALSE),0)","v":0},{"$f":"IFERROR(VLOOKUP($A141,Filtro!$A$4:$AY$344,5,FALSE),0)","v":0}]
["80302042","0302042","Fósforo (fosfatos) en sangre",{"$f":"IFERROR(VLOOKUP($A142,Filtro!$A$4:$AY$344,2,FALSE),0)","v":0},{"$f":"IFERROR(VLOOKUP($A142,Filtro!$A$4:$AY$344,3,FALSE),0)","v":0},{"$f":"IFERROR(VLOOKUP($A142,Filtro!$A$4:$AY$344,4,FALSE),0)","v":0},{"$f":"IFERROR(VLOOKUP($A142,Filtro!$A$4:$AY$344,5,FALSE),0)","v":53}]
["80302043","0302043","Galactosa",{"$f":"IFERROR(VLOOKUP($A143,Filtro!$A$4:$AY$344,2,FALSE),0)","v":0},{"$f":"IFERROR(VLOOKUP($A143,Filtro!$A$4:$AY$344,3,FALSE),0)","v":0},{"$f":"IFERROR(VLOOKUP($A143,Filtro!$A$4:$AY$344,4,FALSE),0)","v":0},{"$f":"IFERROR(VLOOKUP($A143,Filtro!$A$4:$AY$344,5,FALSE),0)","v":0}]
["80302044","0302044","Galactosa, curva de tolerancia, (mínimo cuatro determinaciones) (no incluye la galactosa que se administra) (incluye los valores de todas las tomas de muestras necesarias)",{"$f":"IFERROR(VLOOKUP($A144,Filtro!$A$4:$AY$344,2,FALSE),0)","v":0},{"$f":"IFERROR(VLOOKUP($A144,Filtro!$A$4:$AY$344,3,FALSE),0)","v":0},{"$f":"IFERROR(VLOOKUP($A144,Filtro!$A$4:$AY$344,4,FALSE),0)","v":0},{"$f":"IFERROR(VLOOKUP($A144,Filtro!$A$4:$AY$344,5,FALSE),0)","v":0}]
["80302045","0302045","Gamma glutamiltranspeptidasa (GGT)",{"$f":"IFERROR(VLOOKUP($A145,Filtro!$A$4:$AY$344,2,FALSE),0)","v":68},{"$f":"IFERROR(VLOOKUP($A145,Filtro!$A$4:$AY$344,3,FALSE),0)","v":0},{"$f":"IFERROR(VLOOKUP($A145,Filtro!$A$4:$AY$344,4,FALSE),0)","v":68},{"$f":"IFERROR(VLOOKUP($A145,Filtro!$A$4:$AY$344,5,FALSE),0)","v":204}]
["80302046","0302046","Gases y equilibrio ácido base en sangre (incluye: pH, O2, CO2, exceso de base y bicarbonato), todos o cada uno de los parámetros",{"$f":"IFERROR(VLOOKUP($A146,Filtro!$A$4:$AY$344,2,FALSE),0)","v":79},{"$f":"IFERROR(VLOOKUP($A146,Filtro!$A$4:$AY$344,3,FALSE),0)","v":79},{"$f":"IFERROR(VLOOKUP($A146,Filtro!$A$4:$AY$344,4,FALSE),0)","v":0},{"$f":"IFERROR(VLOOKUP($A146,Filtro!$A$4:$AY$344,5,FALSE),0)","v":240}]
["80302047","0302047","Glucosa en sangre",{"$f":"IFERROR(VLOOKUP($A147,Filtro!$A$4:$AY$344,2,FALSE),0)","v":{"v":37963,"d":"37,963"}},{"$f":"IFERROR(VLOOKUP($A147,Filtro!$A$4:$AY$344,3,FALSE),0)","v":0},{"$f":"IFERROR(VLOOKUP($A147,Filtro!$A$4:$AY$344,4,FALSE),0)","v":{"v":37835,"d":"37,835"}},{"$f":"IFERROR(VLOOKUP($A147,Filtro!$A$4:$AY$344,5,FALSE),0)","v":{"v":84796,"d":"84,796"}}]
["80302048","0302048","Glucosa, Prueba de Tolerancia a la Glucosa Oral (PTGO), (dos determinaciones) (no incluye la glucosa que se administra) (incluye el valor de las dos tomas de muestras)",{"$f":"IFERROR(VLOOKUP($A148,Filtro!$A$4:$AY$344,2,FALSE),0)","v":{"v":5063,"d":"5,063"}},{"$f":"IFERROR(VLOOKUP($A148,Filtro!$A$4:$AY$344,3,FALSE),0)","v":0},{"$f":"IFERROR(VLOOKUP($A148,Filtro!$A$4:$AY$344,4,FALSE),0)","v":{"v":5034,"d":"5,034"}},{"$f":"IFERROR(VLOOKUP($A148,Filtro!$A$4:$AY$344,5,FALSE),0)","v":{"v":8072,"d":"8,072"}}]
["80302050","0302050","Adenosindeaminasa en sangre u otro fluído biológico.",{"$f":"IFERROR(VLOOKUP($A149,Filtro!$A$4:$AY$344,2,FALSE),0)","v":0},{"$f":"IFERROR(VLOOKUP($A149,Filtro!$A$4:$AY$344,3,FALSE),0)","v":0},{"$f":"IFERROR(VLOOKUP($A149,Filtro!$A$4:$AY$344,4,FALSE),0)","v":0},{"$f":"IFERROR(VLOOKUP($A149,Filtro!$A$4:$AY$344,5,FALSE),0)","v":68}]
["80302051","0302051","Lactosa, curva de tolerancia, (mínimo cuatro determinaciones) (no incluye la lactosa que se administra) (incluye los valores de todas las tomas de muestras necesarias)",{"$f":"IFERROR(VLOOKUP($A150,Filtro!$A$4:$AY$344,2,FALSE),0)","v":0},{"$f":"IFERROR(VLOOKUP($A150,Filtro!$A$4:$AY$344,3,FALSE),0)","v":0},{"$f":"IFERROR(VLOOKUP($A150,Filtro!$A$4:$AY$344,4,FALSE),0)","v":0},{"$f":"IFERROR(VLOOKUP($A150,Filtro!$A$4:$AY$344,5,FALSE),0)","v":11}]
["80302052","0302052","Leucinaminopeptidasa (LAP)",{"$f":"IFERROR(VLOOKUP($A151,Filtro!$A$4:$AY$344,2,FALSE),0)","v":0},{"$f":"IFERROR(VLOOKUP($A151,Filtro!$A$4:$AY$344,3,FALSE),0)","v":0},{"$f":"IFERROR(VLOOKUP($A151,Filtro!$A$4:$AY$344,4,FALSE),0)","v":0},{"$f":"IFERROR(VLOOKUP($A151,Filtro!$A$4:$AY$344,5,FALSE),0)","v":3}]
["80302053","0302053","Lipasa",{"$f":"IFERROR(VLOOKUP($A152,Filtro!$A$4:$AY$344,2,FALSE),0)","v":0},{"$f":"IFERROR(VLOOKUP($A152,Filtro!$A$4:$AY$344,3,FALSE),0)","v":0},{"$f":"IFERROR(VLOOKUP($A152,Filtro!$A$4:$AY$344,4,FALSE),0)","v":0},{"$f":"IFERROR(VLOOKUP($A152,Filtro!$A$4:$AY$344,5,FALSE),0)","v":5}]
["80302069","0302069","Lípidos totales (proc. aut.)",{"$f":"IFERROR(VLOOKUP($A153,Filtro!$A$4:$AY$344,2,FALSE),0)","v":0},{"$f":"IFERROR(VLOOKUP($A153,Filtro!$A$4:$AY$344,3,FALSE),0)","v":0},{"$f":"IFERROR(VLOOKUP($A153,Filtro!$A$4:$AY$344,4,FALSE),0)","v":0},{"$f":"IFERROR(VLOOKUP($A153,Filtro!$A$4:$AY$344,5,FALSE),0)","v":343}]
["80302054","0302054","Lipoproteínas, electroforesis de (incluye lípidos totales)",{"$f":"IFERROR(VLOOKUP($A154,Filtro!$A$4:$AY$344,2,FALSE),0)","v":0},{"$f":"IFERROR(VLOOKUP($A154,Filtro!$A$4:$AY$344,3,FALSE),0)","v":0},{"$f":"IFERROR(VLOOKUP($A154,Filtro!$A$4:$AY$344,4,FALSE),0)","v":0},{"$f":"IFERROR(VLOOKUP($A154,Filtro!$A$4:$AY$344,5,FALSE),0)","v":0}]
["80302055","0302055","Litio",{"$f":"IFERROR(VLOOKUP($A155,Filtro!$A$4:$AY$344,2,FALSE),0)","v":0},{"$f":"IFERROR(VLOOKUP($A155,Filtro!$A$4:$AY$344,3,FALSE),0)","v":0},{"$f":"IFERROR(VLOOKUP($A155,Filtro!$A$4:$AY$344,4,FALSE),0)","v":0},{"$f":"IFERROR(VLOOKUP($A155,Filtro!$A$4:$AY$344,5,FALSE),0)","v":0}]
["80302056","0302056","Magnesio",{"$f":"IFERROR(VLOOKUP($A156,Filtro!$A$4:$AY$344,2,FALSE),0)","v":0},{"$f":"IFERROR(VLOOKUP($A156,Filtro!$A$4:$AY$344,3,FALSE),0)","v":0},{"$f":"IFERROR(VLOOKUP($A156,Filtro!$A$4:$AY$344,4,FALSE),0)","v":0},{"$f":"IFERROR(VLOOKUP($A156,Filtro!$A$4:$AY$344,5,FALSE),0)","v":9}]
["80302057","0302057","Nitrógeno ureico y/o úrea en sangre",{"$f":"IFERROR(VLOOKUP($A157,Filtro!$A$4:$AY$344,2,FALSE),0)","v":{"v":16460,"d":"16,460"}},{"$f":"IFERROR(VLOOKUP($A157,Filtro!$A$4:$AY$344,3,FALSE),0)","v":0},{"$f":"IFERROR(VLOOKUP($A157,Filtro!$A$4:$AY$344,4,FALSE),0)","v":{"v":16341,"d":"16,341"}},{"$f":"IFERROR(VLOOKUP($A157,Filtro!$A$4:$AY$344,5,FALSE),0)","v":{"v":29434,"d":"29,434"}}]
["80302058","0302058","Osmolalidad en sangre",{"$f":"IFERROR(VLOOKUP($A158,Filtro!$A$4:$AY$344,2,FALSE),0)","v":0},{"$f":"IFERROR(VLOOKUP($A158,Filtro!$A$4:$AY$344,3,FALSE),0)","v":0},{"$f":"IFERROR(VLOOKUP($A158,Filtro!$A$4:$AY$344,4,FALSE),0)","v":0},{"$f":"IFERROR(VLOOKUP($A158,Filtro!$A$4:$AY$344,5,FALSE),0)","v":0}]
["80302075","0302075","Perfil bioquímico (determinación automatizada de 12 parámetros)",{"$f":"IFERROR(VLOOKUP($A159,Filtro!$A$4:$AY$344,2,FALSE),0)","v":0},{"$f":"IFERROR(VLOOKUP($A159,Filtro!$A$4:$AY$344,3,FALSE),0)","v":0},{"$f":"IFERROR(VLOOKUP($A159,Filtro!$A$4:$AY$344,4,FALSE),0)","v":0},{"$f":"IFERROR(VLOOKUP($A159,Filtro!$A$4:$AY$344,5,FALSE),0)","v":481}]
["80302059","0302059","Proteínas fraccionadas albúmina/globulina (incluye código 03-02-060)",{"$f":"IFERROR(VLOOKUP($A160,Filtro!$A$4:$AY$344,2,FALSE),0)","v":{"v":1355,"d":"1,355"}},{"$f":"IFERROR(VLOOKUP($A160,Filtro!$A$4:$AY$344,3,FALSE),0)","v":0},{"$f":"IFERROR(VLOOKUP($A160,Filtro!$A$4:$AY$344,4,FALSE),0)","v":{"v":1355,"d":"1,355"}},{"$f":"IFERROR(VLOOKUP($A160,Filtro!$A$4:$AY$344,5,FALSE),0)","v":60}]
["80302060","0302060","Proteínas totales o albúminas, c/u en sangre",{"$f":"IFERROR(VLOOKUP($A161,Filtro!$A$4:$AY$344,2,FALSE),0)","v":{"v":1006,"d":"1,006"}},{"$f":"IFERROR(VLOOKUP($A161,Filtro!$A$4:$AY$344,3,FALSE),0)","v":0},{"$f":"IFERROR(VLOOKUP($A161,Filtro!$A$4:$AY$344,4,FALSE),0)","v":{"v":1005,"d":"1,005"}},{"$f":"IFERROR(VLOOKUP($A161,Filtro!$A$4:$AY$344,5,FALSE),0)","v":{"v":1934,"d":"1,934"}}]
["80302061","0302061","Proteínas, electroforesis (incluye cód. 03-02-060)",{"$f":"IFERROR(VLOOKUP($A162,Filtro!$A$4:$AY$344,2,FALSE),0)","v":0},{"$f":"IFERROR(VLOOKUP($A162,Filtro!$A$4:$AY$344,3,FALSE),0)","v":0},{"$f":"IFERROR(VLOOKUP($A162,Filtro!$A$4:$AY$344,4,FALSE),0)","v":0},{"$f":"IFERROR(VLOOKUP($A162,Filtro!$A$4:$AY$344,5,FALSE),0)","v":20}]
["80302062","0302062","Salicilemia cuantitativa        ",{"$f":"IFERROR(VLOOKUP($A163,Filtro!$A$4:$AY$344,2,FALSE),0)","v":0},{"$f":"IFERROR(VLOOKUP($A163,Filtro!$A$4:$AY$344,3,FALSE),0)","v":0},{"$f":"IFERROR(VLOOKUP($A163,Filtro!$A$4:$AY$344,4,FALSE),0)","v":0},{"$f":"IFERROR(VLOOKUP($A163,Filtro!$A$4:$AY$344,5,FALSE),0)","v":3}]
["80302076","0302076","Perfil Hepático (incluye tiempo de protrombina, bilirrubina total y conjugada, fosfatasas alcalinas totales, GGT, transaminasas GOT/AST y GPT/ALT)",{"$f":"IFERROR(VLOOKUP($A164,Filtro!$A$4:$AY$344,2,FALSE),0)","v":{"v":15192,"d":"15,192"}},{"$f":"IFERROR(VLOOKUP($A164,Filtro!$A$4:$AY$344,3,FALSE),0)","v":0},{"$f":"IFERROR(VLOOKUP($A164,Filtro!$A$4:$AY$344,4,FALSE),0)","v":{"v":15191,"d":"15,191"}},{"$f":"IFERROR(VLOOKUP($A164,Filtro!$A$4:$AY$344,5,FALSE),0)","v":{"v":10076,"d":"10,076"}}]
["80302063","0302063","Transaminasas, oxalacética (GOT/AST), Pirúvica (GPT/ALT), c/u",{"$f":"IFERROR(VLOOKUP($A165,Filtro!$A$4:$AY$344,2,FALSE),0)","v":920},{"$f":"IFERROR(VLOOKUP($A165,Filtro!$A$4:$AY$344,3,FALSE),0)","v":0},{"$f":"IFERROR(VLOOKUP($A165,Filtro!$A$4:$AY$344,4,FALSE),0)","v":811},{"$f":"IFERROR(VLOOKUP($A165,Filtro!$A$4:$AY$344,5,FALSE),0)","v":{"v":18610,"d":"18,610"}}]
["80302064","0302064","Triglicéridos (proc. aut.)",{"$f":"IFERROR(VLOOKUP($A166,Filtro!$A$4:$AY$344,2,FALSE),0)","v":497},{"$f":"IFERROR(VLOOKUP($A166,Filtro!$A$4:$AY$344,3,FALSE),0)","v":0},{"$f":"IFERROR(VLOOKUP($A166,Filtro!$A$4:$AY$344,4,FALSE),0)","v":356},{"$f":"IFERROR(VLOOKUP($A166,Filtro!$A$4:$AY$344,5,FALSE),0)","v":{"v":43369,"d":"43,369"}}]
["80302065","0302065","Vitaminas A, B, C, D, E, etc., c/u",{"$f":"IFERROR(VLOOKUP($A167,Filtro!$A$4:$AY$344,2,FALSE),0)","v":0},{"$f":"IFERROR(VLOOKUP($A167,Filtro!$A$4:$AY$344,3,FALSE),0)","v":0},{"$f":"IFERROR(VLOOKUP($A167,Filtro!$A$4:$AY$344,4,FALSE),0)","v":0},{"$f":"IFERROR(VLOOKUP($A167,Filtro!$A$4:$AY$344,5,FALSE),0)","v":256}]
["80302066","0302066","Xilosa, prueba de absorción (no incluye la xilosa que se administra)",{"$f":"IFERROR(VLOOKUP($A168,Filtro!$A$4:$AY$344,2,FALSE),0)","v":0},{"$f":"IFERROR(VLOOKUP($A168,Filtro!$A$4:$AY$344,3,FALSE),0)","v":0},{"$f":"IFERROR(VLOOKUP($A168,Filtro!$A$4:$AY$344,4,FALSE),0)","v":0},{"$f":"IFERROR(VLOOKUP($A168,Filtro!$A$4:$AY$344,5,FALSE),0)","v":0}]
[null,"TOTAL",null,{"$f":"SUM(D100:D168)","v":{"v":205651,"d":"205,651"}},{"$f":"SUM(E100:E168)","v":79},{"$f":"SUM(F100:F168)","v":{"v":204348,"d":"204,348"}},{"$f":"SUM(G100:G168)","v":{"v":496674,"d":"496,674"}}]
[null,"3.- EXÁMENES HORMONALES"]
["80303015","0303015","Hormona folículo estimulante (FSH)",{"$f":"IFERROR(VLOOKUP($A171,Filtro!$A$4:$AY$344,2,FALSE),0)","v":402},{"$f":"IFERROR(VLOOKUP($A171,Filtro!$A$4:$AY$344,3,FALSE),0)","v":0},{"$f":"IFERROR(VLOOKUP($A171,Filtro!$A$4:$AY$344,4,FALSE),0)","v":402},{"$f":"IFERROR(VLOOKUP($A171,Filtro!$A$4:$AY$344,5,FALSE),0)","v":{"v":3449,"d":"3,449"}}]
["80303024","0303024","Tiroestimulante (TSH), hormona (adulto, niño o R.N.)                            ",{"$f":"IFERROR(VLOOKUP($A172,Filtro!$A$4:$AY$344,2,FALSE),0)","v":{"v":20246,"d":"20,246"}},{"$f":"IFERROR(VLOOKUP($A172,Filtro!$A$4:$AY$344,3,FALSE),0)","v":0},{"$f":"IFERROR(VLOOKUP($A172,Filtro!$A$4:$AY$344,4,FALSE),0)","v":{"v":20138,"d":"20,138"}},{"$f":"IFERROR(VLOOKUP($A172,Filtro!$A$4:$AY$344,5,FALSE),0)","v":{"v":48831,"d":"48,831"}}]
["80303025","0303025","Tiroglobulina                                                                                   ",{"$f":"IFERROR(VLOOKUP($A173,Filtro!$A$4:$AY$344,2,FALSE),0)","v":185},{"$f":"IFERROR(VLOOKUP($A173,Filtro!$A$4:$AY$344,3,FALSE),0)","v":0},{"$f":"IFERROR(VLOOKUP($A173,Filtro!$A$4:$AY$344,4,FALSE),0)","v":185},{"$f":"IFERROR(VLOOKUP($A173,Filtro!$A$4:$AY$344,5,FALSE),0)","v":{"v":1343,"d":"1,343"}}]
["80303026","0303026","Tiroxina libre (T4L)                                                                       ",{"$f":"IFERROR(VLOOKUP($A174,Filtro!$A$4:$AY$344,2,FALSE),0)","v":{"v":14943,"d":"14,943"}},{"$f":"IFERROR(VLOOKUP($A174,Filtro!$A$4:$AY$344,3,FALSE),0)","v":0},{"$f":"IFERROR(VLOOKUP($A174,Filtro!$A$4:$AY$344,4,FALSE),0)","v":{"v":14910,"d":"14,910"}},{"$f":"IFERROR(VLOOKUP($A174,Filtro!$A$4:$AY$344,5,FALSE),0)","v":{"v":11891,"d":"11,891"}}]
["80303027","0303027","Tiroxina o tetrayodotironina (T4)                                               ",{"$f":"IFERROR(VLOOKUP($A175,Filtro!$A$4:$AY$344,2,FALSE),0)","v":497},{"$f":"IFERROR(VLOOKUP($A175,Filtro!$A$4:$AY$344,3,FALSE),0)","v":0},{"$f":"IFERROR(VLOOKUP($A175,Filtro!$A$4:$AY$344,4,FALSE),0)","v":494},{"$f":"IFERROR(VLOOKUP($A175,Filtro!$A$4:$AY$344,5,FALSE),0)","v":448}]
["80303028","0303028","Triyodotironina (T3)                                                               ",{"$f":"IFERROR(VLOOKUP($A176,Filtro!$A$4:$AY$344,2,FALSE),0)","v":439},{"$f":"IFERROR(VLOOKUP($A176,Filtro!$A$4:$AY$344,3,FALSE),0)","v":0},{"$f":"IFERROR(VLOOKUP($A176,Filtro!$A$4:$AY$344,4,FALSE),0)","v":436},{"$f":"IFERROR(VLOOKUP($A176,Filtro!$A$4:$AY$344,5,FALSE),0)","v":266}]
[null,"TOTAL",null,{"$f":"SUM(D172:D176)","v":{"v":36310,"d":"36,310"}},{"$f":"SUM(E171:E176)","v":0},{"$f":"SUM(F171:F176)","v":{"v":36565,"d":"36,565"}},{"$f":"SUM(G171:G176)","v":{"v":66228,"d":"66,228"}}]
[null,"4.- INMUNOLÓGICOS"]
["80305001","0305001","Alfa -1- antitripsina cuantitativa",{"$f":"IFERROR(VLOOKUP($A179,Filtro!$A$4:$AY$344,2,FALSE),0)","v":0},{"$f":"IFERROR(VLOOKUP($A179,Filtro!$A$4:$AY$344,3,FALSE),0)","v":0},{"$f":"IFERROR(VLOOKUP($A179,Filtro!$A$4:$AY$344,4,FALSE),0)","v":0},{"$f":"IFERROR(VLOOKUP($A179,Filtro!$A$4:$AY$344,5,FALSE),0)","v":0}]
["80305002","0305002","Alfa -2- macroglobulina",{"$f":"IFERROR(VLOOKUP($A180,Filtro!$A$4:$AY$344,2,FALSE),0)","v":0},{"$f":"IFERROR(VLOOKUP($A180,Filtro!$A$4:$AY$344,3,FALSE),0)","v":0},{"$f":"IFERROR(VLOOKUP($A180,Filtro!$A$4:$AY$344,4,FALSE),0)","v":0},{"$f":"IFERROR(VLOOKUP($A180,Filtro!$A$4:$AY$344,5,FALSE),0)","v":2}]
["80305003","0305003","Alfa fetoproteínas",{"$f":"IFERROR(VLOOKUP($A181,Filtro!$A$4:$AY$344,2,FALSE),0)","v":0},{"$f":"IFERROR(VLOOKUP($A181,Filtro!$A$4:$AY$344,3,FALSE),0)","v":0},{"$f":"IFERROR(VLOOKUP($A181,Filtro!$A$4:$AY$344,4,FALSE),0)","v":0},{"$f":"IFERROR(VLOOKUP($A181,Filtro!$A$4:$AY$344,5,FALSE),0)","v":1}]
["80305004","0305004","Tamizaje de Anticuerpos anti antígenos nucleares extractables (a- ENA: Sm, RNP, Ro, La, Scl- 70 y Jo- 1)",{"$f":"IFERROR(VLOOKUP($A182,Filtro!$A$4:$AY$344,2,FALSE),0)","v":0},{"$f":"IFERROR(VLOOKUP($A182,Filtro!$A$4:$AY$344,3,FALSE),0)","v":0},{"$f":"IFERROR(VLOOKUP($A182,Filtro!$A$4:$AY$344,4,FALSE),0)","v":0},{"$f":"IFERROR(VLOOKUP($A182,Filtro!$A$4:$AY$344,5,FALSE),0)","v":7}]
["80305005","0305005","Anticuerpos antinucleares (ANA), antimitocondriales, anti DNA (ADNA), anti músculo liso, anticentrómero, u otros, c/u.",{"$f":"IFERROR(VLOOKUP($A183,Filtro!$A$4:$AY$344,2,FALSE),0)","v":0},{"$f":"IFERROR(VLOOKUP($A183,Filtro!$A$4:$AY$344,3,FALSE),0)","v":0},{"$f":"IFERROR(VLOOKUP($A183,Filtro!$A$4:$AY$344,4,FALSE),0)","v":0},{"$f":"IFERROR(VLOOKUP($A183,Filtro!$A$4:$AY$344,5,FALSE),0)","v":10}]
["80305006","0305006","Anticuerpos atípicos, pannel de identificación",{"$f":"IFERROR(VLOOKUP($A184,Filtro!$A$4:$AY$344,2,FALSE),0)","v":0},{"$f":"IFERROR(VLOOKUP($A184,Filtro!$A$4:$AY$344,3,FALSE),0)","v":0},{"$f":"IFERROR(VLOOKUP($A184,Filtro!$A$4:$AY$344,4,FALSE),0)","v":0},{"$f":"IFERROR(VLOOKUP($A184,Filtro!$A$4:$AY$344,5,FALSE),0)","v":0}]
["80305007","0305007","Anticuerpos específicos y otros autoanticuerpos (anticuerpos antitiroídeos: anticuerpos antimicrosomales y antitiroglobulinas y otros anticuerpos: prostático, espermios, etc.) c/u",{"$f":"IFERROR(VLOOKUP($A185,Filtro!$A$4:$AY$344,2,FALSE),0)","v":0},{"$f":"IFERROR(VLOOKUP($A185,Filtro!$A$4:$AY$344,3,FALSE),0)","v":0},{"$f":"IFERROR(VLOOKUP($A185,Filtro!$A$4:$AY$344,4,FALSE),0)","v":0},{"$f":"IFERROR(VLOOKUP($A185,Filtro!$A$4:$AY$344,5,FALSE),0)","v":10}]
["80305008","0305008","Antiestreptolisina O, por técnica de látex ",{"$f":"IFERROR(VLOOKUP($A186,Filtro!$A$4:$AY$344,2,FALSE),0)","v":0},{"$f":"IFERROR(VLOOKUP($A186,Filtro!$A$4:$AY$344,3,FALSE),0)","v":0},{"$f":"IFERROR(VLOOKUP($A186,Filtro!$A$4:$AY$344,4,FALSE),0)","v":0},{"$f":"IFERROR(VLOOKUP($A186,Filtro!$A$4:$AY$344,5,FALSE),0)","v":0}]
["80305009","0305009","Antígeno carcinoembrionario (CEA)",{"$f":"IFERROR(VLOOKUP($A187,Filtro!$A$4:$AY$344,2,FALSE),0)","v":0},{"$f":"IFERROR(VLOOKUP($A187,Filtro!$A$4:$AY$344,3,FALSE),0)","v":0},{"$f":"IFERROR(VLOOKUP($A187,Filtro!$A$4:$AY$344,4,FALSE),0)","v":0},{"$f":"IFERROR(VLOOKUP($A187,Filtro!$A$4:$AY$344,5,FALSE),0)","v":3}]
["80305070","0305070","Antígeno prostático específico",{"$f":"IFERROR(VLOOKUP($A188,Filtro!$A$4:$AY$344,2,FALSE),0)","v":{"v":1375,"d":"1,375"}},{"$f":"IFERROR(VLOOKUP($A188,Filtro!$A$4:$AY$344,3,FALSE),0)","v":0},{"$f":"IFERROR(VLOOKUP($A188,Filtro!$A$4:$AY$344,4,FALSE),0)","v":{"v":1375,"d":"1,375"}},{"$f":"IFERROR(VLOOKUP($A188,Filtro!$A$4:$AY$344,5,FALSE),0)","v":{"v":1496,"d":"1,496"}}]
["80305170","0305170","Antígeno Ca 125, Ca 15-3 y Ca 19-9, c/u",{"$f":"IFERROR(VLOOKUP($A189,Filtro!$A$4:$AY$344,2,FALSE),0)","v":0},{"$f":"IFERROR(VLOOKUP($A189,Filtro!$A$4:$AY$344,3,FALSE),0)","v":0},{"$f":"IFERROR(VLOOKUP($A189,Filtro!$A$4:$AY$344,4,FALSE),0)","v":0},{"$f":"IFERROR(VLOOKUP($A189,Filtro!$A$4:$AY$344,5,FALSE),0)","v":11}]
["80305010","0305010","Beta-2-microglobulina",{"$f":"IFERROR(VLOOKUP($A190,Filtro!$A$4:$AY$344,2,FALSE),0)","v":0},{"$f":"IFERROR(VLOOKUP($A190,Filtro!$A$4:$AY$344,3,FALSE),0)","v":0},{"$f":"IFERROR(VLOOKUP($A190,Filtro!$A$4:$AY$344,4,FALSE),0)","v":0},{"$f":"IFERROR(VLOOKUP($A190,Filtro!$A$4:$AY$344,5,FALSE),0)","v":3}]
["80305011","0305011","Complejos inmunes circulantes",{"$f":"IFERROR(VLOOKUP($A191,Filtro!$A$4:$AY$344,2,FALSE),0)","v":0},{"$f":"IFERROR(VLOOKUP($A191,Filtro!$A$4:$AY$344,3,FALSE),0)","v":0},{"$f":"IFERROR(VLOOKUP($A191,Filtro!$A$4:$AY$344,4,FALSE),0)","v":0},{"$f":"IFERROR(VLOOKUP($A191,Filtro!$A$4:$AY$344,5,FALSE),0)","v":0}]
["80305012","0305012","Complemento C1Q, C2, C3, C4, etc., c/u",{"$f":"IFERROR(VLOOKUP($A192,Filtro!$A$4:$AY$344,2,FALSE),0)","v":0},{"$f":"IFERROR(VLOOKUP($A192,Filtro!$A$4:$AY$344,3,FALSE),0)","v":0},{"$f":"IFERROR(VLOOKUP($A192,Filtro!$A$4:$AY$344,4,FALSE),0)","v":0},{"$f":"IFERROR(VLOOKUP($A192,Filtro!$A$4:$AY$344,5,FALSE),0)","v":2}]
["80305013","0305013","Complemento hemolítico (CH 50)",{"$f":"IFERROR(VLOOKUP($A193,Filtro!$A$4:$AY$344,2,FALSE),0)","v":0},{"$f":"IFERROR(VLOOKUP($A193,Filtro!$A$4:$AY$344,3,FALSE),0)","v":0},{"$f":"IFERROR(VLOOKUP($A193,Filtro!$A$4:$AY$344,4,FALSE),0)","v":0},{"$f":"IFERROR(VLOOKUP($A193,Filtro!$A$4:$AY$344,5,FALSE),0)","v":0}]
["80305014","0305014","Crioglobulinas, precipitación en frío (cualitativa) o cuantitativa c/u",{"$f":"IFERROR(VLOOKUP($A194,Filtro!$A$4:$AY$344,2,FALSE),0)","v":0},{"$f":"IFERROR(VLOOKUP($A194,Filtro!$A$4:$AY$344,3,FALSE),0)","v":0},{"$f":"IFERROR(VLOOKUP($A194,Filtro!$A$4:$AY$344,4,FALSE),0)","v":0},{"$f":"IFERROR(VLOOKUP($A194,Filtro!$A$4:$AY$344,5,FALSE),0)","v":0}]
["80305015","0305015","Depósito de complejos inmunes por inmunofluorescencia",{"$f":"IFERROR(VLOOKUP($A195,Filtro!$A$4:$AY$344,2,FALSE),0)","v":0},{"$f":"IFERROR(VLOOKUP($A195,Filtro!$A$4:$AY$344,3,FALSE),0)","v":0},{"$f":"IFERROR(VLOOKUP($A195,Filtro!$A$4:$AY$344,4,FALSE),0)","v":0},{"$f":"IFERROR(VLOOKUP($A195,Filtro!$A$4:$AY$344,5,FALSE),0)","v":0}]
["80305016","0305016","Depósito de complemento por inmunofluorescencia (C3, C4), c/u",{"$f":"IFERROR(VLOOKUP($A196,Filtro!$A$4:$AY$344,2,FALSE),0)","v":0},{"$f":"IFERROR(VLOOKUP($A196,Filtro!$A$4:$AY$344,3,FALSE),0)","v":0},{"$f":"IFERROR(VLOOKUP($A196,Filtro!$A$4:$AY$344,4,FALSE),0)","v":0},{"$f":"IFERROR(VLOOKUP($A196,Filtro!$A$4:$AY$344,5,FALSE),0)","v":0}]
["80305017","0305017","Depósito de fibrinógeno por inmunofluorescencia",{"$f":"IFERROR(VLOOKUP($A197,Filtro!$A$4:$AY$344,2,FALSE),0)","v":0},{"$f":"IFERROR(VLOOKUP($A197,Filtro!$A$4:$AY$344,3,FALSE),0)","v":0},{"$f":"IFERROR(VLOOKUP($A197,Filtro!$A$4:$AY$344,4,FALSE),0)","v":0},{"$f":"IFERROR(VLOOKUP($A197,Filtro!$A$4:$AY$344,5,FALSE),0)","v":0}]
["80305018","0305018","Depósito de inmunoglobulina por inmunofluorescencia (IgG, IgA, IgM) c/u",{"$f":"IFERROR(VLOOKUP($A198,Filtro!$A$4:$AY$344,2,FALSE),0)","v":67},{"$f":"IFERROR(VLOOKUP($A198,Filtro!$A$4:$AY$344,3,FALSE),0)","v":0},{"$f":"IFERROR(VLOOKUP($A198,Filtro!$A$4:$AY$344,4,FALSE),0)","v":67},{"$f":"IFERROR(VLOOKUP($A198,Filtro!$A$4:$AY$344,5,FALSE),0)","v":2}]
["80305019","0305019","Factor reumatoídeo por técnica de látex u otras similares",{"$f":"IFERROR(VLOOKUP($A199,Filtro!$A$4:$AY$344,2,FALSE),0)","v":{"v":1096,"d":"1,096"}},{"$f":"IFERROR(VLOOKUP($A199,Filtro!$A$4:$AY$344,3,FALSE),0)","v":0},{"$f":"IFERROR(VLOOKUP($A199,Filtro!$A$4:$AY$344,4,FALSE),0)","v":{"v":1095,"d":"1,095"}},{"$f":"IFERROR(VLOOKUP($A199,Filtro!$A$4:$AY$344,5,FALSE),0)","v":{"v":1757,"d":"1,757"}}]
["80305020","0305020","Factor reumatoídeo por técnica Scat, Waaler Rose, nefelométricas y/o turbidimétricas",{"$f":"IFERROR(VLOOKUP($A200,Filtro!$A$4:$AY$344,2,FALSE),0)","v":0},{"$f":"IFERROR(VLOOKUP($A200,Filtro!$A$4:$AY$344,3,FALSE),0)","v":0},{"$f":"IFERROR(VLOOKUP($A200,Filtro!$A$4:$AY$344,4,FALSE),0)","v":0},{"$f":"IFERROR(VLOOKUP($A200,Filtro!$A$4:$AY$344,5,FALSE),0)","v":55}]
["80305021","0305021","Inhibidor de C1Q, C2 y C3, c/u",{"$f":"IFERROR(VLOOKUP($A201,Filtro!$A$4:$AY$344,2,FALSE),0)","v":0},{"$f":"IFERROR(VLOOKUP($A201,Filtro!$A$4:$AY$344,3,FALSE),0)","v":0},{"$f":"IFERROR(VLOOKUP($A201,Filtro!$A$4:$AY$344,4,FALSE),0)","v":0},{"$f":"IFERROR(VLOOKUP($A201,Filtro!$A$4:$AY$344,5,FALSE),0)","v":0}]
["80305025","0305025","Inmunofijación de inmunoglobulina, c/u",{"$f":"IFERROR(VLOOKUP($A202,Filtro!$A$4:$AY$344,2,FALSE),0)","v":0},{"$f":"IFERROR(VLOOKUP($A202,Filtro!$A$4:$AY$344,3,FALSE),0)","v":0},{"$f":"IFERROR(VLOOKUP($A202,Filtro!$A$4:$AY$344,4,FALSE),0)","v":0},{"$f":"IFERROR(VLOOKUP($A202,Filtro!$A$4:$AY$344,5,FALSE),0)","v":0}]
["80305026","0305026","Inmunoglobulina IgA secretora",{"$f":"IFERROR(VLOOKUP($A203,Filtro!$A$4:$AY$344,2,FALSE),0)","v":0},{"$f":"IFERROR(VLOOKUP($A203,Filtro!$A$4:$AY$344,3,FALSE),0)","v":0},{"$f":"IFERROR(VLOOKUP($A203,Filtro!$A$4:$AY$344,4,FALSE),0)","v":0},{"$f":"IFERROR(VLOOKUP($A203,Filtro!$A$4:$AY$344,5,FALSE),0)","v":0}]
["80305027","0305027","Inmunoglobulinas IgA, IgG, IgM, c/u",{"$f":"IFERROR(VLOOKUP($A204,Filtro!$A$4:$AY$344,2,FALSE),0)","v":0},{"$f":"IFERROR(VLOOKUP($A204,Filtro!$A$4:$AY$344,3,FALSE),0)","v":0},{"$f":"IFERROR(VLOOKUP($A204,Filtro!$A$4:$AY$344,4,FALSE),0)","v":0},{"$f":"IFERROR(VLOOKUP($A204,Filtro!$A$4:$AY$344,5,FALSE),0)","v":0}]
["80305028","0305028","Inmunoglobulinas IgE, IgD total, c/u",{"$f":"IFERROR(VLOOKUP($A205,Filtro!$A$4:$AY$344,2,FALSE),0)","v":0},{"$f":"IFERROR(VLOOKUP($A205,Filtro!$A$4:$AY$344,3,FALSE),0)","v":0},{"$f":"IFERROR(VLOOKUP($A205,Filtro!$A$4:$AY$344,4,FALSE),0)","v":0},{"$f":"IFERROR(VLOOKUP($A205,Filtro!$A$4:$AY$344,5,FALSE),0)","v":0}]
["80305029","0305029","Inmunoglobulinas IgE, IgG específicas, c/u",{"$f":"IFERROR(VLOOKUP($A206,Filtro!$A$4:$AY$344,2,FALSE),0)","v":0},{"$f":"IFERROR(VLOOKUP($A206,Filtro!$A$4:$AY$344,3,FALSE),0)","v":0},{"$f":"IFERROR(VLOOKUP($A206,Filtro!$A$4:$AY$344,4,FALSE),0)","v":0},{"$f":"IFERROR(VLOOKUP($A206,Filtro!$A$4:$AY$344,5,FALSE),0)","v":4}]
["80305030","0305030","Proteína C reactiva por técnica de látex u otras similares",{"$f":"IFERROR(VLOOKUP($A207,Filtro!$A$4:$AY$344,2,FALSE),0)","v":0},{"$f":"IFERROR(VLOOKUP($A207,Filtro!$A$4:$AY$344,3,FALSE),0)","v":0},{"$f":"IFERROR(VLOOKUP($A207,Filtro!$A$4:$AY$344,4,FALSE),0)","v":0},{"$f":"IFERROR(VLOOKUP($A207,Filtro!$A$4:$AY$344,5,FALSE),0)","v":332}]
["80305031","0305031","Proteína C reactiva por técnicas nefelométricas y/o turbidimétricas",{"$f":"IFERROR(VLOOKUP($A208,Filtro!$A$4:$AY$344,2,FALSE),0)","v":0},{"$f":"IFERROR(VLOOKUP($A208,Filtro!$A$4:$AY$344,3,FALSE),0)","v":0},{"$f":"IFERROR(VLOOKUP($A208,Filtro!$A$4:$AY$344,4,FALSE),0)","v":0},{"$f":"IFERROR(VLOOKUP($A208,Filtro!$A$4:$AY$344,5,FALSE),0)","v":21}]
["80305034","0305034","Quimiotaxis-leucotaxis",{"$f":"IFERROR(VLOOKUP($A209,Filtro!$A$4:$AY$344,2,FALSE),0)","v":0},{"$f":"IFERROR(VLOOKUP($A209,Filtro!$A$4:$AY$344,3,FALSE),0)","v":0},{"$f":"IFERROR(VLOOKUP($A209,Filtro!$A$4:$AY$344,4,FALSE),0)","v":0},{"$f":"IFERROR(VLOOKUP($A209,Filtro!$A$4:$AY$344,5,FALSE),0)","v":0}]
["80305035","0305035","Crioaglutininas",{"$f":"IFERROR(VLOOKUP($A210,Filtro!$A$4:$AY$344,2,FALSE),0)","v":0},{"$f":"IFERROR(VLOOKUP($A210,Filtro!$A$4:$AY$344,3,FALSE),0)","v":0},{"$f":"IFERROR(VLOOKUP($A210,Filtro!$A$4:$AY$344,4,FALSE),0)","v":0},{"$f":"IFERROR(VLOOKUP($A210,Filtro!$A$4:$AY$344,5,FALSE),0)","v":0}]
["80305036","0305036","Criohemolisinas",{"$f":"IFERROR(VLOOKUP($A211,Filtro!$A$4:$AY$344,2,FALSE),0)","v":0},{"$f":"IFERROR(VLOOKUP($A211,Filtro!$A$4:$AY$344,3,FALSE),0)","v":0},{"$f":"IFERROR(VLOOKUP($A211,Filtro!$A$4:$AY$344,4,FALSE),0)","v":0},{"$f":"IFERROR(VLOOKUP($A211,Filtro!$A$4:$AY$344,5,FALSE),0)","v":0}]
["80305037","0305037","Digestión fagocítica nitroblue-tetrazolium cualitativo y cuantitativo",{"$f":"IFERROR(VLOOKUP($A212,Filtro!$A$4:$AY$344,2,FALSE),0)","v":0},{"$f":"IFERROR(VLOOKUP($A212,Filtro!$A$4:$AY$344,3,FALSE),0)","v":0},{"$f":"IFERROR(VLOOKUP($A212,Filtro!$A$4:$AY$344,4,FALSE),0)","v":0},{"$f":"IFERROR(VLOOKUP($A212,Filtro!$A$4:$AY$344,5,FALSE),0)","v":0}]
["80305038","0305038","Fagocitosis: ingestión y digestión (killing) de levaduras por polimorfonucleares",{"$f":"IFERROR(VLOOKUP($A213,Filtro!$A$4:$AY$344,2,FALSE),0)","v":0},{"$f":"IFERROR(VLOOKUP($A213,Filtro!$A$4:$AY$344,3,FALSE),0)","v":0},{"$f":"IFERROR(VLOOKUP($A213,Filtro!$A$4:$AY$344,4,FALSE),0)","v":0},{"$f":"IFERROR(VLOOKUP($A213,Filtro!$A$4:$AY$344,5,FALSE),0)","v":0}]
["80305039","0305039","Fagocitosis: ingestión y digestión (killing) de bacterias por polimorfonucleares",{"$f":"IFERROR(VLOOKUP($A214,Filtro!$A$4:$AY$344,2,FALSE),0)","v":0},{"$f":"IFERROR(VLOOKUP($A214,Filtro!$A$4:$AY$344,3,FALSE),0)","v":0},{"$f":"IFERROR(VLOOKUP($A214,Filtro!$A$4:$AY$344,4,FALSE),0)","v":0},{"$f":"IFERROR(VLOOKUP($A214,Filtro!$A$4:$AY$344,5,FALSE),0)","v":0}]
["80305040","0305040","Inmunoadherencia de leucocitos macrófagos",{"$f":"IFERROR(VLOOKUP($A215,Filtro!$A$4:$AY$344,2,FALSE),0)","v":0},{"$f":"IFERROR(VLOOKUP($A215,Filtro!$A$4:$AY$344,3,FALSE),0)","v":0},{"$f":"IFERROR(VLOOKUP($A215,Filtro!$A$4:$AY$344,4,FALSE),0)","v":0},{"$f":"IFERROR(VLOOKUP($A215,Filtro!$A$4:$AY$344,5,FALSE),0)","v":0}]
["80305041","0305041","Intradermoreacción (PPD, histoplasmina, aspergilina, u otros, incluye el valor del antígeno y reacción de control), c/u. ",{"$f":"IFERROR(VLOOKUP($A216,Filtro!$A$4:$AY$344,2,FALSE),0)","v":0},{"$f":"IFERROR(VLOOKUP($A216,Filtro!$A$4:$AY$344,3,FALSE),0)","v":0},{"$f":"IFERROR(VLOOKUP($A216,Filtro!$A$4:$AY$344,4,FALSE),0)","v":0},{"$f":"IFERROR(VLOOKUP($A216,Filtro!$A$4:$AY$344,5,FALSE),0)","v":18}]
["80305042","0305042","LIF o MIF",{"$f":"IFERROR(VLOOKUP($A217,Filtro!$A$4:$AY$344,2,FALSE),0)","v":0},{"$f":"IFERROR(VLOOKUP($A217,Filtro!$A$4:$AY$344,3,FALSE),0)","v":0},{"$f":"IFERROR(VLOOKUP($A217,Filtro!$A$4:$AY$344,4,FALSE),0)","v":0},{"$f":"IFERROR(VLOOKUP($A217,Filtro!$A$4:$AY$344,5,FALSE),0)","v":0}]
["80305043","0305043","Linfocitos B (inmunofluorescencia)",{"$f":"IFERROR(VLOOKUP($A218,Filtro!$A$4:$AY$344,2,FALSE),0)","v":0},{"$f":"IFERROR(VLOOKUP($A218,Filtro!$A$4:$AY$344,3,FALSE),0)","v":0},{"$f":"IFERROR(VLOOKUP($A218,Filtro!$A$4:$AY$344,4,FALSE),0)","v":0},{"$f":"IFERROR(VLOOKUP($A218,Filtro!$A$4:$AY$344,5,FALSE),0)","v":0}]
["80305044","0305044","Linfocitos B (rosetas EAC) y linfocitos T (rosetas E) c/u",{"$f":"IFERROR(VLOOKUP($A219,Filtro!$A$4:$AY$344,2,FALSE),0)","v":0},{"$f":"IFERROR(VLOOKUP($A219,Filtro!$A$4:$AY$344,3,FALSE),0)","v":0},{"$f":"IFERROR(VLOOKUP($A219,Filtro!$A$4:$AY$344,4,FALSE),0)","v":0},{"$f":"IFERROR(VLOOKUP($A219,Filtro!$A$4:$AY$344,5,FALSE),0)","v":0}]
["80305045","0305045","Linfocitos T \"helper\" (OKT4) o supresores (OKT8) con antisuero monoclonal, c/u",{"$f":"IFERROR(VLOOKUP($A220,Filtro!$A$4:$AY$344,2,FALSE),0)","v":0},{"$f":"IFERROR(VLOOKUP($A220,Filtro!$A$4:$AY$344,3,FALSE),0)","v":0},{"$f":"IFERROR(VLOOKUP($A220,Filtro!$A$4:$AY$344,4,FALSE),0)","v":0},{"$f":"IFERROR(VLOOKUP($A220,Filtro!$A$4:$AY$344,5,FALSE),0)","v":0}]
["80305047","0305047","Linfotoxinas humanas, detección de",{"$f":"IFERROR(VLOOKUP($A221,Filtro!$A$4:$AY$344,2,FALSE),0)","v":0},{"$f":"IFERROR(VLOOKUP($A221,Filtro!$A$4:$AY$344,3,FALSE),0)","v":0},{"$f":"IFERROR(VLOOKUP($A221,Filtro!$A$4:$AY$344,4,FALSE),0)","v":0},{"$f":"IFERROR(VLOOKUP($A221,Filtro!$A$4:$AY$344,5,FALSE),0)","v":0}]
["80305048","0305048","Reacción cutánea 16 alergenos por escarificación (incluye el valor de los antígenos)",{"$f":"IFERROR(VLOOKUP($A222,Filtro!$A$4:$AY$344,2,FALSE),0)","v":0},{"$f":"IFERROR(VLOOKUP($A222,Filtro!$A$4:$AY$344,3,FALSE),0)","v":0},{"$f":"IFERROR(VLOOKUP($A222,Filtro!$A$4:$AY$344,4,FALSE),0)","v":0},{"$f":"IFERROR(VLOOKUP($A222,Filtro!$A$4:$AY$344,5,FALSE),0)","v":0}]
["80305049","0305049","Transformación linfoblástica a drogas, análisis de transformación espontanea con estimulo inespecífico y con diferentes concentraciones de la droga en 1000 células",{"$f":"IFERROR(VLOOKUP($A223,Filtro!$A$4:$AY$344,2,FALSE),0)","v":0},{"$f":"IFERROR(VLOOKUP($A223,Filtro!$A$4:$AY$344,3,FALSE),0)","v":0},{"$f":"IFERROR(VLOOKUP($A223,Filtro!$A$4:$AY$344,4,FALSE),0)","v":0},{"$f":"IFERROR(VLOOKUP($A223,Filtro!$A$4:$AY$344,5,FALSE),0)","v":0}]
["80305051","0305051","Absorción de autoanticuerpos del receptor",{"$f":"IFERROR(VLOOKUP($A224,Filtro!$A$4:$AY$344,2,FALSE),0)","v":0},{"$f":"IFERROR(VLOOKUP($A224,Filtro!$A$4:$AY$344,3,FALSE),0)","v":0},{"$f":"IFERROR(VLOOKUP($A224,Filtro!$A$4:$AY$344,4,FALSE),0)","v":0},{"$f":"IFERROR(VLOOKUP($A224,Filtro!$A$4:$AY$344,5,FALSE),0)","v":0}]
["80305052","0305052","Anticuerpos linfocitotóxicos (PRA) por microlinfocitotoxicidad",{"$f":"IFERROR(VLOOKUP($A225,Filtro!$A$4:$AY$344,2,FALSE),0)","v":0},{"$f":"IFERROR(VLOOKUP($A225,Filtro!$A$4:$AY$344,3,FALSE),0)","v":0},{"$f":"IFERROR(VLOOKUP($A225,Filtro!$A$4:$AY$344,4,FALSE),0)","v":0},{"$f":"IFERROR(VLOOKUP($A225,Filtro!$A$4:$AY$344,5,FALSE),0)","v":0}]
["80305053","0305053","Autocrossmatch con linfocitos T y B",{"$f":"IFERROR(VLOOKUP($A226,Filtro!$A$4:$AY$344,2,FALSE),0)","v":0},{"$f":"IFERROR(VLOOKUP($A226,Filtro!$A$4:$AY$344,3,FALSE),0)","v":0},{"$f":"IFERROR(VLOOKUP($A226,Filtro!$A$4:$AY$344,4,FALSE),0)","v":0},{"$f":"IFERROR(VLOOKUP($A226,Filtro!$A$4:$AY$344,5,FALSE),0)","v":0}]
["80305054","0305054","Autocross match con linfocitos totales",{"$f":"IFERROR(VLOOKUP($A227,Filtro!$A$4:$AY$344,2,FALSE),0)","v":0},{"$f":"IFERROR(VLOOKUP($A227,Filtro!$A$4:$AY$344,3,FALSE),0)","v":0},{"$f":"IFERROR(VLOOKUP($A227,Filtro!$A$4:$AY$344,4,FALSE),0)","v":0},{"$f":"IFERROR(VLOOKUP($A227,Filtro!$A$4:$AY$344,5,FALSE),0)","v":0}]
["80305056","0305056","Alocrossmatch con linfocitos totales",{"$f":"IFERROR(VLOOKUP($A228,Filtro!$A$4:$AY$344,2,FALSE),0)","v":0},{"$f":"IFERROR(VLOOKUP($A228,Filtro!$A$4:$AY$344,3,FALSE),0)","v":0},{"$f":"IFERROR(VLOOKUP($A228,Filtro!$A$4:$AY$344,4,FALSE),0)","v":0},{"$f":"IFERROR(VLOOKUP($A228,Filtro!$A$4:$AY$344,5,FALSE),0)","v":0}]
["80305057","0305057","Alocrossmatch con linfocitos T y B",{"$f":"IFERROR(VLOOKUP($A229,Filtro!$A$4:$AY$344,2,FALSE),0)","v":0},{"$f":"IFERROR(VLOOKUP($A229,Filtro!$A$4:$AY$344,3,FALSE),0)","v":0},{"$f":"IFERROR(VLOOKUP($A229,Filtro!$A$4:$AY$344,4,FALSE),0)","v":0},{"$f":"IFERROR(VLOOKUP($A229,Filtro!$A$4:$AY$344,5,FALSE),0)","v":0}]
["80305058","0305058","Cultivo mixto de linfocitos",{"$f":"IFERROR(VLOOKUP($A230,Filtro!$A$4:$AY$344,2,FALSE),0)","v":0},{"$f":"IFERROR(VLOOKUP($A230,Filtro!$A$4:$AY$344,3,FALSE),0)","v":0},{"$f":"IFERROR(VLOOKUP($A230,Filtro!$A$4:$AY$344,4,FALSE),0)","v":0},{"$f":"IFERROR(VLOOKUP($A230,Filtro!$A$4:$AY$344,5,FALSE),0)","v":0}]
["80305059","0305059","Identificación de clase de inmunoglobulinas de auto o alo cross match positivo",{"$f":"IFERROR(VLOOKUP($A231,Filtro!$A$4:$AY$344,2,FALSE),0)","v":0},{"$f":"IFERROR(VLOOKUP($A231,Filtro!$A$4:$AY$344,3,FALSE),0)","v":0},{"$f":"IFERROR(VLOOKUP($A231,Filtro!$A$4:$AY$344,4,FALSE),0)","v":0},{"$f":"IFERROR(VLOOKUP($A231,Filtro!$A$4:$AY$344,5,FALSE),0)","v":0}]
["80305060","0305060","Tipificación HLA B-27",{"$f":"IFERROR(VLOOKUP($A232,Filtro!$A$4:$AY$344,2,FALSE),0)","v":0},{"$f":"IFERROR(VLOOKUP($A232,Filtro!$A$4:$AY$344,3,FALSE),0)","v":0},{"$f":"IFERROR(VLOOKUP($A232,Filtro!$A$4:$AY$344,4,FALSE),0)","v":0},{"$f":"IFERROR(VLOOKUP($A232,Filtro!$A$4:$AY$344,5,FALSE),0)","v":1}]
["80305061","0305061","Tipificación HLA B-8",{"$f":"IFERROR(VLOOKUP($A233,Filtro!$A$4:$AY$344,2,FALSE),0)","v":0},{"$f":"IFERROR(VLOOKUP($A233,Filtro!$A$4:$AY$344,3,FALSE),0)","v":0},{"$f":"IFERROR(VLOOKUP($A233,Filtro!$A$4:$AY$344,4,FALSE),0)","v":0},{"$f":"IFERROR(VLOOKUP($A233,Filtro!$A$4:$AY$344,5,FALSE),0)","v":0}]
["80305062","0305062","Tipificación HLA  - DR serológica",{"$f":"IFERROR(VLOOKUP($A234,Filtro!$A$4:$AY$344,2,FALSE),0)","v":0},{"$f":"IFERROR(VLOOKUP($A234,Filtro!$A$4:$AY$344,3,FALSE),0)","v":0},{"$f":"IFERROR(VLOOKUP($A234,Filtro!$A$4:$AY$344,4,FALSE),0)","v":0},{"$f":"IFERROR(VLOOKUP($A234,Filtro!$A$4:$AY$344,5,FALSE),0)","v":0}]
["80305063","0305063","Tipificación HLA - A, B serológica",{"$f":"IFERROR(VLOOKUP($A235,Filtro!$A$4:$AY$344,2,FALSE),0)","v":0},{"$f":"IFERROR(VLOOKUP($A235,Filtro!$A$4:$AY$344,3,FALSE),0)","v":0},{"$f":"IFERROR(VLOOKUP($A235,Filtro!$A$4:$AY$344,4,FALSE),0)","v":0},{"$f":"IFERROR(VLOOKUP($A235,Filtro!$A$4:$AY$344,5,FALSE),0)","v":0}]
[null,"TOTAL",null,{"$f":"SUM(D179:D235)","v":{"v":2538,"d":"2,538"}},{"$f":"SUM(E179:E235)","v":0},{"$f":"SUM(F179:F235)","v":{"v":2537,"d":"2,537"}},{"$f":"SUM(G179:G235)","v":{"v":3735,"d":"3,735"}}]
[null,"5.- MICROBIOLÓGICOS"]
["80306001","0306001","Baciloscopía Ziehl-Neelsen por concentración de líquidos (orina u otros), c/u",{"$f":"IFERROR(VLOOKUP($A238,Filtro!$A$4:$AY$344,2,FALSE),0)","v":0},{"$f":"IFERROR(VLOOKUP($A238,Filtro!$A$4:$AY$344,3,FALSE),0)","v":0},{"$f":"IFERROR(VLOOKUP($A238,Filtro!$A$4:$AY$344,4,FALSE),0)","v":0},{"$f":"IFERROR(VLOOKUP($A238,Filtro!$A$4:$AY$344,5,FALSE),0)","v":120}]
["80306002","0306002","Baciloscopía Ziehl-Neelsen, c/u",{"$f":"IFERROR(VLOOKUP($A239,Filtro!$A$4:$AY$344,2,FALSE),0)","v":19},{"$f":"IFERROR(VLOOKUP($A239,Filtro!$A$4:$AY$344,3,FALSE),0)","v":0},{"$f":"IFERROR(VLOOKUP($A239,Filtro!$A$4:$AY$344,4,FALSE),0)","v":19},{"$f":"IFERROR(VLOOKUP($A239,Filtro!$A$4:$AY$344,5,FALSE),0)","v":482}]
["80306004","0306004","Examen directo al fresco, c/s tinción (incluye trichomonas)",{"$f":"IFERROR(VLOOKUP($A240,Filtro!$A$4:$AY$344,2,FALSE),0)","v":182},{"$f":"IFERROR(VLOOKUP($A240,Filtro!$A$4:$AY$344,3,FALSE),0)","v":0},{"$f":"IFERROR(VLOOKUP($A240,Filtro!$A$4:$AY$344,4,FALSE),0)","v":182},{"$f":"IFERROR(VLOOKUP($A240,Filtro!$A$4:$AY$344,5,FALSE),0)","v":13}]
["80306005","0306005","Tinción de Gram",{"$f":"IFERROR(VLOOKUP($A241,Filtro!$A$4:$AY$344,2,FALSE),0)","v":280},{"$f":"IFERROR(VLOOKUP($A241,Filtro!$A$4:$AY$344,3,FALSE),0)","v":0},{"$f":"IFERROR(VLOOKUP($A241,Filtro!$A$4:$AY$344,4,FALSE),0)","v":280},{"$f":"IFERROR(VLOOKUP($A241,Filtro!$A$4:$AY$344,5,FALSE),0)","v":11}]
["80306006","0306006","Ultramicroscopía (incluye toma de muestras)",{"$f":"IFERROR(VLOOKUP($A242,Filtro!$A$4:$AY$344,2,FALSE),0)","v":0},{"$f":"IFERROR(VLOOKUP($A242,Filtro!$A$4:$AY$344,3,FALSE),0)","v":0},{"$f":"IFERROR(VLOOKUP($A242,Filtro!$A$4:$AY$344,4,FALSE),0)","v":0},{"$f":"IFERROR(VLOOKUP($A242,Filtro!$A$4:$AY$344,5,FALSE),0)","v":0}]
["80306007","0306007","Coprocultivo, c/u",{"$f":"IFERROR(VLOOKUP($A243,Filtro!$A$4:$AY$344,2,FALSE),0)","v":160},{"$f":"IFERROR(VLOOKUP($A243,Filtro!$A$4:$AY$344,3,FALSE),0)","v":0},{"$f":"IFERROR(VLOOKUP($A243,Filtro!$A$4:$AY$344,4,FALSE),0)","v":160},{"$f":"IFERROR(VLOOKUP($A243,Filtro!$A$4:$AY$344,5,FALSE),0)","v":111}]
["80306008","0306008","Corriente (excepto coprocultivo, hemocultivo y urocultivo) c/u",{"$f":"IFERROR(VLOOKUP($A244,Filtro!$A$4:$AY$344,2,FALSE),0)","v":230},{"$f":"IFERROR(VLOOKUP($A244,Filtro!$A$4:$AY$344,3,FALSE),0)","v":0},{"$f":"IFERROR(VLOOKUP($A244,Filtro!$A$4:$AY$344,4,FALSE),0)","v":230},{"$f":"IFERROR(VLOOKUP($A244,Filtro!$A$4:$AY$344,5,FALSE),0)","v":92}]
["80306009","0306009","Hemocultivo aerobio, c/u",{"$f":"IFERROR(VLOOKUP($A245,Filtro!$A$4:$AY$344,2,FALSE),0)","v":0},{"$f":"IFERROR(VLOOKUP($A245,Filtro!$A$4:$AY$344,3,FALSE),0)","v":0},{"$f":"IFERROR(VLOOKUP($A245,Filtro!$A$4:$AY$344,4,FALSE),0)","v":0},{"$f":"IFERROR(VLOOKUP($A245,Filtro!$A$4:$AY$344,5,FALSE),0)","v":0}]
["80306010","0306010","Hemocultivo anaerobio, c/u",{"$f":"IFERROR(VLOOKUP($A246,Filtro!$A$4:$AY$344,2,FALSE),0)","v":0},{"$f":"IFERROR(VLOOKUP($A246,Filtro!$A$4:$AY$344,3,FALSE),0)","v":0},{"$f":"IFERROR(VLOOKUP($A246,Filtro!$A$4:$AY$344,4,FALSE),0)","v":0},{"$f":"IFERROR(VLOOKUP($A246,Filtro!$A$4:$AY$344,5,FALSE),0)","v":1}]
["80306011","0306011","Urocultivo, recuento de colonias y antibiograma (cualquier técnica) (incluye toma de orina aséptica) (no incluye recolector pediátrico)",{"$f":"IFERROR(VLOOKUP($A247,Filtro!$A$4:$AY$344,2,FALSE),0)","v":{"v":8054,"d":"8,054"}},{"$f":"IFERROR(VLOOKUP($A247,Filtro!$A$4:$AY$344,3,FALSE),0)","v":0},{"$f":"IFERROR(VLOOKUP($A247,Filtro!$A$4:$AY$344,4,FALSE),0)","v":{"v":8038,"d":"8,038"}},{"$f":"IFERROR(VLOOKUP($A247,Filtro!$A$4:$AY$344,5,FALSE),0)","v":{"v":14377,"d":"14,377"}}]
["80306012","0306012","Anaerobios (incluye cód. 03-06-008)",{"$f":"IFERROR(VLOOKUP($A248,Filtro!$A$4:$AY$344,2,FALSE),0)","v":0},{"$f":"IFERROR(VLOOKUP($A248,Filtro!$A$4:$AY$344,3,FALSE),0)","v":0},{"$f":"IFERROR(VLOOKUP($A248,Filtro!$A$4:$AY$344,4,FALSE),0)","v":0},{"$f":"IFERROR(VLOOKUP($A248,Filtro!$A$4:$AY$344,5,FALSE),0)","v":0}]
["80306013","0306013","Cultivo específico para Bordetella",{"$f":"IFERROR(VLOOKUP($A249,Filtro!$A$4:$AY$344,2,FALSE),0)","v":0},{"$f":"IFERROR(VLOOKUP($A249,Filtro!$A$4:$AY$344,3,FALSE),0)","v":0},{"$f":"IFERROR(VLOOKUP($A249,Filtro!$A$4:$AY$344,4,FALSE),0)","v":0},{"$f":"IFERROR(VLOOKUP($A249,Filtro!$A$4:$AY$344,5,FALSE),0)","v":0}]
["80306014","0306014","Cultivo para Campylobacter, Yersinia, Vibrio, c/u",{"$f":"IFERROR(VLOOKUP($A250,Filtro!$A$4:$AY$344,2,FALSE),0)","v":0},{"$f":"IFERROR(VLOOKUP($A250,Filtro!$A$4:$AY$344,3,FALSE),0)","v":0},{"$f":"IFERROR(VLOOKUP($A250,Filtro!$A$4:$AY$344,4,FALSE),0)","v":0},{"$f":"IFERROR(VLOOKUP($A250,Filtro!$A$4:$AY$344,5,FALSE),0)","v":8}]
["80306015","0306015","Difteria",{"$f":"IFERROR(VLOOKUP($A251,Filtro!$A$4:$AY$344,2,FALSE),0)","v":0},{"$f":"IFERROR(VLOOKUP($A251,Filtro!$A$4:$AY$344,3,FALSE),0)","v":0},{"$f":"IFERROR(VLOOKUP($A251,Filtro!$A$4:$AY$344,4,FALSE),0)","v":0},{"$f":"IFERROR(VLOOKUP($A251,Filtro!$A$4:$AY$344,5,FALSE),0)","v":0}]
["80306016","0306016","Neisseria gonorrhoeae (gonococo)",{"$f":"IFERROR(VLOOKUP($A252,Filtro!$A$4:$AY$344,2,FALSE),0)","v":0},{"$f":"IFERROR(VLOOKUP($A252,Filtro!$A$4:$AY$344,3,FALSE),0)","v":0},{"$f":"IFERROR(VLOOKUP($A252,Filtro!$A$4:$AY$344,4,FALSE),0)","v":0},{"$f":"IFERROR(VLOOKUP($A252,Filtro!$A$4:$AY$344,5,FALSE),0)","v":6}]
["80306017","0306017","Cultivo para Levaduras",{"$f":"IFERROR(VLOOKUP($A253,Filtro!$A$4:$AY$344,2,FALSE),0)","v":166},{"$f":"IFERROR(VLOOKUP($A253,Filtro!$A$4:$AY$344,3,FALSE),0)","v":0},{"$f":"IFERROR(VLOOKUP($A253,Filtro!$A$4:$AY$344,4,FALSE),0)","v":166},{"$f":"IFERROR(VLOOKUP($A253,Filtro!$A$4:$AY$344,5,FALSE),0)","v":1}]
["80306117","0306117","Hongos Filamentosos",{"$f":"IFERROR(VLOOKUP($A254,Filtro!$A$4:$AY$344,2,FALSE),0)","v":9},{"$f":"IFERROR(VLOOKUP($A254,Filtro!$A$4:$AY$344,3,FALSE),0)","v":0},{"$f":"IFERROR(VLOOKUP($A254,Filtro!$A$4:$AY$344,4,FALSE),0)","v":9},{"$f":"IFERROR(VLOOKUP($A254,Filtro!$A$4:$AY$344,5,FALSE),0)","v":1}]
["80306018","0306018","Cultivo para bacilo de Koch, (incluye otras micobacterias)",{"$f":"IFERROR(VLOOKUP($A255,Filtro!$A$4:$AY$344,2,FALSE),0)","v":0},{"$f":"IFERROR(VLOOKUP($A255,Filtro!$A$4:$AY$344,3,FALSE),0)","v":0},{"$f":"IFERROR(VLOOKUP($A255,Filtro!$A$4:$AY$344,4,FALSE),0)","v":0},{"$f":"IFERROR(VLOOKUP($A255,Filtro!$A$4:$AY$344,5,FALSE),0)","v":25}]
["80306019","0306019","Cultivo para Legionella",{"$f":"IFERROR(VLOOKUP($A256,Filtro!$A$4:$AY$344,2,FALSE),0)","v":0},{"$f":"IFERROR(VLOOKUP($A256,Filtro!$A$4:$AY$344,3,FALSE),0)","v":0},{"$f":"IFERROR(VLOOKUP($A256,Filtro!$A$4:$AY$344,4,FALSE),0)","v":0},{"$f":"IFERROR(VLOOKUP($A256,Filtro!$A$4:$AY$344,5,FALSE),0)","v":0}]
["80306020","0306020","Listeria",{"$f":"IFERROR(VLOOKUP($A257,Filtro!$A$4:$AY$344,2,FALSE),0)","v":0},{"$f":"IFERROR(VLOOKUP($A257,Filtro!$A$4:$AY$344,3,FALSE),0)","v":0},{"$f":"IFERROR(VLOOKUP($A257,Filtro!$A$4:$AY$344,4,FALSE),0)","v":0},{"$f":"IFERROR(VLOOKUP($A257,Filtro!$A$4:$AY$344,5,FALSE),0)","v":0}]
["80306021","0306021","Neisseria meningitidis (meningococo)",{"$f":"IFERROR(VLOOKUP($A258,Filtro!$A$4:$AY$344,2,FALSE),0)","v":0},{"$f":"IFERROR(VLOOKUP($A258,Filtro!$A$4:$AY$344,3,FALSE),0)","v":0},{"$f":"IFERROR(VLOOKUP($A258,Filtro!$A$4:$AY$344,4,FALSE),0)","v":0},{"$f":"IFERROR(VLOOKUP($A258,Filtro!$A$4:$AY$344,5,FALSE),0)","v":0}]
["80306022","0306022","Cultivo y Tipificación de micobacterias",{"$f":"IFERROR(VLOOKUP($A259,Filtro!$A$4:$AY$344,2,FALSE),0)","v":0},{"$f":"IFERROR(VLOOKUP($A259,Filtro!$A$4:$AY$344,3,FALSE),0)","v":0},{"$f":"IFERROR(VLOOKUP($A259,Filtro!$A$4:$AY$344,4,FALSE),0)","v":0},{"$f":"IFERROR(VLOOKUP($A259,Filtro!$A$4:$AY$344,5,FALSE),0)","v":3}]
["80306023","0306023","Mycoplasma y Ureaplasma, c/u",{"$f":"IFERROR(VLOOKUP($A260,Filtro!$A$4:$AY$344,2,FALSE),0)","v":0},{"$f":"IFERROR(VLOOKUP($A260,Filtro!$A$4:$AY$344,3,FALSE),0)","v":0},{"$f":"IFERROR(VLOOKUP($A260,Filtro!$A$4:$AY$344,4,FALSE),0)","v":0},{"$f":"IFERROR(VLOOKUP($A260,Filtro!$A$4:$AY$344,5,FALSE),0)","v":0}]
["80306024","0306024","Anaerobios  (mínimo 4 fármacos)",{"$f":"IFERROR(VLOOKUP($A261,Filtro!$A$4:$AY$344,2,FALSE),0)","v":0},{"$f":"IFERROR(VLOOKUP($A261,Filtro!$A$4:$AY$344,3,FALSE),0)","v":0},{"$f":"IFERROR(VLOOKUP($A261,Filtro!$A$4:$AY$344,4,FALSE),0)","v":0},{"$f":"IFERROR(VLOOKUP($A261,Filtro!$A$4:$AY$344,5,FALSE),0)","v":11}]
["80306025","0306025","Bacilo de Koch (cada fármaco)",{"$f":"IFERROR(VLOOKUP($A262,Filtro!$A$4:$AY$344,2,FALSE),0)","v":0},{"$f":"IFERROR(VLOOKUP($A262,Filtro!$A$4:$AY$344,3,FALSE),0)","v":0},{"$f":"IFERROR(VLOOKUP($A262,Filtro!$A$4:$AY$344,4,FALSE),0)","v":0},{"$f":"IFERROR(VLOOKUP($A262,Filtro!$A$4:$AY$344,5,FALSE),0)","v":2}]
["80306026","0306026","Corriente (mínimo 10 fármacos) (en caso de urocultivo no corresponde su cobro; incluido en el valor 03-06-011)",{"$f":"IFERROR(VLOOKUP($A263,Filtro!$A$4:$AY$344,2,FALSE),0)","v":250},{"$f":"IFERROR(VLOOKUP($A263,Filtro!$A$4:$AY$344,3,FALSE),0)","v":0},{"$f":"IFERROR(VLOOKUP($A263,Filtro!$A$4:$AY$344,4,FALSE),0)","v":250},{"$f":"IFERROR(VLOOKUP($A263,Filtro!$A$4:$AY$344,5,FALSE),0)","v":9}]
["80306027","0306027","Estudio de sensibilidad por dilución (CIM) (mínimo 6 fármacos) (en caso de urocultivo, no corresponde su cobro; incluido en el valor código 03-06-011)",{"$f":"IFERROR(VLOOKUP($A264,Filtro!$A$4:$AY$344,2,FALSE),0)","v":0},{"$f":"IFERROR(VLOOKUP($A264,Filtro!$A$4:$AY$344,3,FALSE),0)","v":0},{"$f":"IFERROR(VLOOKUP($A264,Filtro!$A$4:$AY$344,4,FALSE),0)","v":0},{"$f":"IFERROR(VLOOKUP($A264,Filtro!$A$4:$AY$344,5,FALSE),0)","v":0}]
["80306028","0306028","Antifungigrama (mínimo 4 fármacos antihongos)",{"$f":"IFERROR(VLOOKUP($A265,Filtro!$A$4:$AY$344,2,FALSE),0)","v":0},{"$f":"IFERROR(VLOOKUP($A265,Filtro!$A$4:$AY$344,3,FALSE),0)","v":0},{"$f":"IFERROR(VLOOKUP($A265,Filtro!$A$4:$AY$344,4,FALSE),0)","v":0},{"$f":"IFERROR(VLOOKUP($A265,Filtro!$A$4:$AY$344,5,FALSE),0)","v":0}]
["80306029","0306029","Autovacunas, incluye cultivo y preparación  de mínimo 10 ampollas",{"$f":"IFERROR(VLOOKUP($A266,Filtro!$A$4:$AY$344,2,FALSE),0)","v":0},{"$f":"IFERROR(VLOOKUP($A266,Filtro!$A$4:$AY$344,3,FALSE),0)","v":0},{"$f":"IFERROR(VLOOKUP($A266,Filtro!$A$4:$AY$344,4,FALSE),0)","v":0},{"$f":"IFERROR(VLOOKUP($A266,Filtro!$A$4:$AY$344,5,FALSE),0)","v":0}]
["80306030","0306030","Poder bactericida del suero",{"$f":"IFERROR(VLOOKUP($A267,Filtro!$A$4:$AY$344,2,FALSE),0)","v":0},{"$f":"IFERROR(VLOOKUP($A267,Filtro!$A$4:$AY$344,3,FALSE),0)","v":0},{"$f":"IFERROR(VLOOKUP($A267,Filtro!$A$4:$AY$344,4,FALSE),0)","v":0},{"$f":"IFERROR(VLOOKUP($A267,Filtro!$A$4:$AY$344,5,FALSE),0)","v":0}]
["80306031","0306031","Preparación de vacunas uni o polivalentes mantenidas en stock (mínimo 5 ampollas)",{"$f":"IFERROR(VLOOKUP($A268,Filtro!$A$4:$AY$344,2,FALSE),0)","v":0},{"$f":"IFERROR(VLOOKUP($A268,Filtro!$A$4:$AY$344,3,FALSE),0)","v":0},{"$f":"IFERROR(VLOOKUP($A268,Filtro!$A$4:$AY$344,4,FALSE),0)","v":0},{"$f":"IFERROR(VLOOKUP($A268,Filtro!$A$4:$AY$344,5,FALSE),0)","v":0}]
["80306032","0306032","Aspergilosis, candidiasis, histoplasmosis u otros hongos por inmunodiagnóstico c/u",{"$f":"IFERROR(VLOOKUP($A269,Filtro!$A$4:$AY$344,2,FALSE),0)","v":0},{"$f":"IFERROR(VLOOKUP($A269,Filtro!$A$4:$AY$344,3,FALSE),0)","v":0},{"$f":"IFERROR(VLOOKUP($A269,Filtro!$A$4:$AY$344,4,FALSE),0)","v":0},{"$f":"IFERROR(VLOOKUP($A269,Filtro!$A$4:$AY$344,5,FALSE),0)","v":0}]
["80306033","0306033","Brucella, reacción de aglutinación para (Wright-Hudleson) o similares",{"$f":"IFERROR(VLOOKUP($A270,Filtro!$A$4:$AY$344,2,FALSE),0)","v":0},{"$f":"IFERROR(VLOOKUP($A270,Filtro!$A$4:$AY$344,3,FALSE),0)","v":0},{"$f":"IFERROR(VLOOKUP($A270,Filtro!$A$4:$AY$344,4,FALSE),0)","v":0},{"$f":"IFERROR(VLOOKUP($A270,Filtro!$A$4:$AY$344,5,FALSE),0)","v":0}]
["80306034","0306034","Clamidias por inmunofluorescencia, peroxidasa, Elisa o similares",{"$f":"IFERROR(VLOOKUP($A271,Filtro!$A$4:$AY$344,2,FALSE),0)","v":0},{"$f":"IFERROR(VLOOKUP($A271,Filtro!$A$4:$AY$344,3,FALSE),0)","v":0},{"$f":"IFERROR(VLOOKUP($A271,Filtro!$A$4:$AY$344,4,FALSE),0)","v":0},{"$f":"IFERROR(VLOOKUP($A271,Filtro!$A$4:$AY$344,5,FALSE),0)","v":30}]
["80306036","0306036","Mononucleosis, reacción de Paul Bunnell, Anticuerpos Heterófilos o similares",{"$f":"IFERROR(VLOOKUP($A272,Filtro!$A$4:$AY$344,2,FALSE),0)","v":0},{"$f":"IFERROR(VLOOKUP($A272,Filtro!$A$4:$AY$344,3,FALSE),0)","v":0},{"$f":"IFERROR(VLOOKUP($A272,Filtro!$A$4:$AY$344,4,FALSE),0)","v":0},{"$f":"IFERROR(VLOOKUP($A272,Filtro!$A$4:$AY$344,5,FALSE),0)","v":0}]
["80306037","0306037","Mycoplasma IgG, IgM, c/u. ",{"$f":"IFERROR(VLOOKUP($A273,Filtro!$A$4:$AY$344,2,FALSE),0)","v":0},{"$f":"IFERROR(VLOOKUP($A273,Filtro!$A$4:$AY$344,3,FALSE),0)","v":0},{"$f":"IFERROR(VLOOKUP($A273,Filtro!$A$4:$AY$344,4,FALSE),0)","v":0},{"$f":"IFERROR(VLOOKUP($A273,Filtro!$A$4:$AY$344,5,FALSE),0)","v":38}]
["80306038","0306038","R.P.R.",{"$f":"IFERROR(VLOOKUP($A274,Filtro!$A$4:$AY$344,2,FALSE),0)","v":{"v":4666,"d":"4,666"}},{"$f":"IFERROR(VLOOKUP($A274,Filtro!$A$4:$AY$344,3,FALSE),0)","v":0},{"$f":"IFERROR(VLOOKUP($A274,Filtro!$A$4:$AY$344,4,FALSE),0)","v":{"v":4666,"d":"4,666"}},{"$f":"IFERROR(VLOOKUP($A274,Filtro!$A$4:$AY$344,5,FALSE),0)","v":{"v":1007,"d":"1,007"}}]
["80306039","0306039","Tíficas, reacciones de aglutinación  (Eberth H y O, paratyphi A y B) (Widal)",{"$f":"IFERROR(VLOOKUP($A275,Filtro!$A$4:$AY$344,2,FALSE),0)","v":0},{"$f":"IFERROR(VLOOKUP($A275,Filtro!$A$4:$AY$344,3,FALSE),0)","v":0},{"$f":"IFERROR(VLOOKUP($A275,Filtro!$A$4:$AY$344,4,FALSE),0)","v":0},{"$f":"IFERROR(VLOOKUP($A275,Filtro!$A$4:$AY$344,5,FALSE),0)","v":0}]
["80306041","0306041","Treponema pallidum FTA - ABS, MHA-TP c/u",{"$f":"IFERROR(VLOOKUP($A276,Filtro!$A$4:$AY$344,2,FALSE),0)","v":0},{"$f":"IFERROR(VLOOKUP($A276,Filtro!$A$4:$AY$344,3,FALSE),0)","v":0},{"$f":"IFERROR(VLOOKUP($A276,Filtro!$A$4:$AY$344,4,FALSE),0)","v":0},{"$f":"IFERROR(VLOOKUP($A276,Filtro!$A$4:$AY$344,5,FALSE),0)","v":0}]
["80306042","0306042","V.D.R.L.",{"$f":"IFERROR(VLOOKUP($A277,Filtro!$A$4:$AY$344,2,FALSE),0)","v":33},{"$f":"IFERROR(VLOOKUP($A277,Filtro!$A$4:$AY$344,3,FALSE),0)","v":0},{"$f":"IFERROR(VLOOKUP($A277,Filtro!$A$4:$AY$344,4,FALSE),0)","v":16},{"$f":"IFERROR(VLOOKUP($A277,Filtro!$A$4:$AY$344,5,FALSE),0)","v":{"v":14692,"d":"14,692"}}]
["80306043","0306043","Artrópodos macroscópicos y microscópicos (imagos y/o pupas y/o larvas), diagnóstico de",{"$f":"IFERROR(VLOOKUP($A278,Filtro!$A$4:$AY$344,2,FALSE),0)","v":0},{"$f":"IFERROR(VLOOKUP($A278,Filtro!$A$4:$AY$344,3,FALSE),0)","v":0},{"$f":"IFERROR(VLOOKUP($A278,Filtro!$A$4:$AY$344,4,FALSE),0)","v":0},{"$f":"IFERROR(VLOOKUP($A278,Filtro!$A$4:$AY$344,5,FALSE),0)","v":0}]
["80306045","0306045","Coproparasitario seriado con técnica  para Cryptosporidium sp o para Diantamoeba fragilis (incluye los códigos 03-06-048 y/o 03-06-059 más aplicación de técnica de frotis con tinción tricrómica o tinción Ziehl-Neelsen en por lo menos 3 muestras, según corresponda)",{"$f":"IFERROR(VLOOKUP($A279,Filtro!$A$4:$AY$344,2,FALSE),0)","v":0},{"$f":"IFERROR(VLOOKUP($A279,Filtro!$A$4:$AY$344,3,FALSE),0)","v":0},{"$f":"IFERROR(VLOOKUP($A279,Filtro!$A$4:$AY$344,4,FALSE),0)","v":0},{"$f":"IFERROR(VLOOKUP($A279,Filtro!$A$4:$AY$344,5,FALSE),0)","v":4}]
["80306046","0306046","Coproparasitario seriado para Fasciola hepática (incluye diagnostico de gusanos macroscópicos y ex. microscópico de 10 muestras separadas por método de Telemann y de otras 10 muestras separadas y simultáneas con las ant. por téc. de sedimentación)",{"$f":"IFERROR(VLOOKUP($A280,Filtro!$A$4:$AY$344,2,FALSE),0)","v":0},{"$f":"IFERROR(VLOOKUP($A280,Filtro!$A$4:$AY$344,3,FALSE),0)","v":0},{"$f":"IFERROR(VLOOKUP($A280,Filtro!$A$4:$AY$344,4,FALSE),0)","v":0},{"$f":"IFERROR(VLOOKUP($A280,Filtro!$A$4:$AY$344,5,FALSE),0)","v":0}]
["80306047","0306047","Coproparasitario seriado para Isospora y Sarcocystis (incluye diagnóstico de gusanos macroscópicos y examen  microscópico de 3 muestras separadas)",{"$f":"IFERROR(VLOOKUP($A281,Filtro!$A$4:$AY$344,2,FALSE),0)","v":0},{"$f":"IFERROR(VLOOKUP($A281,Filtro!$A$4:$AY$344,3,FALSE),0)","v":0},{"$f":"IFERROR(VLOOKUP($A281,Filtro!$A$4:$AY$344,4,FALSE),0)","v":0},{"$f":"IFERROR(VLOOKUP($A281,Filtro!$A$4:$AY$344,5,FALSE),0)","v":0}]
["80306048","0306048","Coproparasitológico seriado simple (incluye diagnostico de gusanos macroscópicos y examen microscópico por concentración de 3 muestras separadas método Telemann) (proc. aut.)",{"$f":"IFERROR(VLOOKUP($A282,Filtro!$A$4:$AY$344,2,FALSE),0)","v":233},{"$f":"IFERROR(VLOOKUP($A282,Filtro!$A$4:$AY$344,3,FALSE),0)","v":0},{"$f":"IFERROR(VLOOKUP($A282,Filtro!$A$4:$AY$344,4,FALSE),0)","v":233},{"$f":"IFERROR(VLOOKUP($A282,Filtro!$A$4:$AY$344,5,FALSE),0)","v":219}]
["80306049","0306049","Diagnostico de parásitos en jugo duodenal y/o bilis, examen macroscópico y microscópico (directo y/o concentración, c/s tinción)",{"$f":"IFERROR(VLOOKUP($A283,Filtro!$A$4:$AY$344,2,FALSE),0)","v":0},{"$f":"IFERROR(VLOOKUP($A283,Filtro!$A$4:$AY$344,3,FALSE),0)","v":0},{"$f":"IFERROR(VLOOKUP($A283,Filtro!$A$4:$AY$344,4,FALSE),0)","v":0},{"$f":"IFERROR(VLOOKUP($A283,Filtro!$A$4:$AY$344,5,FALSE),0)","v":0}]
["80306050","0306050","Diagnostico parasitario en exudados, secreciones y otros líquidos orgánicos (no especificados mas adelante), examen macro y microscópico de (incluye concentración y/o tinción cuando proceda), c/u",{"$f":"IFERROR(VLOOKUP($A284,Filtro!$A$4:$AY$344,2,FALSE),0)","v":0},{"$f":"IFERROR(VLOOKUP($A284,Filtro!$A$4:$AY$344,3,FALSE),0)","v":0},{"$f":"IFERROR(VLOOKUP($A284,Filtro!$A$4:$AY$344,4,FALSE),0)","v":0},{"$f":"IFERROR(VLOOKUP($A284,Filtro!$A$4:$AY$344,5,FALSE),0)","v":0}]
["80306051","0306051","Graham, examen de (incluye diagnostico de gusanos macroscópicos y examen microscópico de 5 muestras separadas)",{"$f":"IFERROR(VLOOKUP($A285,Filtro!$A$4:$AY$344,2,FALSE),0)","v":133},{"$f":"IFERROR(VLOOKUP($A285,Filtro!$A$4:$AY$344,3,FALSE),0)","v":0},{"$f":"IFERROR(VLOOKUP($A285,Filtro!$A$4:$AY$344,4,FALSE),0)","v":133},{"$f":"IFERROR(VLOOKUP($A285,Filtro!$A$4:$AY$344,5,FALSE),0)","v":172}]
["80306052","0306052","Gusanos macroscópicos, diagnóstico de (proc. aut.)",{"$f":"IFERROR(VLOOKUP($A286,Filtro!$A$4:$AY$344,2,FALSE),0)","v":3},{"$f":"IFERROR(VLOOKUP($A286,Filtro!$A$4:$AY$344,3,FALSE),0)","v":0},{"$f":"IFERROR(VLOOKUP($A286,Filtro!$A$4:$AY$344,4,FALSE),0)","v":3},{"$f":"IFERROR(VLOOKUP($A286,Filtro!$A$4:$AY$344,5,FALSE),0)","v":61}]
["80306053","0306053","Hemoparásitos, diagnóstico microscópico de (mínimo 10 frotis y/o gotas gruesas, c/s examen directo al fresco), cada sesión",{"$f":"IFERROR(VLOOKUP($A287,Filtro!$A$4:$AY$344,2,FALSE),0)","v":0},{"$f":"IFERROR(VLOOKUP($A287,Filtro!$A$4:$AY$344,3,FALSE),0)","v":0},{"$f":"IFERROR(VLOOKUP($A287,Filtro!$A$4:$AY$344,4,FALSE),0)","v":0},{"$f":"IFERROR(VLOOKUP($A287,Filtro!$A$4:$AY$344,5,FALSE),0)","v":41}]
["80306054","0306054","Hemoparásitos, diagnóstico por técnica de Strout o similar en hasta 10 tubos capilares, cada sesión",{"$f":"IFERROR(VLOOKUP($A288,Filtro!$A$4:$AY$344,2,FALSE),0)","v":0},{"$f":"IFERROR(VLOOKUP($A288,Filtro!$A$4:$AY$344,3,FALSE),0)","v":0},{"$f":"IFERROR(VLOOKUP($A288,Filtro!$A$4:$AY$344,4,FALSE),0)","v":0},{"$f":"IFERROR(VLOOKUP($A288,Filtro!$A$4:$AY$344,5,FALSE),0)","v":6}]
["80306056","0306056","Raspado de piel, examen microscópico de (\"Acarotest\"): de 6 a 10 preparaciones",{"$f":"IFERROR(VLOOKUP($A289,Filtro!$A$4:$AY$344,2,FALSE),0)","v":16},{"$f":"IFERROR(VLOOKUP($A289,Filtro!$A$4:$AY$344,3,FALSE),0)","v":0},{"$f":"IFERROR(VLOOKUP($A289,Filtro!$A$4:$AY$344,4,FALSE),0)","v":16},{"$f":"IFERROR(VLOOKUP($A289,Filtro!$A$4:$AY$344,5,FALSE),0)","v":0}]
["80306057","0306057","Tenias post. trat., Diagnostico y búsqueda de escólex de",{"$f":"IFERROR(VLOOKUP($A290,Filtro!$A$4:$AY$344,2,FALSE),0)","v":0},{"$f":"IFERROR(VLOOKUP($A290,Filtro!$A$4:$AY$344,3,FALSE),0)","v":0},{"$f":"IFERROR(VLOOKUP($A290,Filtro!$A$4:$AY$344,4,FALSE),0)","v":0},{"$f":"IFERROR(VLOOKUP($A290,Filtro!$A$4:$AY$344,5,FALSE),0)","v":0}]
["80306058","0306058","Xenodiagnóstico (cada aplicación de 2 cajas, con 6 ninfas por lo menos c/u, examinadas a los 20 y/o 30 días y hasta por 60 días más si procede)",{"$f":"IFERROR(VLOOKUP($A291,Filtro!$A$4:$AY$344,2,FALSE),0)","v":0},{"$f":"IFERROR(VLOOKUP($A291,Filtro!$A$4:$AY$344,3,FALSE),0)","v":0},{"$f":"IFERROR(VLOOKUP($A291,Filtro!$A$4:$AY$344,4,FALSE),0)","v":0},{"$f":"IFERROR(VLOOKUP($A291,Filtro!$A$4:$AY$344,5,FALSE),0)","v":0}]
["80306059","0306059","Coproparasitológico seriado simple (incluye diagnóstico de gusanos macroscopicos  y exámen microscopico por concentración de tres muestras separadas método PAFS (proc. aut.)",{"$f":"IFERROR(VLOOKUP($A292,Filtro!$A$4:$AY$344,2,FALSE),0)","v":245},{"$f":"IFERROR(VLOOKUP($A292,Filtro!$A$4:$AY$344,3,FALSE),0)","v":0},{"$f":"IFERROR(VLOOKUP($A292,Filtro!$A$4:$AY$344,4,FALSE),0)","v":243},{"$f":"IFERROR(VLOOKUP($A292,Filtro!$A$4:$AY$344,5,FALSE),0)","v":283}]
["80306061","0306061","Elisa indirecta (Chagas, hidatidosis, toxocariasis y otras), c/u",{"$f":"IFERROR(VLOOKUP($A293,Filtro!$A$4:$AY$344,2,FALSE),0)","v":645},{"$f":"IFERROR(VLOOKUP($A293,Filtro!$A$4:$AY$344,3,FALSE),0)","v":0},{"$f":"IFERROR(VLOOKUP($A293,Filtro!$A$4:$AY$344,4,FALSE),0)","v":645},{"$f":"IFERROR(VLOOKUP($A293,Filtro!$A$4:$AY$344,5,FALSE),0)","v":{"v":2829,"d":"2,829"}}]
["80306062","0306062","Fijación del complemento (distomatosis, toxoplasmosis, cisticercosis y otras) c/u",{"$f":"IFERROR(VLOOKUP($A294,Filtro!$A$4:$AY$344,2,FALSE),0)","v":0},{"$f":"IFERROR(VLOOKUP($A294,Filtro!$A$4:$AY$344,3,FALSE),0)","v":0},{"$f":"IFERROR(VLOOKUP($A294,Filtro!$A$4:$AY$344,4,FALSE),0)","v":0},{"$f":"IFERROR(VLOOKUP($A294,Filtro!$A$4:$AY$344,5,FALSE),0)","v":2}]
["80306063","0306063","Floculación en bentonita, látex, precipitinas o similar (triquinosis, hidatidosis y otros), c/u",{"$f":"IFERROR(VLOOKUP($A295,Filtro!$A$4:$AY$344,2,FALSE),0)","v":0},{"$f":"IFERROR(VLOOKUP($A295,Filtro!$A$4:$AY$344,3,FALSE),0)","v":0},{"$f":"IFERROR(VLOOKUP($A295,Filtro!$A$4:$AY$344,4,FALSE),0)","v":0},{"$f":"IFERROR(VLOOKUP($A295,Filtro!$A$4:$AY$344,5,FALSE),0)","v":0}]
["80306064","0306064","Hemaglutinación indirecta (toxoplasmosis, Chagas, hidatidosis y otras), c/u",{"$f":"IFERROR(VLOOKUP($A296,Filtro!$A$4:$AY$344,2,FALSE),0)","v":0},{"$f":"IFERROR(VLOOKUP($A296,Filtro!$A$4:$AY$344,3,FALSE),0)","v":0},{"$f":"IFERROR(VLOOKUP($A296,Filtro!$A$4:$AY$344,4,FALSE),0)","v":0},{"$f":"IFERROR(VLOOKUP($A296,Filtro!$A$4:$AY$344,5,FALSE),0)","v":26}]
["80306065","0306065","Inmunoelectroforesis o contrainmunoelectroforesis (hidatidosis, distomatosis, amebiasis y otras), c/u",{"$f":"IFERROR(VLOOKUP($A297,Filtro!$A$4:$AY$344,2,FALSE),0)","v":0},{"$f":"IFERROR(VLOOKUP($A297,Filtro!$A$4:$AY$344,3,FALSE),0)","v":0},{"$f":"IFERROR(VLOOKUP($A297,Filtro!$A$4:$AY$344,4,FALSE),0)","v":0},{"$f":"IFERROR(VLOOKUP($A297,Filtro!$A$4:$AY$344,5,FALSE),0)","v":0}]
["80306066","0306066","Inmunofluorescencia indirecta (toxoplasmosis, Chagas, amebiasis y otras), c/u",{"$f":"IFERROR(VLOOKUP($A298,Filtro!$A$4:$AY$344,2,FALSE),0)","v":0},{"$f":"IFERROR(VLOOKUP($A298,Filtro!$A$4:$AY$344,3,FALSE),0)","v":0},{"$f":"IFERROR(VLOOKUP($A298,Filtro!$A$4:$AY$344,4,FALSE),0)","v":0},{"$f":"IFERROR(VLOOKUP($A298,Filtro!$A$4:$AY$344,5,FALSE),0)","v":6}]
["80306067","0306067","Reacción intradérmica (incluye el valor y la aplicación del antígeno y del control y examen de las reacciones inmediatas y retardadas, cada antígeno) (bachmann, distomatosis u otras)",{"$f":"IFERROR(VLOOKUP($A299,Filtro!$A$4:$AY$344,2,FALSE),0)","v":0},{"$f":"IFERROR(VLOOKUP($A299,Filtro!$A$4:$AY$344,3,FALSE),0)","v":0},{"$f":"IFERROR(VLOOKUP($A299,Filtro!$A$4:$AY$344,4,FALSE),0)","v":0},{"$f":"IFERROR(VLOOKUP($A299,Filtro!$A$4:$AY$344,5,FALSE),0)","v":0}]
["80306068","0306068","Aislamiento de virus (adenovirus, citomegalovirus, Coxsakie, herpes, influenza, polio, sarampión y otros), c/u",{"$f":"IFERROR(VLOOKUP($A300,Filtro!$A$4:$AY$344,2,FALSE),0)","v":0},{"$f":"IFERROR(VLOOKUP($A300,Filtro!$A$4:$AY$344,3,FALSE),0)","v":0},{"$f":"IFERROR(VLOOKUP($A300,Filtro!$A$4:$AY$344,4,FALSE),0)","v":0},{"$f":"IFERROR(VLOOKUP($A300,Filtro!$A$4:$AY$344,5,FALSE),0)","v":0}]
["80306069","0306069","Anticuerpos virales, determ. de (adenovirus, citomegalovirus, herpes simple, rubéola, Influenza  A y B; virus varicela-zoster; virus sincicial respiratorio; parainfluenza 1, 2 y 3, Epstein Barr y otros), c/u",{"$f":"IFERROR(VLOOKUP($A301,Filtro!$A$4:$AY$344,2,FALSE),0)","v":0},{"$f":"IFERROR(VLOOKUP($A301,Filtro!$A$4:$AY$344,3,FALSE),0)","v":0},{"$f":"IFERROR(VLOOKUP($A301,Filtro!$A$4:$AY$344,4,FALSE),0)","v":0},{"$f":"IFERROR(VLOOKUP($A301,Filtro!$A$4:$AY$344,5,FALSE),0)","v":23}]
["80306169","0306169","Anticuerpos virales, determ. de H.I.V.",{"$f":"IFERROR(VLOOKUP($A302,Filtro!$A$4:$AY$344,2,FALSE),0)","v":59},{"$f":"IFERROR(VLOOKUP($A302,Filtro!$A$4:$AY$344,3,FALSE),0)","v":0},{"$f":"IFERROR(VLOOKUP($A302,Filtro!$A$4:$AY$344,4,FALSE),0)","v":59},{"$f":"IFERROR(VLOOKUP($A302,Filtro!$A$4:$AY$344,5,FALSE),0)","v":{"v":1816,"d":"1,816"}}]
["80306070","0306070","Antígenos virales determ. de (adenovirus, citomegalovirus, herpes simple, rubéola, influenza y otros), (por cualquier técnica ej: inmunofluorescencia), c/u",{"$f":"IFERROR(VLOOKUP($A303,Filtro!$A$4:$AY$344,2,FALSE),0)","v":0},{"$f":"IFERROR(VLOOKUP($A303,Filtro!$A$4:$AY$344,3,FALSE),0)","v":0},{"$f":"IFERROR(VLOOKUP($A303,Filtro!$A$4:$AY$344,4,FALSE),0)","v":0},{"$f":"IFERROR(VLOOKUP($A303,Filtro!$A$4:$AY$344,5,FALSE),0)","v":0}]
["80306170","0306170","Antígenos virales determ. de rotavirus, por cualquier técnica ",{"$f":"IFERROR(VLOOKUP($A304,Filtro!$A$4:$AY$344,2,FALSE),0)","v":19},{"$f":"IFERROR(VLOOKUP($A304,Filtro!$A$4:$AY$344,3,FALSE),0)","v":0},{"$f":"IFERROR(VLOOKUP($A304,Filtro!$A$4:$AY$344,4,FALSE),0)","v":19},{"$f":"IFERROR(VLOOKUP($A304,Filtro!$A$4:$AY$344,5,FALSE),0)","v":0}]
["80306270","0306270","Antígenos virales determ. de virus sincicial, por cualquier técnica ",{"$f":"IFERROR(VLOOKUP($A305,Filtro!$A$4:$AY$344,2,FALSE),0)","v":0},{"$f":"IFERROR(VLOOKUP($A305,Filtro!$A$4:$AY$344,3,FALSE),0)","v":0},{"$f":"IFERROR(VLOOKUP($A305,Filtro!$A$4:$AY$344,4,FALSE),0)","v":0},{"$f":"IFERROR(VLOOKUP($A305,Filtro!$A$4:$AY$344,5,FALSE),0)","v":0}]
["80306072","0306072","Reacción de seroneutralización para: virus polio, ECHO, Coxsakie, c/u",{"$f":"IFERROR(VLOOKUP($A306,Filtro!$A$4:$AY$344,2,FALSE),0)","v":0},{"$f":"IFERROR(VLOOKUP($A306,Filtro!$A$4:$AY$344,3,FALSE),0)","v":0},{"$f":"IFERROR(VLOOKUP($A306,Filtro!$A$4:$AY$344,4,FALSE),0)","v":0},{"$f":"IFERROR(VLOOKUP($A306,Filtro!$A$4:$AY$344,5,FALSE),0)","v":0}]
["80306073","0306073","Virus hepatitis A, Anticore",{"$f":"IFERROR(VLOOKUP($A307,Filtro!$A$4:$AY$344,2,FALSE),0)","v":0},{"$f":"IFERROR(VLOOKUP($A307,Filtro!$A$4:$AY$344,3,FALSE),0)","v":0},{"$f":"IFERROR(VLOOKUP($A307,Filtro!$A$4:$AY$344,4,FALSE),0)","v":0},{"$f":"IFERROR(VLOOKUP($A307,Filtro!$A$4:$AY$344,5,FALSE),0)","v":0}]
["80306074","0306074","Virus hepatitis A, anticuerpos IgM del",{"$f":"IFERROR(VLOOKUP($A308,Filtro!$A$4:$AY$344,2,FALSE),0)","v":0},{"$f":"IFERROR(VLOOKUP($A308,Filtro!$A$4:$AY$344,3,FALSE),0)","v":0},{"$f":"IFERROR(VLOOKUP($A308,Filtro!$A$4:$AY$344,4,FALSE),0)","v":0},{"$f":"IFERROR(VLOOKUP($A308,Filtro!$A$4:$AY$344,5,FALSE),0)","v":0}]
["80306075","0306075","Virus hepatitis B, anticuerpo del antígeno E del",{"$f":"IFERROR(VLOOKUP($A309,Filtro!$A$4:$AY$344,2,FALSE),0)","v":0},{"$f":"IFERROR(VLOOKUP($A309,Filtro!$A$4:$AY$344,3,FALSE),0)","v":0},{"$f":"IFERROR(VLOOKUP($A309,Filtro!$A$4:$AY$344,4,FALSE),0)","v":0},{"$f":"IFERROR(VLOOKUP($A309,Filtro!$A$4:$AY$344,5,FALSE),0)","v":0}]
["80306076","0306076","Virus hepatitis B, anticore total del (anti HBc total)",{"$f":"IFERROR(VLOOKUP($A310,Filtro!$A$4:$AY$344,2,FALSE),0)","v":0},{"$f":"IFERROR(VLOOKUP($A310,Filtro!$A$4:$AY$344,3,FALSE),0)","v":0},{"$f":"IFERROR(VLOOKUP($A310,Filtro!$A$4:$AY$344,4,FALSE),0)","v":0},{"$f":"IFERROR(VLOOKUP($A310,Filtro!$A$4:$AY$344,5,FALSE),0)","v":0}]
["80306077","0306077","Virus hepatitis B, anticuerpos de antígeno de superficie (australiano)",{"$f":"IFERROR(VLOOKUP($A311,Filtro!$A$4:$AY$344,2,FALSE),0)","v":0},{"$f":"IFERROR(VLOOKUP($A311,Filtro!$A$4:$AY$344,3,FALSE),0)","v":0},{"$f":"IFERROR(VLOOKUP($A311,Filtro!$A$4:$AY$344,4,FALSE),0)","v":0},{"$f":"IFERROR(VLOOKUP($A311,Filtro!$A$4:$AY$344,5,FALSE),0)","v":0}]
["80306078","0306078","Virus hepatitis B, antígeno E del (HBEAg)",{"$f":"IFERROR(VLOOKUP($A312,Filtro!$A$4:$AY$344,2,FALSE),0)","v":0},{"$f":"IFERROR(VLOOKUP($A312,Filtro!$A$4:$AY$344,3,FALSE),0)","v":0},{"$f":"IFERROR(VLOOKUP($A312,Filtro!$A$4:$AY$344,4,FALSE),0)","v":0},{"$f":"IFERROR(VLOOKUP($A312,Filtro!$A$4:$AY$344,5,FALSE),0)","v":97}]
["80306079","0306079","Virus hepatitis B, antígeno superficie",{"$f":"IFERROR(VLOOKUP($A313,Filtro!$A$4:$AY$344,2,FALSE),0)","v":0},{"$f":"IFERROR(VLOOKUP($A313,Filtro!$A$4:$AY$344,3,FALSE),0)","v":0},{"$f":"IFERROR(VLOOKUP($A313,Filtro!$A$4:$AY$344,4,FALSE),0)","v":0},{"$f":"IFERROR(VLOOKUP($A313,Filtro!$A$4:$AY$344,5,FALSE),0)","v":9}]
["80306080","0306080","Virus hepatitis B, anticore IgM del (anti HBc IgM)",{"$f":"IFERROR(VLOOKUP($A314,Filtro!$A$4:$AY$344,2,FALSE),0)","v":0},{"$f":"IFERROR(VLOOKUP($A314,Filtro!$A$4:$AY$344,3,FALSE),0)","v":0},{"$f":"IFERROR(VLOOKUP($A314,Filtro!$A$4:$AY$344,4,FALSE),0)","v":0},{"$f":"IFERROR(VLOOKUP($A314,Filtro!$A$4:$AY$344,5,FALSE),0)","v":0}]
["80306081","0306081","Virus hepatitis C, anticuerpos de (anti HCV)",{"$f":"IFERROR(VLOOKUP($A315,Filtro!$A$4:$AY$344,2,FALSE),0)","v":0},{"$f":"IFERROR(VLOOKUP($A315,Filtro!$A$4:$AY$344,3,FALSE),0)","v":0},{"$f":"IFERROR(VLOOKUP($A315,Filtro!$A$4:$AY$344,4,FALSE),0)","v":0},{"$f":"IFERROR(VLOOKUP($A315,Filtro!$A$4:$AY$344,5,FALSE),0)","v":6}]
[null,"TOTAL",null,{"$f":"SUM(D238:D315)","v":{"v":15402,"d":"15,402"}},{"$f":"SUM(E238:E315)","v":0},{"$f":"SUM(F238:F315)","v":{"v":15367,"d":"15,367"}},{"$f":"SUM(G238:G315)","v":{"v":36640,"d":"36,640"}}]
[null,"6.- EXÁMENES DE DEPOSICIONES, EXUDADOS, SECRESIONES Y OTROS LÍQUIDOS"]
["80308001","0308001","Azúcares reductores (Benedict-Fehling o similar)",{"$f":"IFERROR(VLOOKUP($A318,Filtro!$A$4:$AY$344,2,FALSE),0)","v":1},{"$f":"IFERROR(VLOOKUP($A318,Filtro!$A$4:$AY$344,3,FALSE),0)","v":0},{"$f":"IFERROR(VLOOKUP($A318,Filtro!$A$4:$AY$344,4,FALSE),0)","v":0},{"$f":"IFERROR(VLOOKUP($A318,Filtro!$A$4:$AY$344,5,FALSE),0)","v":54}]
["80308002","0308002","Balance graso (Van de Kamer) muestra de tres o más días",{"$f":"IFERROR(VLOOKUP($A319,Filtro!$A$4:$AY$344,2,FALSE),0)","v":0},{"$f":"IFERROR(VLOOKUP($A319,Filtro!$A$4:$AY$344,3,FALSE),0)","v":0},{"$f":"IFERROR(VLOOKUP($A319,Filtro!$A$4:$AY$344,4,FALSE),0)","v":0},{"$f":"IFERROR(VLOOKUP($A319,Filtro!$A$4:$AY$344,5,FALSE),0)","v":0}]
["80308003","0308003","Grasas neutras (Sudán III)",{"$f":"IFERROR(VLOOKUP($A320,Filtro!$A$4:$AY$344,2,FALSE),0)","v":0},{"$f":"IFERROR(VLOOKUP($A320,Filtro!$A$4:$AY$344,3,FALSE),0)","v":0},{"$f":"IFERROR(VLOOKUP($A320,Filtro!$A$4:$AY$344,4,FALSE),0)","v":0},{"$f":"IFERROR(VLOOKUP($A320,Filtro!$A$4:$AY$344,5,FALSE),0)","v":1}]
["80308004","0308004","Hemorragias ocultas, (bencidina, guayaco o test de Weber y similares), cualquier método, c/muestra",{"$f":"IFERROR(VLOOKUP($A321,Filtro!$A$4:$AY$344,2,FALSE),0)","v":175},{"$f":"IFERROR(VLOOKUP($A321,Filtro!$A$4:$AY$344,3,FALSE),0)","v":0},{"$f":"IFERROR(VLOOKUP($A321,Filtro!$A$4:$AY$344,4,FALSE),0)","v":172},{"$f":"IFERROR(VLOOKUP($A321,Filtro!$A$4:$AY$344,5,FALSE),0)","v":466}]
["80308005","0308005","Leucocitos fecales",{"$f":"IFERROR(VLOOKUP($A322,Filtro!$A$4:$AY$344,2,FALSE),0)","v":202},{"$f":"IFERROR(VLOOKUP($A322,Filtro!$A$4:$AY$344,3,FALSE),0)","v":0},{"$f":"IFERROR(VLOOKUP($A322,Filtro!$A$4:$AY$344,4,FALSE),0)","v":202},{"$f":"IFERROR(VLOOKUP($A322,Filtro!$A$4:$AY$344,5,FALSE),0)","v":191}]
["80308006","0308006","PH",{"$f":"IFERROR(VLOOKUP($A323,Filtro!$A$4:$AY$344,2,FALSE),0)","v":0},{"$f":"IFERROR(VLOOKUP($A323,Filtro!$A$4:$AY$344,3,FALSE),0)","v":0},{"$f":"IFERROR(VLOOKUP($A323,Filtro!$A$4:$AY$344,4,FALSE),0)","v":0},{"$f":"IFERROR(VLOOKUP($A323,Filtro!$A$4:$AY$344,5,FALSE),0)","v":2}]
["80308007","0308007","Porfirinas, c/u",{"$f":"IFERROR(VLOOKUP($A324,Filtro!$A$4:$AY$344,2,FALSE),0)","v":0},{"$f":"IFERROR(VLOOKUP($A324,Filtro!$A$4:$AY$344,3,FALSE),0)","v":0},{"$f":"IFERROR(VLOOKUP($A324,Filtro!$A$4:$AY$344,4,FALSE),0)","v":0},{"$f":"IFERROR(VLOOKUP($A324,Filtro!$A$4:$AY$344,5,FALSE),0)","v":0}]
["80308008","0308008","Urobilinógeno cuantitativo",{"$f":"IFERROR(VLOOKUP($A325,Filtro!$A$4:$AY$344,2,FALSE),0)","v":0},{"$f":"IFERROR(VLOOKUP($A325,Filtro!$A$4:$AY$344,3,FALSE),0)","v":0},{"$f":"IFERROR(VLOOKUP($A325,Filtro!$A$4:$AY$344,4,FALSE),0)","v":0},{"$f":"IFERROR(VLOOKUP($A325,Filtro!$A$4:$AY$344,5,FALSE),0)","v":0}]
["80308009","0308009","Células neoplásicas en fluídos biológicos",{"$f":"IFERROR(VLOOKUP($A326,Filtro!$A$4:$AY$344,2,FALSE),0)","v":0},{"$f":"IFERROR(VLOOKUP($A326,Filtro!$A$4:$AY$344,3,FALSE),0)","v":0},{"$f":"IFERROR(VLOOKUP($A326,Filtro!$A$4:$AY$344,4,FALSE),0)","v":0},{"$f":"IFERROR(VLOOKUP($A326,Filtro!$A$4:$AY$344,5,FALSE),0)","v":0}]
["80308010","0308010","Citológico c/s tinción (incluye examen al fresco, recuento celular y citológico porcentual)",{"$f":"IFERROR(VLOOKUP($A327,Filtro!$A$4:$AY$344,2,FALSE),0)","v":0},{"$f":"IFERROR(VLOOKUP($A327,Filtro!$A$4:$AY$344,3,FALSE),0)","v":0},{"$f":"IFERROR(VLOOKUP($A327,Filtro!$A$4:$AY$344,4,FALSE),0)","v":0},{"$f":"IFERROR(VLOOKUP($A327,Filtro!$A$4:$AY$344,5,FALSE),0)","v":0}]
["80308011","0308011","Directo al fresco c/s tinción, (incluye trichomonas)",{"$f":"IFERROR(VLOOKUP($A328,Filtro!$A$4:$AY$344,2,FALSE),0)","v":0},{"$f":"IFERROR(VLOOKUP($A328,Filtro!$A$4:$AY$344,3,FALSE),0)","v":0},{"$f":"IFERROR(VLOOKUP($A328,Filtro!$A$4:$AY$344,4,FALSE),0)","v":0},{"$f":"IFERROR(VLOOKUP($A328,Filtro!$A$4:$AY$344,5,FALSE),0)","v":0}]
["80308012","0308012","Electrolitos (sodio, potasio, cloro), c/u",{"$f":"IFERROR(VLOOKUP($A329,Filtro!$A$4:$AY$344,2,FALSE),0)","v":0},{"$f":"IFERROR(VLOOKUP($A329,Filtro!$A$4:$AY$344,3,FALSE),0)","v":0},{"$f":"IFERROR(VLOOKUP($A329,Filtro!$A$4:$AY$344,4,FALSE),0)","v":0},{"$f":"IFERROR(VLOOKUP($A329,Filtro!$A$4:$AY$344,5,FALSE),0)","v":{"v":2116,"d":"2,116"}}]
["80308013","0308013","Eosinófilos, recuento de",{"$f":"IFERROR(VLOOKUP($A330,Filtro!$A$4:$AY$344,2,FALSE),0)","v":0},{"$f":"IFERROR(VLOOKUP($A330,Filtro!$A$4:$AY$344,3,FALSE),0)","v":0},{"$f":"IFERROR(VLOOKUP($A330,Filtro!$A$4:$AY$344,4,FALSE),0)","v":0},{"$f":"IFERROR(VLOOKUP($A330,Filtro!$A$4:$AY$344,5,FALSE),0)","v":1}]
["80308014","0308014","Físico-químico (incluye aspecto, color, pH, glucosa, proteína, Pandy y filancia)",{"$f":"IFERROR(VLOOKUP($A331,Filtro!$A$4:$AY$344,2,FALSE),0)","v":0},{"$f":"IFERROR(VLOOKUP($A331,Filtro!$A$4:$AY$344,3,FALSE),0)","v":0},{"$f":"IFERROR(VLOOKUP($A331,Filtro!$A$4:$AY$344,4,FALSE),0)","v":0},{"$f":"IFERROR(VLOOKUP($A331,Filtro!$A$4:$AY$344,5,FALSE),0)","v":0}]
["80308015","0308015","Glucosa en exudados secreciones y otros liquidos",{"$f":"IFERROR(VLOOKUP($A332,Filtro!$A$4:$AY$344,2,FALSE),0)","v":0},{"$f":"IFERROR(VLOOKUP($A332,Filtro!$A$4:$AY$344,3,FALSE),0)","v":0},{"$f":"IFERROR(VLOOKUP($A332,Filtro!$A$4:$AY$344,4,FALSE),0)","v":0},{"$f":"IFERROR(VLOOKUP($A332,Filtro!$A$4:$AY$344,5,FALSE),0)","v":0}]
["80308016","0308016","Mucina, determinación de",{"$f":"IFERROR(VLOOKUP($A333,Filtro!$A$4:$AY$344,2,FALSE),0)","v":0},{"$f":"IFERROR(VLOOKUP($A333,Filtro!$A$4:$AY$344,3,FALSE),0)","v":0},{"$f":"IFERROR(VLOOKUP($A333,Filtro!$A$4:$AY$344,4,FALSE),0)","v":0},{"$f":"IFERROR(VLOOKUP($A333,Filtro!$A$4:$AY$344,5,FALSE),0)","v":0}]
["80308017","0308017","pH, (proc. aut.)",{"$f":"IFERROR(VLOOKUP($A334,Filtro!$A$4:$AY$344,2,FALSE),0)","v":0},{"$f":"IFERROR(VLOOKUP($A334,Filtro!$A$4:$AY$344,3,FALSE),0)","v":0},{"$f":"IFERROR(VLOOKUP($A334,Filtro!$A$4:$AY$344,4,FALSE),0)","v":0},{"$f":"IFERROR(VLOOKUP($A334,Filtro!$A$4:$AY$344,5,FALSE),0)","v":0}]
["80308018","0308018","Proteínas totales o albúmina (proc. aut.) c/u",{"$f":"IFERROR(VLOOKUP($A335,Filtro!$A$4:$AY$344,2,FALSE),0)","v":0},{"$f":"IFERROR(VLOOKUP($A335,Filtro!$A$4:$AY$344,3,FALSE),0)","v":0},{"$f":"IFERROR(VLOOKUP($A335,Filtro!$A$4:$AY$344,4,FALSE),0)","v":0},{"$f":"IFERROR(VLOOKUP($A335,Filtro!$A$4:$AY$344,5,FALSE),0)","v":60}]
["80308019","0308019","Proteínas, electroforesis de (incluye proteínas totales)",{"$f":"IFERROR(VLOOKUP($A336,Filtro!$A$4:$AY$344,2,FALSE),0)","v":0},{"$f":"IFERROR(VLOOKUP($A336,Filtro!$A$4:$AY$344,3,FALSE),0)","v":0},{"$f":"IFERROR(VLOOKUP($A336,Filtro!$A$4:$AY$344,4,FALSE),0)","v":0},{"$f":"IFERROR(VLOOKUP($A336,Filtro!$A$4:$AY$344,5,FALSE),0)","v":0}]
["80308020","0308020","Bandas oligoclonales (incluye electroforesis de L.C.R., suero e inmunofijación)",{"$f":"IFERROR(VLOOKUP($A337,Filtro!$A$4:$AY$344,2,FALSE),0)","v":0},{"$f":"IFERROR(VLOOKUP($A337,Filtro!$A$4:$AY$344,3,FALSE),0)","v":0},{"$f":"IFERROR(VLOOKUP($A337,Filtro!$A$4:$AY$344,4,FALSE),0)","v":0},{"$f":"IFERROR(VLOOKUP($A337,Filtro!$A$4:$AY$344,5,FALSE),0)","v":0}]
["80308021","0308021","Glutamina",{"$f":"IFERROR(VLOOKUP($A338,Filtro!$A$4:$AY$344,2,FALSE),0)","v":0},{"$f":"IFERROR(VLOOKUP($A338,Filtro!$A$4:$AY$344,3,FALSE),0)","v":0},{"$f":"IFERROR(VLOOKUP($A338,Filtro!$A$4:$AY$344,4,FALSE),0)","v":0},{"$f":"IFERROR(VLOOKUP($A338,Filtro!$A$4:$AY$344,5,FALSE),0)","v":0}]
["80308022","0308022","Indice IgG/albúmina (incluye determ. de IgG y albúmina en L.C.R. y suero)",{"$f":"IFERROR(VLOOKUP($A339,Filtro!$A$4:$AY$344,2,FALSE),0)","v":0},{"$f":"IFERROR(VLOOKUP($A339,Filtro!$A$4:$AY$344,3,FALSE),0)","v":0},{"$f":"IFERROR(VLOOKUP($A339,Filtro!$A$4:$AY$344,4,FALSE),0)","v":0},{"$f":"IFERROR(VLOOKUP($A339,Filtro!$A$4:$AY$344,5,FALSE),0)","v":26}]
["80308023","0308023","Estudio de cristales (con luz polarizada)",{"$f":"IFERROR(VLOOKUP($A340,Filtro!$A$4:$AY$344,2,FALSE),0)","v":0},{"$f":"IFERROR(VLOOKUP($A340,Filtro!$A$4:$AY$344,3,FALSE),0)","v":0},{"$f":"IFERROR(VLOOKUP($A340,Filtro!$A$4:$AY$344,4,FALSE),0)","v":0},{"$f":"IFERROR(VLOOKUP($A340,Filtro!$A$4:$AY$344,5,FALSE),0)","v":0}]
["80308024","0308024","Acidez titulable, pH, volumen (una muestra)",{"$f":"IFERROR(VLOOKUP($A341,Filtro!$A$4:$AY$344,2,FALSE),0)","v":0},{"$f":"IFERROR(VLOOKUP($A341,Filtro!$A$4:$AY$344,3,FALSE),0)","v":0},{"$f":"IFERROR(VLOOKUP($A341,Filtro!$A$4:$AY$344,4,FALSE),0)","v":0},{"$f":"IFERROR(VLOOKUP($A341,Filtro!$A$4:$AY$344,5,FALSE),0)","v":12}]
["80308025","0308025","Prueba de estimulación máxima con histamina, mínimo 5 muestras (no incluye la histamina ni el antihistamínico).",{"$f":"IFERROR(VLOOKUP($A342,Filtro!$A$4:$AY$344,2,FALSE),0)","v":0},{"$f":"IFERROR(VLOOKUP($A342,Filtro!$A$4:$AY$344,3,FALSE),0)","v":0},{"$f":"IFERROR(VLOOKUP($A342,Filtro!$A$4:$AY$344,4,FALSE),0)","v":0},{"$f":"IFERROR(VLOOKUP($A342,Filtro!$A$4:$AY$344,5,FALSE),0)","v":0}]
["80308026","0308026","Volumen, anhídrido carbónico, amilasa y lipasa",{"$f":"IFERROR(VLOOKUP($A343,Filtro!$A$4:$AY$344,2,FALSE),0)","v":0},{"$f":"IFERROR(VLOOKUP($A343,Filtro!$A$4:$AY$344,3,FALSE),0)","v":0},{"$f":"IFERROR(VLOOKUP($A343,Filtro!$A$4:$AY$344,4,FALSE),0)","v":0},{"$f":"IFERROR(VLOOKUP($A343,Filtro!$A$4:$AY$344,5,FALSE),0)","v":0}]
["80308027","0308027","Cristales de colesterol",{"$f":"IFERROR(VLOOKUP($A344,Filtro!$A$4:$AY$344,2,FALSE),0)","v":0},{"$f":"IFERROR(VLOOKUP($A344,Filtro!$A$4:$AY$344,3,FALSE),0)","v":0},{"$f":"IFERROR(VLOOKUP($A344,Filtro!$A$4:$AY$344,4,FALSE),0)","v":0},{"$f":"IFERROR(VLOOKUP($A344,Filtro!$A$4:$AY$344,5,FALSE),0)","v":5}]
["80308028","0308028","Lípidos biliares",{"$f":"IFERROR(VLOOKUP($A345,Filtro!$A$4:$AY$344,2,FALSE),0)","v":0},{"$f":"IFERROR(VLOOKUP($A345,Filtro!$A$4:$AY$344,3,FALSE),0)","v":0},{"$f":"IFERROR(VLOOKUP($A345,Filtro!$A$4:$AY$344,4,FALSE),0)","v":0},{"$f":"IFERROR(VLOOKUP($A345,Filtro!$A$4:$AY$344,5,FALSE),0)","v":0}]
["80308029","0308029","Espermiograma (físico y microscópico, con o sin observación hasta 24 horas)",{"$f":"IFERROR(VLOOKUP($A346,Filtro!$A$4:$AY$344,2,FALSE),0)","v":0},{"$f":"IFERROR(VLOOKUP($A346,Filtro!$A$4:$AY$344,3,FALSE),0)","v":0},{"$f":"IFERROR(VLOOKUP($A346,Filtro!$A$4:$AY$344,4,FALSE),0)","v":0},{"$f":"IFERROR(VLOOKUP($A346,Filtro!$A$4:$AY$344,5,FALSE),0)","v":0}]
["80308030","0308030","Fosfatasa ácida prostática",{"$f":"IFERROR(VLOOKUP($A347,Filtro!$A$4:$AY$344,2,FALSE),0)","v":0},{"$f":"IFERROR(VLOOKUP($A347,Filtro!$A$4:$AY$344,3,FALSE),0)","v":0},{"$f":"IFERROR(VLOOKUP($A347,Filtro!$A$4:$AY$344,4,FALSE),0)","v":0},{"$f":"IFERROR(VLOOKUP($A347,Filtro!$A$4:$AY$344,5,FALSE),0)","v":62}]
["80308031","0308031","Fructosa, consumo de",{"$f":"IFERROR(VLOOKUP($A348,Filtro!$A$4:$AY$344,2,FALSE),0)","v":0},{"$f":"IFERROR(VLOOKUP($A348,Filtro!$A$4:$AY$344,3,FALSE),0)","v":0},{"$f":"IFERROR(VLOOKUP($A348,Filtro!$A$4:$AY$344,4,FALSE),0)","v":0},{"$f":"IFERROR(VLOOKUP($A348,Filtro!$A$4:$AY$344,5,FALSE),0)","v":0}]
["80308032","0308032","Bilirrubina                               ",{"$f":"IFERROR(VLOOKUP($A349,Filtro!$A$4:$AY$344,2,FALSE),0)","v":0},{"$f":"IFERROR(VLOOKUP($A349,Filtro!$A$4:$AY$344,3,FALSE),0)","v":0},{"$f":"IFERROR(VLOOKUP($A349,Filtro!$A$4:$AY$344,4,FALSE),0)","v":0},{"$f":"IFERROR(VLOOKUP($A349,Filtro!$A$4:$AY$344,5,FALSE),0)","v":41}]
["80308033","0308033","Células anaranjadas (proc. aut.)",{"$f":"IFERROR(VLOOKUP($A350,Filtro!$A$4:$AY$344,2,FALSE),0)","v":0},{"$f":"IFERROR(VLOOKUP($A350,Filtro!$A$4:$AY$344,3,FALSE),0)","v":0},{"$f":"IFERROR(VLOOKUP($A350,Filtro!$A$4:$AY$344,4,FALSE),0)","v":0},{"$f":"IFERROR(VLOOKUP($A350,Filtro!$A$4:$AY$344,5,FALSE),0)","v":0}]
["80308034","0308034","Contaminantes (meconio y sangre) (proc. aut.)",{"$f":"IFERROR(VLOOKUP($A351,Filtro!$A$4:$AY$344,2,FALSE),0)","v":0},{"$f":"IFERROR(VLOOKUP($A351,Filtro!$A$4:$AY$344,3,FALSE),0)","v":0},{"$f":"IFERROR(VLOOKUP($A351,Filtro!$A$4:$AY$344,4,FALSE),0)","v":0},{"$f":"IFERROR(VLOOKUP($A351,Filtro!$A$4:$AY$344,5,FALSE),0)","v":0}]
["80308035","0308035","Creatinina (proc. aut.)",{"$f":"IFERROR(VLOOKUP($A352,Filtro!$A$4:$AY$344,2,FALSE),0)","v":0},{"$f":"IFERROR(VLOOKUP($A352,Filtro!$A$4:$AY$344,3,FALSE),0)","v":0},{"$f":"IFERROR(VLOOKUP($A352,Filtro!$A$4:$AY$344,4,FALSE),0)","v":0},{"$f":"IFERROR(VLOOKUP($A352,Filtro!$A$4:$AY$344,5,FALSE),0)","v":113}]
["80308036","0308036","Fosfatidil glicerol y/o fosfatidil inositol",{"$f":"IFERROR(VLOOKUP($A353,Filtro!$A$4:$AY$344,2,FALSE),0)","v":0},{"$f":"IFERROR(VLOOKUP($A353,Filtro!$A$4:$AY$344,3,FALSE),0)","v":0},{"$f":"IFERROR(VLOOKUP($A353,Filtro!$A$4:$AY$344,4,FALSE),0)","v":0},{"$f":"IFERROR(VLOOKUP($A353,Filtro!$A$4:$AY$344,5,FALSE),0)","v":2}]
["80308037","0308037","Indice de bilirrubina (prueba de Liley)",{"$f":"IFERROR(VLOOKUP($A354,Filtro!$A$4:$AY$344,2,FALSE),0)","v":0},{"$f":"IFERROR(VLOOKUP($A354,Filtro!$A$4:$AY$344,3,FALSE),0)","v":0},{"$f":"IFERROR(VLOOKUP($A354,Filtro!$A$4:$AY$344,4,FALSE),0)","v":0},{"$f":"IFERROR(VLOOKUP($A354,Filtro!$A$4:$AY$344,5,FALSE),0)","v":0}]
["80308038","0308038","Indice lecitina/esfingomielina",{"$f":"IFERROR(VLOOKUP($A355,Filtro!$A$4:$AY$344,2,FALSE),0)","v":0},{"$f":"IFERROR(VLOOKUP($A355,Filtro!$A$4:$AY$344,3,FALSE),0)","v":0},{"$f":"IFERROR(VLOOKUP($A355,Filtro!$A$4:$AY$344,4,FALSE),0)","v":0},{"$f":"IFERROR(VLOOKUP($A355,Filtro!$A$4:$AY$344,5,FALSE),0)","v":0}]
["80308039","0308039","Madurez fetal completa (físico; células anaranjadas, bilirrubina, test de Clements, creatinina, contaminantes)",{"$f":"IFERROR(VLOOKUP($A356,Filtro!$A$4:$AY$344,2,FALSE),0)","v":0},{"$f":"IFERROR(VLOOKUP($A356,Filtro!$A$4:$AY$344,3,FALSE),0)","v":0},{"$f":"IFERROR(VLOOKUP($A356,Filtro!$A$4:$AY$344,4,FALSE),0)","v":0},{"$f":"IFERROR(VLOOKUP($A356,Filtro!$A$4:$AY$344,5,FALSE),0)","v":0}]
["80308040","0308040","Test de Clements (proc. aut.)",{"$f":"IFERROR(VLOOKUP($A357,Filtro!$A$4:$AY$344,2,FALSE),0)","v":0},{"$f":"IFERROR(VLOOKUP($A357,Filtro!$A$4:$AY$344,3,FALSE),0)","v":0},{"$f":"IFERROR(VLOOKUP($A357,Filtro!$A$4:$AY$344,4,FALSE),0)","v":0},{"$f":"IFERROR(VLOOKUP($A357,Filtro!$A$4:$AY$344,5,FALSE),0)","v":0}]
["80308041","0308041","Colpocitograma",{"$f":"IFERROR(VLOOKUP($A358,Filtro!$A$4:$AY$344,2,FALSE),0)","v":0},{"$f":"IFERROR(VLOOKUP($A358,Filtro!$A$4:$AY$344,3,FALSE),0)","v":0},{"$f":"IFERROR(VLOOKUP($A358,Filtro!$A$4:$AY$344,4,FALSE),0)","v":0},{"$f":"IFERROR(VLOOKUP($A358,Filtro!$A$4:$AY$344,5,FALSE),0)","v":0}]
["80308042","0308042","Cristalización y filancia de moco cervical",{"$f":"IFERROR(VLOOKUP($A359,Filtro!$A$4:$AY$344,2,FALSE),0)","v":0},{"$f":"IFERROR(VLOOKUP($A359,Filtro!$A$4:$AY$344,3,FALSE),0)","v":0},{"$f":"IFERROR(VLOOKUP($A359,Filtro!$A$4:$AY$344,4,FALSE),0)","v":0},{"$f":"IFERROR(VLOOKUP($A359,Filtro!$A$4:$AY$344,5,FALSE),0)","v":0}]
["80308043","0308043","Moco-semen, prueba de compatibilidad",{"$f":"IFERROR(VLOOKUP($A360,Filtro!$A$4:$AY$344,2,FALSE),0)","v":0},{"$f":"IFERROR(VLOOKUP($A360,Filtro!$A$4:$AY$344,3,FALSE),0)","v":0},{"$f":"IFERROR(VLOOKUP($A360,Filtro!$A$4:$AY$344,4,FALSE),0)","v":0},{"$f":"IFERROR(VLOOKUP($A360,Filtro!$A$4:$AY$344,5,FALSE),0)","v":0}]
["80308044","0308044","Flujo vaginal o secreción uretral, estudio de (incluye toma de muestra y códigos 03-06-004, 03-06-005, 03-06-008, 03-06-017, y 03-06-026 )",{"$f":"IFERROR(VLOOKUP($A361,Filtro!$A$4:$AY$344,2,FALSE),0)","v":55},{"$f":"IFERROR(VLOOKUP($A361,Filtro!$A$4:$AY$344,3,FALSE),0)","v":0},{"$f":"IFERROR(VLOOKUP($A361,Filtro!$A$4:$AY$344,4,FALSE),0)","v":55},{"$f":"IFERROR(VLOOKUP($A361,Filtro!$A$4:$AY$344,5,FALSE),0)","v":12}]
[null,"TOTAL",null,{"$f":"SUM(D318:D361)","v":433},{"$f":"SUM(E318:E361)","v":0},{"$f":"SUM(F318:F361)","v":429},{"$f":"SUM(G318:G361)","v":{"v":3164,"d":"3,164"}}]
[null,"7.- EXÁMENES DE ORINA"]
["80309001","0309001","Acido ascórbico",{"$f":"IFERROR(VLOOKUP($A364,Filtro!$A$4:$AY$344,2,FALSE),0)","v":0},{"$f":"IFERROR(VLOOKUP($A364,Filtro!$A$4:$AY$344,3,FALSE),0)","v":0},{"$f":"IFERROR(VLOOKUP($A364,Filtro!$A$4:$AY$344,4,FALSE),0)","v":0},{"$f":"IFERROR(VLOOKUP($A364,Filtro!$A$4:$AY$344,5,FALSE),0)","v":0}]
["80309002","0309002","Acido delta aminolevulínico",{"$f":"IFERROR(VLOOKUP($A365,Filtro!$A$4:$AY$344,2,FALSE),0)","v":0},{"$f":"IFERROR(VLOOKUP($A365,Filtro!$A$4:$AY$344,3,FALSE),0)","v":0},{"$f":"IFERROR(VLOOKUP($A365,Filtro!$A$4:$AY$344,4,FALSE),0)","v":0},{"$f":"IFERROR(VLOOKUP($A365,Filtro!$A$4:$AY$344,5,FALSE),0)","v":0}]
["80309003","0309003","Acido fenilpirúvico (PKU, cualitativo)",{"$f":"IFERROR(VLOOKUP($A366,Filtro!$A$4:$AY$344,2,FALSE),0)","v":0},{"$f":"IFERROR(VLOOKUP($A366,Filtro!$A$4:$AY$344,3,FALSE),0)","v":0},{"$f":"IFERROR(VLOOKUP($A366,Filtro!$A$4:$AY$344,4,FALSE),0)","v":0},{"$f":"IFERROR(VLOOKUP($A366,Filtro!$A$4:$AY$344,5,FALSE),0)","v":0}]
["80309004","0309004","Acido úrico cuantitativo",{"$f":"IFERROR(VLOOKUP($A367,Filtro!$A$4:$AY$344,2,FALSE),0)","v":0},{"$f":"IFERROR(VLOOKUP($A367,Filtro!$A$4:$AY$344,3,FALSE),0)","v":0},{"$f":"IFERROR(VLOOKUP($A367,Filtro!$A$4:$AY$344,4,FALSE),0)","v":0},{"$f":"IFERROR(VLOOKUP($A367,Filtro!$A$4:$AY$344,5,FALSE),0)","v":{"v":1060,"d":"1,060"}}]
["80309005","0309005","Acido 5 hidroxiindolacético cuantitativo",{"$f":"IFERROR(VLOOKUP($A368,Filtro!$A$4:$AY$344,2,FALSE),0)","v":0},{"$f":"IFERROR(VLOOKUP($A368,Filtro!$A$4:$AY$344,3,FALSE),0)","v":0},{"$f":"IFERROR(VLOOKUP($A368,Filtro!$A$4:$AY$344,4,FALSE),0)","v":0},{"$f":"IFERROR(VLOOKUP($A368,Filtro!$A$4:$AY$344,5,FALSE),0)","v":0}]
["80309006","0309006","Amilasa cuantitativa en orina",{"$f":"IFERROR(VLOOKUP($A369,Filtro!$A$4:$AY$344,2,FALSE),0)","v":0},{"$f":"IFERROR(VLOOKUP($A369,Filtro!$A$4:$AY$344,3,FALSE),0)","v":0},{"$f":"IFERROR(VLOOKUP($A369,Filtro!$A$4:$AY$344,4,FALSE),0)","v":0},{"$f":"IFERROR(VLOOKUP($A369,Filtro!$A$4:$AY$344,5,FALSE),0)","v":0}]
["80309007","0309007","Aminoácidos (cualitativo) (excepto fenilalanina, PKU)",{"$f":"IFERROR(VLOOKUP($A370,Filtro!$A$4:$AY$344,2,FALSE),0)","v":0},{"$f":"IFERROR(VLOOKUP($A370,Filtro!$A$4:$AY$344,3,FALSE),0)","v":0},{"$f":"IFERROR(VLOOKUP($A370,Filtro!$A$4:$AY$344,4,FALSE),0)","v":0},{"$f":"IFERROR(VLOOKUP($A370,Filtro!$A$4:$AY$344,5,FALSE),0)","v":0}]
["80309008","0309008","Calcio cuantitativo en orina",{"$f":"IFERROR(VLOOKUP($A371,Filtro!$A$4:$AY$344,2,FALSE),0)","v":0},{"$f":"IFERROR(VLOOKUP($A371,Filtro!$A$4:$AY$344,3,FALSE),0)","v":0},{"$f":"IFERROR(VLOOKUP($A371,Filtro!$A$4:$AY$344,4,FALSE),0)","v":0},{"$f":"IFERROR(VLOOKUP($A371,Filtro!$A$4:$AY$344,5,FALSE),0)","v":0}]
["80309009","0309009","Cálculo urinario (examen físico y químico)",{"$f":"IFERROR(VLOOKUP($A372,Filtro!$A$4:$AY$344,2,FALSE),0)","v":0},{"$f":"IFERROR(VLOOKUP($A372,Filtro!$A$4:$AY$344,3,FALSE),0)","v":0},{"$f":"IFERROR(VLOOKUP($A372,Filtro!$A$4:$AY$344,4,FALSE),0)","v":0},{"$f":"IFERROR(VLOOKUP($A372,Filtro!$A$4:$AY$344,5,FALSE),0)","v":24}]
["80309010","0309010","Creatinina cuantitativa en orina",{"$f":"IFERROR(VLOOKUP($A373,Filtro!$A$4:$AY$344,2,FALSE),0)","v":{"v":13419,"d":"13,419"}},{"$f":"IFERROR(VLOOKUP($A373,Filtro!$A$4:$AY$344,3,FALSE),0)","v":0},{"$f":"IFERROR(VLOOKUP($A373,Filtro!$A$4:$AY$344,4,FALSE),0)","v":{"v":13419,"d":"13,419"}},{"$f":"IFERROR(VLOOKUP($A373,Filtro!$A$4:$AY$344,5,FALSE),0)","v":{"v":17999,"d":"17,999"}}]
["80309011","0309011","Cuerpos cetónicos",{"$f":"IFERROR(VLOOKUP($A374,Filtro!$A$4:$AY$344,2,FALSE),0)","v":0},{"$f":"IFERROR(VLOOKUP($A374,Filtro!$A$4:$AY$344,3,FALSE),0)","v":0},{"$f":"IFERROR(VLOOKUP($A374,Filtro!$A$4:$AY$344,4,FALSE),0)","v":0},{"$f":"IFERROR(VLOOKUP($A374,Filtro!$A$4:$AY$344,5,FALSE),0)","v":0}]
["80309012","0309012","Electrolitos (sodio, potasio, cloro) c/u en orina",{"$f":"IFERROR(VLOOKUP($A375,Filtro!$A$4:$AY$344,2,FALSE),0)","v":0},{"$f":"IFERROR(VLOOKUP($A375,Filtro!$A$4:$AY$344,3,FALSE),0)","v":0},{"$f":"IFERROR(VLOOKUP($A375,Filtro!$A$4:$AY$344,4,FALSE),0)","v":0},{"$f":"IFERROR(VLOOKUP($A375,Filtro!$A$4:$AY$344,5,FALSE),0)","v":15}]
["80309013","0309013","Microalbuminuria cuantitativa",{"$f":"IFERROR(VLOOKUP($A376,Filtro!$A$4:$AY$344,2,FALSE),0)","v":{"v":19450,"d":"19,450"}},{"$f":"IFERROR(VLOOKUP($A376,Filtro!$A$4:$AY$344,3,FALSE),0)","v":0},{"$f":"IFERROR(VLOOKUP($A376,Filtro!$A$4:$AY$344,4,FALSE),0)","v":{"v":19356,"d":"19,356"}},{"$f":"IFERROR(VLOOKUP($A376,Filtro!$A$4:$AY$344,5,FALSE),0)","v":{"v":26916,"d":"26,916"}}]
["80309014","0309014","Embarazo, detección de (cualquier técnica)",{"$f":"IFERROR(VLOOKUP($A377,Filtro!$A$4:$AY$344,2,FALSE),0)","v":227},{"$f":"IFERROR(VLOOKUP($A377,Filtro!$A$4:$AY$344,3,FALSE),0)","v":92},{"$f":"IFERROR(VLOOKUP($A377,Filtro!$A$4:$AY$344,4,FALSE),0)","v":132},{"$f":"IFERROR(VLOOKUP($A377,Filtro!$A$4:$AY$344,5,FALSE),0)","v":338}]
["80309040","0309040","Fenilquetonuria (PKU), cuantitativo",{"$f":"IFERROR(VLOOKUP($A378,Filtro!$A$4:$AY$344,2,FALSE),0)","v":0},{"$f":"IFERROR(VLOOKUP($A378,Filtro!$A$4:$AY$344,3,FALSE),0)","v":0},{"$f":"IFERROR(VLOOKUP($A378,Filtro!$A$4:$AY$344,4,FALSE),0)","v":0},{"$f":"IFERROR(VLOOKUP($A378,Filtro!$A$4:$AY$344,5,FALSE),0)","v":0}]
["80309015","0309015","Fósforo cuantitativo en orina",{"$f":"IFERROR(VLOOKUP($A379,Filtro!$A$4:$AY$344,2,FALSE),0)","v":0},{"$f":"IFERROR(VLOOKUP($A379,Filtro!$A$4:$AY$344,3,FALSE),0)","v":0},{"$f":"IFERROR(VLOOKUP($A379,Filtro!$A$4:$AY$344,4,FALSE),0)","v":0},{"$f":"IFERROR(VLOOKUP($A379,Filtro!$A$4:$AY$344,5,FALSE),0)","v":0}]
["80309016","0309016","Glucosa (cuantitativo) en orina",{"$f":"IFERROR(VLOOKUP($A380,Filtro!$A$4:$AY$344,2,FALSE),0)","v":833},{"$f":"IFERROR(VLOOKUP($A380,Filtro!$A$4:$AY$344,3,FALSE),0)","v":0},{"$f":"IFERROR(VLOOKUP($A380,Filtro!$A$4:$AY$344,4,FALSE),0)","v":833},{"$f":"IFERROR(VLOOKUP($A380,Filtro!$A$4:$AY$344,5,FALSE),0)","v":490}]
["80309035","0309035","Hemosiderina",{"$f":"IFERROR(VLOOKUP($A381,Filtro!$A$4:$AY$344,2,FALSE),0)","v":0},{"$f":"IFERROR(VLOOKUP($A381,Filtro!$A$4:$AY$344,3,FALSE),0)","v":0},{"$f":"IFERROR(VLOOKUP($A381,Filtro!$A$4:$AY$344,4,FALSE),0)","v":0},{"$f":"IFERROR(VLOOKUP($A381,Filtro!$A$4:$AY$344,5,FALSE),0)","v":0}]
["80309017","0309017","Hidroxiprolina en orina",{"$f":"IFERROR(VLOOKUP($A382,Filtro!$A$4:$AY$344,2,FALSE),0)","v":0},{"$f":"IFERROR(VLOOKUP($A382,Filtro!$A$4:$AY$344,3,FALSE),0)","v":0},{"$f":"IFERROR(VLOOKUP($A382,Filtro!$A$4:$AY$344,4,FALSE),0)","v":0},{"$f":"IFERROR(VLOOKUP($A382,Filtro!$A$4:$AY$344,5,FALSE),0)","v":0}]
["80309018","0309018","Melanogenuria (test de cloruro férrico)",{"$f":"IFERROR(VLOOKUP($A383,Filtro!$A$4:$AY$344,2,FALSE),0)","v":0},{"$f":"IFERROR(VLOOKUP($A383,Filtro!$A$4:$AY$344,3,FALSE),0)","v":0},{"$f":"IFERROR(VLOOKUP($A383,Filtro!$A$4:$AY$344,4,FALSE),0)","v":0},{"$f":"IFERROR(VLOOKUP($A383,Filtro!$A$4:$AY$344,5,FALSE),0)","v":0}]
["80309019","0309019","Mucopolisacáridos",{"$f":"IFERROR(VLOOKUP($A384,Filtro!$A$4:$AY$344,2,FALSE),0)","v":0},{"$f":"IFERROR(VLOOKUP($A384,Filtro!$A$4:$AY$344,3,FALSE),0)","v":0},{"$f":"IFERROR(VLOOKUP($A384,Filtro!$A$4:$AY$344,4,FALSE),0)","v":0},{"$f":"IFERROR(VLOOKUP($A384,Filtro!$A$4:$AY$344,5,FALSE),0)","v":0}]
["80309020","0309020","Nitrógeno ureico o urea en orina (cuantitativo)",{"$f":"IFERROR(VLOOKUP($A385,Filtro!$A$4:$AY$344,2,FALSE),0)","v":0},{"$f":"IFERROR(VLOOKUP($A385,Filtro!$A$4:$AY$344,3,FALSE),0)","v":0},{"$f":"IFERROR(VLOOKUP($A385,Filtro!$A$4:$AY$344,4,FALSE),0)","v":0},{"$f":"IFERROR(VLOOKUP($A385,Filtro!$A$4:$AY$344,5,FALSE),0)","v":371}]
["80309021","0309021","Nucleótidos cíclicos (CAMP, CGM, u otros) c/u",{"$f":"IFERROR(VLOOKUP($A386,Filtro!$A$4:$AY$344,2,FALSE),0)","v":0},{"$f":"IFERROR(VLOOKUP($A386,Filtro!$A$4:$AY$344,3,FALSE),0)","v":0},{"$f":"IFERROR(VLOOKUP($A386,Filtro!$A$4:$AY$344,4,FALSE),0)","v":0},{"$f":"IFERROR(VLOOKUP($A386,Filtro!$A$4:$AY$344,5,FALSE),0)","v":206}]
["80309022","0309022","Orina completa, (incluye cód. 03-09-023 y 03-09-024)",{"$f":"IFERROR(VLOOKUP($A387,Filtro!$A$4:$AY$344,2,FALSE),0)","v":{"v":20982,"d":"20,982"}},{"$f":"IFERROR(VLOOKUP($A387,Filtro!$A$4:$AY$344,3,FALSE),0)","v":0},{"$f":"IFERROR(VLOOKUP($A387,Filtro!$A$4:$AY$344,4,FALSE),0)","v":{"v":20843,"d":"20,843"}},{"$f":"IFERROR(VLOOKUP($A387,Filtro!$A$4:$AY$344,5,FALSE),0)","v":{"v":75783,"d":"75,783"}}]
["80309023","0309023","Orina, físico-químico (aspecto, color, densidad, pH, proteínas, glucosa, cuerpos cetónicos, urobilinógeno, bilirrubina, hemoglobina y nitritos) todos o cada uno de los parámetros (proc. aut.)",{"$f":"IFERROR(VLOOKUP($A388,Filtro!$A$4:$AY$344,2,FALSE),0)","v":{"v":10146,"d":"10,146"}},{"$f":"IFERROR(VLOOKUP($A388,Filtro!$A$4:$AY$344,3,FALSE),0)","v":767},{"$f":"IFERROR(VLOOKUP($A388,Filtro!$A$4:$AY$344,4,FALSE),0)","v":{"v":9379,"d":"9,379"}},{"$f":"IFERROR(VLOOKUP($A388,Filtro!$A$4:$AY$344,5,FALSE),0)","v":{"v":2020,"d":"2,020"}}]
["80309024","0309024","Orina, sedimento (proc. aut.)",{"$f":"IFERROR(VLOOKUP($A389,Filtro!$A$4:$AY$344,2,FALSE),0)","v":0},{"$f":"IFERROR(VLOOKUP($A389,Filtro!$A$4:$AY$344,3,FALSE),0)","v":0},{"$f":"IFERROR(VLOOKUP($A389,Filtro!$A$4:$AY$344,4,FALSE),0)","v":0},{"$f":"IFERROR(VLOOKUP($A389,Filtro!$A$4:$AY$344,5,FALSE),0)","v":{"v":4013,"d":"4,013"}}]
["80309025","0309025","Osmolalidad",{"$f":"IFERROR(VLOOKUP($A390,Filtro!$A$4:$AY$344,2,FALSE),0)","v":0},{"$f":"IFERROR(VLOOKUP($A390,Filtro!$A$4:$AY$344,3,FALSE),0)","v":0},{"$f":"IFERROR(VLOOKUP($A390,Filtro!$A$4:$AY$344,4,FALSE),0)","v":0},{"$f":"IFERROR(VLOOKUP($A390,Filtro!$A$4:$AY$344,5,FALSE),0)","v":0}]
["80309027","0309027","Porfirinas, c/u",{"$f":"IFERROR(VLOOKUP($A391,Filtro!$A$4:$AY$344,2,FALSE),0)","v":0},{"$f":"IFERROR(VLOOKUP($A391,Filtro!$A$4:$AY$344,3,FALSE),0)","v":0},{"$f":"IFERROR(VLOOKUP($A391,Filtro!$A$4:$AY$344,4,FALSE),0)","v":0},{"$f":"IFERROR(VLOOKUP($A391,Filtro!$A$4:$AY$344,5,FALSE),0)","v":154}]
["80309028","0309028","Proteína (cuantitativa) en orina",{"$f":"IFERROR(VLOOKUP($A392,Filtro!$A$4:$AY$344,2,FALSE),0)","v":473},{"$f":"IFERROR(VLOOKUP($A392,Filtro!$A$4:$AY$344,3,FALSE),0)","v":0},{"$f":"IFERROR(VLOOKUP($A392,Filtro!$A$4:$AY$344,4,FALSE),0)","v":473},{"$f":"IFERROR(VLOOKUP($A392,Filtro!$A$4:$AY$344,5,FALSE),0)","v":{"v":3924,"d":"3,924"}}]
["80309029","0309029","Proteínas de Bence-Jones prueba térmica",{"$f":"IFERROR(VLOOKUP($A393,Filtro!$A$4:$AY$344,2,FALSE),0)","v":0},{"$f":"IFERROR(VLOOKUP($A393,Filtro!$A$4:$AY$344,3,FALSE),0)","v":0},{"$f":"IFERROR(VLOOKUP($A393,Filtro!$A$4:$AY$344,4,FALSE),0)","v":0},{"$f":"IFERROR(VLOOKUP($A393,Filtro!$A$4:$AY$344,5,FALSE),0)","v":0}]
[null,"TOTAL",null,{"$f":"SUM(D364:D393)","v":{"v":65530,"d":"65,530"}},{"$f":"SUM(E364:E393)","v":859},{"$f":"SUM(F364:F393)","v":{"v":64435,"d":"64,435"}},{"$f":"SUM(G364:G393)","v":{"v":133313,"d":"133,313"}}]
[null,"TOTAL EXÁMENES",null,{"$f":"+D98+D169+D236+D316+D362+D394+D177","v":{"v":388718,"d":"388,718"}},{"$f":"+E98+E169+E177+E236+E316+E362+E394","v":938},{"$f":"+F98+F169+F177+F236+F316+F362+F394","v":{"v":386228,"d":"386,228"}},{"$f":"+G98+G169+G177+G236+G316+G362+G394","v":{"v":895615,"d":"895,615"}}]
[null,"EXÁMENES RADIOLÓGICOS"]
["80401001","0401001","Radiografía de las glándulas salivales \"sialografía\"",{"$f":"IFERROR(VLOOKUP($A397,Filtro!$A$4:$AY$344,2,FALSE),0)","v":0},{"$f":"IFERROR(VLOOKUP($A397,Filtro!$A$4:$AY$344,3,FALSE),0)","v":0},{"$f":"IFERROR(VLOOKUP($A397,Filtro!$A$4:$AY$344,4,FALSE),0)","v":0},{"$f":"IFERROR(VLOOKUP($A397,Filtro!$A$4:$AY$344,5,FALSE),0)","v":0}]
["80401002","0401002","Radiografía de partes blandas, laringe lateral, cavum rinofaríngeo (rinofarinx). ",{"$f":"IFERROR(VLOOKUP($A398,Filtro!$A$4:$AY$344,2,FALSE),0)","v":42},{"$f":"IFERROR(VLOOKUP($A398,Filtro!$A$4:$AY$344,3,FALSE),0)","v":42},{"$f":"IFERROR(VLOOKUP($A398,Filtro!$A$4:$AY$344,4,FALSE),0)","v":0},{"$f":"IFERROR(VLOOKUP($A398,Filtro!$A$4:$AY$344,5,FALSE),0)","v":6}]
["80401003","0401003","Planigrafías laringe  (4 EXP.)                     ",{"$f":"IFERROR(VLOOKUP($A399,Filtro!$A$4:$AY$344,2,FALSE),0)","v":0},{"$f":"IFERROR(VLOOKUP($A399,Filtro!$A$4:$AY$344,3,FALSE),0)","v":0},{"$f":"IFERROR(VLOOKUP($A399,Filtro!$A$4:$AY$344,4,FALSE),0)","v":0},{"$f":"IFERROR(VLOOKUP($A399,Filtro!$A$4:$AY$344,5,FALSE),0)","v":0}]
["80401004","0401004","Radiografía de tórax, proyección complementaria (oblicuas, selectivas u otras)",{"$f":"IFERROR(VLOOKUP($A400,Filtro!$A$4:$AY$344,2,FALSE),0)","v":0},{"$f":"IFERROR(VLOOKUP($A400,Filtro!$A$4:$AY$344,3,FALSE),0)","v":0},{"$f":"IFERROR(VLOOKUP($A400,Filtro!$A$4:$AY$344,4,FALSE),0)","v":0},{"$f":"IFERROR(VLOOKUP($A400,Filtro!$A$4:$AY$344,5,FALSE),0)","v":1}]
["80401005","0401005","Tórax, proyección complementaria de corazón (oblicuas u otras) (1 exp.) c/u       ",{"$f":"IFERROR(VLOOKUP($A401,Filtro!$A$4:$AY$344,2,FALSE),0)","v":0},{"$f":"IFERROR(VLOOKUP($A401,Filtro!$A$4:$AY$344,3,FALSE),0)","v":0},{"$f":"IFERROR(VLOOKUP($A401,Filtro!$A$4:$AY$344,4,FALSE),0)","v":0},{"$f":"IFERROR(VLOOKUP($A401,Filtro!$A$4:$AY$344,5,FALSE),0)","v":0}]
["80401006","0401006"," Estudio radiológico de corazón (incluye fluoroscopía, telerradiografías frontal y lateral con esofagograma) ",{"$f":"IFERROR(VLOOKUP($A402,Filtro!$A$4:$AY$344,2,FALSE),0)","v":0},{"$f":"IFERROR(VLOOKUP($A402,Filtro!$A$4:$AY$344,3,FALSE),0)","v":0},{"$f":"IFERROR(VLOOKUP($A402,Filtro!$A$4:$AY$344,4,FALSE),0)","v":0},{"$f":"IFERROR(VLOOKUP($A402,Filtro!$A$4:$AY$344,5,FALSE),0)","v":0}]
["80401007","0401007"," Planigrafia localizada (incluye mínimo 6 cortes) (6 exp.)     ",{"$f":"IFERROR(VLOOKUP($A403,Filtro!$A$4:$AY$344,2,FALSE),0)","v":0},{"$f":"IFERROR(VLOOKUP($A403,Filtro!$A$4:$AY$344,3,FALSE),0)","v":0},{"$f":"IFERROR(VLOOKUP($A403,Filtro!$A$4:$AY$344,4,FALSE),0)","v":0},{"$f":"IFERROR(VLOOKUP($A403,Filtro!$A$4:$AY$344,5,FALSE),0)","v":0}]
["80401008","0401008","Radiografía de tórax  frontal o lateral con equipo móvil fuera del departamento de rayos.",{"$f":"IFERROR(VLOOKUP($A404,Filtro!$A$4:$AY$344,2,FALSE),0)","v":38},{"$f":"IFERROR(VLOOKUP($A404,Filtro!$A$4:$AY$344,3,FALSE),0)","v":22},{"$f":"IFERROR(VLOOKUP($A404,Filtro!$A$4:$AY$344,4,FALSE),0)","v":16},{"$f":"IFERROR(VLOOKUP($A404,Filtro!$A$4:$AY$344,5,FALSE),0)","v":54}]
["80401009","0401009","Radiografía de tórax simple frontal o lateral ",{"$f":"IFERROR(VLOOKUP($A405,Filtro!$A$4:$AY$344,2,FALSE),0)","v":979},{"$f":"IFERROR(VLOOKUP($A405,Filtro!$A$4:$AY$344,3,FALSE),0)","v":941},{"$f":"IFERROR(VLOOKUP($A405,Filtro!$A$4:$AY$344,4,FALSE),0)","v":38},{"$f":"IFERROR(VLOOKUP($A405,Filtro!$A$4:$AY$344,5,FALSE),0)","v":926}]
["80401070","0401070","Radiografía de tórax frontal y lateral",{"$f":"IFERROR(VLOOKUP($A406,Filtro!$A$4:$AY$344,2,FALSE),0)","v":{"v":3208,"d":"3,208"}},{"$f":"IFERROR(VLOOKUP($A406,Filtro!$A$4:$AY$344,3,FALSE),0)","v":{"v":2976,"d":"2,976"}},{"$f":"IFERROR(VLOOKUP($A406,Filtro!$A$4:$AY$344,4,FALSE),0)","v":232},{"$f":"IFERROR(VLOOKUP($A406,Filtro!$A$4:$AY$344,5,FALSE),0)","v":714}]
["80401010","0401010","Mamografía bilateral",{"$f":"IFERROR(VLOOKUP($A407,Filtro!$A$4:$AY$344,2,FALSE),0)","v":271},{"$f":"IFERROR(VLOOKUP($A407,Filtro!$A$4:$AY$344,3,FALSE),0)","v":72},{"$f":"IFERROR(VLOOKUP($A407,Filtro!$A$4:$AY$344,4,FALSE),0)","v":199},{"$f":"IFERROR(VLOOKUP($A407,Filtro!$A$4:$AY$344,5,FALSE),0)","v":{"v":2646,"d":"2,646"}}]
["80401110","0401110","Mamografía unilateral",{"$f":"IFERROR(VLOOKUP($A408,Filtro!$A$4:$AY$344,2,FALSE),0)","v":0},{"$f":"IFERROR(VLOOKUP($A408,Filtro!$A$4:$AY$344,3,FALSE),0)","v":0},{"$f":"IFERROR(VLOOKUP($A408,Filtro!$A$4:$AY$344,4,FALSE),0)","v":0},{"$f":"IFERROR(VLOOKUP($A408,Filtro!$A$4:$AY$344,5,FALSE),0)","v":0}]
["80401130","0401130","Mamografía proyección complementaria  (axilar u otras)",{"$f":"IFERROR(VLOOKUP($A409,Filtro!$A$4:$AY$344,2,FALSE),0)","v":0},{"$f":"IFERROR(VLOOKUP($A409,Filtro!$A$4:$AY$344,3,FALSE),0)","v":0},{"$f":"IFERROR(VLOOKUP($A409,Filtro!$A$4:$AY$344,4,FALSE),0)","v":0},{"$f":"IFERROR(VLOOKUP($A409,Filtro!$A$4:$AY$344,5,FALSE),0)","v":1}]
["80401011","0401011","Marcación preoperatoria de lesiones de la mama",{"$f":"IFERROR(VLOOKUP($A410,Filtro!$A$4:$AY$344,2,FALSE),0)","v":0},{"$f":"IFERROR(VLOOKUP($A410,Filtro!$A$4:$AY$344,3,FALSE),0)","v":0},{"$f":"IFERROR(VLOOKUP($A410,Filtro!$A$4:$AY$344,4,FALSE),0)","v":0},{"$f":"IFERROR(VLOOKUP($A410,Filtro!$A$4:$AY$344,5,FALSE),0)","v":0}]
["80401012","0401012","Radiografía de mama, pieza operatoria",{"$f":"IFERROR(VLOOKUP($A411,Filtro!$A$4:$AY$344,2,FALSE),0)","v":8},{"$f":"IFERROR(VLOOKUP($A411,Filtro!$A$4:$AY$344,3,FALSE),0)","v":8},{"$f":"IFERROR(VLOOKUP($A411,Filtro!$A$4:$AY$344,4,FALSE),0)","v":0},{"$f":"IFERROR(VLOOKUP($A411,Filtro!$A$4:$AY$344,5,FALSE),0)","v":0}]
["80401013","0401013","Radiografía de Abdomen Simple",{"$f":"IFERROR(VLOOKUP($A412,Filtro!$A$4:$AY$344,2,FALSE),0)","v":854},{"$f":"IFERROR(VLOOKUP($A412,Filtro!$A$4:$AY$344,3,FALSE),0)","v":854},{"$f":"IFERROR(VLOOKUP($A412,Filtro!$A$4:$AY$344,4,FALSE),0)","v":0},{"$f":"IFERROR(VLOOKUP($A412,Filtro!$A$4:$AY$344,5,FALSE),0)","v":20}]
["80401014","0401014","Radiografía de abdomen simple, proyección complementaria (lateral y/o oblicua)",{"$f":"IFERROR(VLOOKUP($A413,Filtro!$A$4:$AY$344,2,FALSE),0)","v":71},{"$f":"IFERROR(VLOOKUP($A413,Filtro!$A$4:$AY$344,3,FALSE),0)","v":71},{"$f":"IFERROR(VLOOKUP($A413,Filtro!$A$4:$AY$344,4,FALSE),0)","v":0},{"$f":"IFERROR(VLOOKUP($A413,Filtro!$A$4:$AY$344,5,FALSE),0)","v":0}]
["80401015","0401015","Colangiografía intra o postoperatoria (por sonda T, o similar)",{"$f":"IFERROR(VLOOKUP($A414,Filtro!$A$4:$AY$344,2,FALSE),0)","v":0},{"$f":"IFERROR(VLOOKUP($A414,Filtro!$A$4:$AY$344,3,FALSE),0)","v":0},{"$f":"IFERROR(VLOOKUP($A414,Filtro!$A$4:$AY$344,4,FALSE),0)","v":0},{"$f":"IFERROR(VLOOKUP($A414,Filtro!$A$4:$AY$344,5,FALSE),0)","v":0}]
["80401016","0401016","Colangiografía medica con planigrafía (6 exp.)        ",{"$f":"IFERROR(VLOOKUP($A415,Filtro!$A$4:$AY$344,2,FALSE),0)","v":0},{"$f":"IFERROR(VLOOKUP($A415,Filtro!$A$4:$AY$344,3,FALSE),0)","v":0},{"$f":"IFERROR(VLOOKUP($A415,Filtro!$A$4:$AY$344,4,FALSE),0)","v":0},{"$f":"IFERROR(VLOOKUP($A415,Filtro!$A$4:$AY$344,5,FALSE),0)","v":0}]
["80401017","0401017","Colecistografía c/s seriografía (34 exp.)                ",{"$f":"IFERROR(VLOOKUP($A416,Filtro!$A$4:$AY$344,2,FALSE),0)","v":0},{"$f":"IFERROR(VLOOKUP($A416,Filtro!$A$4:$AY$344,3,FALSE),0)","v":0},{"$f":"IFERROR(VLOOKUP($A416,Filtro!$A$4:$AY$344,4,FALSE),0)","v":0},{"$f":"IFERROR(VLOOKUP($A416,Filtro!$A$4:$AY$344,5,FALSE),0)","v":0}]
["80401018","0401018","Enema baritado del colon (incluye llene y control post-vaciamiento)",{"$f":"IFERROR(VLOOKUP($A417,Filtro!$A$4:$AY$344,2,FALSE),0)","v":0},{"$f":"IFERROR(VLOOKUP($A417,Filtro!$A$4:$AY$344,3,FALSE),0)","v":0},{"$f":"IFERROR(VLOOKUP($A417,Filtro!$A$4:$AY$344,4,FALSE),0)","v":0},{"$f":"IFERROR(VLOOKUP($A417,Filtro!$A$4:$AY$344,5,FALSE),0)","v":0}]
["80401019","0401019","Enema baritado del colon o intestino delgado, doble contraste",{"$f":"IFERROR(VLOOKUP($A418,Filtro!$A$4:$AY$344,2,FALSE),0)","v":0},{"$f":"IFERROR(VLOOKUP($A418,Filtro!$A$4:$AY$344,3,FALSE),0)","v":0},{"$f":"IFERROR(VLOOKUP($A418,Filtro!$A$4:$AY$344,4,FALSE),0)","v":0},{"$f":"IFERROR(VLOOKUP($A418,Filtro!$A$4:$AY$344,5,FALSE),0)","v":0}]
["80401020","0401020","Esofagograma  (incluye pesquisa de cuerpo extraño) (proc.aut.)",{"$f":"IFERROR(VLOOKUP($A419,Filtro!$A$4:$AY$344,2,FALSE),0)","v":0},{"$f":"IFERROR(VLOOKUP($A419,Filtro!$A$4:$AY$344,3,FALSE),0)","v":0},{"$f":"IFERROR(VLOOKUP($A419,Filtro!$A$4:$AY$344,4,FALSE),0)","v":0},{"$f":"IFERROR(VLOOKUP($A419,Filtro!$A$4:$AY$344,5,FALSE),0)","v":0}]
["80401021","0401021","Radiografía de esófago, estómago y duodeno, relleno y/o doble contraste ",{"$f":"IFERROR(VLOOKUP($A420,Filtro!$A$4:$AY$344,2,FALSE),0)","v":0},{"$f":"IFERROR(VLOOKUP($A420,Filtro!$A$4:$AY$344,3,FALSE),0)","v":0},{"$f":"IFERROR(VLOOKUP($A420,Filtro!$A$4:$AY$344,4,FALSE),0)","v":0},{"$f":"IFERROR(VLOOKUP($A420,Filtro!$A$4:$AY$344,5,FALSE),0)","v":0}]
["80401022","0401022","Estudio radiológico de deglución faríngea",{"$f":"IFERROR(VLOOKUP($A421,Filtro!$A$4:$AY$344,2,FALSE),0)","v":0},{"$f":"IFERROR(VLOOKUP($A421,Filtro!$A$4:$AY$344,3,FALSE),0)","v":0},{"$f":"IFERROR(VLOOKUP($A421,Filtro!$A$4:$AY$344,4,FALSE),0)","v":0},{"$f":"IFERROR(VLOOKUP($A421,Filtro!$A$4:$AY$344,5,FALSE),0)","v":0}]
["80401023","0401023","Estudio radiológico del intestino delgado",{"$f":"IFERROR(VLOOKUP($A422,Filtro!$A$4:$AY$344,2,FALSE),0)","v":0},{"$f":"IFERROR(VLOOKUP($A422,Filtro!$A$4:$AY$344,3,FALSE),0)","v":0},{"$f":"IFERROR(VLOOKUP($A422,Filtro!$A$4:$AY$344,4,FALSE),0)","v":0},{"$f":"IFERROR(VLOOKUP($A422,Filtro!$A$4:$AY$344,5,FALSE),0)","v":0}]
["80401024","0401024","Radiografía de esófago, estómago y duodeno, simple en niños ",{"$f":"IFERROR(VLOOKUP($A423,Filtro!$A$4:$AY$344,2,FALSE),0)","v":0},{"$f":"IFERROR(VLOOKUP($A423,Filtro!$A$4:$AY$344,3,FALSE),0)","v":0},{"$f":"IFERROR(VLOOKUP($A423,Filtro!$A$4:$AY$344,4,FALSE),0)","v":0},{"$f":"IFERROR(VLOOKUP($A423,Filtro!$A$4:$AY$344,5,FALSE),0)","v":0}]
["80401026","0401026","Pielografía de eliminación con control minutado (10 exp.)",{"$f":"IFERROR(VLOOKUP($A424,Filtro!$A$4:$AY$344,2,FALSE),0)","v":0},{"$f":"IFERROR(VLOOKUP($A424,Filtro!$A$4:$AY$344,3,FALSE),0)","v":0},{"$f":"IFERROR(VLOOKUP($A424,Filtro!$A$4:$AY$344,4,FALSE),0)","v":0},{"$f":"IFERROR(VLOOKUP($A424,Filtro!$A$4:$AY$344,5,FALSE),0)","v":0}]
["80401027","0401027","Pielografía de eliminación o descendente: incluye renal y vesical simples previas, 3 placas post inyección de medio de contraste, controles de pie y cistografía pre y post miccional. ",{"$f":"IFERROR(VLOOKUP($A425,Filtro!$A$4:$AY$344,2,FALSE),0)","v":0},{"$f":"IFERROR(VLOOKUP($A425,Filtro!$A$4:$AY$344,3,FALSE),0)","v":0},{"$f":"IFERROR(VLOOKUP($A425,Filtro!$A$4:$AY$344,4,FALSE),0)","v":0},{"$f":"IFERROR(VLOOKUP($A425,Filtro!$A$4:$AY$344,5,FALSE),0)","v":0}]
["80401028","0401028","Radiografía renal simple (proc. aut.)",{"$f":"IFERROR(VLOOKUP($A426,Filtro!$A$4:$AY$344,2,FALSE),0)","v":39},{"$f":"IFERROR(VLOOKUP($A426,Filtro!$A$4:$AY$344,3,FALSE),0)","v":39},{"$f":"IFERROR(VLOOKUP($A426,Filtro!$A$4:$AY$344,4,FALSE),0)","v":0},{"$f":"IFERROR(VLOOKUP($A426,Filtro!$A$4:$AY$344,5,FALSE),0)","v":0}]
["80401029","0401029","Radiografía vesical simple o perivesical (proc. aut.)",{"$f":"IFERROR(VLOOKUP($A427,Filtro!$A$4:$AY$344,2,FALSE),0)","v":26},{"$f":"IFERROR(VLOOKUP($A427,Filtro!$A$4:$AY$344,3,FALSE),0)","v":26},{"$f":"IFERROR(VLOOKUP($A427,Filtro!$A$4:$AY$344,4,FALSE),0)","v":0},{"$f":"IFERROR(VLOOKUP($A427,Filtro!$A$4:$AY$344,5,FALSE),0)","v":0}]
["80401030","0401030","Radiografía agujeros ópticos, ambos lados",{"$f":"IFERROR(VLOOKUP($A428,Filtro!$A$4:$AY$344,2,FALSE),0)","v":42},{"$f":"IFERROR(VLOOKUP($A428,Filtro!$A$4:$AY$344,3,FALSE),0)","v":42},{"$f":"IFERROR(VLOOKUP($A428,Filtro!$A$4:$AY$344,4,FALSE),0)","v":0},{"$f":"IFERROR(VLOOKUP($A428,Filtro!$A$4:$AY$344,5,FALSE),0)","v":0}]
["80401031","0401031","Radiografía de cavidades perinasales, órbitas, articulaciones temporomandibulares, huesos propios de la nariz, malar, maxilar, arco cigomático y cara",{"$f":"IFERROR(VLOOKUP($A429,Filtro!$A$4:$AY$344,2,FALSE),0)","v":904},{"$f":"IFERROR(VLOOKUP($A429,Filtro!$A$4:$AY$344,3,FALSE),0)","v":902},{"$f":"IFERROR(VLOOKUP($A429,Filtro!$A$4:$AY$344,4,FALSE),0)","v":2},{"$f":"IFERROR(VLOOKUP($A429,Filtro!$A$4:$AY$344,5,FALSE),0)","v":25}]
["80401032","0401032","Radiografía de cráneo frontal y lateral",{"$f":"IFERROR(VLOOKUP($A430,Filtro!$A$4:$AY$344,2,FALSE),0)","v":{"v":1619,"d":"1,619"}},{"$f":"IFERROR(VLOOKUP($A430,Filtro!$A$4:$AY$344,3,FALSE),0)","v":{"v":1618,"d":"1,618"}},{"$f":"IFERROR(VLOOKUP($A430,Filtro!$A$4:$AY$344,4,FALSE),0)","v":1},{"$f":"IFERROR(VLOOKUP($A430,Filtro!$A$4:$AY$344,5,FALSE),0)","v":42}]
["80401033","0401033","Radiografía de Cráneo  proyección especial de  base de cráneo (Towne)",{"$f":"IFERROR(VLOOKUP($A431,Filtro!$A$4:$AY$344,2,FALSE),0)","v":90},{"$f":"IFERROR(VLOOKUP($A431,Filtro!$A$4:$AY$344,3,FALSE),0)","v":90},{"$f":"IFERROR(VLOOKUP($A431,Filtro!$A$4:$AY$344,4,FALSE),0)","v":0},{"$f":"IFERROR(VLOOKUP($A431,Filtro!$A$4:$AY$344,5,FALSE),0)","v":1}]
["80401034","0401034","Radiografía de globo ocular, estudio de cuerpo extraño",{"$f":"IFERROR(VLOOKUP($A432,Filtro!$A$4:$AY$344,2,FALSE),0)","v":5},{"$f":"IFERROR(VLOOKUP($A432,Filtro!$A$4:$AY$344,3,FALSE),0)","v":5},{"$f":"IFERROR(VLOOKUP($A432,Filtro!$A$4:$AY$344,4,FALSE),0)","v":0},{"$f":"IFERROR(VLOOKUP($A432,Filtro!$A$4:$AY$344,5,FALSE),0)","v":0}]
["80401035","0401035","Radiografía de oído, uno o ambos ",{"$f":"IFERROR(VLOOKUP($A433,Filtro!$A$4:$AY$344,2,FALSE),0)","v":0},{"$f":"IFERROR(VLOOKUP($A433,Filtro!$A$4:$AY$344,3,FALSE),0)","v":0},{"$f":"IFERROR(VLOOKUP($A433,Filtro!$A$4:$AY$344,4,FALSE),0)","v":0},{"$f":"IFERROR(VLOOKUP($A433,Filtro!$A$4:$AY$344,5,FALSE),0)","v":0}]
["80401036","0401036","Radiografía de oído, uno o ambos (2 proy.) (2 exp.)                     ",{"$f":"IFERROR(VLOOKUP($A434,Filtro!$A$4:$AY$344,2,FALSE),0)","v":0},{"$f":"IFERROR(VLOOKUP($A434,Filtro!$A$4:$AY$344,3,FALSE),0)","v":0},{"$f":"IFERROR(VLOOKUP($A434,Filtro!$A$4:$AY$344,4,FALSE),0)","v":0},{"$f":"IFERROR(VLOOKUP($A434,Filtro!$A$4:$AY$344,5,FALSE),0)","v":0}]
["80401037","0401037","Radiografía de oído, uno o ambos (3 proy.) (3 exp.)                    ",{"$f":"IFERROR(VLOOKUP($A435,Filtro!$A$4:$AY$344,2,FALSE),0)","v":0},{"$f":"IFERROR(VLOOKUP($A435,Filtro!$A$4:$AY$344,3,FALSE),0)","v":0},{"$f":"IFERROR(VLOOKUP($A435,Filtro!$A$4:$AY$344,4,FALSE),0)","v":0},{"$f":"IFERROR(VLOOKUP($A435,Filtro!$A$4:$AY$344,5,FALSE),0)","v":0}]
["80401038","0401038","Planigrafía de oidos (68 exp.)                     ",{"$f":"IFERROR(VLOOKUP($A436,Filtro!$A$4:$AY$344,2,FALSE),0)","v":0},{"$f":"IFERROR(VLOOKUP($A436,Filtro!$A$4:$AY$344,3,FALSE),0)","v":0},{"$f":"IFERROR(VLOOKUP($A436,Filtro!$A$4:$AY$344,4,FALSE),0)","v":0},{"$f":"IFERROR(VLOOKUP($A436,Filtro!$A$4:$AY$344,5,FALSE),0)","v":0}]
["80401039","0401039","Planigrafía silla turca, canal optico, cavidades perinasales, c/u (68 exp.)  ",{"$f":"IFERROR(VLOOKUP($A437,Filtro!$A$4:$AY$344,2,FALSE),0)","v":10},{"$f":"IFERROR(VLOOKUP($A437,Filtro!$A$4:$AY$344,3,FALSE),0)","v":10},{"$f":"IFERROR(VLOOKUP($A437,Filtro!$A$4:$AY$344,4,FALSE),0)","v":0},{"$f":"IFERROR(VLOOKUP($A437,Filtro!$A$4:$AY$344,5,FALSE),0)","v":0}]
["80401040","0401040","Radiografía de silla turca frontal y lateral ",{"$f":"IFERROR(VLOOKUP($A438,Filtro!$A$4:$AY$344,2,FALSE),0)","v":0},{"$f":"IFERROR(VLOOKUP($A438,Filtro!$A$4:$AY$344,3,FALSE),0)","v":0},{"$f":"IFERROR(VLOOKUP($A438,Filtro!$A$4:$AY$344,4,FALSE),0)","v":0},{"$f":"IFERROR(VLOOKUP($A438,Filtro!$A$4:$AY$344,5,FALSE),0)","v":0}]
["80401041","0401041","Planigrafía localizada (cervical, dorsal o lumbosacra) (68 exp.)              ",{"$f":"IFERROR(VLOOKUP($A439,Filtro!$A$4:$AY$344,2,FALSE),0)","v":21},{"$f":"IFERROR(VLOOKUP($A439,Filtro!$A$4:$AY$344,3,FALSE),0)","v":21},{"$f":"IFERROR(VLOOKUP($A439,Filtro!$A$4:$AY$344,4,FALSE),0)","v":0},{"$f":"IFERROR(VLOOKUP($A439,Filtro!$A$4:$AY$344,5,FALSE),0)","v":0}]
["80401042","0401042","Radiografía de columna cervical o atlas-axis (frontal y lateral)",{"$f":"IFERROR(VLOOKUP($A440,Filtro!$A$4:$AY$344,2,FALSE),0)","v":603},{"$f":"IFERROR(VLOOKUP($A440,Filtro!$A$4:$AY$344,3,FALSE),0)","v":603},{"$f":"IFERROR(VLOOKUP($A440,Filtro!$A$4:$AY$344,4,FALSE),0)","v":0},{"$f":"IFERROR(VLOOKUP($A440,Filtro!$A$4:$AY$344,5,FALSE),0)","v":23}]
["80401043","0401043","Radiografía de columna cervical (frontal, lateral y oblicuas)",{"$f":"IFERROR(VLOOKUP($A441,Filtro!$A$4:$AY$344,2,FALSE),0)","v":287},{"$f":"IFERROR(VLOOKUP($A441,Filtro!$A$4:$AY$344,3,FALSE),0)","v":287},{"$f":"IFERROR(VLOOKUP($A441,Filtro!$A$4:$AY$344,4,FALSE),0)","v":0},{"$f":"IFERROR(VLOOKUP($A441,Filtro!$A$4:$AY$344,5,FALSE),0)","v":2}]
["80401044","0401044","Radiografía de columna cervical  flexión y  extensión (Dinámicas)",{"$f":"IFERROR(VLOOKUP($A442,Filtro!$A$4:$AY$344,2,FALSE),0)","v":23},{"$f":"IFERROR(VLOOKUP($A442,Filtro!$A$4:$AY$344,3,FALSE),0)","v":23},{"$f":"IFERROR(VLOOKUP($A442,Filtro!$A$4:$AY$344,4,FALSE),0)","v":0},{"$f":"IFERROR(VLOOKUP($A442,Filtro!$A$4:$AY$344,5,FALSE),0)","v":0}]
["80401045","0401045","Radiografía de columna dorsal o dorsolumbar localizada, parrilla costal adultos (frontal y lateral).",{"$f":"IFERROR(VLOOKUP($A443,Filtro!$A$4:$AY$344,2,FALSE),0)","v":{"v":1060,"d":"1,060"}},{"$f":"IFERROR(VLOOKUP($A443,Filtro!$A$4:$AY$344,3,FALSE),0)","v":{"v":1059,"d":"1,059"}},{"$f":"IFERROR(VLOOKUP($A443,Filtro!$A$4:$AY$344,4,FALSE),0)","v":1},{"$f":"IFERROR(VLOOKUP($A443,Filtro!$A$4:$AY$344,5,FALSE),0)","v":13}]
["80401046","0401046","Radiografía columna lumbar o lumbosacra   ",{"$f":"IFERROR(VLOOKUP($A444,Filtro!$A$4:$AY$344,2,FALSE),0)","v":565},{"$f":"IFERROR(VLOOKUP($A444,Filtro!$A$4:$AY$344,3,FALSE),0)","v":562},{"$f":"IFERROR(VLOOKUP($A444,Filtro!$A$4:$AY$344,4,FALSE),0)","v":3},{"$f":"IFERROR(VLOOKUP($A444,Filtro!$A$4:$AY$344,5,FALSE),0)","v":18}]
["80401047","0401047","Radiografía columna lumbar o lumbosacra  flexión y  extensión (Dinámicas)",{"$f":"IFERROR(VLOOKUP($A445,Filtro!$A$4:$AY$344,2,FALSE),0)","v":10},{"$f":"IFERROR(VLOOKUP($A445,Filtro!$A$4:$AY$344,3,FALSE),0)","v":10},{"$f":"IFERROR(VLOOKUP($A445,Filtro!$A$4:$AY$344,4,FALSE),0)","v":0},{"$f":"IFERROR(VLOOKUP($A445,Filtro!$A$4:$AY$344,5,FALSE),0)","v":3}]
["80401048","0401048","Radiografía columna lumbar o lumbosacra, oblicuas adicionales ",{"$f":"IFERROR(VLOOKUP($A446,Filtro!$A$4:$AY$344,2,FALSE),0)","v":32},{"$f":"IFERROR(VLOOKUP($A446,Filtro!$A$4:$AY$344,3,FALSE),0)","v":32},{"$f":"IFERROR(VLOOKUP($A446,Filtro!$A$4:$AY$344,4,FALSE),0)","v":0},{"$f":"IFERROR(VLOOKUP($A446,Filtro!$A$4:$AY$344,5,FALSE),0)","v":0}]
["'80401049","0401049","Radiografía de columna total, panorámica con folio graduado  frontal o lateral",{"$f":"IFERROR(VLOOKUP($A447,Filtro!$A$4:$AY$344,2,FALSE),0)","v":0},{"$f":"IFERROR(VLOOKUP($A447,Filtro!$A$4:$AY$344,3,FALSE),0)","v":0},{"$f":"IFERROR(VLOOKUP($A447,Filtro!$A$4:$AY$344,4,FALSE),0)","v":0},{"$f":"IFERROR(VLOOKUP($A447,Filtro!$A$4:$AY$344,5,FALSE),0)","v":0}]
["80401051","0401051","Radiografía de pelvis, cadera o coxofemoral",{"$f":"IFERROR(VLOOKUP($A448,Filtro!$A$4:$AY$344,2,FALSE),0)","v":{"v":1126,"d":"1,126"}},{"$f":"IFERROR(VLOOKUP($A448,Filtro!$A$4:$AY$344,3,FALSE),0)","v":{"v":1119,"d":"1,119"}},{"$f":"IFERROR(VLOOKUP($A448,Filtro!$A$4:$AY$344,4,FALSE),0)","v":7},{"$f":"IFERROR(VLOOKUP($A448,Filtro!$A$4:$AY$344,5,FALSE),0)","v":695}]
["80401151","0401151","Radiografía de pelvis, cadera o coxofemoral de RN, lactante o niño menor de 6 años.",{"$f":"IFERROR(VLOOKUP($A449,Filtro!$A$4:$AY$344,2,FALSE),0)","v":534},{"$f":"IFERROR(VLOOKUP($A449,Filtro!$A$4:$AY$344,3,FALSE),0)","v":226},{"$f":"IFERROR(VLOOKUP($A449,Filtro!$A$4:$AY$344,4,FALSE),0)","v":308},{"$f":"IFERROR(VLOOKUP($A449,Filtro!$A$4:$AY$344,5,FALSE),0)","v":{"v":1770,"d":"1,770"}}]
["80401052","0401052","Radiografía de pelvis, cadera o coxofemoral, proyecciones especiales; (rotación interna, abducción, lateral, Lawenstein u otras)",{"$f":"IFERROR(VLOOKUP($A450,Filtro!$A$4:$AY$344,2,FALSE),0)","v":330},{"$f":"IFERROR(VLOOKUP($A450,Filtro!$A$4:$AY$344,3,FALSE),0)","v":325},{"$f":"IFERROR(VLOOKUP($A450,Filtro!$A$4:$AY$344,4,FALSE),0)","v":5},{"$f":"IFERROR(VLOOKUP($A450,Filtro!$A$4:$AY$344,5,FALSE),0)","v":28}]
["80401053","0401053","Radiografía de Sacrocoxis o articulaciones sacroilíacas.",{"$f":"IFERROR(VLOOKUP($A451,Filtro!$A$4:$AY$344,2,FALSE),0)","v":326},{"$f":"IFERROR(VLOOKUP($A451,Filtro!$A$4:$AY$344,3,FALSE),0)","v":326},{"$f":"IFERROR(VLOOKUP($A451,Filtro!$A$4:$AY$344,4,FALSE),0)","v":0},{"$f":"IFERROR(VLOOKUP($A451,Filtro!$A$4:$AY$344,5,FALSE),0)","v":8}]
["80401054","0401054","Radiografía de brazo, antebrazo, codo, muñeca, mano, dedos, pie  (frontal y lateral)",{"$f":"IFERROR(VLOOKUP($A452,Filtro!$A$4:$AY$344,2,FALSE),0)","v":{"v":7316,"d":"7,316"}},{"$f":"IFERROR(VLOOKUP($A452,Filtro!$A$4:$AY$344,3,FALSE),0)","v":{"v":7304,"d":"7,304"}},{"$f":"IFERROR(VLOOKUP($A452,Filtro!$A$4:$AY$344,4,FALSE),0)","v":12},{"$f":"IFERROR(VLOOKUP($A452,Filtro!$A$4:$AY$344,5,FALSE),0)","v":236}]
["80401055","0401055","Radiografía de clavícula.",{"$f":"IFERROR(VLOOKUP($A453,Filtro!$A$4:$AY$344,2,FALSE),0)","v":181},{"$f":"IFERROR(VLOOKUP($A453,Filtro!$A$4:$AY$344,3,FALSE),0)","v":181},{"$f":"IFERROR(VLOOKUP($A453,Filtro!$A$4:$AY$344,4,FALSE),0)","v":0},{"$f":"IFERROR(VLOOKUP($A453,Filtro!$A$4:$AY$344,5,FALSE),0)","v":5}]
["80401056","0401056","Radiografía Edad Ósea: carpo y mano ",{"$f":"IFERROR(VLOOKUP($A454,Filtro!$A$4:$AY$344,2,FALSE),0)","v":4},{"$f":"IFERROR(VLOOKUP($A454,Filtro!$A$4:$AY$344,3,FALSE),0)","v":4},{"$f":"IFERROR(VLOOKUP($A454,Filtro!$A$4:$AY$344,4,FALSE),0)","v":0},{"$f":"IFERROR(VLOOKUP($A454,Filtro!$A$4:$AY$344,5,FALSE),0)","v":1}]
["80401057","0401057","Radiografía Edad ósea : rodilla frontal",{"$f":"IFERROR(VLOOKUP($A455,Filtro!$A$4:$AY$344,2,FALSE),0)","v":83},{"$f":"IFERROR(VLOOKUP($A455,Filtro!$A$4:$AY$344,3,FALSE),0)","v":83},{"$f":"IFERROR(VLOOKUP($A455,Filtro!$A$4:$AY$344,4,FALSE),0)","v":0},{"$f":"IFERROR(VLOOKUP($A455,Filtro!$A$4:$AY$344,5,FALSE),0)","v":0}]
["80401058","0401058","Estudio radiológico de escafoides",{"$f":"IFERROR(VLOOKUP($A456,Filtro!$A$4:$AY$344,2,FALSE),0)","v":44},{"$f":"IFERROR(VLOOKUP($A456,Filtro!$A$4:$AY$344,3,FALSE),0)","v":44},{"$f":"IFERROR(VLOOKUP($A456,Filtro!$A$4:$AY$344,4,FALSE),0)","v":0},{"$f":"IFERROR(VLOOKUP($A456,Filtro!$A$4:$AY$344,5,FALSE),0)","v":0}]
["80401059","0401059","Estudio radiológico de muñeca o tobillo frontal lateral y oblicuas",{"$f":"IFERROR(VLOOKUP($A457,Filtro!$A$4:$AY$344,2,FALSE),0)","v":{"v":1315,"d":"1,315"}},{"$f":"IFERROR(VLOOKUP($A457,Filtro!$A$4:$AY$344,3,FALSE),0)","v":{"v":1314,"d":"1,314"}},{"$f":"IFERROR(VLOOKUP($A457,Filtro!$A$4:$AY$344,4,FALSE),0)","v":1},{"$f":"IFERROR(VLOOKUP($A457,Filtro!$A$4:$AY$344,5,FALSE),0)","v":74}]
["80401060","0401060","Radiografía de hombro, fémur, rodilla, pierna, costilla o esternón Frontal y Lateral",{"$f":"IFERROR(VLOOKUP($A458,Filtro!$A$4:$AY$344,2,FALSE),0)","v":{"v":3942,"d":"3,942"}},{"$f":"IFERROR(VLOOKUP($A458,Filtro!$A$4:$AY$344,3,FALSE),0)","v":{"v":3909,"d":"3,909"}},{"$f":"IFERROR(VLOOKUP($A458,Filtro!$A$4:$AY$344,4,FALSE),0)","v":33},{"$f":"IFERROR(VLOOKUP($A458,Filtro!$A$4:$AY$344,5,FALSE),0)","v":{"v":1021,"d":"1,021"}}]
["80401061","0401061","Planigrafía ósea frontal y/o lateral (6 exp.) ",{"$f":"IFERROR(VLOOKUP($A459,Filtro!$A$4:$AY$344,2,FALSE),0)","v":98},{"$f":"IFERROR(VLOOKUP($A459,Filtro!$A$4:$AY$344,3,FALSE),0)","v":98},{"$f":"IFERROR(VLOOKUP($A459,Filtro!$A$4:$AY$344,4,FALSE),0)","v":0},{"$f":"IFERROR(VLOOKUP($A459,Filtro!$A$4:$AY$344,5,FALSE),0)","v":1}]
["80401062","0401062","Radiografía de Proyecciones especiales oblicuas u otras en hombro, brazo, codo, rodilla, rótulas, sesamoideos, axial de ambas rótulas o similares",{"$f":"IFERROR(VLOOKUP($A460,Filtro!$A$4:$AY$344,2,FALSE),0)","v":348},{"$f":"IFERROR(VLOOKUP($A460,Filtro!$A$4:$AY$344,3,FALSE),0)","v":348},{"$f":"IFERROR(VLOOKUP($A460,Filtro!$A$4:$AY$344,4,FALSE),0)","v":0},{"$f":"IFERROR(VLOOKUP($A460,Filtro!$A$4:$AY$344,5,FALSE),0)","v":13}]
["80401063","0401063","Radiografía de túnel intercondíleo o radio-carpiano",{"$f":"IFERROR(VLOOKUP($A461,Filtro!$A$4:$AY$344,2,FALSE),0)","v":5},{"$f":"IFERROR(VLOOKUP($A461,Filtro!$A$4:$AY$344,3,FALSE),0)","v":5},{"$f":"IFERROR(VLOOKUP($A461,Filtro!$A$4:$AY$344,4,FALSE),0)","v":0},{"$f":"IFERROR(VLOOKUP($A461,Filtro!$A$4:$AY$344,5,FALSE),0)","v":0}]
["80401064","0401064","Apoyo fluoroscópico a procedimientos intraoperatorios y/o biopsia (no incluye el proc.)",{"$f":"IFERROR(VLOOKUP($A462,Filtro!$A$4:$AY$344,2,FALSE),0)","v":0},{"$f":"IFERROR(VLOOKUP($A462,Filtro!$A$4:$AY$344,3,FALSE),0)","v":0},{"$f":"IFERROR(VLOOKUP($A462,Filtro!$A$4:$AY$344,4,FALSE),0)","v":0},{"$f":"IFERROR(VLOOKUP($A462,Filtro!$A$4:$AY$344,5,FALSE),0)","v":0}]
["80404002","0404002","Ecografía obstétrica",{"$f":"IFERROR(VLOOKUP($A463,Filtro!$A$4:$AY$344,2,FALSE),0)","v":{"v":2636,"d":"2,636"}},{"$f":"IFERROR(VLOOKUP($A463,Filtro!$A$4:$AY$344,3,FALSE),0)","v":11},{"$f":"IFERROR(VLOOKUP($A463,Filtro!$A$4:$AY$344,4,FALSE),0)","v":{"v":2625,"d":"2,625"}},{"$f":"IFERROR(VLOOKUP($A463,Filtro!$A$4:$AY$344,5,FALSE),0)","v":250}]
["80404003","0404003","Ecografía abdominal (incluye hígado, vía biliar, vesícula, páncreas, riñones, bazo, retroperitoneo y grandes vasos)",{"$f":"IFERROR(VLOOKUP($A464,Filtro!$A$4:$AY$344,2,FALSE),0)","v":35},{"$f":"IFERROR(VLOOKUP($A464,Filtro!$A$4:$AY$344,3,FALSE),0)","v":0},{"$f":"IFERROR(VLOOKUP($A464,Filtro!$A$4:$AY$344,4,FALSE),0)","v":35},{"$f":"IFERROR(VLOOKUP($A464,Filtro!$A$4:$AY$344,5,FALSE),0)","v":889}]
["80404004","0404004","Ecografía como apoyo a cirugía, o a procedimiento (de tórax, muscular, partes blandas, etc.)",{"$f":"IFERROR(VLOOKUP($A465,Filtro!$A$4:$AY$344,2,FALSE),0)","v":0},{"$f":"IFERROR(VLOOKUP($A465,Filtro!$A$4:$AY$344,3,FALSE),0)","v":0},{"$f":"IFERROR(VLOOKUP($A465,Filtro!$A$4:$AY$344,4,FALSE),0)","v":0},{"$f":"IFERROR(VLOOKUP($A465,Filtro!$A$4:$AY$344,5,FALSE),0)","v":0}]
["80404005","0404005","Ecografía transvaginal o transrectal",{"$f":"IFERROR(VLOOKUP($A466,Filtro!$A$4:$AY$344,2,FALSE),0)","v":174},{"$f":"IFERROR(VLOOKUP($A466,Filtro!$A$4:$AY$344,3,FALSE),0)","v":0},{"$f":"IFERROR(VLOOKUP($A466,Filtro!$A$4:$AY$344,4,FALSE),0)","v":174},{"$f":"IFERROR(VLOOKUP($A466,Filtro!$A$4:$AY$344,5,FALSE),0)","v":5}]
["80404006","0404006","Ecografía ginecológica, pelviana femenina u obstétrica con estudio fetal",{"$f":"IFERROR(VLOOKUP($A467,Filtro!$A$4:$AY$344,2,FALSE),0)","v":240},{"$f":"IFERROR(VLOOKUP($A467,Filtro!$A$4:$AY$344,3,FALSE),0)","v":0},{"$f":"IFERROR(VLOOKUP($A467,Filtro!$A$4:$AY$344,4,FALSE),0)","v":240},{"$f":"IFERROR(VLOOKUP($A467,Filtro!$A$4:$AY$344,5,FALSE),0)","v":3}]
["80404007","0404007","Ecografía transvaginal para seguimiento de ovulación, procedimiento completo (6-8 sesiones )",{"$f":"IFERROR(VLOOKUP($A468,Filtro!$A$4:$AY$344,2,FALSE),0)","v":0},{"$f":"IFERROR(VLOOKUP($A468,Filtro!$A$4:$AY$344,3,FALSE),0)","v":0},{"$f":"IFERROR(VLOOKUP($A468,Filtro!$A$4:$AY$344,4,FALSE),0)","v":0},{"$f":"IFERROR(VLOOKUP($A468,Filtro!$A$4:$AY$344,5,FALSE),0)","v":0}]
["80404008","0404008","Ecografía para seguimiento de ovulación, procedimiento completo (6 a 8 sesiones)",{"$f":"IFERROR(VLOOKUP($A469,Filtro!$A$4:$AY$344,2,FALSE),0)","v":0},{"$f":"IFERROR(VLOOKUP($A469,Filtro!$A$4:$AY$344,3,FALSE),0)","v":0},{"$f":"IFERROR(VLOOKUP($A469,Filtro!$A$4:$AY$344,4,FALSE),0)","v":0},{"$f":"IFERROR(VLOOKUP($A469,Filtro!$A$4:$AY$344,5,FALSE),0)","v":0}]
["80404009","0404009","Ecografía pélvica masculina (incluye vejiga y próstata)",{"$f":"IFERROR(VLOOKUP($A470,Filtro!$A$4:$AY$344,2,FALSE),0)","v":0},{"$f":"IFERROR(VLOOKUP($A470,Filtro!$A$4:$AY$344,3,FALSE),0)","v":0},{"$f":"IFERROR(VLOOKUP($A470,Filtro!$A$4:$AY$344,4,FALSE),0)","v":0},{"$f":"IFERROR(VLOOKUP($A470,Filtro!$A$4:$AY$344,5,FALSE),0)","v":0}]
["80404010","0404010","Ecografía renal (bilateral), o de bazo",{"$f":"IFERROR(VLOOKUP($A471,Filtro!$A$4:$AY$344,2,FALSE),0)","v":0},{"$f":"IFERROR(VLOOKUP($A471,Filtro!$A$4:$AY$344,3,FALSE),0)","v":0},{"$f":"IFERROR(VLOOKUP($A471,Filtro!$A$4:$AY$344,4,FALSE),0)","v":0},{"$f":"IFERROR(VLOOKUP($A471,Filtro!$A$4:$AY$344,5,FALSE),0)","v":0}]
["80404011","0404011","Ecografía encefálica (RN o lactante)",{"$f":"IFERROR(VLOOKUP($A472,Filtro!$A$4:$AY$344,2,FALSE),0)","v":0},{"$f":"IFERROR(VLOOKUP($A472,Filtro!$A$4:$AY$344,3,FALSE),0)","v":0},{"$f":"IFERROR(VLOOKUP($A472,Filtro!$A$4:$AY$344,4,FALSE),0)","v":0},{"$f":"IFERROR(VLOOKUP($A472,Filtro!$A$4:$AY$344,5,FALSE),0)","v":0}]
["80404012","0404012","Ecografía mamaria bilateral (incluye Doppler)",{"$f":"IFERROR(VLOOKUP($A473,Filtro!$A$4:$AY$344,2,FALSE),0)","v":95},{"$f":"IFERROR(VLOOKUP($A473,Filtro!$A$4:$AY$344,3,FALSE),0)","v":0},{"$f":"IFERROR(VLOOKUP($A473,Filtro!$A$4:$AY$344,4,FALSE),0)","v":95},{"$f":"IFERROR(VLOOKUP($A473,Filtro!$A$4:$AY$344,5,FALSE),0)","v":947}]
["80404013","0404013","Ecografía ocular, uno o ambos ojos.",{"$f":"IFERROR(VLOOKUP($A474,Filtro!$A$4:$AY$344,2,FALSE),0)","v":0},{"$f":"IFERROR(VLOOKUP($A474,Filtro!$A$4:$AY$344,3,FALSE),0)","v":0},{"$f":"IFERROR(VLOOKUP($A474,Filtro!$A$4:$AY$344,4,FALSE),0)","v":0},{"$f":"IFERROR(VLOOKUP($A474,Filtro!$A$4:$AY$344,5,FALSE),0)","v":0}]
["80404014","0404014","Ecografía testicular (uno o ambos) (Incluye Doppler)",{"$f":"IFERROR(VLOOKUP($A475,Filtro!$A$4:$AY$344,2,FALSE),0)","v":0},{"$f":"IFERROR(VLOOKUP($A475,Filtro!$A$4:$AY$344,3,FALSE),0)","v":0},{"$f":"IFERROR(VLOOKUP($A475,Filtro!$A$4:$AY$344,4,FALSE),0)","v":0},{"$f":"IFERROR(VLOOKUP($A475,Filtro!$A$4:$AY$344,5,FALSE),0)","v":0}]
["80404015","0404015","Ecografía tiroidea (Incluye Doppler)",{"$f":"IFERROR(VLOOKUP($A476,Filtro!$A$4:$AY$344,2,FALSE),0)","v":0},{"$f":"IFERROR(VLOOKUP($A476,Filtro!$A$4:$AY$344,3,FALSE),0)","v":0},{"$f":"IFERROR(VLOOKUP($A476,Filtro!$A$4:$AY$344,4,FALSE),0)","v":0},{"$f":"IFERROR(VLOOKUP($A476,Filtro!$A$4:$AY$344,5,FALSE),0)","v":0}]
["80404016","0404016","Ecografía vascular periférica, articular o de partes blandas",{"$f":"IFERROR(VLOOKUP($A477,Filtro!$A$4:$AY$344,2,FALSE),0)","v":0},{"$f":"IFERROR(VLOOKUP($A477,Filtro!$A$4:$AY$344,3,FALSE),0)","v":0},{"$f":"IFERROR(VLOOKUP($A477,Filtro!$A$4:$AY$344,4,FALSE),0)","v":0},{"$f":"IFERROR(VLOOKUP($A477,Filtro!$A$4:$AY$344,5,FALSE),0)","v":0}]
["80404018","0404018","Ecotomografía vascular periférica (bilateral), cervical (bilateral), abdominal o de otros órganos con doppler duplex                 ",{"$f":"IFERROR(VLOOKUP($A478,Filtro!$A$4:$AY$344,2,FALSE),0)","v":53},{"$f":"IFERROR(VLOOKUP($A478,Filtro!$A$4:$AY$344,3,FALSE),0)","v":0},{"$f":"IFERROR(VLOOKUP($A478,Filtro!$A$4:$AY$344,4,FALSE),0)","v":53},{"$f":"IFERROR(VLOOKUP($A478,Filtro!$A$4:$AY$344,5,FALSE),0)","v":53}]
["80404019","0404019","Ecotomografía vascular periférica (bilateral), cervical (bilateral), abdominal o de otros órganos con doppler color                ",{"$f":"IFERROR(VLOOKUP($A479,Filtro!$A$4:$AY$344,2,FALSE),0)","v":0},{"$f":"IFERROR(VLOOKUP($A479,Filtro!$A$4:$AY$344,3,FALSE),0)","v":0},{"$f":"IFERROR(VLOOKUP($A479,Filtro!$A$4:$AY$344,4,FALSE),0)","v":0},{"$f":"IFERROR(VLOOKUP($A479,Filtro!$A$4:$AY$344,5,FALSE),0)","v":0}]
[null,"SECCIÓN B: PROCEDIMIENTOS APOYO CLÍNICO Y TERAPÉUTICO"]
[null,"CÓDIGOS","PROCEDIMIENTOS","TOTAL","SAPU/SAR/SUR","NO SAPU/ NO SUR","FUNCIONARIO",null,"COMPRAS DE SERVICIOS"]
[{"$nulls":6},"MÉDICO","OTRO"]
[null,"NEUROLOGÍA"]
["81101003",1101003,"Lumbar c/s manometria c/s queckensted   ",{"$f":"IFERROR(VLOOKUP($A484,Filtro!$A$4:$AY$344,2,FALSE),0)","v":0},{"$f":"IFERROR(VLOOKUP($A484,Filtro!$A$4:$AY$344,3,FALSE),0)","v":0},{"$f":"IFERROR(VLOOKUP($A484,Filtro!$A$4:$AY$344,4,FALSE),0)","v":0},{"$f":"IFERROR(VLOOKUP($A484,Filtro!$A$4:$AY$344,5,FALSE),0)","v":0},{"$f":"IFERROR(VLOOKUP($A484,Filtro!$A$4:$AY$344,6,FALSE),0)","v":0},{"$f":"IFERROR(VLOOKUP($A484,Filtro!$A$4:$AY$344,7,FALSE),0)","v":0}]
[null,"OFTALMOLOGÍA"]
["81201003",1201003,"cuantificacion de lagrimacion (test de   schirmer),  uno o                  ",{"$f":"IFERROR(VLOOKUP($A486,Filtro!$A$4:$AY$344,2,FALSE),0)","v":0},{"$f":"IFERROR(VLOOKUP($A486,Filtro!$A$4:$AY$344,3,FALSE),0)","v":0},{"$f":"IFERROR(VLOOKUP($A486,Filtro!$A$4:$AY$344,4,FALSE),0)","v":0},{"$f":"IFERROR(VLOOKUP($A486,Filtro!$A$4:$AY$344,5,FALSE),0)","v":0},{"$f":"IFERROR(VLOOKUP($A486,Filtro!$A$4:$AY$344,6,FALSE),0)","v":0},{"$f":"IFERROR(VLOOKUP($A486,Filtro!$A$4:$AY$344,7,FALSE),0)","v":0}]
["81201004",1201004,"curva de tension aplanatica (por cada dia), c/ojo                                ",{"$f":"IFERROR(VLOOKUP($A487,Filtro!$A$4:$AY$344,2,FALSE),0)","v":0},{"$f":"IFERROR(VLOOKUP($A487,Filtro!$A$4:$AY$344,3,FALSE),0)","v":0},{"$f":"IFERROR(VLOOKUP($A487,Filtro!$A$4:$AY$344,4,FALSE),0)","v":0},{"$f":"IFERROR(VLOOKUP($A487,Filtro!$A$4:$AY$344,5,FALSE),0)","v":0},{"$f":"IFERROR(VLOOKUP($A487,Filtro!$A$4:$AY$344,6,FALSE),0)","v":0},{"$f":"IFERROR(VLOOKUP($A487,Filtro!$A$4:$AY$344,7,FALSE),0)","v":0}]
["81201005",1201005,"diploscopia cuantitativa, ambos ojos                                                      ",{"$f":"IFERROR(VLOOKUP($A488,Filtro!$A$4:$AY$344,2,FALSE),0)","v":0},{"$f":"IFERROR(VLOOKUP($A488,Filtro!$A$4:$AY$344,3,FALSE),0)","v":0},{"$f":"IFERROR(VLOOKUP($A488,Filtro!$A$4:$AY$344,4,FALSE),0)","v":0},{"$f":"IFERROR(VLOOKUP($A488,Filtro!$A$4:$AY$344,5,FALSE),0)","v":0},{"$f":"IFERROR(VLOOKUP($A488,Filtro!$A$4:$AY$344,6,FALSE),0)","v":0},{"$f":"IFERROR(VLOOKUP($A488,Filtro!$A$4:$AY$344,7,FALSE),0)","v":0}]
["81201009",1201009,"exploracion sensoriomotora: estrabismo, estudio completo ,               ",{"$f":"IFERROR(VLOOKUP($A489,Filtro!$A$4:$AY$344,2,FALSE),0)","v":0},{"$f":"IFERROR(VLOOKUP($A489,Filtro!$A$4:$AY$344,3,FALSE),0)","v":0},{"$f":"IFERROR(VLOOKUP($A489,Filtro!$A$4:$AY$344,4,FALSE),0)","v":0},{"$f":"IFERROR(VLOOKUP($A489,Filtro!$A$4:$AY$344,5,FALSE),0)","v":0},{"$f":"IFERROR(VLOOKUP($A489,Filtro!$A$4:$AY$344,6,FALSE),0)","v":0},{"$f":"IFERROR(VLOOKUP($A489,Filtro!$A$4:$AY$344,7,FALSE),0)","v":0}]
["81201012",1201012,"retinografia, ambos ojos                                                                           ",{"$f":"IFERROR(VLOOKUP($A490,Filtro!$A$4:$AY$344,2,FALSE),0)","v":0},{"$f":"IFERROR(VLOOKUP($A490,Filtro!$A$4:$AY$344,3,FALSE),0)","v":0},{"$f":"IFERROR(VLOOKUP($A490,Filtro!$A$4:$AY$344,4,FALSE),0)","v":0},{"$f":"IFERROR(VLOOKUP($A490,Filtro!$A$4:$AY$344,5,FALSE),0)","v":0},{"$f":"IFERROR(VLOOKUP($A490,Filtro!$A$4:$AY$344,6,FALSE),0)","v":0},{"$f":"IFERROR(VLOOKUP($A490,Filtro!$A$4:$AY$344,7,FALSE),0)","v":0}]
["81201014",1201014,"tonometria ocular, cualquier tecnica, c/ojo                                            ",{"$f":"IFERROR(VLOOKUP($A491,Filtro!$A$4:$AY$344,2,FALSE),0)","v":0},{"$f":"IFERROR(VLOOKUP($A491,Filtro!$A$4:$AY$344,3,FALSE),0)","v":0},{"$f":"IFERROR(VLOOKUP($A491,Filtro!$A$4:$AY$344,4,FALSE),0)","v":0},{"$f":"IFERROR(VLOOKUP($A491,Filtro!$A$4:$AY$344,5,FALSE),0)","v":0},{"$f":"IFERROR(VLOOKUP($A491,Filtro!$A$4:$AY$344,6,FALSE),0)","v":0},{"$f":"IFERROR(VLOOKUP($A491,Filtro!$A$4:$AY$344,7,FALSE),0)","v":0}]
["81201015",1201015,"tratamiento ortoptico y/ o pleoptico (por sesion) ,                               ",{"$f":"IFERROR(VLOOKUP($A492,Filtro!$A$4:$AY$344,2,FALSE),0)","v":0},{"$f":"IFERROR(VLOOKUP($A492,Filtro!$A$4:$AY$344,3,FALSE),0)","v":0},{"$f":"IFERROR(VLOOKUP($A492,Filtro!$A$4:$AY$344,4,FALSE),0)","v":0},{"$f":"IFERROR(VLOOKUP($A492,Filtro!$A$4:$AY$344,5,FALSE),0)","v":0},{"$f":"IFERROR(VLOOKUP($A492,Filtro!$A$4:$AY$344,6,FALSE),0)","v":0},{"$f":"IFERROR(VLOOKUP($A492,Filtro!$A$4:$AY$344,7,FALSE),0)","v":0}]
["81201019",1201019," Exploracion vitreorretinal, ambos ojos                                                       ",{"$f":"IFERROR(VLOOKUP($A493,Filtro!$A$4:$AY$344,2,FALSE),0)","v":0},{"$f":"IFERROR(VLOOKUP($A493,Filtro!$A$4:$AY$344,3,FALSE),0)","v":0},{"$f":"IFERROR(VLOOKUP($A493,Filtro!$A$4:$AY$344,4,FALSE),0)","v":0},{"$f":"IFERROR(VLOOKUP($A493,Filtro!$A$4:$AY$344,5,FALSE),0)","v":0},{"$f":"IFERROR(VLOOKUP($A493,Filtro!$A$4:$AY$344,6,FALSE),0)","v":0},{"$f":"IFERROR(VLOOKUP($A493,Filtro!$A$4:$AY$344,7,FALSE),0)","v":0}]
["81201029",1201029,"Cuerpo extrano conjuntival y/o corneal en adultos                                 ",{"$f":"IFERROR(VLOOKUP($A494,Filtro!$A$4:$AY$344,2,FALSE),0)","v":138},{"$f":"IFERROR(VLOOKUP($A494,Filtro!$A$4:$AY$344,3,FALSE),0)","v":96},{"$f":"IFERROR(VLOOKUP($A494,Filtro!$A$4:$AY$344,4,FALSE),0)","v":42},{"$f":"IFERROR(VLOOKUP($A494,Filtro!$A$4:$AY$344,5,FALSE),0)","v":20},{"$f":"IFERROR(VLOOKUP($A494,Filtro!$A$4:$AY$344,6,FALSE),0)","v":50},{"$f":"IFERROR(VLOOKUP($A494,Filtro!$A$4:$AY$344,7,FALSE),0)","v":0}]
["81201042",1201042,"Campimetría computarizada, c/ojo (excluye UAPO)                            ",{"$f":"IFERROR(VLOOKUP($A495,Filtro!$A$4:$AY$344,2,FALSE),0)","v":0},{"$f":"IFERROR(VLOOKUP($A495,Filtro!$A$4:$AY$344,3,FALSE),0)","v":0},{"$f":"IFERROR(VLOOKUP($A495,Filtro!$A$4:$AY$344,4,FALSE),0)","v":0},{"$f":"IFERROR(VLOOKUP($A495,Filtro!$A$4:$AY$344,5,FALSE),0)","v":0},{"$f":"IFERROR(VLOOKUP($A495,Filtro!$A$4:$AY$344,6,FALSE),0)","v":0},{"$f":"IFERROR(VLOOKUP($A495,Filtro!$A$4:$AY$344,7,FALSE),0)","v":0}]
["81201042A",1201042,"Campimetría computarizada, c/ojo (en UAPO)                                  ",{"$f":"IFERROR(VLOOKUP($A496,Filtro!$A$4:$AY$344,2,FALSE),0)","v":0},{"$f":"IFERROR(VLOOKUP($A496,Filtro!$A$4:$AY$344,3,FALSE),0)","v":0},{"$f":"IFERROR(VLOOKUP($A496,Filtro!$A$4:$AY$344,4,FALSE),0)","v":0},{"$f":"IFERROR(VLOOKUP($A496,Filtro!$A$4:$AY$344,5,FALSE),0)","v":0},{"$f":"IFERROR(VLOOKUP($A496,Filtro!$A$4:$AY$344,6,FALSE),0)","v":0},{"$f":"IFERROR(VLOOKUP($A496,Filtro!$A$4:$AY$344,7,FALSE),0)","v":0}]
[null,"TOTAL",null,{"$f":"SUM(D486:D496)","v":138},{"$f":"SUM(E486:E496)","v":96},{"$f":"SUM(F486:F496)","v":42},{"$f":"SUM(G486:G496)","v":20},{"$f":"SUM(H486:H496)","v":50},{"$f":"SUM(I486:I496)","v":0}]
[null,"OTORRINOLARINGOLOGÍA"]
["81301025",1301025,"Taponamiento nasal anterior (proc. aut.)",{"$f":"IFERROR(VLOOKUP($A499,Filtro!$A$4:$AY$344,2,FALSE),0)","v":199},{"$f":"IFERROR(VLOOKUP($A499,Filtro!$A$4:$AY$344,3,FALSE),0)","v":170},{"$f":"IFERROR(VLOOKUP($A499,Filtro!$A$4:$AY$344,4,FALSE),0)","v":29},{"$f":"IFERROR(VLOOKUP($A499,Filtro!$A$4:$AY$344,5,FALSE),0)","v":111},{"$f":"IFERROR(VLOOKUP($A499,Filtro!$A$4:$AY$344,6,FALSE),0)","v":53},{"$f":"IFERROR(VLOOKUP($A499,Filtro!$A$4:$AY$344,7,FALSE),0)","v":0}]
["81301026",1301026,"Taponamiento nasal posterior",{"$f":"IFERROR(VLOOKUP($A500,Filtro!$A$4:$AY$344,2,FALSE),0)","v":27},{"$f":"IFERROR(VLOOKUP($A500,Filtro!$A$4:$AY$344,3,FALSE),0)","v":18},{"$f":"IFERROR(VLOOKUP($A500,Filtro!$A$4:$AY$344,4,FALSE),0)","v":9},{"$f":"IFERROR(VLOOKUP($A500,Filtro!$A$4:$AY$344,5,FALSE),0)","v":11},{"$f":"IFERROR(VLOOKUP($A500,Filtro!$A$4:$AY$344,6,FALSE),0)","v":18},{"$f":"IFERROR(VLOOKUP($A500,Filtro!$A$4:$AY$344,7,FALSE),0)","v":0}]
["81301029",1301029,"Cuerpo extraño en fosas nasales, extraccion en adultos        ",{"$f":"IFERROR(VLOOKUP($A501,Filtro!$A$4:$AY$344,2,FALSE),0)","v":18},{"$f":"IFERROR(VLOOKUP($A501,Filtro!$A$4:$AY$344,3,FALSE),0)","v":6},{"$f":"IFERROR(VLOOKUP($A501,Filtro!$A$4:$AY$344,4,FALSE),0)","v":12},{"$f":"IFERROR(VLOOKUP($A501,Filtro!$A$4:$AY$344,5,FALSE),0)","v":4},{"$f":"IFERROR(VLOOKUP($A501,Filtro!$A$4:$AY$344,6,FALSE),0)","v":12},{"$f":"IFERROR(VLOOKUP($A501,Filtro!$A$4:$AY$344,7,FALSE),0)","v":0}]
["81301030",1301030,"Cuerpo extraño en fosas nasales, extraccion en niños        ",{"$f":"IFERROR(VLOOKUP($A502,Filtro!$A$4:$AY$344,2,FALSE),0)","v":16},{"$f":"IFERROR(VLOOKUP($A502,Filtro!$A$4:$AY$344,3,FALSE),0)","v":13},{"$f":"IFERROR(VLOOKUP($A502,Filtro!$A$4:$AY$344,4,FALSE),0)","v":3},{"$f":"IFERROR(VLOOKUP($A502,Filtro!$A$4:$AY$344,5,FALSE),0)","v":12},{"$f":"IFERROR(VLOOKUP($A502,Filtro!$A$4:$AY$344,6,FALSE),0)","v":4},{"$f":"IFERROR(VLOOKUP($A502,Filtro!$A$4:$AY$344,7,FALSE),0)","v":0}]
["81301042",1301042,"Trompa de eustaquio, insuflacion instrumental (proc. Aut.) en adultos                                                                             ",{"$f":"IFERROR(VLOOKUP($A503,Filtro!$A$4:$AY$344,2,FALSE),0)","v":9},{"$f":"IFERROR(VLOOKUP($A503,Filtro!$A$4:$AY$344,3,FALSE),0)","v":7},{"$f":"IFERROR(VLOOKUP($A503,Filtro!$A$4:$AY$344,4,FALSE),0)","v":2},{"$f":"IFERROR(VLOOKUP($A503,Filtro!$A$4:$AY$344,5,FALSE),0)","v":7},{"$f":"IFERROR(VLOOKUP($A503,Filtro!$A$4:$AY$344,6,FALSE),0)","v":2},{"$f":"IFERROR(VLOOKUP($A503,Filtro!$A$4:$AY$344,7,FALSE),0)","v":0}]
["81301043",1301043,"Trompa de eustaquio, insuflacion instrumental (proc. Aut.) en ninos                                                                                     ",{"$f":"IFERROR(VLOOKUP($A504,Filtro!$A$4:$AY$344,2,FALSE),0)","v":3},{"$f":"IFERROR(VLOOKUP($A504,Filtro!$A$4:$AY$344,3,FALSE),0)","v":2},{"$f":"IFERROR(VLOOKUP($A504,Filtro!$A$4:$AY$344,4,FALSE),0)","v":1},{"$f":"IFERROR(VLOOKUP($A504,Filtro!$A$4:$AY$344,5,FALSE),0)","v":2},{"$f":"IFERROR(VLOOKUP($A504,Filtro!$A$4:$AY$344,6,FALSE),0)","v":1},{"$f":"IFERROR(VLOOKUP($A504,Filtro!$A$4:$AY$344,7,FALSE),0)","v":0}]
[null,"TOTAL",null,{"$f":"SUM(D499:D504)","v":272},{"$f":"SUM(E499:E504)","v":216},{"$f":"SUM(F499:F504)","v":56},{"$f":"SUM(G499:G504)","v":147},{"$f":"SUM(H499:H504)","v":90},{"$f":"SUM(I499:I504)","v":0}]
[null,"DERMATOLOGÍA Y TEGUMENTOS"]
["81601110",1601110,"Curetaje de lesiones virales o similares hasta 10 lesiones                          ",{"$f":"IFERROR(VLOOKUP($A507,Filtro!$A$4:$AY$344,2,FALSE),0)","v":4},{"$f":"IFERROR(VLOOKUP($A507,Filtro!$A$4:$AY$344,3,FALSE),0)","v":1},{"$f":"IFERROR(VLOOKUP($A507,Filtro!$A$4:$AY$344,4,FALSE),0)","v":3},{"$f":"IFERROR(VLOOKUP($A507,Filtro!$A$4:$AY$344,5,FALSE),0)","v":1},{"$f":"IFERROR(VLOOKUP($A507,Filtro!$A$4:$AY$344,6,FALSE),0)","v":4},{"$f":"IFERROR(VLOOKUP($A507,Filtro!$A$4:$AY$344,7,FALSE),0)","v":0}]
["81601115",1601115,"Implantes Subcutáneos, instalación o retiro",{"$f":"IFERROR(VLOOKUP($A508,Filtro!$A$4:$AY$344,2,FALSE),0)","v":359},{"$f":"IFERROR(VLOOKUP($A508,Filtro!$A$4:$AY$344,3,FALSE),0)","v":2},{"$f":"IFERROR(VLOOKUP($A508,Filtro!$A$4:$AY$344,4,FALSE),0)","v":357},{"$f":"IFERROR(VLOOKUP($A508,Filtro!$A$4:$AY$344,5,FALSE),0)","v":0},{"$f":"IFERROR(VLOOKUP($A508,Filtro!$A$4:$AY$344,6,FALSE),0)","v":358},{"$f":"IFERROR(VLOOKUP($A508,Filtro!$A$4:$AY$344,7,FALSE),0)","v":0}]
[null,"TOTAL",null,{"$f":"SUM(D507:D508)","v":363},3,360,1,362,0]
[null,"CARDIOLOGÍA"]
["81701001","1701001","Electrocardiograma",{"$f":"IFERROR(VLOOKUP($A511,Filtro!$A$4:$AY$344,2,FALSE),0)","v":{"v":43788,"d":"43,788"}},{"$f":"IFERROR(VLOOKUP($A511,Filtro!$A$4:$AY$344,3,FALSE),0)","v":{"v":13020,"d":"13,020"}},{"$f":"IFERROR(VLOOKUP($A511,Filtro!$A$4:$AY$344,4,FALSE),0)","v":{"v":30768,"d":"30,768"}},{"$f":"IFERROR(VLOOKUP($A511,Filtro!$A$4:$AY$344,5,FALSE),0)","v":993},{"$f":"IFERROR(VLOOKUP($A511,Filtro!$A$4:$AY$344,6,FALSE),0)","v":{"v":37599,"d":"37,599"}},{"$f":"IFERROR(VLOOKUP($A511,Filtro!$A$4:$AY$344,7,FALSE),0)","v":{"v":10337,"d":"10,337"}}]
["81701006","1701006","E.C.G. Continuo (test holter o similares, por ej. variabilidad de la frecuencia cardiaca y/o alta resolución  del st y/o despolarización tardía);20 a 24 horas de registro                                                                         ",{"$f":"IFERROR(VLOOKUP($A512,Filtro!$A$4:$AY$344,2,FALSE),0)","v":8},{"$f":"IFERROR(VLOOKUP($A512,Filtro!$A$4:$AY$344,3,FALSE),0)","v":0},{"$f":"IFERROR(VLOOKUP($A512,Filtro!$A$4:$AY$344,4,FALSE),0)","v":8},{"$f":"IFERROR(VLOOKUP($A512,Filtro!$A$4:$AY$344,5,FALSE),0)","v":0},{"$f":"IFERROR(VLOOKUP($A512,Filtro!$A$4:$AY$344,6,FALSE),0)","v":8},{"$f":"IFERROR(VLOOKUP($A512,Filtro!$A$4:$AY$344,7,FALSE),0)","v":0}]
["81701009","1701009","Monitoreo continuo de presión arterial",{"$f":"IFERROR(VLOOKUP($A513,Filtro!$A$4:$AY$344,2,FALSE),0)","v":{"v":34813,"d":"34,813"}},{"$f":"IFERROR(VLOOKUP($A513,Filtro!$A$4:$AY$344,3,FALSE),0)","v":{"v":4009,"d":"4,009"}},{"$f":"IFERROR(VLOOKUP($A513,Filtro!$A$4:$AY$344,4,FALSE),0)","v":{"v":30804,"d":"30,804"}},{"$f":"IFERROR(VLOOKUP($A513,Filtro!$A$4:$AY$344,5,FALSE),0)","v":610},{"$f":"IFERROR(VLOOKUP($A513,Filtro!$A$4:$AY$344,6,FALSE),0)","v":{"v":33483,"d":"33,483"}},{"$f":"IFERROR(VLOOKUP($A513,Filtro!$A$4:$AY$344,7,FALSE),0)","v":28}]
[null,"TOTAL",null,{"$f":"SUM(D511:D513)","v":{"v":78609,"d":"78,609"}},{"$f":"SUM(E511:E513)","v":{"v":17029,"d":"17,029"}},{"v":61580,"d":"61,580"},{"v":1603,"d":"1,603"},{"v":71090,"d":"71,090"},{"$f":"SUM(I511:I513)","v":{"v":10365,"d":"10,365"}}]
[null,"NEUMOLOGÍA"]
["81707001",1707001,"Espirometría Basal                                                                                       ",{"$f":"IFERROR(VLOOKUP($A516,Filtro!$A$4:$AY$344,2,FALSE),0)","v":189},{"$f":"IFERROR(VLOOKUP($A516,Filtro!$A$4:$AY$344,3,FALSE),0)","v":0},{"$f":"IFERROR(VLOOKUP($A516,Filtro!$A$4:$AY$344,4,FALSE),0)","v":189},{"$f":"IFERROR(VLOOKUP($A516,Filtro!$A$4:$AY$344,5,FALSE),0)","v":0},{"$f":"IFERROR(VLOOKUP($A516,Filtro!$A$4:$AY$344,6,FALSE),0)","v":179},{"$f":"IFERROR(VLOOKUP($A516,Filtro!$A$4:$AY$344,7,FALSE),0)","v":0}]
["81707002",1707002,"Espirometria basal y con broncodilatador                                                         ",{"$f":"IFERROR(VLOOKUP($A517,Filtro!$A$4:$AY$344,2,FALSE),0)","v":55},{"$f":"IFERROR(VLOOKUP($A517,Filtro!$A$4:$AY$344,3,FALSE),0)","v":0},{"$f":"IFERROR(VLOOKUP($A517,Filtro!$A$4:$AY$344,4,FALSE),0)","v":55},{"$f":"IFERROR(VLOOKUP($A517,Filtro!$A$4:$AY$344,5,FALSE),0)","v":0},{"$f":"IFERROR(VLOOKUP($A517,Filtro!$A$4:$AY$344,6,FALSE),0)","v":55},{"$f":"IFERROR(VLOOKUP($A517,Filtro!$A$4:$AY$344,7,FALSE),0)","v":0}]
["81707004",1707004,"Test de provocacion con ejercicio                                                                      ",{"$f":"IFERROR(VLOOKUP($A518,Filtro!$A$4:$AY$344,2,FALSE),0)","v":107},{"$f":"IFERROR(VLOOKUP($A518,Filtro!$A$4:$AY$344,3,FALSE),0)","v":2},{"$f":"IFERROR(VLOOKUP($A518,Filtro!$A$4:$AY$344,4,FALSE),0)","v":105},{"$f":"IFERROR(VLOOKUP($A518,Filtro!$A$4:$AY$344,5,FALSE),0)","v":0},{"$f":"IFERROR(VLOOKUP($A518,Filtro!$A$4:$AY$344,6,FALSE),0)","v":107},{"$f":"IFERROR(VLOOKUP($A518,Filtro!$A$4:$AY$344,7,FALSE),0)","v":0}]
["81707030",1707030,"Aerosolterapia (Nebulización)    ",{"$f":"IFERROR(VLOOKUP($A519,Filtro!$A$4:$AY$344,2,FALSE),0)","v":{"v":3354,"d":"3,354"}},{"$f":"IFERROR(VLOOKUP($A519,Filtro!$A$4:$AY$344,3,FALSE),0)","v":{"v":3024,"d":"3,024"}},{"$f":"IFERROR(VLOOKUP($A519,Filtro!$A$4:$AY$344,4,FALSE),0)","v":330},{"$f":"IFERROR(VLOOKUP($A519,Filtro!$A$4:$AY$344,5,FALSE),0)","v":338},{"$f":"IFERROR(VLOOKUP($A519,Filtro!$A$4:$AY$344,6,FALSE),0)","v":{"v":2575,"d":"2,575"}},{"$f":"IFERROR(VLOOKUP($A519,Filtro!$A$4:$AY$344,7,FALSE),0)","v":0}]
[null,"TOTAL",null,{"$f":"SUM(D516:D519)","v":{"v":3705,"d":"3,705"}},{"$f":"SUM(E516:E519)","v":{"v":3026,"d":"3,026"}},{"$f":"SUM(F516:F519)","v":679},{"$f":"SUM(G516:G519)","v":338},{"$f":"SUM(H516:H519)","v":{"v":2916,"d":"2,916"}},{"$f":"SUM(I516:I519)","v":0}]
[null,"GASTROENTEROLOGÍA"]
["81801023",1801023,"Intubacion con sonda gastrica                                                                ",{"$f":"IFERROR(VLOOKUP($A522,Filtro!$A$4:$AY$344,2,FALSE),0)","v":132},{"$f":"IFERROR(VLOOKUP($A522,Filtro!$A$4:$AY$344,3,FALSE),0)","v":94},{"$f":"IFERROR(VLOOKUP($A522,Filtro!$A$4:$AY$344,4,FALSE),0)","v":38},{"$f":"IFERROR(VLOOKUP($A522,Filtro!$A$4:$AY$344,5,FALSE),0)","v":21},{"$f":"IFERROR(VLOOKUP($A522,Filtro!$A$4:$AY$344,6,FALSE),0)","v":115},{"$f":"IFERROR(VLOOKUP($A522,Filtro!$A$4:$AY$344,7,FALSE),0)","v":0}]
["81801042",1801042,"Vaciamiento manual de fecaloma                                                                   ",{"$f":"IFERROR(VLOOKUP($A523,Filtro!$A$4:$AY$344,2,FALSE),0)","v":13},{"$f":"IFERROR(VLOOKUP($A523,Filtro!$A$4:$AY$344,3,FALSE),0)","v":8},{"$f":"IFERROR(VLOOKUP($A523,Filtro!$A$4:$AY$344,4,FALSE),0)","v":5},{"$f":"IFERROR(VLOOKUP($A523,Filtro!$A$4:$AY$344,5,FALSE),0)","v":2},{"$f":"IFERROR(VLOOKUP($A523,Filtro!$A$4:$AY$344,6,FALSE),0)","v":8},{"$f":"IFERROR(VLOOKUP($A523,Filtro!$A$4:$AY$344,7,FALSE),0)","v":0}]
["81801001",1801001,"Gastroduodenoscopía (incluye esofagoscopía)                                                      ",{"$f":"IFERROR(VLOOKUP($A524,Filtro!$A$4:$AY$344,2,FALSE),0)","v":0},{"$f":"IFERROR(VLOOKUP($A524,Filtro!$A$4:$AY$344,3,FALSE),0)","v":0},{"$f":"IFERROR(VLOOKUP($A524,Filtro!$A$4:$AY$344,4,FALSE),0)","v":0},{"$f":"IFERROR(VLOOKUP($A524,Filtro!$A$4:$AY$344,5,FALSE),0)","v":0},{"$f":"IFERROR(VLOOKUP($A524,Filtro!$A$4:$AY$344,6,FALSE),0)","v":0},{"$f":"IFERROR(VLOOKUP($A524,Filtro!$A$4:$AY$344,7,FALSE),0)","v":0}]
[null,"TOTAL",null,{"$f":"SUM(D522:D524)","v":145},102,43,23,123,0]
[null,"UROLOGÍA"]
["81901019",1901019,"Instilacion vesical (incluye colocacion de sonda) proc. Aut.                                      ",{"$f":"IFERROR(VLOOKUP($A527,Filtro!$A$4:$AY$344,2,FALSE),0)","v":1160},{"$f":"IFERROR(VLOOKUP($A527,Filtro!$A$4:$AY$344,3,FALSE),0)","v":765},{"$f":"IFERROR(VLOOKUP($A527,Filtro!$A$4:$AY$344,4,FALSE),0)","v":395},{"$f":"IFERROR(VLOOKUP($A527,Filtro!$A$4:$AY$344,5,FALSE),0)","v":24},{"$f":"IFERROR(VLOOKUP($A527,Filtro!$A$4:$AY$344,6,FALSE),0)","v":961},{"$f":"IFERROR(VLOOKUP($A527,Filtro!$A$4:$AY$344,7,FALSE),0)","v":6}]
["81901022",1901022,"Vac. Vesical por sonda uretral, (proc. Aut.)                                                    ",{"$f":"IFERROR(VLOOKUP($A528,Filtro!$A$4:$AY$344,2,FALSE),0)","v":375},{"$f":"IFERROR(VLOOKUP($A528,Filtro!$A$4:$AY$344,3,FALSE),0)","v":274},{"$f":"IFERROR(VLOOKUP($A528,Filtro!$A$4:$AY$344,4,FALSE),0)","v":101},{"$f":"IFERROR(VLOOKUP($A528,Filtro!$A$4:$AY$344,5,FALSE),0)","v":6},{"$f":"IFERROR(VLOOKUP($A528,Filtro!$A$4:$AY$344,6,FALSE),0)","v":339},{"$f":"IFERROR(VLOOKUP($A528,Filtro!$A$4:$AY$344,7,FALSE),0)","v":0}]
[null,"TOTAL",null,{"$f":"SUM(D527:D528)","v":1535},{"$f":"SUM(E527:E528)","v":{"v":1039,"d":"1,039"}},496,30,{"v":1300,"d":"1,300"},6]
[null,"GINECOLOGÍA"]
["82001015",2001015,"Colocación o extracción de dispositivo intrauterino (no incluye el valor del dispositivo)                    ",{"$f":"IFERROR(VLOOKUP($A531,Filtro!$A$4:$AY$344,2,FALSE),0)","v":945},{"$f":"IFERROR(VLOOKUP($A531,Filtro!$A$4:$AY$344,3,FALSE),0)","v":2},{"$f":"IFERROR(VLOOKUP($A531,Filtro!$A$4:$AY$344,4,FALSE),0)","v":943},{"$f":"IFERROR(VLOOKUP($A531,Filtro!$A$4:$AY$344,5,FALSE),0)","v":3},{"$f":"IFERROR(VLOOKUP($A531,Filtro!$A$4:$AY$344,6,FALSE),0)","v":929},{"$f":"IFERROR(VLOOKUP($A531,Filtro!$A$4:$AY$344,7,FALSE),0)","v":8}]
[null,"ORTOPEDIA Y TRAUMATOLOGÍA"]
["82101001",2101001,"Infiltracion local medicamentos (bursas, tendones, yuxtaarticulares y/o intraarticulares",{"$f":"IFERROR(VLOOKUP($A533,Filtro!$A$4:$AY$344,2,FALSE),0)","v":23},{"$f":"IFERROR(VLOOKUP($A533,Filtro!$A$4:$AY$344,3,FALSE),0)","v":23},{"$f":"IFERROR(VLOOKUP($A533,Filtro!$A$4:$AY$344,4,FALSE),0)","v":0},{"$f":"IFERROR(VLOOKUP($A533,Filtro!$A$4:$AY$344,5,FALSE),0)","v":12},{"$f":"IFERROR(VLOOKUP($A533,Filtro!$A$4:$AY$344,6,FALSE),0)","v":11},{"$f":"IFERROR(VLOOKUP($A533,Filtro!$A$4:$AY$344,7,FALSE),0)","v":0}]
["82101002",2101002,"Procedimiento para exploraciones radiologicas (incluye maniobra e inyeccion del medio de contraste)  BM18A  Revisar en BM Colocación valva",{"$f":"IFERROR(VLOOKUP($A534,Filtro!$A$4:$AY$344,2,FALSE),0)","v":1},{"$f":"IFERROR(VLOOKUP($A534,Filtro!$A$4:$AY$344,3,FALSE),0)","v":1},{"$f":"IFERROR(VLOOKUP($A534,Filtro!$A$4:$AY$344,4,FALSE),0)","v":0},{"$f":"IFERROR(VLOOKUP($A534,Filtro!$A$4:$AY$344,5,FALSE),0)","v":1},{"$f":"IFERROR(VLOOKUP($A534,Filtro!$A$4:$AY$344,6,FALSE),0)","v":0},{"$f":"IFERROR(VLOOKUP($A534,Filtro!$A$4:$AY$344,7,FALSE),0)","v":0}]
["82106005",2106005,"Rodillera, bota larga o corta de yeso",{"$f":"IFERROR(VLOOKUP($A535,Filtro!$A$4:$AY$344,2,FALSE),0)","v":94},{"$f":"IFERROR(VLOOKUP($A535,Filtro!$A$4:$AY$344,3,FALSE),0)","v":94},{"$f":"IFERROR(VLOOKUP($A535,Filtro!$A$4:$AY$344,4,FALSE),0)","v":0},{"$f":"IFERROR(VLOOKUP($A535,Filtro!$A$4:$AY$344,5,FALSE),0)","v":0},{"$f":"IFERROR(VLOOKUP($A535,Filtro!$A$4:$AY$344,6,FALSE),0)","v":94},{"$f":"IFERROR(VLOOKUP($A535,Filtro!$A$4:$AY$344,7,FALSE),0)","v":0}]
["82106007",2106007,"Velpeau",{"$f":"IFERROR(VLOOKUP($A536,Filtro!$A$4:$AY$344,2,FALSE),0)","v":75},{"$f":"IFERROR(VLOOKUP($A536,Filtro!$A$4:$AY$344,3,FALSE),0)","v":73},{"$f":"IFERROR(VLOOKUP($A536,Filtro!$A$4:$AY$344,4,FALSE),0)","v":2},{"$f":"IFERROR(VLOOKUP($A536,Filtro!$A$4:$AY$344,5,FALSE),0)","v":0},{"$f":"IFERROR(VLOOKUP($A536,Filtro!$A$4:$AY$344,6,FALSE),0)","v":75},{"$f":"IFERROR(VLOOKUP($A536,Filtro!$A$4:$AY$344,7,FALSE),0)","v":0}]
["82106006",2106006,"Yeso antebraquial c/s ferula digital",{"$f":"IFERROR(VLOOKUP($A537,Filtro!$A$4:$AY$344,2,FALSE),0)","v":197},{"$f":"IFERROR(VLOOKUP($A537,Filtro!$A$4:$AY$344,3,FALSE),0)","v":196},{"$f":"IFERROR(VLOOKUP($A537,Filtro!$A$4:$AY$344,4,FALSE),0)","v":1},{"$f":"IFERROR(VLOOKUP($A537,Filtro!$A$4:$AY$344,5,FALSE),0)","v":0},{"$f":"IFERROR(VLOOKUP($A537,Filtro!$A$4:$AY$344,6,FALSE),0)","v":197},{"$f":"IFERROR(VLOOKUP($A537,Filtro!$A$4:$AY$344,7,FALSE),0)","v":0}]
["82106004",2106004,"Yeso braquicarpiano",{"$f":"IFERROR(VLOOKUP($A538,Filtro!$A$4:$AY$344,2,FALSE),0)","v":173},{"$f":"IFERROR(VLOOKUP($A538,Filtro!$A$4:$AY$344,3,FALSE),0)","v":171},{"$f":"IFERROR(VLOOKUP($A538,Filtro!$A$4:$AY$344,4,FALSE),0)","v":2},{"$f":"IFERROR(VLOOKUP($A538,Filtro!$A$4:$AY$344,5,FALSE),0)","v":0},{"$f":"IFERROR(VLOOKUP($A538,Filtro!$A$4:$AY$344,6,FALSE),0)","v":173},{"$f":"IFERROR(VLOOKUP($A538,Filtro!$A$4:$AY$344,7,FALSE),0)","v":0}]
["82107003",2107003,"Luxaciones de articulaciones menores (el resto)      ",{"$f":"IFERROR(VLOOKUP($A539,Filtro!$A$4:$AY$344,2,FALSE),0)","v":604},{"$f":"IFERROR(VLOOKUP($A539,Filtro!$A$4:$AY$344,3,FALSE),0)","v":599},{"$f":"IFERROR(VLOOKUP($A539,Filtro!$A$4:$AY$344,4,FALSE),0)","v":5},{"$f":"IFERROR(VLOOKUP($A539,Filtro!$A$4:$AY$344,5,FALSE),0)","v":2},{"$f":"IFERROR(VLOOKUP($A539,Filtro!$A$4:$AY$344,6,FALSE),0)","v":602},{"$f":"IFERROR(VLOOKUP($A539,Filtro!$A$4:$AY$344,7,FALSE),0)","v":0}]
[null,"TOTAL",null,{"$f":"SUM(D533:D539)","v":{"v":1167,"d":"1,167"}},{"$f":"SUM(E533:E539)","v":{"v":1157,"d":"1,157"}},10,15,{"v":1152,"d":"1,152"},0]
[null," SECCIÓN C: INTERVENCIONES QUIRÚRGICAS MENORES"]
["81602201",1602201,"Biopsia de piel y/o mucosa por curetaje o sección tangencial c/s electro x 1 sesion        ",{"$f":"IFERROR(VLOOKUP($A542,Filtro!$A$4:$AY$344,2,FALSE),0)","v":83},{"$f":"IFERROR(VLOOKUP($A542,Filtro!$A$4:$AY$344,3,FALSE),0)","v":1},{"$f":"IFERROR(VLOOKUP($A542,Filtro!$A$4:$AY$344,4,FALSE),0)","v":82},{"$f":"IFERROR(VLOOKUP($A542,Filtro!$A$4:$AY$344,5,FALSE),0)","v":73},{"$f":"IFERROR(VLOOKUP($A542,Filtro!$A$4:$AY$344,6,FALSE),0)","v":5},{"$f":"IFERROR(VLOOKUP($A542,Filtro!$A$4:$AY$344,7,FALSE),0)","v":46}]
["81602202",1602202,"Extirpacion de, reparacion o biopsia total o parcial, de lesiones benignas cutáneas por excision cabeza, cuello, genitales, hasta 3 lesiones                                                                  ",{"$f":"IFERROR(VLOOKUP($A543,Filtro!$A$4:$AY$344,2,FALSE),0)","v":384},{"$f":"IFERROR(VLOOKUP($A543,Filtro!$A$4:$AY$344,3,FALSE),0)","v":1},{"$f":"IFERROR(VLOOKUP($A543,Filtro!$A$4:$AY$344,4,FALSE),0)","v":383},{"$f":"IFERROR(VLOOKUP($A543,Filtro!$A$4:$AY$344,5,FALSE),0)","v":367},{"$f":"IFERROR(VLOOKUP($A543,Filtro!$A$4:$AY$344,6,FALSE),0)","v":8},{"$f":"IFERROR(VLOOKUP($A543,Filtro!$A$4:$AY$344,7,FALSE),0)","v":95}]
["81602203",1602203,"Extirpacion de, reparacion o biopsia total o parcial, de lesiones benignas cutáneas por excision resto de cuerpo hasta 3 lesiones                                                                              ",{"$f":"IFERROR(VLOOKUP($A544,Filtro!$A$4:$AY$344,2,FALSE),0)","v":146},{"$f":"IFERROR(VLOOKUP($A544,Filtro!$A$4:$AY$344,3,FALSE),0)","v":0},{"$f":"IFERROR(VLOOKUP($A544,Filtro!$A$4:$AY$344,4,FALSE),0)","v":146},{"$f":"IFERROR(VLOOKUP($A544,Filtro!$A$4:$AY$344,5,FALSE),0)","v":136},{"$f":"IFERROR(VLOOKUP($A544,Filtro!$A$4:$AY$344,6,FALSE),0)","v":6},{"$f":"IFERROR(VLOOKUP($A544,Filtro!$A$4:$AY$344,7,FALSE),0)","v":26}]
["81602204",1602204,"Extirpacion de, reparacion o biopsia total o parcial, de lesiones benignas cutáneas por excision cabeza, cuello, genitales, desde 4 hasta 6 lesiones                                              ",{"$f":"IFERROR(VLOOKUP($A545,Filtro!$A$4:$AY$344,2,FALSE),0)","v":46},{"$f":"IFERROR(VLOOKUP($A545,Filtro!$A$4:$AY$344,3,FALSE),0)","v":0},{"$f":"IFERROR(VLOOKUP($A545,Filtro!$A$4:$AY$344,4,FALSE),0)","v":46},{"$f":"IFERROR(VLOOKUP($A545,Filtro!$A$4:$AY$344,5,FALSE),0)","v":42},{"$f":"IFERROR(VLOOKUP($A545,Filtro!$A$4:$AY$344,6,FALSE),0)","v":1},{"$f":"IFERROR(VLOOKUP($A545,Filtro!$A$4:$AY$344,7,FALSE),0)","v":17}]
["81602205",1602205,"Extirpacion de, reparacion o biopsia total o parcial, de lesiones benignas cutáneas por excision resto de cuerpo desde 4 hasta 6 lesiones                                                             ",{"$f":"IFERROR(VLOOKUP($A546,Filtro!$A$4:$AY$344,2,FALSE),0)","v":16},{"$f":"IFERROR(VLOOKUP($A546,Filtro!$A$4:$AY$344,3,FALSE),0)","v":0},{"$f":"IFERROR(VLOOKUP($A546,Filtro!$A$4:$AY$344,4,FALSE),0)","v":16},{"$f":"IFERROR(VLOOKUP($A546,Filtro!$A$4:$AY$344,5,FALSE),0)","v":13},{"$f":"IFERROR(VLOOKUP($A546,Filtro!$A$4:$AY$344,6,FALSE),0)","v":0},{"$f":"IFERROR(VLOOKUP($A546,Filtro!$A$4:$AY$344,7,FALSE),0)","v":9}]
["81602206",1602206,"Extirpacion de lesiones benignas por sec tangencial ,curetaje,y/o fulguracion hasta 15 lesiones   ",{"$f":"IFERROR(VLOOKUP($A547,Filtro!$A$4:$AY$344,2,FALSE),0)","v":101},{"$f":"IFERROR(VLOOKUP($A547,Filtro!$A$4:$AY$344,3,FALSE),0)","v":0},{"$f":"IFERROR(VLOOKUP($A547,Filtro!$A$4:$AY$344,4,FALSE),0)","v":101},{"$f":"IFERROR(VLOOKUP($A547,Filtro!$A$4:$AY$344,5,FALSE),0)","v":90},{"$f":"IFERROR(VLOOKUP($A547,Filtro!$A$4:$AY$344,6,FALSE),0)","v":9},{"$f":"IFERROR(VLOOKUP($A547,Filtro!$A$4:$AY$344,7,FALSE),0)","v":15}]
["81602207",1602207,"Tratamiento por electro de hemangiomas o telangectasias hasta 15 lesiones",{"$f":"IFERROR(VLOOKUP($A548,Filtro!$A$4:$AY$344,2,FALSE),0)","v":4},{"$f":"IFERROR(VLOOKUP($A548,Filtro!$A$4:$AY$344,3,FALSE),0)","v":0},{"$f":"IFERROR(VLOOKUP($A548,Filtro!$A$4:$AY$344,4,FALSE),0)","v":4},{"$f":"IFERROR(VLOOKUP($A548,Filtro!$A$4:$AY$344,5,FALSE),0)","v":4},{"$f":"IFERROR(VLOOKUP($A548,Filtro!$A$4:$AY$344,6,FALSE),0)","v":0},{"$f":"IFERROR(VLOOKUP($A548,Filtro!$A$4:$AY$344,7,FALSE),0)","v":0}]
["81602211",1602211,"Cabeza, cuello, genitales: tratamiento quirúrgico de tumor maligno por escisión total o parcial, con o sin sutura, por cada lesión o melanoma cualquier localización",{"$f":"IFERROR(VLOOKUP($A549,Filtro!$A$4:$AY$344,2,FALSE),0)","v":195},{"$f":"IFERROR(VLOOKUP($A549,Filtro!$A$4:$AY$344,3,FALSE),0)","v":0},{"$f":"IFERROR(VLOOKUP($A549,Filtro!$A$4:$AY$344,4,FALSE),0)","v":195},{"$f":"IFERROR(VLOOKUP($A549,Filtro!$A$4:$AY$344,5,FALSE),0)","v":188},{"$f":"IFERROR(VLOOKUP($A549,Filtro!$A$4:$AY$344,6,FALSE),0)","v":7},{"$f":"IFERROR(VLOOKUP($A549,Filtro!$A$4:$AY$344,7,FALSE),0)","v":20}]
["81602212",1602212,"Resto del cuerpo: tratamiento quirúrgico de tumor maligno por escisión total o parcial, con o sin sutura, por cada lesión",{"$f":"IFERROR(VLOOKUP($A550,Filtro!$A$4:$AY$344,2,FALSE),0)","v":20},{"$f":"IFERROR(VLOOKUP($A550,Filtro!$A$4:$AY$344,3,FALSE),0)","v":0},{"$f":"IFERROR(VLOOKUP($A550,Filtro!$A$4:$AY$344,4,FALSE),0)","v":20},{"$f":"IFERROR(VLOOKUP($A550,Filtro!$A$4:$AY$344,5,FALSE),0)","v":20},{"$f":"IFERROR(VLOOKUP($A550,Filtro!$A$4:$AY$344,6,FALSE),0)","v":0},{"$f":"IFERROR(VLOOKUP($A550,Filtro!$A$4:$AY$344,7,FALSE),0)","v":9}]
["81602213",1602213,"Cabeza, cuello, genitales o melanoma cualquier ubicación: ampliación de márgenes quirúrgicos de tumor maligno extirpado previamente ",{"$f":"IFERROR(VLOOKUP($A551,Filtro!$A$4:$AY$344,2,FALSE),0)","v":41},{"$f":"IFERROR(VLOOKUP($A551,Filtro!$A$4:$AY$344,3,FALSE),0)","v":0},{"$f":"IFERROR(VLOOKUP($A551,Filtro!$A$4:$AY$344,4,FALSE),0)","v":41},{"$f":"IFERROR(VLOOKUP($A551,Filtro!$A$4:$AY$344,5,FALSE),0)","v":0},{"$f":"IFERROR(VLOOKUP($A551,Filtro!$A$4:$AY$344,6,FALSE),0)","v":0},{"$f":"IFERROR(VLOOKUP($A551,Filtro!$A$4:$AY$344,7,FALSE),0)","v":38}]
["81602214",1602214,"Resto del cuerpo: ampliación de márgenes quirúrgicos de tumor maligno extirpado prevíamente",{"$f":"IFERROR(VLOOKUP($A552,Filtro!$A$4:$AY$344,2,FALSE),0)","v":32},{"$f":"IFERROR(VLOOKUP($A552,Filtro!$A$4:$AY$344,3,FALSE),0)","v":0},{"$f":"IFERROR(VLOOKUP($A552,Filtro!$A$4:$AY$344,4,FALSE),0)","v":32},{"$f":"IFERROR(VLOOKUP($A552,Filtro!$A$4:$AY$344,5,FALSE),0)","v":32},{"$f":"IFERROR(VLOOKUP($A552,Filtro!$A$4:$AY$344,6,FALSE),0)","v":0},{"$f":"IFERROR(VLOOKUP($A552,Filtro!$A$4:$AY$344,7,FALSE),0)","v":0}]
["81602215",1602215,"Tumores vasculares profundos cara, cuero cabelludo, cuello, genitales",{"$f":"IFERROR(VLOOKUP($A553,Filtro!$A$4:$AY$344,2,FALSE),0)","v":0},{"$f":"IFERROR(VLOOKUP($A553,Filtro!$A$4:$AY$344,3,FALSE),0)","v":0},{"$f":"IFERROR(VLOOKUP($A553,Filtro!$A$4:$AY$344,4,FALSE),0)","v":0},{"$f":"IFERROR(VLOOKUP($A553,Filtro!$A$4:$AY$344,5,FALSE),0)","v":0},{"$f":"IFERROR(VLOOKUP($A553,Filtro!$A$4:$AY$344,6,FALSE),0)","v":0},{"$f":"IFERROR(VLOOKUP($A553,Filtro!$A$4:$AY$344,7,FALSE),0)","v":0}]
["81602216",1602216,"Tumores vasculares profundos resto del cuerpo",{"$f":"IFERROR(VLOOKUP($A554,Filtro!$A$4:$AY$344,2,FALSE),0)","v":0},{"$f":"IFERROR(VLOOKUP($A554,Filtro!$A$4:$AY$344,3,FALSE),0)","v":0},{"$f":"IFERROR(VLOOKUP($A554,Filtro!$A$4:$AY$344,4,FALSE),0)","v":0},{"$f":"IFERROR(VLOOKUP($A554,Filtro!$A$4:$AY$344,5,FALSE),0)","v":0},{"$f":"IFERROR(VLOOKUP($A554,Filtro!$A$4:$AY$344,6,FALSE),0)","v":0},{"$f":"IFERROR(VLOOKUP($A554,Filtro!$A$4:$AY$344,7,FALSE),0)","v":0}]
["81602221",1602221,"Herida cortante o contusa complicada, reparación y sutura (más de 5 cm)",{"$f":"IFERROR(VLOOKUP($A555,Filtro!$A$4:$AY$344,2,FALSE),0)","v":851},{"$f":"IFERROR(VLOOKUP($A555,Filtro!$A$4:$AY$344,3,FALSE),0)","v":530},{"$f":"IFERROR(VLOOKUP($A555,Filtro!$A$4:$AY$344,4,FALSE),0)","v":321},{"$f":"IFERROR(VLOOKUP($A555,Filtro!$A$4:$AY$344,5,FALSE),0)","v":389},{"$f":"IFERROR(VLOOKUP($A555,Filtro!$A$4:$AY$344,6,FALSE),0)","v":385},{"$f":"IFERROR(VLOOKUP($A555,Filtro!$A$4:$AY$344,7,FALSE),0)","v":11}]
["81602222",1602222,"Herida cortante o contusa NO complicada, reparacion y sutura (una o multiples de mas de 5 cms de largo total y/o que comprometa solo piel)                                                                             ",{"$f":"IFERROR(VLOOKUP($A556,Filtro!$A$4:$AY$344,2,FALSE),0)","v":{"v":2410,"d":"2,410"}},{"$f":"IFERROR(VLOOKUP($A556,Filtro!$A$4:$AY$344,3,FALSE),0)","v":{"v":1877,"d":"1,877"}},{"$f":"IFERROR(VLOOKUP($A556,Filtro!$A$4:$AY$344,4,FALSE),0)","v":533},{"$f":"IFERROR(VLOOKUP($A556,Filtro!$A$4:$AY$344,5,FALSE),0)","v":{"v":1339,"d":"1,339"}},{"$f":"IFERROR(VLOOKUP($A556,Filtro!$A$4:$AY$344,6,FALSE),0)","v":735},{"$f":"IFERROR(VLOOKUP($A556,Filtro!$A$4:$AY$344,7,FALSE),0)","v":3}]
["81602217",1602223,"Cabeza, cuello, genitales: extirpación de lesión benigna subepidérmica, incluye tumor sólido, quiste epidérmico y lipoma por lesión ",{"$f":"IFERROR(VLOOKUP($A557,Filtro!$A$4:$AY$344,2,FALSE),0)","v":103},{"$f":"IFERROR(VLOOKUP($A557,Filtro!$A$4:$AY$344,3,FALSE),0)","v":6},{"$f":"IFERROR(VLOOKUP($A557,Filtro!$A$4:$AY$344,4,FALSE),0)","v":97},{"$f":"IFERROR(VLOOKUP($A557,Filtro!$A$4:$AY$344,5,FALSE),0)","v":96},{"$f":"IFERROR(VLOOKUP($A557,Filtro!$A$4:$AY$344,6,FALSE),0)","v":3},{"$f":"IFERROR(VLOOKUP($A557,Filtro!$A$4:$AY$344,7,FALSE),0)","v":121}]
["81602224",1602224,"Resto del cuerpo: extirpación de lesión benigna subepidérmica, incluye tumor sólido, quiste epidérmico y lipoma por lesión ",{"$f":"IFERROR(VLOOKUP($A558,Filtro!$A$4:$AY$344,2,FALSE),0)","v":380},{"$f":"IFERROR(VLOOKUP($A558,Filtro!$A$4:$AY$344,3,FALSE),0)","v":5},{"$f":"IFERROR(VLOOKUP($A558,Filtro!$A$4:$AY$344,4,FALSE),0)","v":375},{"$f":"IFERROR(VLOOKUP($A558,Filtro!$A$4:$AY$344,5,FALSE),0)","v":334},{"$f":"IFERROR(VLOOKUP($A558,Filtro!$A$4:$AY$344,6,FALSE),0)","v":32},{"$f":"IFERROR(VLOOKUP($A558,Filtro!$A$4:$AY$344,7,FALSE),0)","v":62}]
["81602225",1602225,"Vaciamiento y curetaje quirurgico de lesiones quistica o abscesos                              ",{"$f":"IFERROR(VLOOKUP($A559,Filtro!$A$4:$AY$344,2,FALSE),0)","v":147},{"$f":"IFERROR(VLOOKUP($A559,Filtro!$A$4:$AY$344,3,FALSE),0)","v":54},{"$f":"IFERROR(VLOOKUP($A559,Filtro!$A$4:$AY$344,4,FALSE),0)","v":93},{"$f":"IFERROR(VLOOKUP($A559,Filtro!$A$4:$AY$344,5,FALSE),0)","v":103},{"$f":"IFERROR(VLOOKUP($A559,Filtro!$A$4:$AY$344,6,FALSE),0)","v":27},{"$f":"IFERROR(VLOOKUP($A559,Filtro!$A$4:$AY$344,7,FALSE),0)","v":16}]
["81602231",1602231,"Onisectomia total o parcial simple                                                                                      ",{"$f":"IFERROR(VLOOKUP($A560,Filtro!$A$4:$AY$344,2,FALSE),0)","v":354},{"$f":"IFERROR(VLOOKUP($A560,Filtro!$A$4:$AY$344,3,FALSE),0)","v":20},{"$f":"IFERROR(VLOOKUP($A560,Filtro!$A$4:$AY$344,4,FALSE),0)","v":334},{"$f":"IFERROR(VLOOKUP($A560,Filtro!$A$4:$AY$344,5,FALSE),0)","v":257},{"$f":"IFERROR(VLOOKUP($A560,Filtro!$A$4:$AY$344,6,FALSE),0)","v":70},{"$f":"IFERROR(VLOOKUP($A560,Filtro!$A$4:$AY$344,7,FALSE),0)","v":61}]
["81602232",1602232,"Cirugia reparadora ungueal por proceso inflamatorio                                                                 ",{"$f":"IFERROR(VLOOKUP($A561,Filtro!$A$4:$AY$344,2,FALSE),0)","v":15},{"$f":"IFERROR(VLOOKUP($A561,Filtro!$A$4:$AY$344,3,FALSE),0)","v":1},{"$f":"IFERROR(VLOOKUP($A561,Filtro!$A$4:$AY$344,4,FALSE),0)","v":14},{"$f":"IFERROR(VLOOKUP($A561,Filtro!$A$4:$AY$344,5,FALSE),0)","v":13},{"$f":"IFERROR(VLOOKUP($A561,Filtro!$A$4:$AY$344,6,FALSE),0)","v":2},{"$f":"IFERROR(VLOOKUP($A561,Filtro!$A$4:$AY$344,7,FALSE),0)","v":5}]
["81602223",1602233,"Correccion quirurgica de defecto congenito o por tumor ungueal",{"$f":"IFERROR(VLOOKUP($A562,Filtro!$A$4:$AY$344,2,FALSE),0)","v":8},{"$f":"IFERROR(VLOOKUP($A562,Filtro!$A$4:$AY$344,3,FALSE),0)","v":0},{"$f":"IFERROR(VLOOKUP($A562,Filtro!$A$4:$AY$344,4,FALSE),0)","v":8},{"$f":"IFERROR(VLOOKUP($A562,Filtro!$A$4:$AY$344,5,FALSE),0)","v":2},{"$f":"IFERROR(VLOOKUP($A562,Filtro!$A$4:$AY$344,6,FALSE),0)","v":6},{"$f":"IFERROR(VLOOKUP($A562,Filtro!$A$4:$AY$344,7,FALSE),0)","v":0}]
["81602240",1602240,"Curacion por medico, quemadura o similar menor al 5% superficie corporal en pabellon       ",{"$f":"IFERROR(VLOOKUP($A563,Filtro!$A$4:$AY$344,2,FALSE),0)","v":94},{"$f":"IFERROR(VLOOKUP($A563,Filtro!$A$4:$AY$344,3,FALSE),0)","v":49},{"$f":"IFERROR(VLOOKUP($A563,Filtro!$A$4:$AY$344,4,FALSE),0)","v":45},{"$f":"IFERROR(VLOOKUP($A563,Filtro!$A$4:$AY$344,5,FALSE),0)","v":41},{"$f":"IFERROR(VLOOKUP($A563,Filtro!$A$4:$AY$344,6,FALSE),0)","v":53},{"$f":"IFERROR(VLOOKUP($A563,Filtro!$A$4:$AY$344,7,FALSE),0)","v":0}]
["81602241",1602241,"Curacion por medico, quemadura o similar  5 a 10% superficie corporal en pabellon        ",{"$f":"IFERROR(VLOOKUP($A564,Filtro!$A$4:$AY$344,2,FALSE),0)","v":7},{"$f":"IFERROR(VLOOKUP($A564,Filtro!$A$4:$AY$344,3,FALSE),0)","v":7},{"$f":"IFERROR(VLOOKUP($A564,Filtro!$A$4:$AY$344,4,FALSE),0)","v":0},{"$f":"IFERROR(VLOOKUP($A564,Filtro!$A$4:$AY$344,5,FALSE),0)","v":3},{"$f":"IFERROR(VLOOKUP($A564,Filtro!$A$4:$AY$344,6,FALSE),0)","v":4},{"$f":"IFERROR(VLOOKUP($A564,Filtro!$A$4:$AY$344,7,FALSE),0)","v":0}]
["81602242",1602242,"Curacion por medico, quemadura o similar  mayor  al 10% superficie corporal en pabellon",{"$f":"IFERROR(VLOOKUP($A565,Filtro!$A$4:$AY$344,2,FALSE),0)","v":26},{"$f":"IFERROR(VLOOKUP($A565,Filtro!$A$4:$AY$344,3,FALSE),0)","v":8},{"$f":"IFERROR(VLOOKUP($A565,Filtro!$A$4:$AY$344,4,FALSE),0)","v":18},{"$f":"IFERROR(VLOOKUP($A565,Filtro!$A$4:$AY$344,5,FALSE),0)","v":8},{"$f":"IFERROR(VLOOKUP($A565,Filtro!$A$4:$AY$344,6,FALSE),0)","v":18},{"$f":"IFERROR(VLOOKUP($A565,Filtro!$A$4:$AY$344,7,FALSE),0)","v":0}]
[null,"TOTAL",null,{"$f":"SUM(D542:D565)","v":{"v":5463,"d":"5,463"}},{"$f":"SUM(E542:E565)","v":{"v":2559,"d":"2,559"}},{"$f":"SUM(F542:F565)","v":{"v":2904,"d":"2,904"}},{"v":3550,"d":"3,550"},{"v":1371,"d":"1,371"},554]
[null,"SECCIÓN D: MISCELÁNEOS"]
["80106002","0106002","Curación simple ambulatoria",{"$f":"IFERROR(VLOOKUP($A568,Filtro!$A$4:$AY$344,2,FALSE),0)","v":{"v":88988,"d":"88,988"}},{"$f":"IFERROR(VLOOKUP($A568,Filtro!$A$4:$AY$344,3,FALSE),0)","v":{"v":11278,"d":"11,278"}},{"$f":"IFERROR(VLOOKUP($A568,Filtro!$A$4:$AY$344,4,FALSE),0)","v":{"v":77710,"d":"77,710"}},{"$f":"IFERROR(VLOOKUP($A568,Filtro!$A$4:$AY$344,5,FALSE),0)","v":413},{"$f":"IFERROR(VLOOKUP($A568,Filtro!$A$4:$AY$344,6,FALSE),0)","v":{"v":78243,"d":"78,243"}},{"$f":"IFERROR(VLOOKUP($A568,Filtro!$A$4:$AY$344,7,FALSE),0)","v":169}]
["80106005","0106005","Autocontrol pacientes Diabetico insulino dependiente (D.I.D. mensual)",{"$f":"IFERROR(VLOOKUP($A569,Filtro!$A$4:$AY$344,2,FALSE),0)","v":{"v":5885,"d":"5,885"}},{"$f":"IFERROR(VLOOKUP($A569,Filtro!$A$4:$AY$344,3,FALSE),0)","v":{"v":4037,"d":"4,037"}},{"$f":"IFERROR(VLOOKUP($A569,Filtro!$A$4:$AY$344,4,FALSE),0)","v":{"v":1848,"d":"1,848"}},{"$f":"IFERROR(VLOOKUP($A569,Filtro!$A$4:$AY$344,5,FALSE),0)","v":72},{"$f":"IFERROR(VLOOKUP($A569,Filtro!$A$4:$AY$344,6,FALSE),0)","v":{"v":5702,"d":"5,702"}},{"$f":"IFERROR(VLOOKUP($A569,Filtro!$A$4:$AY$344,7,FALSE),0)","v":0}]
["80106006","0106006","Oxigenoterapia domiciliaria (pacientes oxígeno dependientes)",{"$f":"IFERROR(VLOOKUP($A570,Filtro!$A$4:$AY$344,2,FALSE),0)","v":897},{"$f":"IFERROR(VLOOKUP($A570,Filtro!$A$4:$AY$344,3,FALSE),0)","v":152},{"$f":"IFERROR(VLOOKUP($A570,Filtro!$A$4:$AY$344,4,FALSE),0)","v":745},{"$f":"IFERROR(VLOOKUP($A570,Filtro!$A$4:$AY$344,5,FALSE),0)","v":6},{"$f":"IFERROR(VLOOKUP($A570,Filtro!$A$4:$AY$344,6,FALSE),0)","v":881},{"$f":"IFERROR(VLOOKUP($A570,Filtro!$A$4:$AY$344,7,FALSE),0)","v":0}]
["80106017","0106017","Curación compleja",{"$f":"IFERROR(VLOOKUP($A571,Filtro!$A$4:$AY$344,2,FALSE),0)","v":{"v":53438,"d":"53,438"}},{"$f":"IFERROR(VLOOKUP($A571,Filtro!$A$4:$AY$344,3,FALSE),0)","v":{"v":2556,"d":"2,556"}},{"$f":"IFERROR(VLOOKUP($A571,Filtro!$A$4:$AY$344,4,FALSE),0)","v":{"v":50882,"d":"50,882"}},{"$f":"IFERROR(VLOOKUP($A571,Filtro!$A$4:$AY$344,5,FALSE),0)","v":120},{"$f":"IFERROR(VLOOKUP($A571,Filtro!$A$4:$AY$344,6,FALSE),0)","v":{"v":50138,"d":"50,138"}},{"$f":"IFERROR(VLOOKUP($A571,Filtro!$A$4:$AY$344,7,FALSE),0)","v":167}]
["80106007","0106007","Extracción cuerpo extraño ojo",{"$f":"IFERROR(VLOOKUP($A572,Filtro!$A$4:$AY$344,2,FALSE),0)","v":930},{"$f":"IFERROR(VLOOKUP($A572,Filtro!$A$4:$AY$344,3,FALSE),0)","v":546},{"$f":"IFERROR(VLOOKUP($A572,Filtro!$A$4:$AY$344,4,FALSE),0)","v":384},{"$f":"IFERROR(VLOOKUP($A572,Filtro!$A$4:$AY$344,5,FALSE),0)","v":222},{"$f":"IFERROR(VLOOKUP($A572,Filtro!$A$4:$AY$344,6,FALSE),0)","v":593},{"$f":"IFERROR(VLOOKUP($A572,Filtro!$A$4:$AY$344,7,FALSE),0)","v":0}]
["80106008","0106008","Extracción cuerpo extraño otro lugar",{"$f":"IFERROR(VLOOKUP($A573,Filtro!$A$4:$AY$344,2,FALSE),0)","v":427},{"$f":"IFERROR(VLOOKUP($A573,Filtro!$A$4:$AY$344,3,FALSE),0)","v":147},{"$f":"IFERROR(VLOOKUP($A573,Filtro!$A$4:$AY$344,4,FALSE),0)","v":280},{"$f":"IFERROR(VLOOKUP($A573,Filtro!$A$4:$AY$344,5,FALSE),0)","v":35},{"$f":"IFERROR(VLOOKUP($A573,Filtro!$A$4:$AY$344,6,FALSE),0)","v":281},{"$f":"IFERROR(VLOOKUP($A573,Filtro!$A$4:$AY$344,7,FALSE),0)","v":0}]
["80106009","0106009","Lavado gástrico",{"$f":"IFERROR(VLOOKUP($A574,Filtro!$A$4:$AY$344,2,FALSE),0)","v":99},{"$f":"IFERROR(VLOOKUP($A574,Filtro!$A$4:$AY$344,3,FALSE),0)","v":82},{"$f":"IFERROR(VLOOKUP($A574,Filtro!$A$4:$AY$344,4,FALSE),0)","v":17},{"$f":"IFERROR(VLOOKUP($A574,Filtro!$A$4:$AY$344,5,FALSE),0)","v":5},{"$f":"IFERROR(VLOOKUP($A574,Filtro!$A$4:$AY$344,6,FALSE),0)","v":59},{"$f":"IFERROR(VLOOKUP($A574,Filtro!$A$4:$AY$344,7,FALSE),0)","v":0}]
["80106010","0106010","Lavado oído",{"$f":"IFERROR(VLOOKUP($A575,Filtro!$A$4:$AY$344,2,FALSE),0)","v":867},{"$f":"IFERROR(VLOOKUP($A575,Filtro!$A$4:$AY$344,3,FALSE),0)","v":136},{"$f":"IFERROR(VLOOKUP($A575,Filtro!$A$4:$AY$344,4,FALSE),0)","v":731},{"$f":"IFERROR(VLOOKUP($A575,Filtro!$A$4:$AY$344,5,FALSE),0)","v":352},{"$f":"IFERROR(VLOOKUP($A575,Filtro!$A$4:$AY$344,6,FALSE),0)","v":256},{"$f":"IFERROR(VLOOKUP($A575,Filtro!$A$4:$AY$344,7,FALSE),0)","v":0}]
["80106011","0106011","Técnicas reanimación cardiopulmonar básico",{"$f":"IFERROR(VLOOKUP($A576,Filtro!$A$4:$AY$344,2,FALSE),0)","v":90},{"$f":"IFERROR(VLOOKUP($A576,Filtro!$A$4:$AY$344,3,FALSE),0)","v":45},{"$f":"IFERROR(VLOOKUP($A576,Filtro!$A$4:$AY$344,4,FALSE),0)","v":45},{"$f":"IFERROR(VLOOKUP($A576,Filtro!$A$4:$AY$344,5,FALSE),0)","v":17},{"$f":"IFERROR(VLOOKUP($A576,Filtro!$A$4:$AY$344,6,FALSE),0)","v":68},{"$f":"IFERROR(VLOOKUP($A576,Filtro!$A$4:$AY$344,7,FALSE),0)","v":14}]
["80106012","0106012","Técnicas reanimación cardiopulmonar avanzado",{"$f":"IFERROR(VLOOKUP($A577,Filtro!$A$4:$AY$344,2,FALSE),0)","v":122},{"$f":"IFERROR(VLOOKUP($A577,Filtro!$A$4:$AY$344,3,FALSE),0)","v":76},{"$f":"IFERROR(VLOOKUP($A577,Filtro!$A$4:$AY$344,4,FALSE),0)","v":46},{"$f":"IFERROR(VLOOKUP($A577,Filtro!$A$4:$AY$344,5,FALSE),0)","v":36},{"$f":"IFERROR(VLOOKUP($A577,Filtro!$A$4:$AY$344,6,FALSE),0)","v":82},{"$f":"IFERROR(VLOOKUP($A577,Filtro!$A$4:$AY$344,7,FALSE),0)","v":0}]
["80106013","0106013","Aseo ocular",{"$f":"IFERROR(VLOOKUP($A578,Filtro!$A$4:$AY$344,2,FALSE),0)","v":{"v":3856,"d":"3,856"}},{"$f":"IFERROR(VLOOKUP($A578,Filtro!$A$4:$AY$344,3,FALSE),0)","v":{"v":2647,"d":"2,647"}},{"$f":"IFERROR(VLOOKUP($A578,Filtro!$A$4:$AY$344,4,FALSE),0)","v":{"v":1209,"d":"1,209"}},{"$f":"IFERROR(VLOOKUP($A578,Filtro!$A$4:$AY$344,5,FALSE),0)","v":246},{"$f":"IFERROR(VLOOKUP($A578,Filtro!$A$4:$AY$344,6,FALSE),0)","v":{"v":3386,"d":"3,386"}},{"$f":"IFERROR(VLOOKUP($A578,Filtro!$A$4:$AY$344,7,FALSE),0)","v":0}]
["80106014","0106014","Administración inyecciones",{"$f":"IFERROR(VLOOKUP($A579,Filtro!$A$4:$AY$344,2,FALSE),0)","v":{"v":251585,"d":"251,585"}},{"$f":"IFERROR(VLOOKUP($A579,Filtro!$A$4:$AY$344,3,FALSE),0)","v":{"v":121693,"d":"121,693"}},{"$f":"IFERROR(VLOOKUP($A579,Filtro!$A$4:$AY$344,4,FALSE),0)","v":{"v":129892,"d":"129,892"}},{"$f":"IFERROR(VLOOKUP($A579,Filtro!$A$4:$AY$344,5,FALSE),0)","v":{"v":2291,"d":"2,291"}},{"$f":"IFERROR(VLOOKUP($A579,Filtro!$A$4:$AY$344,6,FALSE),0)","v":{"v":225911,"d":"225,911"}},{"$f":"IFERROR(VLOOKUP($A579,Filtro!$A$4:$AY$344,7,FALSE),0)","v":319}]
["80106015","0106015","Administración fleboclisis",{"$f":"IFERROR(VLOOKUP($A580,Filtro!$A$4:$AY$344,2,FALSE),0)","v":{"v":47979,"d":"47,979"}},{"$f":"IFERROR(VLOOKUP($A580,Filtro!$A$4:$AY$344,3,FALSE),0)","v":{"v":38345,"d":"38,345"}},{"$f":"IFERROR(VLOOKUP($A580,Filtro!$A$4:$AY$344,4,FALSE),0)","v":{"v":9634,"d":"9,634"}},{"$f":"IFERROR(VLOOKUP($A580,Filtro!$A$4:$AY$344,5,FALSE),0)","v":{"v":2132,"d":"2,132"}},{"$f":"IFERROR(VLOOKUP($A580,Filtro!$A$4:$AY$344,6,FALSE),0)","v":{"v":40644,"d":"40,644"}},{"$f":"IFERROR(VLOOKUP($A580,Filtro!$A$4:$AY$344,7,FALSE),0)","v":0}]
["80106020","0106020","Administración oxigeno",{"$f":"IFERROR(VLOOKUP($A581,Filtro!$A$4:$AY$344,2,FALSE),0)","v":{"v":3536,"d":"3,536"}},{"$f":"IFERROR(VLOOKUP($A581,Filtro!$A$4:$AY$344,3,FALSE),0)","v":{"v":2730,"d":"2,730"}},{"$f":"IFERROR(VLOOKUP($A581,Filtro!$A$4:$AY$344,4,FALSE),0)","v":806},{"$f":"IFERROR(VLOOKUP($A581,Filtro!$A$4:$AY$344,5,FALSE),0)","v":187},{"$f":"IFERROR(VLOOKUP($A581,Filtro!$A$4:$AY$344,6,FALSE),0)","v":{"v":3086,"d":"3,086"}},{"$f":"IFERROR(VLOOKUP($A581,Filtro!$A$4:$AY$344,7,FALSE),0)","v":0}]
["80106021","0106021","Aspiración secreciones",{"$f":"IFERROR(VLOOKUP($A582,Filtro!$A$4:$AY$344,2,FALSE),0)","v":258},{"$f":"IFERROR(VLOOKUP($A582,Filtro!$A$4:$AY$344,3,FALSE),0)","v":149},{"$f":"IFERROR(VLOOKUP($A582,Filtro!$A$4:$AY$344,4,FALSE),0)","v":109},{"$f":"IFERROR(VLOOKUP($A582,Filtro!$A$4:$AY$344,5,FALSE),0)","v":10},{"$f":"IFERROR(VLOOKUP($A582,Filtro!$A$4:$AY$344,6,FALSE),0)","v":219},{"$f":"IFERROR(VLOOKUP($A582,Filtro!$A$4:$AY$344,7,FALSE),0)","v":0}]
["80106022","0106022","Instalación sonda",{"$f":"IFERROR(VLOOKUP($A583,Filtro!$A$4:$AY$344,2,FALSE),0)","v":{"v":3062,"d":"3,062"}},{"$f":"IFERROR(VLOOKUP($A583,Filtro!$A$4:$AY$344,3,FALSE),0)","v":{"v":1612,"d":"1,612"}},{"$f":"IFERROR(VLOOKUP($A583,Filtro!$A$4:$AY$344,4,FALSE),0)","v":{"v":1450,"d":"1,450"}},{"$f":"IFERROR(VLOOKUP($A583,Filtro!$A$4:$AY$344,5,FALSE),0)","v":42},{"$f":"IFERROR(VLOOKUP($A583,Filtro!$A$4:$AY$344,6,FALSE),0)","v":{"v":2618,"d":"2,618"}},{"$f":"IFERROR(VLOOKUP($A583,Filtro!$A$4:$AY$344,7,FALSE),0)","v":14}]
["80106023",null,"Procedimientos de podología",{"$f":"IFERROR(VLOOKUP($A584,Filtro!$A$4:$AY$344,2,FALSE),0)","v":{"v":19245,"d":"19,245"}},{"$f":"IFERROR(VLOOKUP($A584,Filtro!$A$4:$AY$344,3,FALSE),0)","v":87},{"$f":"IFERROR(VLOOKUP($A584,Filtro!$A$4:$AY$344,4,FALSE),0)","v":{"v":19158,"d":"19,158"}},{"$f":"IFERROR(VLOOKUP($A584,Filtro!$A$4:$AY$344,5,FALSE),0)","v":0},{"$f":"IFERROR(VLOOKUP($A584,Filtro!$A$4:$AY$344,6,FALSE),0)","v":{"v":15575,"d":"15,575"}},{"$f":"IFERROR(VLOOKUP($A584,Filtro!$A$4:$AY$344,7,FALSE),0)","v":{"v":1586,"d":"1,586"}}]
[null,"TOTAL",null,{"$f":"SUM(D568:D584)","v":{"v":481264,"d":"481,264"}},{"v":186318,"d":"186,318"},{"v":294946,"d":"294,946"},{"v":6186,"d":"6,186"},{"v":427742,"d":"427,742"},{"v":2269,"d":"2,269"}]
[null,"CÓDIGOS","OTROS PROCEDIMIENTOS","TOTAL","SAPU/SAR/SUR","NO SAPU/ NO SUR","COMPRAS DE SERVICIOS"]
[]
["80307011","0307011","Toma de muestra de sangre venosa en adultos",{"$f":"IFERROR(VLOOKUP($A588,Filtro!$A$4:$AY$344,2,FALSE),0)","v":{"v":214227,"d":"214,227"}},{"$f":"IFERROR(VLOOKUP($A588,Filtro!$A$4:$AY$344,3,FALSE),0)","v":{"v":10737,"d":"10,737"}},{"$f":"IFERROR(VLOOKUP($A588,Filtro!$A$4:$AY$344,4,FALSE),0)","v":{"v":203490,"d":"203,490"}},{"$f":"IFERROR(VLOOKUP($A588,Filtro!$A$4:$AY$344,5,FALSE),0)","v":{"v":98336,"d":"98,336"}}]
["80307012","0307012","Toma de muestra de sangre venosa en niños y lactantes",{"$f":"IFERROR(VLOOKUP($A589,Filtro!$A$4:$AY$344,2,FALSE),0)","v":{"v":23564,"d":"23,564"}},{"$f":"IFERROR(VLOOKUP($A589,Filtro!$A$4:$AY$344,3,FALSE),0)","v":492},{"$f":"IFERROR(VLOOKUP($A589,Filtro!$A$4:$AY$344,4,FALSE),0)","v":{"v":23072,"d":"23,072"}},{"$f":"IFERROR(VLOOKUP($A589,Filtro!$A$4:$AY$344,5,FALSE),0)","v":{"v":1408,"d":"1,408"}}]
[null,"TOTAL",null,{"$f":"SUM(D588:D589)","v":{"v":237791,"d":"237,791"}},{"$f":"SUM(E588:E589)","v":{"v":11229,"d":"11,229"}},{"v":226562,"d":"226,562"},{"v":99744,"d":"99,744"}]
[null,"SECCIÓN E: OTROS EXÁMENES Y PROCEDIMIENTOS  DE APOYO CLÍNICO Y TERAPEUTICO (SIN CÓDIGO EN ARANCEL)"]
[null,"EXÁMENES Y/O PROCEDIMIENTO",null,"TOTAL","SAPU/SAR/SUR","NO SAPU/ NO SUR","FUNCIONARIO",null,"COMPRAS DE SERVICIOS"]
[{"$nulls":6},"MÉDICO","OTRO"]
["80500001","Toma agudeza visual (ambos ojos)",null,{"$f":"IFERROR(VLOOKUP($A594,Filtro!$A$4:$AY$344,2,FALSE),0)","v":871},{"$f":"IFERROR(VLOOKUP($A594,Filtro!$A$4:$AY$344,3,FALSE),0)","v":32},{"$f":"IFERROR(VLOOKUP($A594,Filtro!$A$4:$AY$344,4,FALSE),0)","v":839},{"$f":"IFERROR(VLOOKUP($A594,Filtro!$A$4:$AY$344,5,FALSE),0)","v":40},{"$f":"IFERROR(VLOOKUP($A594,Filtro!$A$4:$AY$344,6,FALSE),0)","v":823},{"$f":"IFERROR(VLOOKUP($A594,Filtro!$A$4:$AY$344,7,FALSE),0)","v":0}]
["80500002","Autorrefractomia",null,{"$f":"IFERROR(VLOOKUP($A595,Filtro!$A$4:$AY$344,2,FALSE),0)","v":0},{"$f":"IFERROR(VLOOKUP($A595,Filtro!$A$4:$AY$344,3,FALSE),0)","v":0},{"$f":"IFERROR(VLOOKUP($A595,Filtro!$A$4:$AY$344,4,FALSE),0)","v":0},{"$f":"IFERROR(VLOOKUP($A595,Filtro!$A$4:$AY$344,5,FALSE),0)","v":0},{"$f":"IFERROR(VLOOKUP($A595,Filtro!$A$4:$AY$344,6,FALSE),0)","v":0},{"$f":"IFERROR(VLOOKUP($A595,Filtro!$A$4:$AY$344,7,FALSE),0)","v":0}]
["80500003","Lensometria",null,{"$f":"IFERROR(VLOOKUP($A596,Filtro!$A$4:$AY$344,2,FALSE),0)","v":0},{"$f":"IFERROR(VLOOKUP($A596,Filtro!$A$4:$AY$344,3,FALSE),0)","v":0},{"$f":"IFERROR(VLOOKUP($A596,Filtro!$A$4:$AY$344,4,FALSE),0)","v":0},{"$f":"IFERROR(VLOOKUP($A596,Filtro!$A$4:$AY$344,5,FALSE),0)","v":0},{"$f":"IFERROR(VLOOKUP($A596,Filtro!$A$4:$AY$344,6,FALSE),0)","v":0},{"$f":"IFERROR(VLOOKUP($A596,Filtro!$A$4:$AY$344,7,FALSE),0)","v":0}]
["80500004","Paquimetria Ultrasónica",null,{"$f":"IFERROR(VLOOKUP($A597,Filtro!$A$4:$AY$344,2,FALSE),0)","v":0},{"$f":"IFERROR(VLOOKUP($A597,Filtro!$A$4:$AY$344,3,FALSE),0)","v":0},{"$f":"IFERROR(VLOOKUP($A597,Filtro!$A$4:$AY$344,4,FALSE),0)","v":0},{"$f":"IFERROR(VLOOKUP($A597,Filtro!$A$4:$AY$344,5,FALSE),0)","v":0},{"$f":"IFERROR(VLOOKUP($A597,Filtro!$A$4:$AY$344,6,FALSE),0)","v":0},{"$f":"IFERROR(VLOOKUP($A597,Filtro!$A$4:$AY$344,7,FALSE),0)","v":0}]
["80500005","Paquimetria óptica",null,{"$f":"IFERROR(VLOOKUP($A598,Filtro!$A$4:$AY$344,2,FALSE),0)","v":0},{"$f":"IFERROR(VLOOKUP($A598,Filtro!$A$4:$AY$344,3,FALSE),0)","v":0},{"$f":"IFERROR(VLOOKUP($A598,Filtro!$A$4:$AY$344,4,FALSE),0)","v":0},{"$f":"IFERROR(VLOOKUP($A598,Filtro!$A$4:$AY$344,5,FALSE),0)","v":0},{"$f":"IFERROR(VLOOKUP($A598,Filtro!$A$4:$AY$344,6,FALSE),0)","v":0},{"$f":"IFERROR(VLOOKUP($A598,Filtro!$A$4:$AY$344,7,FALSE),0)","v":0}]
["80500006","Tomografía coherencia óptica",null,{"$f":"IFERROR(VLOOKUP($A599,Filtro!$A$4:$AY$344,2,FALSE),0)","v":0},{"$f":"IFERROR(VLOOKUP($A599,Filtro!$A$4:$AY$344,3,FALSE),0)","v":0},{"$f":"IFERROR(VLOOKUP($A599,Filtro!$A$4:$AY$344,4,FALSE),0)","v":0},{"$f":"IFERROR(VLOOKUP($A599,Filtro!$A$4:$AY$344,5,FALSE),0)","v":0},{"$f":"IFERROR(VLOOKUP($A599,Filtro!$A$4:$AY$344,6,FALSE),0)","v":0},{"$f":"IFERROR(VLOOKUP($A599,Filtro!$A$4:$AY$344,7,FALSE),0)","v":0}]
["80500007","Inyeccion intravitrea avastin",null,{"$f":"IFERROR(VLOOKUP($A600,Filtro!$A$4:$AY$344,2,FALSE),0)","v":15},{"$f":"IFERROR(VLOOKUP($A600,Filtro!$A$4:$AY$344,3,FALSE),0)","v":1},{"$f":"IFERROR(VLOOKUP($A600,Filtro!$A$4:$AY$344,4,FALSE),0)","v":14},{"$f":"IFERROR(VLOOKUP($A600,Filtro!$A$4:$AY$344,5,FALSE),0)","v":1},{"$f":"IFERROR(VLOOKUP($A600,Filtro!$A$4:$AY$344,6,FALSE),0)","v":14},{"$f":"IFERROR(VLOOKUP($A600,Filtro!$A$4:$AY$344,7,FALSE),0)","v":0}]
["80500008","Insercion Implante Anticonceptivo",null,{"$f":"IFERROR(VLOOKUP($A601,Filtro!$A$4:$AY$344,2,FALSE),0)","v":{"v":2211,"d":"2,211"}},{"$f":"IFERROR(VLOOKUP($A601,Filtro!$A$4:$AY$344,3,FALSE),0)","v":2},{"$f":"IFERROR(VLOOKUP($A601,Filtro!$A$4:$AY$344,4,FALSE),0)","v":{"v":2209,"d":"2,209"}},{"$f":"IFERROR(VLOOKUP($A601,Filtro!$A$4:$AY$344,5,FALSE),0)","v":2},{"$f":"IFERROR(VLOOKUP($A601,Filtro!$A$4:$AY$344,6,FALSE),0)","v":{"v":2179,"d":"2,179"}},{"$f":"IFERROR(VLOOKUP($A601,Filtro!$A$4:$AY$344,7,FALSE),0)","v":0}]
["80500009","Remocion Implante Anticonceptivo",null,{"$f":"IFERROR(VLOOKUP($A602,Filtro!$A$4:$AY$344,2,FALSE),0)","v":{"v":2118,"d":"2,118"}},{"$f":"IFERROR(VLOOKUP($A602,Filtro!$A$4:$AY$344,3,FALSE),0)","v":2},{"$f":"IFERROR(VLOOKUP($A602,Filtro!$A$4:$AY$344,4,FALSE),0)","v":{"v":2116,"d":"2,116"}},{"$f":"IFERROR(VLOOKUP($A602,Filtro!$A$4:$AY$344,5,FALSE),0)","v":3},{"$f":"IFERROR(VLOOKUP($A602,Filtro!$A$4:$AY$344,6,FALSE),0)","v":{"v":2067,"d":"2,067"}},{"$f":"IFERROR(VLOOKUP($A602,Filtro!$A$4:$AY$344,7,FALSE),0)","v":0}]
["80500010","Insercion Pellets subcutáneo",null,{"$f":"IFERROR(VLOOKUP($A603,Filtro!$A$4:$AY$344,2,FALSE),0)","v":147},{"$f":"IFERROR(VLOOKUP($A603,Filtro!$A$4:$AY$344,3,FALSE),0)","v":17},{"$f":"IFERROR(VLOOKUP($A603,Filtro!$A$4:$AY$344,4,FALSE),0)","v":130},{"$f":"IFERROR(VLOOKUP($A603,Filtro!$A$4:$AY$344,5,FALSE),0)","v":0},{"$f":"IFERROR(VLOOKUP($A603,Filtro!$A$4:$AY$344,6,FALSE),0)","v":123},{"$f":"IFERROR(VLOOKUP($A603,Filtro!$A$4:$AY$344,7,FALSE),0)","v":0}]
["80500011","Hemoglocotest instantaneo ",null,{"$f":"IFERROR(VLOOKUP($A604,Filtro!$A$4:$AY$344,2,FALSE),0)","v":{"v":65363,"d":"65,363"}},{"$f":"IFERROR(VLOOKUP($A604,Filtro!$A$4:$AY$344,3,FALSE),0)","v":{"v":42732,"d":"42,732"}},{"$f":"IFERROR(VLOOKUP($A604,Filtro!$A$4:$AY$344,4,FALSE),0)","v":{"v":22631,"d":"22,631"}},{"$f":"IFERROR(VLOOKUP($A604,Filtro!$A$4:$AY$344,5,FALSE),0)","v":{"v":3106,"d":"3,106"}},{"$f":"IFERROR(VLOOKUP($A604,Filtro!$A$4:$AY$344,6,FALSE),0)","v":{"v":54560,"d":"54,560"}},{"$f":"IFERROR(VLOOKUP($A604,Filtro!$A$4:$AY$344,7,FALSE),0)","v":12}]
["80500014","Radiografía de pelvis, cadera o coxofemoral de 1er screening  (entre 3 -6 meses)",null,{"$f":"IFERROR(VLOOKUP($A605,Filtro!$A$4:$AY$344,2,FALSE),0)","v":869},{"$f":"IFERROR(VLOOKUP($A605,Filtro!$A$4:$AY$344,3,FALSE),0)","v":311},{"$f":"IFERROR(VLOOKUP($A605,Filtro!$A$4:$AY$344,4,FALSE),0)","v":558},{"$f":"IFERROR(VLOOKUP($A605,Filtro!$A$4:$AY$344,5,FALSE),0)","v":21},{"$f":"IFERROR(VLOOKUP($A605,Filtro!$A$4:$AY$344,6,FALSE),0)","v":596},{"$f":"IFERROR(VLOOKUP($A605,Filtro!$A$4:$AY$344,7,FALSE),0)","v":{"v":1135,"d":"1,135"}}]
["80500016","Cartridge para Troponina",null,{"$f":"IFERROR(VLOOKUP($A606,Filtro!$A$4:$AY$344,2,FALSE),0)","v":{"v":1587,"d":"1,587"}},{"$f":"IFERROR(VLOOKUP($A606,Filtro!$A$4:$AY$344,3,FALSE),0)","v":{"v":1587,"d":"1,587"}},{"$f":"IFERROR(VLOOKUP($A606,Filtro!$A$4:$AY$344,4,FALSE),0)","v":0},{"$f":"IFERROR(VLOOKUP($A606,Filtro!$A$4:$AY$344,5,FALSE),0)","v":83},{"$f":"IFERROR(VLOOKUP($A606,Filtro!$A$4:$AY$344,6,FALSE),0)","v":{"v":1425,"d":"1,425"}},{"$f":"IFERROR(VLOOKUP($A606,Filtro!$A$4:$AY$344,7,FALSE),0)","v":0}]
["80500017","Cartridge Multiple",null,{"$f":"IFERROR(VLOOKUP($A607,Filtro!$A$4:$AY$344,2,FALSE),0)","v":{"v":9587,"d":"9,587"}},{"$f":"IFERROR(VLOOKUP($A607,Filtro!$A$4:$AY$344,3,FALSE),0)","v":{"v":9587,"d":"9,587"}},{"$f":"IFERROR(VLOOKUP($A607,Filtro!$A$4:$AY$344,4,FALSE),0)","v":0},{"$f":"IFERROR(VLOOKUP($A607,Filtro!$A$4:$AY$344,5,FALSE),0)","v":180},{"$f":"IFERROR(VLOOKUP($A607,Filtro!$A$4:$AY$344,6,FALSE),0)","v":{"v":9191,"d":"9,191"}},{"$f":"IFERROR(VLOOKUP($A607,Filtro!$A$4:$AY$344,7,FALSE),0)","v":0}]
[null,"TOTAL",null,{"$f":"SUM(D594:D607)","v":{"v":82768,"d":"82,768"}},{"$f":"SUM(E594:E607)","v":{"v":54271,"d":"54,271"}},{"$f":"SUM(F594:F607)","v":{"v":28497,"d":"28,497"}},{"v":3436,"d":"3,436"},{"v":70978,"d":"70,978"},{"v":1147,"d":"1,147"}]
[]
[]
[]
[]
[]
["CODIGOS NUEVOS"]
["80303015"]